{"text_format":"1","workbook":"xlsx","n_sheets":30,"sheets":["Index","Tracking","ACAD-trend","BRIG-trend","DOSO-trend","GRGU-trend","JARI-trend","LYBR-trend","MOOS-trend","SHEN-trend","Species","ACAD-Species-Clearest","ACAD-Species-Most IMP","BRIG-Species-Clearest","BRIG-Species-Most IMP","DOSO-Species-Clearest","DOSO-Species-Most IMP","GRGU-Species-Clearest","GRGU-Species-Most IMP","JARI-Species-Clearest","JARI-Species-Most IMP","LYBR-Species-Clearest","LYBR-Species-Most IMP","MOOS-Species-Clearest","MOOS-Species-Most IMP","SHEN-Species-Clearest","SHEN-Species-Most IMP","5-yr plot data","5-yr plot CLEAREST","5-yr plot Most IMP"],"not_rendered":{"charts":26,"images":0,"macros":1,"external_links":0,"defined_names":0,"comments":0,"pivot_tables":0},"unopened":[],"bounds":{"document_bytes":16777216,"sheet_cells":100000,"rows_first":2000,"rows_last":500,"rows_between":2000,"halvings":0,"cell_chars":16384,"cell_head_chars":4096},"cells_cut":0,"cells_raw":0,"read":"whole","date_system":"1900"}

{"sheet":"Index","index":0,"n_rows":12,"n_cols":8,"rows_kept":12,"cut":false,"hidden":false,"merged":[]}
[null,"Data",null,"Trend Plots",null,"Species Plots"]
[]
[null,"Tracking",null,"ACAD-trend",null,"ACAD-Species-Most IMP",null,"ACAD-Species-Most IMP"]
[null,"Species",null,"BRIG-trend",null,"BRIG-Species-Most IMP",null,"BRIG-Species-Most IMP"]
[null,"5-yr plot data",null,"DOSO-trend",null,"DOSO-Species-Most IMP",null,"DOSO-Species-Most IMP"]
[null,null,null,"GRGU-trend",null,"GRGU-Species-Most IMP",null,"GRGU-Species-Most IMP"]
[null,null,null,"JARI-trend",null,"JARI-Species-Most IMP",null,"JARI-Species-Most IMP"]
[null,null,null,"LYBR-trend",null,"LYBR-Species-Most IMP",null,"LYBR-Species-Most IMP"]
[null,null,null,"MOOS-trend",null,"MOOS-Species-Most IMP",null,"MOOS-Species-Most IMP"]
[null,null,null,"SHEN-trend",null,"SHEN-Species-Most IMP",null,"SHEN-Species-Most IMP"]
[]
[null,null,null,null,null,"5-yr plot Most IMP",null,"5-yr plot Most IMP"]

{"sheet":"Tracking","index":1,"n_rows":65,"n_cols":129,"rows_kept":65,"cut":false,"hidden":false,"merged":[]}
[]
["Site","Year",90,10]
[null,null,"Worst days","Best days",null,"Year3","Year4","Year5"]
["ACAD1","2000-2004",22.892197970045952,8.7755658964445011,null,2002,2003,2004]
["ACAD1","2008-2012",{"$f":"P36","v":17.646953053333334},{"$f":"Q36","v":7.3306054999999999},null,2010,2011,2012]
["BRIG1","2000-2004",29.006570519977267,14.33402198736872,null,2002,2003,2004]
["BRIG1","2008-2012",{"$f":"AF36","v":22.788798301811592},{"$f":"AG36","v":12.360201761775361},null,2010,2011,2012]
["DOSO1","2000-2004",29.045757909202781,12.278002581776086,null,2002,2003,2004]
["DOSO1","2008-2012",{"$f":"AV36","v":22.71384732666667},{"$f":"AW36","v":9.2450040398550719},null,2010,2011,2012]
["GRGU1","2000-2004",22.820291941641759,7.6630962722834486,null,2002,2003,2004]
["GRGU1","2008-2012",{"$f":"BL36","v":16.143343181818178},{"$f":"BM36","v":6.1556825974025982},null,null,2011,2012]
["LYBR1","2000-2004",24.446743724593631,6.3666166221122005,null,2002,2003,2004]
["LYBR1","2008-2012",{"$f":"CB36","v":18.247970831686427},{"$f":"CC36","v":4.7714140703463208},null,2010,2011,2012]
["MOOS1","2000-2004",21.722295578471215,9.1560900867485486,null,2002,2003,2004]
["MOOS1","2008-2012",{"$f":"CR36","v":16.419112800579708},{"$f":"CS36","v":6.9866479525691698},null,2010,2011,2012]
["SHEN1","2000-2004",29.307615835669104,10.92740139438428,null,2002,2003,2004]
["SHEN1","2008-2012",{"$f":"DH36","v":21.860912376916993},{"$f":"DI36","v":8.7347466152832673},null,2010,2011,2012]
[]
[]
[]
[null,"ACAD1",null,null,null,null,null,{"$f":"C58","v":10.387340979999999},null,null,null,null,null,null,null,null,null,"BRIG1",null,null,null,null,null,{"$f":"C59","v":10.681987469999999},null,null,null,null,null,null,null,null,null,"DOSO1",null,null,null,null,null,{"$f":"C60","v":8.9167605810000001},null,null,null,null,null,null,null,null,null,"GRGU1",null,null,null,null,null,{"$f":"C61","v":9.7754815340000007},null,null,null,null,null,null,null,null,null,"LYBR_RHTS",null,null,null,null,null,{"$f":"C62","v":10.243066239999999},null,null,null,null,null,null,null,null,null,"MOOS1",null,null,null,null,null,{"$f":"C63","v":9.9760873409999995},null,null,null,null,null,null,null,null,null,"SHEN1",null,null,null,null,null,{"$f":"C64","v":9.5204195729999999},null,null,null,null,null,null,null,null,null,"JARI1",null,null,null,null,null,{"$f":"C65","v":9.4668398269999994}]
["Index",90,10,null,null,null,null,"difference to",null,null,null,null,null,null,null,null,null,90,10,null,null,null,null,"difference to",null,null,null,null,null,null,null,null,null,90,10,null,null,null,null,"difference to",null,null,null,null,null,null,null,null,null,90,10,null,null,null,null,"difference to",null,null,null,null,null,null,null,null,null,90,10,null,null,null,null,"difference to",null,null,null,null,null,null,null,null,null,90,10,null,null,null,null,"difference to",null,null,null,null,null,null,null,null,null,90,10,null,null,null,null,"difference to",null,null,null,null,null,null,null,null,null,90,10,null,null,null,null,"difference to"]
["Year","Haze Index, Annual - 20% Most Impaired Days","Haze Index, Annual - 20% Clearest Days","Haze Index, 5-Year Baseline - 20% Most Impaired Days","Haze Index, 5-Year Baseline - 20% Clearest Days","No Degradation","Natural Conditions - 20% Clearest Days","Natural Conditions - 20% Most Impaired Days","Uniform Rate of Progress","Base Case - 20% Clearest Days","Base Case - 20% Most Impaired Days","Reasonable Progress Goal (RPG) - 20% Clearest Days","RPG - 20% Most Impaired Days","Straight line path to RPG - 20% Clearest Days","Straight line path to RPG - 20% Most Impaired Days","Haze Index, 5-Year Rolling - 20% Most Impaired Days","Haze Index, 5-Year Rolling - 20% Clearest Days","Haze Index, Annual - 20% Most Impaired Days","Haze Index, Annual - 20% Clearest Days","Haze Index, 5-Year Baseline - 20% Most Impaired Days","Haze Index, 5-Year Baseline - 20% Clearest Days","No Degradation","Natural Conditions - 20% Clearest Days","Natural Conditions - 20% Most Impaired Days","Uniform Rate of Progress","Base Case - 20% Clearest Days","Base Case - 20% Most Impaired Days","Reasonable Progress Goal (RPG) - 20% Clearest Days","RPG - 20% Most Impaired Days","Straight line path to RPG - 20% Clearest Days","Straight line path to RPG - 20% Most Impaired Days","Haze Index, 5-Year Rolling - 20% Most Impaired Days","Haze Index, 5-Year Rolling - 20% Clearest Days","Haze Index, Annual - 20% Most Impaired Days","Haze Index, Annual - 20% Clearest Days","Haze Index, 5-Year Baseline - 20% Most Impaired Days","Haze Index, 5-Year Baseline - 20% Clearest Days","No Degradation","Natural Conditions - 20% Clearest Days","Natural Conditions - 20% Most Impaired Days","Uniform Rate of Progress","Base Case - 20% Clearest Days","Base Case - 20% Most Impaired Days","Reasonable Progress Goal (RPG) - 20% Clearest Days","RPG - 20% Most Impaired Days","Straight line path to RPG - 20% Clearest Days","Straight line path to RPG - 20% Most Impaired Days","Haze Index, 5-Year Rolling - 20% Most Impaired Days","Haze Index, 5-Year Rolling - 20% Clearest Days","Haze Index, Annual - 20% Most Impaired Days","Haze Index, Annual - 20% Clearest Days","Haze Index, 5-Year Baseline - 20% Most Impaired Days","Haze Index, 5-Year Baseline - 20% Clearest Days","No Degradation","Natural Conditions - 20% Clearest Days","Natural Conditions - 20% Most Impaired Days","Uniform Rate of Progress","Base Case - 20% Clearest Days","Base Case - 20% Most Impaired Days","Reasonable Progress Goal (RPG) - 20% Clearest Days","RPG - 20% Most Impaired Days","Straight line path to RPG - 20% Clearest Days","Straight line path to RPG - 20% Most Impaired Days","Haze Index, 5-Year Rolling - 20% Most Impaired Days","Haze Index, 5-Year Rolling - 20% Clearest Days","Haze Index, Annual - 20% Most Impaired Days","Haze Index, Annual - 20% Clearest Days","Haze Index, 5-Year Baseline - 20% Most Impaired Days","Haze Index, 5-Year Baseline - 20% Clearest Days","No Degradation","Natural Conditions - 20% Clearest Days","Natural Conditions - 20% Most Impaired Days","Uniform Rate of Progress","Base Case - 20% Clearest Days","Base Case - 20% Most Impaired Days","Reasonable Progress Goal (RPG) - 20% Clearest Days","RPG - 20% Most Impaired Days","Straight line path to RPG - 20% Clearest Days","Straight line path to RPG - 20% Most Impaired Days","Haze Index, 5-Year Rolling - 20% Most Impaired Days","Haze Index, 5-Year Rolling - 20% Clearest Days","Haze Index, Annual - 20% Most Impaired Days","Haze Index, Annual - 20% Clearest Days","Haze Index, 5-Year Baseline - 20% Most Impaired Days","Haze Index, 5-Year Baseline - 20% Clearest Days","No Degradation","Natural Conditions - 20% Clearest Days","Natural Conditions - 20% Most Impaired Days","Uniform Rate of Progress","Base Case - 20% Clearest Days","Base Case - 20% Most Impaired Days","Reasonable Progress Goal (RPG) - 20% Clearest Days","RPG - 20% Most Impaired Days","Straight line path to RPG - 20% Clearest Days","Straight line path to RPG - 20% Most Impaired Days","Haze Index, 5-Year Rolling - 20% Most Impaired Days","Haze Index, 5-Year Rolling - 20% Clearest Days","Haze Index, Annual - 20% Most Impaired Days","Haze Index, Annual - 20% Clearest Days","Haze Index, 5-Year Baseline - 20% Most Impaired Days","Haze Index, 5-Year Baseline - 20% Clearest Days","No Degradation","Natural Conditions - 20% Clearest Days","Natural Conditions - 20% Most Impaired Days","Uniform Rate of Progress","Base Case - 20% Clearest Days","Base Case - 20% Most Impaired Days","Reasonable Progress Goal (RPG) - 20% Clearest Days","RPG - 20% Most Impaired Days","Straight line path to RPG - 20% Clearest Days","Straight line path to RPG - 20% Most Impaired Days","Haze Index, 5-Year Rolling - 20% Most Impaired Days","Haze Index, 5-Year Rolling - 20% Clearest Days","Haze Index, Annual - 20% Most Impaired Days","Haze Index, Annual - 20% Clearest Days","Haze Index, 5-Year Baseline - 20% Most Impaired Days","Haze Index, 5-Year Baseline - 20% Clearest Days","No Degradation","Natural Conditions - 20% Clearest Days","Natural Conditions - 20% Most Impaired Days","Uniform Rate of Progress","Base Case - 20% Clearest Days","Base Case - 20% Most Impaired Days","Reasonable Progress Goal (RPG) - 20% Clearest Days","RPG - 20% Most Impaired Days","Straight line path to RPG - 20% Clearest Days","Straight line path to RPG - 20% Most Impaired Days","Haze Index, 5-Year Rolling - 20% Most Impaired Days","Haze Index, 5-Year Rolling - 20% Clearest Days"]
[2000,20.7527680952381,8.9009695000000022,{"$f":"AVERAGE(B24:B28)","v":22.014232929047616},{"$f":"AVERAGE(C24:C28)","v":8.7755662333333326},{"$f":"E28","v":8.7755662333333326},{"$f":"B58","v":4.6603568027},{"$f":"H21-G53","v":5.7269841772999994},null,null,null,null,null,null,null,null,null,27.366363333333332,14.263685499999999,{"$f":"AVERAGE(R24:R28)","v":27.430231932727271},{"$f":"AVERAGE(S24:S28)","v":14.329750208695652},{"$f":"U28","v":14.329750208695652},{"$f":"B59","v":5.5172266928999996},{"$f":"X21-W53","v":5.1647607770999997},null,null,null,null,null,null,null,null,null,27.716789499999997,12.960496315789474,{"$f":"AVERAGE(AH24:AH28)","v":28.288016289565213},{"$f":"AVERAGE(AI24:AI28)","v":12.278002909732333},{"$f":"AK28","v":12.278002909732333},{"$f":"B60","v":3.6371528972},{"$f":"AN21-AM53","v":5.2796076838000001},null,null,null,null,null,null,null,null,null,null,null,{"$f":"AVERAGE(AX24:AX28)","v":21.880122762681161},{"$f":"AVERAGE(AY24:AY28)","v":7.6474146788537558},{"$f":"BA28","v":7.6474146788537558},{"$f":"B61","v":3.7306103697999999},{"$f":"BD21-BC53","v":6.0448711642000008},null,null,null,null,null,null,null,null,null,23.101413809523809,6.4925799999999994,{"$f":"AVERAGE(BN24:BN28)","v":23.565955641483153},{"$f":"AVERAGE(BO24:BO28)","v":6.3666166802371533},{"$f":"BQ28","v":6.3666166802371533},{"$f":"B62","v":2.7944661922999998},{"$f":"BT21-BS53","v":7.4486000476999994},null,null,null,null,null,null,null,null,null,19.479352857142857,8.9378485000000012,{"$f":"AVERAGE(CD24:CD28)","v":20.652401402337663},{"$f":"AVERAGE(CE24:CE28)","v":9.1560898190476188},{"$f":"CG28","v":9.1560898190476188},{"$f":"B63","v":5.0179607756999998},{"$f":"CJ21-CI53","v":4.9581265652999997},null,null,null,null,null,null,null,null,null,27.229264999999998,11.079403684210527,{"$f":"AVERAGE(CT24:CT28)","v":28.322496403820814},{"$f":"AVERAGE(CU24:CU28)","v":10.963213246158876},{"$f":"CW28","v":10.963213246158876},{"$f":"B64","v":3.1463273572000001},{"$f":"CZ21-CY53","v":6.3740922157999993},null,null,null,null,null,null,null,null,null,null,null,{"$f":"AVERAGE(DJ24:DJ28)","v":28.081298892572462},{"$f":"AVERAGE(DK24:DK28)","v":14.209834922183795},{"$f":"DM28","v":14.209834922183795},{"$f":"B65","v":4.3893142560999996},{"$f":"DP21-DO53","v":5.0775255708999998}]
[2001,22.374298400000001,8.8742708333333322,{"$f":"D24","v":22.014232929047616},{"$f":"E24","v":8.7755662333333326},null,null,null,null,null,null,null,null,null,null,null,null,27.072117727272722,13.804496666666664,{"$f":"T24","v":27.430231932727271},{"$f":"U24","v":14.329750208695652},null,null,null,null,null,null,null,null,null,null,null,null,27.532631304347827,13.302767391304345,{"$f":"AJ24","v":28.288016289565213},{"$f":"AK24","v":12.278002909732333},null,null,null,null,null,null,null,null,null,null,null,null,22.465265217391305,8.2614304545454544,{"$f":"AZ24","v":21.880122762681161},{"$f":"BA24","v":7.6474146788537558},null,null,null,null,null,null,null,null,null,null,null,null,25.480404499999999,6.4714184999999986,{"$f":"BP24","v":23.565955641483153},{"$f":"BQ24","v":6.3666166802371533},null,null,null,null,null,null,null,null,null,null,null,null,21.301045454545456,9.3074014285714277,{"$f":"CF24","v":20.652401402337663},{"$f":"CG24","v":9.1560898190476188},null,null,null,null,null,null,null,null,null,null,null,null,27.617892272727271,13.210694285714288,{"$f":"CV24","v":28.322496403820814},{"$f":"CW24","v":10.963213246158876},null,null,null,null,null,null,null,null,null,null,null,null,28.356976086956518,14.542399090909093,{"$f":"DL24","v":28.081298892572462},{"$f":"DM24","v":14.209834922183795}]
[2002,22.909756799999997,8.7700729166666651,{"$f":"D25","v":22.014232929047616},{"$f":"E25","v":8.7755662333333326},null,null,null,null,null,null,null,null,null,null,null,null,26.532768636363642,14.832330000000002,{"$f":"T25","v":27.430231932727271},{"$f":"U25","v":14.329750208695652},null,null,null,null,null,null,null,null,null,null,null,null,27.958155217391301,11.913637272727273,{"$f":"AJ25","v":28.288016289565213},{"$f":"AK25","v":12.278002909732333},null,null,null,null,null,null,null,null,null,null,null,null,23.428953750000005,7.7704700000000013,{"$f":"AZ25","v":21.880122762681161},{"$f":"BA25","v":7.6474146788537558},null,null,null,null,null,null,null,null,null,null,null,null,23.464843913043474,6.4278559090909084,{"$f":"BP25","v":23.565955641483153},{"$f":"BQ25","v":6.3666166802371533},null,null,null,null,null,null,null,null,null,null,null,null,22.123386249999999,9.116468750000001,{"$f":"CF25","v":20.652401402337663},{"$f":"CG25","v":9.1560898190476188},null,null,null,null,null,null,null,null,null,null,null,null,29.890470833333335,11.492608695652173,{"$f":"CV25","v":28.322496403820814},{"$f":"CW25","v":10.963213246158876},null,null,null,null,null,null,null,null,null,null,null,null,28.914346250000005,15.647092173913041,{"$f":"DL25","v":28.081298892572462},{"$f":"DM25","v":14.209834922183795}]
[2003,22.696693749999998,8.7697208333333361,22.014232929047616,8.7755662333333326,null,null,null,null,null,null,null,null,null,null,null,null,28.492539166666663,14.38665304347826,27.430231932727271,14.329750208695652,null,null,null,null,null,null,null,null,null,null,null,null,29.325857826086953,11.541825652173911,28.288016289565213,12.278002909732333,null,null,null,null,null,null,null,null,null,null,null,null,20.651976666666666,6.9446634782608694,21.880122762681161,7.6474146788537558,null,null,null,null,null,null,null,null,null,null,null,null,23.369714166666668,5.8313621739130426,23.565955641483153,6.3666166802371533,null,null,null,null,null,null,null,null,null,null,null,null,20.956431249999998,9.4847733333333313,20.652401402337663,9.1560898190476188,null,null,null,null,null,null,null,null,null,null,null,null,27.874650869565219,9.4794200000000011,28.322496403820814,10.963213246158876,null,null,null,null,null,null,null,null,null,null,null,null,27.608840833333332,12.846782173913041,28.081298892572462,14.209834922183795]
[2004,21.337647599999997,8.5627970833333329,22.014232929047616,8.7755662333333326,{"$f":"F24","v":8.7755662333333326},null,null,{"$f":"D28","v":22.014232929047616},null,null,null,null,{"$f":"E28","v":8.7755662333333326},{"$f":"D28","v":22.014232929047616},{"$f":"AVERAGE(B24:B28)","v":22.014232929047616},{"$f":"AVERAGE(C24:C28)","v":8.7755662333333326},27.687370800000004,14.361585833333336,27.430231932727271,14.329750208695652,{"$f":"V24","v":14.329750208695652},null,null,{"$f":"T28","v":27.430231932727271},null,null,null,null,{"$f":"U28","v":14.329750208695652},{"$f":"T28","v":27.430231932727271},{"$f":"AVERAGE(R24:R28)","v":27.430231932727271},{"$f":"AVERAGE(S24:S28)","v":14.329750208695652},28.906647599999999,11.671287916666666,28.288016289565213,12.278002909732333,{"$f":"AL24","v":12.278002909732333},null,null,{"$f":"AJ28","v":28.288016289565213},null,null,null,null,{"$f":"AK28","v":12.278002909732333},{"$f":"AJ28","v":28.288016289565213},{"$f":"AVERAGE(AH24:AH28)","v":28.288016289565213},{"$f":"AVERAGE(AI24:AI28)","v":12.278002909732333},20.974295416666667,7.6130947826086945,21.880122762681161,7.6474146788537558,{"$f":"BB24","v":7.6474146788537558},null,null,{"$f":"AZ28","v":21.880122762681161},null,null,null,null,{"$f":"BA28","v":7.6474146788537558},{"$f":"AZ28","v":21.880122762681161},{"$f":"AVERAGE(AX24:AX28)","v":21.880122762681161},{"$f":"AVERAGE(AY24:AY28)","v":7.6474146788537558},22.413401818181821,6.6098668181818176,23.565955641483153,6.3666166802371533,{"$f":"BR24","v":6.3666166802371533},null,null,{"$f":"BP28","v":23.565955641483153},null,null,null,null,{"$f":"BQ28","v":6.3666166802371533},{"$f":"BP28","v":23.565955641483153},{"$f":"AVERAGE(BN24:BN28)","v":23.565955641483153},{"$f":"AVERAGE(BO24:BO28)","v":6.3666166802371533},19.401791200000005,8.9339570833333308,20.652401402337663,9.1560898190476188,{"$f":"CH24","v":9.1560898190476188},null,null,{"$f":"CF28","v":20.652401402337663},null,null,null,null,{"$f":"CG28","v":9.1560898190476188},{"$f":"CF28","v":20.652401402337663},{"$f":"AVERAGE(CD24:CD28)","v":20.652401402337663},{"$f":"AVERAGE(CE24:CE28)","v":9.1560898190476188},29.000203043478262,9.5539395652173944,28.322496403820814,10.963213246158876,{"$f":"CX24","v":10.963213246158876},null,null,{"$f":"CV28","v":28.322496403820814},null,null,null,null,{"$f":"CW28","v":10.963213246158876},{"$f":"CV28","v":28.322496403820814},{"$f":"AVERAGE(CT24:CT28)","v":28.322496403820814},{"$f":"AVERAGE(CU24:CU28)","v":10.963213246158876},27.445032400000006,13.803066250000001,28.081298892572462,14.209834922183795,{"$f":"DN24","v":14.209834922183795},null,null,{"$f":"DL28","v":28.081298892572462},null,null,null,null,{"$f":"DM28","v":14.209834922183795},{"$f":"DL28","v":28.081298892572462},{"$f":"AVERAGE(DJ24:DJ28)","v":28.081298892572462},{"$f":"AVERAGE(DK24:DK28)","v":14.209834922183795}]
[2005,21.850372400000001,7.6561283333333341,null,null,{"$f":"F24","v":8.7755662333333326},null,null,{"$f":"I28-(I28-I53)/60","v":21.820451396563488},null,null,null,null,{"$f":"N28-(N28-N52)/24","v":8.6736676402777775},{"$f":"O28-(O28-O52)/24","v":21.653223223670633},22.233753789999998,8.5265979999999999,28.809123333333336,14.609202916666668,null,null,{"$f":"V24","v":14.329750208695652},null,null,{"$f":"Y28-(Y28-Y53)/60","v":27.15109452501515},null,null,null,null,{"$f":"AD28-(AD28-AD52)/24","v":14.168927283333332},{"$f":"AE28-(AE28-AE52)/24","v":27.036055602196967},{"$f":"AVERAGE(R25:R29)","v":27.718783932727273},{"$f":"AVERAGE(S25:S29)","v":14.398853692028984},30.454881666666662,11.912472608695653,null,null,{"$f":"AL24","v":12.278002909732333},null,null,{"$f":"AO28-(AO28-AO53)/60","v":27.965162027755792},null,null,null,null,{"$f":"AT28-(AT28-AT52)/24","v":12.069336121826819},{"$f":"AU28-(AU28-AU52)/24","v":27.738098944166662},{"$f":"AVERAGE(AH25:AH29)","v":28.835634722898543},{"$f":"AVERAGE(AI25:AI29)","v":12.068398168313568},20.506604347826087,6.6863486363636353,null,null,{"$f":"BB24","v":7.6474146788537558},null,null,{"$f":"BE28-(BE28-BE53)/60","v":21.67837874220314},null,null,null,null,{"$f":"BJ28-(BJ28-BJ52)/24","v":7.5396057339015163},{"$f":"BK28-(BK28-BK52)/24","v":21.46845098090278},{"$f":"AVERAGE(AX25:AX29)","v":21.605419079710146},{"$f":"AVERAGE(AY25:AY29)","v":7.4552014703557319},25.918687142857141,5.4461949999999995,null,null,{"$f":"BR24","v":6.3666166802371533},null,null,{"$f":"BU28-(BU28-BU53)/60","v":23.343907484791767},null,null,null,null,{"$f":"BZ28-(BZ28-BZ52)/24","v":6.2621743185606054},{"$f":"CA28-(CA28-CA52)/24","v":23.154040823088021},{"$f":"AVERAGE(BN25:BN29)","v":24.129410308149822},{"$f":"AVERAGE(BO25:BO29)","v":6.1573396802371532},20.920530833333338,7.9851104166666671,null,null,{"$f":"CH24","v":9.1560898190476188},null,null,{"$f":"CK28-(CK28-CK53)/60","v":20.474462834648701},null,null,null,null,{"$f":"CP28-(CP28-CP52)/24","v":9.0433360765873019},{"$f":"CQ28-(CQ28-CQ52)/24","v":20.338551343906929},{"$f":"AVERAGE(CD25:CD29)","v":20.940636997575758},{"$f":"AVERAGE(CE25:CE29)","v":8.9655422023809503},30.510654583333331,10.482019130434782,null,null,{"$f":"CX24","v":10.963213246158876},null,null,{"$f":"DA28-(DA28-DA53)/60","v":28.009128456640468},null,null,null,null,{"$f":"DF28-(DF28-DF52)/24","v":10.790996027568923},{"$f":"DG28-(DG28-DG52)/24","v":27.736142386994945},{"$f":"AVERAGE(CT25:CT29)","v":28.978774320487485},{"$f":"AVERAGE(CU25:CU29)","v":10.843736335403728},30.323420399999996,14.919380416666664,null,null,{"$f":"DN24","v":14.209834922183795},null,null,{"$f":"DQ28-(DQ28-DQ53)/60","v":27.771057908146254},null,null,null,null,{"$f":"DV28-(DV28-DV52)/24","v":14.007758467092803},{"$f":"DW28-(DW28-DW52)/24","v":27.549161438715277},{"$f":"AVERAGE(DJ25:DJ29)","v":28.529723194057972},{"$f":"AVERAGE(DK25:DK29)","v":14.35174402108037}]
[2006,22.687711666666669,8.2539025000000006,null,null,{"$f":"F24","v":8.7755662333333326},null,null,{"$f":"I29-(I28-I53)/60","v":21.626669864079361},null,null,null,null,{"$f":"N29-(N28-N52)/24","v":8.5717690472222223},{"$f":"O29-(O28-O52)/24","v":21.29221351829365},22.296436443333331,8.4025243333333339,26.883259523809524,15.349784500000002,null,null,{"$f":"V24","v":14.329750208695652},null,null,{"$f":"Y29-(Y28-Y53)/60","v":26.87195711730303},null,null,null,null,{"$f":"AD29-(AD28-AD52)/24","v":14.008104357971014},{"$f":"AE29-(AE28-AE52)/24","v":26.641879271666664},27.68101229203463,14.707911258695654,28.912212083333344,10.571443478260869,null,null,{"$f":"AL24","v":12.278002909732333},null,null,{"$f":"AO29-(AO28-AO53)/60","v":27.64230776594637},null,null,null,null,{"$f":"AT29-(AT28-AT52)/24","v":11.860669333921305},{"$f":"AU29-(AU28-AU52)/24","v":27.188181598768111},29.111550878695653,11.522133385704873,19.735500833333337,6.4274883333333337,null,null,{"$f":"BB24","v":7.6474146788537558},null,null,{"$f":"BE29-(BE28-BE53)/60","v":21.476634721725119},null,null,null,null,{"$f":"BJ29-(BJ28-BJ52)/24","v":7.4317967889492769},{"$f":"BK29-(BK28-BK52)/24","v":21.056779199124399},21.059466202898552,7.088413046113307,21.186981304347825,5.2435431818181817,null,null,{"$f":"BR24","v":6.3666166802371533},null,null,{"$f":"BU29-(BU28-BU53)/60","v":23.121859328100381},null,null,null,null,{"$f":"BZ29-(BZ28-BZ52)/24","v":6.1577319568840574},{"$f":"CA29-(CA28-CA52)/24","v":22.742126004692889},23.270725669019384,5.9117646166007898,20.719332083333331,8.604346249999999,null,null,{"$f":"CH24","v":9.1560898190476188},null,null,{"$f":"CK29-(CK28-CK53)/60","v":20.296524266959739},null,null,null,null,{"$f":"CP29-(CP28-CP52)/24","v":8.930582334126985},{"$f":"CQ29-(CQ28-CQ52)/24","v":20.024701285476194},20.824294323333334,8.8249311666666657,27.753847727272728,10.592410952380956,null,null,{"$f":"CX24","v":10.963213246158876},null,null,{"$f":"DA29-(DA28-DA53)/60","v":27.695760509460122},null,null,null,null,{"$f":"DF29-(DF28-DF52)/24","v":10.61877880897897},{"$f":"DG29-(DG28-DG52)/24","v":27.149788370169077},29.005965411396573,10.320079668737062,28.212375999999999,14.753522500000001,null,null,{"$f":"DN24","v":14.209834922183795},null,null,{"$f":"DQ29-(DQ28-DQ53)/60","v":27.460816923720046},null,null,null,null,{"$f":"DV29-(DV28-DV52)/24","v":13.80568201200181},{"$f":"DW29-(DW28-DW52)/24","v":27.017023984858092},28.500803176666672,14.393968702898547]
[2007,20.835775000000002,8.2758608333333346,null,null,{"$f":"F24","v":8.7755662333333326},null,null,{"$f":"I30-(I28-I53)/60","v":21.432888331595233},null,null,null,null,{"$f":"N30-(N28-N52)/24","v":8.4698704541666672},{"$f":"O30-(O28-O52)/24","v":20.931203812916667},21.88164008333333,8.3036819166666671,26.103783478260869,12.737269545454541,null,null,{"$f":"V24","v":14.329750208695652},null,null,{"$f":"Y30-(Y28-Y53)/60","v":26.592819709590909},null,null,null,null,{"$f":"AD30-(AD28-AD52)/24","v":13.847281432608696},{"$f":"AE30-(AE28-AE52)/24","v":26.24770294113636},27.595215260414079,14.288899167786562,28.148977199999994,10.202237500000001,null,null,{"$f":"AL24","v":12.278002909732333},null,null,{"$f":"AO30-(AO28-AO53)/60","v":27.319453504136948},null,null,null,null,{"$f":"AT30-(AT28-AT52)/24","v":11.65200254601579},{"$f":"AU30-(AU28-AU52)/24","v":26.638264253369559},29.149715275217392,11.179853431159419,21.062840869565218,6.862025,null,null,{"$f":"BB24","v":7.6474146788537558},null,null,{"$f":"BE30-(BE28-BE53)/60","v":21.274890701247099},null,null,null,null,{"$f":"BJ30-(BJ28-BJ52)/24","v":7.3239878439970374},{"$f":"BK30-(BK28-BK52)/24","v":20.645107417346019},20.586243626811594,6.9067240461133066,25.256197619047619,5.7447223809523802,null,null,{"$f":"BR24","v":6.3666166802371533},null,null,{"$f":"BU30-(BU28-BU53)/60","v":22.899811171408995},null,null,null,null,{"$f":"BZ30-(BZ28-BZ52)/24","v":6.0532895952075094},{"$f":"CA30-(CA28-CA52)/24","v":22.330211186297756},23.628996410220214,5.7751379109730845,18.50287347826087,7.7938495454545462,null,null,{"$f":"CH24","v":9.1560898190476188},null,null,{"$f":"CK30-(CK28-CK53)/60","v":20.118585699270778},null,null,null,null,{"$f":"CP30-(CP28-CP52)/24","v":8.8178285916666681},{"$f":"CQ30-(CQ28-CQ52)/24","v":19.71085122704546},20.100191768985507,8.5604073257575752,28.171336666666665,11.129924782608693,null,null,{"$f":"CX24","v":10.963213246158876},null,null,{"$f":"DA30-(DA28-DA53)/60","v":27.382392562279776},null,null,null,null,{"$f":"DF30-(DF28-DF52)/24","v":10.446561590389017},{"$f":"DG30-(DG28-DG52)/24","v":26.563434353343208},28.662138578063242,10.247542886128366,27.493659166666664,13.776087826086961,null,null,{"$f":"DN24","v":14.209834922183795},null,null,{"$f":"DQ30-(DQ28-DQ53)/60","v":27.150575939293837},null,null,null,null,{"$f":"DV30-(DV28-DV52)/24","v":13.603605556910818},{"$f":"DW30-(DW28-DW52)/24","v":26.484886531000907},28.216665760000001,14.019767833333333]
[2008,19.349384000000001,7.7634958333333337,null,null,{"$f":"F24","v":8.7755662333333326},null,null,{"$f":"I31-(I28-I53)/60","v":21.239106799111106},null,null,null,null,{"$f":"N31-(N28-N52)/24","v":8.367971861111112},{"$f":"O31-(O28-O52)/24","v":20.570194107539685},21.212178133333332,8.102436916666667,null,null,null,null,{"$f":"V24","v":14.329750208695652},null,null,{"$f":"Y31-(Y28-Y53)/60","v":26.313682301878789},null,null,null,null,{"$f":"AD31-(AD28-AD52)/24","v":13.686458507246378},{"$f":"AE31-(AE28-AE52)/24","v":25.853526610606057},27.370884283850934,14.264460698863637,24.369120799999997,9.4356112500000027,null,null,{"$f":"AL24","v":12.278002909732333},null,null,{"$f":"AO31-(AO28-AO53)/60","v":26.996599242327527},null,null,null,null,{"$f":"AT31-(AT28-AT52)/24","v":11.443335758110276},{"$f":"AU31-(AU28-AU52)/24","v":26.088346907971008},28.158367869999999,10.758610550724638,16.095663181818178,6.2600099999999994,null,null,{"$f":"BB24","v":7.6474146788537558},null,null,{"$f":"BE31-(BE28-BE53)/60","v":21.073146680769078},null,null,null,null,{"$f":"BJ31-(BJ28-BJ52)/24","v":7.2161788990447979},{"$f":"BK31-(BK28-BK52)/24","v":20.233435635567638},19.674980929841901,6.769793350461133,null,null,null,null,{"$f":"BR24","v":6.3666166802371533},null,null,{"$f":"BU31-(BU28-BU53)/60","v":22.677763014717609},null,null,null,null,{"$f":"BZ31-(BZ28-BZ52)/24","v":5.9488472335309615},{"$f":"CA31-(CA28-CA52)/24","v":21.918296367902624},23.693816971108603,5.7610818452380954,17.506890799999997,7.8237345833333336,null,null,{"$f":"CH24","v":9.1560898190476188},null,null,{"$f":"CK31-(CK28-CK53)/60","v":19.940647131581816},null,null,null,null,{"$f":"CP31-(CP28-CP52)/24","v":8.7050748492063512},{"$f":"CQ31-(CQ28-CQ52)/24","v":19.397001168614725},19.410283678985508,8.228199575757575,24.588055600000004,8.1589549999999988,null,null,{"$f":"CX24","v":10.963213246158876},null,null,{"$f":"DA31-(DA28-DA53)/60","v":27.06902461509943},null,null,null,null,{"$f":"DF31-(DF28-DF52)/24","v":10.274344371799064},{"$f":"DG31-(DG28-DG52)/24","v":25.977080336517339},28.004819524150196,9.9834498861283656,24.013450833333334,13.146181666666665,null,null,{"$f":"DN24","v":14.209834922183795},null,null,{"$f":"DQ31-(DQ28-DQ53)/60","v":26.840334954867629},null,null,null,null,{"$f":"DV31-(DV28-DV52)/24","v":13.401529101819825},{"$f":"DW31-(DW28-DW52)/24","v":25.952749077143721},27.497587759999998,14.079647731884057]
[2009,18.168552800000001,6.9209791666666662,null,null,{"$f":"F24","v":8.7755662333333326},null,null,{"$f":"I32-(I28-I53)/60","v":21.045325266626978},null,null,null,null,{"$f":"N32-(N28-N52)/24","v":8.2660732680555569},{"$f":"O32-(O28-O52)/24","v":20.209184402162702},20.578359173333332,7.7740733333333338,23.029385999999999,12.780625833333334,null,null,{"$f":"V24","v":14.329750208695652},null,null,{"$f":"Y32-(Y28-Y53)/60","v":26.034544894166668},null,null,null,null,{"$f":"AD32-(AD28-AD52)/24","v":13.52563558188406},{"$f":"AE32-(AE28-AE52)/24","v":25.459350280075753},26.206388083850932,13.869220698863636,21.889012499999996,8.7023541666666677,null,null,{"$f":"AL24","v":12.278002909732333},null,null,{"$f":"AO32-(AO28-AO53)/60","v":26.673744980518105},null,null,null,null,{"$f":"AT32-(AT28-AT52)/24","v":11.234668970204762},{"$f":"AU32-(AU28-AU52)/24","v":25.538429562572457},26.754840850000001,10.164823800724637,null,null,null,null,{"$f":"BB24","v":7.6474146788537558},null,null,{"$f":"BE32-(BE28-BE53)/60","v":20.871402660291057},null,null,null,null,{"$f":"BJ32-(BJ28-BJ52)/24","v":7.1083699540925585},{"$f":"BK32-(BK28-BK52)/24","v":19.821763853789257},19.350152308135705,6.5589679924242414,17.854491904761908,4.1096230000000009,null,null,{"$f":"BR24","v":6.3666166802371533},null,null,{"$f":"BU32-(BU28-BU53)/60","v":22.455714858026223},null,null,null,null,{"$f":"BZ32-(BZ28-BZ52)/24","v":5.8444048718544135},{"$f":"CA32-(CA28-CA52)/24","v":21.506381549507491},22.554089492753626,5.1360208906926399,17.013814,6.8349754166666656,null,null,{"$f":"CH24","v":9.1560898190476188},null,null,{"$f":"CK32-(CK28-CK53)/60","v":19.762708563892854},null,null,null,null,{"$f":"CP32-(CP28-CP52)/24","v":8.5923211067460343},{"$f":"CQ32-(CQ28-CQ52)/24","v":19.083151110183991},18.932688238985506,7.8084032424242427,21.198066666666666,8.2333234782608695,null,null,{"$f":"CX24","v":10.963213246158876},null,null,{"$f":"DA32-(DA28-DA53)/60","v":26.755656667919084},null,null,null,null,{"$f":"DF32-(DF28-DF52)/24","v":10.102127153209111},{"$f":"DG32-(DG28-DG52)/24","v":25.390726319691471},26.444392248787882,9.719326668737061,22.074737916666663,11.553073913043477,null,null,{"$f":"DN24","v":14.209834922183795},null,null,{"$f":"DQ32-(DQ28-DQ53)/60","v":26.53009397044142},null,null,null,null,{"$f":"DV32-(DV28-DV52)/24","v":13.199452646728833},{"$f":"DW32-(DW28-DW52)/24","v":25.420611623286536},26.423528863333331,13.629649264492752]
[2010,17.519251666666669,6.706666666666667,null,null,{"$f":"F24","v":8.7755662333333326},null,null,{"$f":"I33-(I28-I53)/60","v":20.851543734142851},null,null,null,null,{"$f":"N33-(N28-N52)/24","v":8.1641746750000017},{"$f":"O33-(O28-O52)/24","v":19.848174696785719},19.712135026666669,7.5841810000000009,24.5091392,11.816622083333334,null,null,{"$f":"V24","v":14.329750208695652},null,null,{"$f":"Y33-(Y28-Y53)/60","v":25.755407486454548},null,null,null,null,{"$f":"AD33-(AD28-AD52)/24","v":13.364812656521742},{"$f":"AE33-(AE28-AE52)/24","v":25.06517394954545},25.131392050517597,13.171075490530303,22.679809583333334,9.7433895652173899,null,null,{"$f":"AL24","v":12.278002909732333},null,null,{"$f":"AO33-(AO28-AO53)/60","v":26.350890718708683},null,null,null,null,{"$f":"AT33-(AT28-AT52)/24","v":11.026002182299248},{"$f":"AU33-(AU28-AU52)/24","v":24.988512217173906},25.199826433333332,9.7310071920289865,null,null,null,null,{"$f":"BB24","v":7.6474146788537558},null,null,{"$f":"BE33-(BE28-BE53)/60","v":20.669658639813036},null,null,null,null,{"$f":"BJ33-(BJ28-BJ52)/24","v":7.000561009140319},{"$f":"BK33-(BK28-BK52)/24","v":19.410092072010876},18.964668294905579,6.516507777777778,19.089753478260871,4.0833290909090909,null,null,{"$f":"BR24","v":6.3666166802371533},null,null,{"$f":"BU33-(BU28-BU53)/60","v":22.233666701334837},null,null,null,null,{"$f":"BZ33-(BZ28-BZ52)/24","v":5.7399625101778655},{"$f":"CA33-(CA28-CA52)/24","v":21.094466731112359},20.846856076604556,4.7953044134199132,16.452778750000004,5.9790265217391285,null,null,{"$f":"CH24","v":9.1560898190476188},null,null,{"$f":"CK33-(CK28-CK53)/60","v":19.584769996203892},null,null,null,null,{"$f":"CP33-(CP28-CP52)/24","v":8.4795673642857174},{"$f":"CQ33-(CQ28-CQ52)/24","v":18.769301051753256},18.039137822318843,7.4071864634387339,22.121661739130435,9.7869190909090911,null,null,{"$f":"CX24","v":10.963213246158876},null,null,{"$f":"DA33-(DA28-DA53)/60","v":26.442288720738738},null,null,null,null,{"$f":"DF33-(DF28-DF52)/24","v":9.9299099346191575},{"$f":"DG33-(DG28-DG52)/24","v":24.804372302865602},24.766593679947299,9.5803066608319227,22.883857500000001,13.511847500000002,null,null,{"$f":"DN24","v":14.209834922183795},null,null,{"$f":"DQ33-(DQ28-DQ53)/60","v":26.219852986015212},null,null,null,null,{"$f":"DV33-(DV28-DV52)/24","v":12.997376191637841},{"$f":"DW33-(DW28-DW52)/24","v":24.888474169429351},24.935616283333335,13.34814268115942]
[2011,17.387662800000001,7.5093412500000012,null,null,{"$f":"F24","v":8.7755662333333326},null,null,{"$f":"I34-(I28-I53)/60","v":20.657762201658723},null,null,null,null,{"$f":"N34-(N28-N52)/24","v":8.0622760819444466},{"$f":"O34-(O28-O52)/24","v":19.487164991408736},18.652125253333335,7.4352687500000005,22.664752173913044,12.91688304347826,null,null,{"$f":"V24","v":14.329750208695652},null,null,{"$f":"Y34-(Y28-Y53)/60","v":25.476270078742427},null,null,null,null,{"$f":"AD34-(AD28-AD52)/24","v":13.203989731159425},{"$f":"AE34-(AE28-AE52)/24","v":24.670997619015147},24.076765213043476,12.562850126399868,23.752517916666672,8.7500239130434796,null,null,{"$f":"AL24","v":12.278002909732333},null,null,{"$f":"AO34-(AO28-AO53)/60","v":26.028036456899262},null,null,null,null,{"$f":"AT34-(AT28-AT52)/24","v":10.817335394393734},{"$f":"AU34-(AU28-AU52)/24","v":24.438594871775354},24.1678876,9.3667232789855071,17.475696363636366,6.3926314285714287,null,null,{"$f":"BB24","v":7.6474146788537558},null,null,{"$f":"BE34-(BE28-BE53)/60","v":20.467914619335016},null,null,null,null,{"$f":"BJ34-(BJ28-BJ52)/24","v":6.8927520641880795},{"$f":"BK34-(BK28-BK52)/24","v":18.998420290232495},18.211400138339922,6.50488880952381,18.26713476190476,5.3999280000000001,null,null,{"$f":"BR24","v":6.3666166802371533},null,null,{"$f":"BU34-(BU28-BU53)/60","v":22.011618544643451},null,null,null,null,{"$f":"BZ34-(BZ28-BZ52)/24","v":5.6355201485013175},{"$f":"CA34-(CA28-CA52)/24","v":20.682551912717226},20.116894440993789,4.8344006179653682,16.383600869565218,6.9741145454545457,null,null,{"$f":"CH24","v":9.1560898190476188},null,null,{"$f":"CK34-(CK28-CK53)/60","v":19.406831428514931},null,null,null,null,{"$f":"CP34-(CP28-CP52)/24","v":8.3668136218254006},{"$f":"CQ34-(CQ28-CQ52)/24","v":18.455450993322522},17.171991579565219,7.0811401225296438,22.101653333333335,7.8694421739130425,null,null,{"$f":"CX24","v":10.963213246158876},null,null,{"$f":"DA34-(DA28-DA53)/60","v":26.128920773558391},null,null,null,null,{"$f":"DF34-(DF28-DF52)/24","v":9.7576927160292044},{"$f":"DG34-(DG28-DG52)/24","v":24.218018286039733},23.636154801159417,9.0357129051383396,22.934422083333331,11.574347391304348,null,null,{"$f":"DN24","v":14.209834922183795},null,null,{"$f":"DQ34-(DQ28-DQ53)/60","v":25.909612001589004},null,null,null,null,{"$f":"DV34-(DV28-DV52)/24","v":12.795299736546848},{"$f":"DW34-(DW28-DW52)/24","v":24.356336715572166},23.880025499999999,12.712307659420292]
[2012,15.809913999999999,7.7525445833333331,null,null,{"$f":"F24","v":8.7755662333333326},null,null,{"$f":"I35-(I28-I53)/60","v":20.463980669174596},null,null,null,null,{"$f":"N35-(N28-N52)/24","v":7.9603774888888914},{"$f":"O35-(O28-O52)/24","v":19.126155286031754},17.646953053333334,7.3306054999999999,20.951915833333334,11.926676086956521,null,null,{"$f":"V24","v":14.329750208695652},null,null,{"$f":"Y35-(Y28-Y53)/60","v":25.197132671030307},null,null,null,null,{"$f":"AD35-(AD28-AD52)/24","v":13.043166805797107},{"$f":"AE35-(AE28-AE52)/24","v":24.276821288484843},22.788798301811592,12.360201761775361,20.878775833333332,9.5936413043478268,null,null,{"$f":"AL24","v":12.278002909732333},null,null,{"$f":"AO35-(AO28-AO53)/60","v":25.70518219508984},null,null,null,null,{"$f":"AT35-(AT28-AT52)/24","v":10.608668606488219},{"$f":"AU35-(AU28-AU52)/24","v":23.888677526376803},22.71384732666667,9.2450040398550719,14.858669999999995,5.8144063636363637,null,null,{"$f":"BB24","v":7.6474146788537558},null,null,{"$f":"BE35-(BE28-BE53)/60","v":20.266170598856995},null,null,null,null,{"$f":"BJ35-(BJ28-BJ52)/24","v":6.78494311923584},{"$f":"BK35-(BK28-BK52)/24","v":18.586748508454114},16.143343181818178,6.1556825974025982,17.78050318181818,5.4927761904761914,null,null,{"$f":"BR24","v":6.3666166802371533},null,null,{"$f":"BU35-(BU28-BU53)/60","v":21.789570387952065},null,null,null,null,{"$f":"BZ35-(BZ28-BZ52)/24","v":5.5310777868247696},{"$f":"CA35-(CA28-CA52)/24","v":20.270637094322094},18.247970831686427,4.7714140703463208,14.73847958333333,7.3213886956521721,null,null,{"$f":"CH24","v":9.1560898190476188},null,null,{"$f":"CK35-(CK28-CK53)/60","v":19.228892860825969},null,null,null,null,{"$f":"CP35-(CP28-CP52)/24","v":8.2540598793650837},{"$f":"CQ35-(CQ28-CQ52)/24","v":18.141600934891787},16.419112800579708,6.9866479525691698,19.295124545454545,9.6250933333333339,null,null,{"$f":"CX24","v":10.963213246158876},null,null,{"$f":"DA35-(DA28-DA53)/60","v":25.815552826378045},null,null,null,null,{"$f":"DF35-(DF28-DF52)/24","v":9.5854754974392513},{"$f":"DG35-(DG28-DG52)/24","v":23.631664269213864},21.860912376916993,8.7347466152832673,19.840350909090905,12.122281428571428,null,null,{"$f":"DN24","v":14.209834922183795},null,null,{"$f":"DQ35-(DQ28-DQ53)/60","v":25.599371017162795},null,null,null,null,{"$f":"DV35-(DV28-DV52)/24","v":12.593223281455856},{"$f":"DW35-(DW28-DW52)/24","v":23.82419926171498},22.349363848484849,12.381546379917184]
[{"$f":"A36+1","v":2013},15.312182083333335,6.2538669565217395,null,null,{"$f":"F24","v":8.7755662333333326},null,null,{"$f":"I36-(I28-I53)/60","v":20.270199136690469},null,null,null,null,{"$f":"N36-(N28-N52)/24","v":7.8584788958333363},{"$f":"O36-(O28-O52)/24","v":18.765145580654771},16.839512670000001,7.0286797246376809,20.118025652173912,11.801418636363639,null,null,{"$f":"V24","v":14.329750208695652},null,null,{"$f":"Y36-(Y28-Y53)/60","v":24.917995263318186},null,null,null,null,{"$f":"AD36-(AD28-AD52)/24","v":12.882343880434789},{"$f":"AE36-(AE28-AE52)/24","v":23.88264495795454},22.254643771884055,12.248445136693016,18.827012083333337,8.3429178260869552,null,null,{"$f":"AL24","v":12.278002909732333},null,null,{"$f":"AO36-(AO28-AO53)/60","v":25.382327933280418},null,null,null,null,{"$f":"AT36-(AT28-AT52)/24","v":10.400001818582705},{"$f":"AU36-(AU28-AU52)/24","v":23.338760180978252},21.605425583333336,9.0264653550724638,13.873528695652176,5.4116481818181823,null,null,{"$f":"BB24","v":7.6474146788537558},null,null,{"$f":"BE36-(BE28-BE53)/60","v":20.064426578378974},null,null,null,null,{"$f":"BJ36-(BJ28-BJ52)/24","v":6.6771341742836006},{"$f":"BK36-(BK28-BK52)/24","v":18.175076726675734},15.402631686429514,5.8728953246753255,17.321281666666668,5.3526569565217388,null,null,{"$f":"BR24","v":6.3666166802371533},null,null,{"$f":"BU36-(BU28-BU53)/60","v":21.567522231260678},null,null,null,null,{"$f":"BZ36-(BZ28-BZ52)/24","v":5.4266354251482216},{"$f":"CA36-(CA28-CA52)/24","v":19.858722275926961},18.062632998682474,4.8876626475814042,14.423458181818178,6.545156363636365,null,null,{"$f":"CH24","v":9.1560898190476188},null,null,{"$f":"CK36-(CK28-CK53)/60","v":19.050954293137007},null,null,null,null,{"$f":"CP36-(CP28-CP52)/24","v":8.1413061369047668},{"$f":"CQ36-(CQ28-CQ52)/24","v":17.827750876461053},15.802426276943345,6.7309323086297752,18.884010434782613,7.5015527272727276,null,null,{"$f":"CX24","v":10.963213246158876},null,null,{"$f":"DA36-(DA28-DA53)/60","v":25.502184879197699},null,null,null,null,{"$f":"DF36-(DF28-DF52)/24","v":9.4132582788492982},{"$f":"DG36-(DG28-DG52)/24","v":23.045310252387996},20.720103343873518,8.603266160737812,18.593564583333329,9.8551841666666657,null,null,{"$f":"DN24","v":14.209834922183795},null,null,{"$f":"DQ36-(DQ28-DQ53)/60","v":25.289130032736587},null,null,null,null,{"$f":"DV36-(DV28-DV52)/24","v":12.391146826364864},{"$f":"DW36-(DW28-DW52)/24","v":23.292061807857795},21.265386598484845,11.723346879917184]
[{"$f":"A37+1","v":2014},15.364677916666665,7.032901739130434,null,null,{"$f":"F24","v":8.7755662333333326},null,null,{"$f":"I37-(I28-I53)/60","v":20.076417604206341},null,null,null,null,{"$f":"N37-(N28-N52)/24","v":7.7565803027777811},{"$f":"O37-(O28-O52)/24","v":18.404135875277788},16.278737693333333,7.0510642391304348,21.088576521739132,11.663864999999999,null,null,{"$f":"V24","v":14.329750208695652},null,null,{"$f":"Y37-(Y28-Y53)/60","v":24.638857855606066},null,null,null,null,{"$f":"AD37-(AD28-AD52)/24","v":12.721520955072471},{"$f":"AE37-(AE28-AE52)/24","v":23.488468627424236},21.866481876231884,12.02509297002635,19.412743750000001,8.5168186956521748,null,null,{"$f":"AL24","v":12.278002909732333},null,null,{"$f":"AO37-(AO28-AO53)/60","v":25.059473671470997},null,null,null,null,{"$f":"AT37-(AT28-AT52)/24","v":10.191335030677191},{"$f":"AU37-(AU28-AU52)/24","v":22.7888428355797},21.110171833333332,8.9893582608695652,15.185584782608695,5.7541091304347836,null,null,{"$f":"BB24","v":7.6474146788537558},null,null,{"$f":"BE37-(BE28-BE53)/60","v":19.862682557900953},null,null,null,null,{"$f":"BJ37-(BJ28-BJ52)/24","v":6.5693252293313611},{"$f":"BK37-(BK28-BK52)/24","v":17.763404944897353},15.348369960474308,5.84319877611519,16.61486833333333,5.0042266666666659,null,null,{"$f":"BR24","v":6.3666166802371533},null,null,{"$f":"BU37-(BU28-BU53)/60","v":21.345474074569292},null,null,null,null,{"$f":"BZ37-(BZ28-BZ52)/24","v":5.3221930634716736},{"$f":"CA37-(CA28-CA52)/24","v":19.446807457531829},17.814708284396762,5.0665833809147376,14.153976818181816,6.9004790476190481,null,null,{"$f":"CH24","v":9.1560898190476188},null,null,{"$f":"CK37-(CK28-CK53)/60","v":18.873015725448045},null,null,null,null,{"$f":"CP37-(CP28-CP52)/24","v":8.0285523944444499},{"$f":"CQ37-(CQ28-CQ52)/24","v":17.513900818030319},15.230458840579709,6.7440330348202524,18.581340833333332,8.0176504347826079,null,null,{"$f":"CX24","v":10.963213246158876},null,null,{"$f":"DA37-(DA28-DA53)/60","v":25.188816932017353},null,null,null,null,{"$f":"DF37-(DF28-DF52)/24","v":9.2410410602593451},{"$f":"DG37-(DG28-DG52)/24","v":22.458956235562127},20.196758177206853,8.5601315520421615,19.142567916666668,10.814668695652175,null,null,{"$f":"DN24","v":14.209834922183795},null,null,{"$f":"DQ37-(DQ28-DQ53)/60","v":24.978889048310378},null,null,null,null,{"$f":"DV37-(DV28-DV52)/24","v":12.189070371273871},{"$f":"DW37-(DW28-DW52)/24","v":22.75992435400061},20.678952598484848,11.575665836438924]
[2015,16.072577500000005,6.0495565217391309,null,null,{"$f":"F24","v":8.7755662333333326},null,null,{"$f":"I38-(I28-I53)/60","v":19.882636071722214},null,null,null,null,{"$f":"N38-(N28-N52)/24","v":7.6546817097222259},{"$f":"O38-(O28-O52)/24","v":18.043126169900805},15.989402860000002,6.9196422101449286,20.838002499999998,11.441348695652175,null,null,{"$f":"V24","v":14.329750208695652},null,null,{"$f":"Y38-(Y28-Y53)/60","v":24.359720447893945},null,null,null,null,{"$f":"AD38-(AD28-AD52)/24","v":12.560698029710153},{"$f":"AE38-(AE28-AE52)/24","v":23.094292296893933},21.132254536231883,11.950038292490119,18.819640416666662,5.8836143478260867,null,null,{"$f":"AL24","v":12.278002909732333},null,null,{"$f":"AO38-(AO28-AO53)/60","v":24.736619409661575},null,null,null,null,{"$f":"AT38-(AT28-AT52)/24","v":9.9826682427716769},{"$f":"AU38-(AU28-AU52)/24","v":22.238925490181149},20.338138000000001,8.2174032173913041,14.43662,4.9166009523809535,null,null,{"$f":"BB24","v":7.6474146788537558},null,null,{"$f":"BE38-(BE28-BE53)/60","v":19.660938537422933},null,null,null,null,{"$f":"BJ38-(BJ28-BJ52)/24","v":6.4615162843791216},{"$f":"BK38-(BK28-BK52)/24","v":17.351733163118972},15.166019968379448,5.6578792113683427,15.356502272727273,5.2025231818181803,null,null,{"$f":"BR24","v":6.3666166802371533},null,null,{"$f":"BU38-(BU28-BU53)/60","v":21.123425917877906},null,null,null,null,{"$f":"BZ38-(BZ28-BZ52)/24","v":5.2177507017951257},{"$f":"CA38-(CA28-CA52)/24","v":19.034892639136697},17.068058043290044,5.2904221990965556,14.525514999999997,6.638016666666668,null,null,{"$f":"CH24","v":9.1560898190476188},null,null,{"$f":"CK38-(CK28-CK53)/60","v":18.695077157759084},null,null,null,null,{"$f":"CP38-(CP28-CP52)/24","v":7.9157986519841321},{"$f":"CQ38-(CQ28-CQ52)/24","v":17.200050759599584},14.845006090579707,6.8758310638057596,18.649001666666667,6.498550434782608,null,null,{"$f":"CX24","v":10.963213246158876},null,null,{"$f":"DA38-(DA28-DA53)/60","v":24.875448984837007},null,null,null,null,{"$f":"DF38-(DF28-DF52)/24","v":9.068823841669392},{"$f":"DG38-(DG28-DG52)/24","v":21.872602218736258},19.502226162714098,7.9024578208168634,18.470918333333334,9.7634852173913025,null,null,{"$f":"DN24","v":14.209834922183795},null,null,{"$f":"DQ38-(DQ28-DQ53)/60","v":24.66864806388417},null,null,null,null,{"$f":"DV38-(DV28-DV52)/24","v":11.986993916182879},{"$f":"DW38-(DW28-DW52)/24","v":22.227786900143425},19.796364765151512,10.825993379917184]
[2016,13.723970833333333,6.0845679166666669,null,null,{"$f":"F24","v":8.7755662333333326},null,null,{"$f":"I39-(I28-I53)/60","v":19.688854539238086},null,null,null,null,{"$f":"N39-(N28-N52)/24","v":7.5527831166666708},{"$f":"O39-(O28-O52)/24","v":17.682116464523823},15.256664466666667,6.6346875434782602,19.18383875,11.119933043478261,null,null,{"$f":"V24","v":14.329750208695652},null,null,{"$f":"Y39-(Y28-Y53)/60","v":24.080583040181825},null,null,null,null,{"$f":"AD39-(AD28-AD52)/24","v":12.399875104347835},{"$f":"AE39-(AE28-AE52)/24","v":22.700115966363629},20.436071851449277,11.590648292490119,16.756800416666668,6.995272916666667,null,null,{"$f":"AL24","v":12.278002909732333},null,null,{"$f":"AO39-(AO28-AO53)/60","v":24.413765147852153},null,null,null,null,{"$f":"AT39-(AT28-AT52)/24","v":9.7740014548661627},{"$f":"AU39-(AU28-AU52)/24","v":21.689008144782598},18.9389945,7.8664530181159424,11.233157916666665,4.6891278260869571,null,null,{"$f":"BB24","v":7.6474146788537558},null,null,{"$f":"BE39-(BE28-BE53)/60","v":19.459194516944912},null,null,null,null,{"$f":"BJ39-(BJ28-BJ52)/24","v":6.3537073394268822},{"$f":"BK39-(BK28-BK52)/24","v":16.940061381340591},13.917512278985507,5.3171784908714477,13.415891818181819,4.8776914285714286,null,null,{"$f":"BR24","v":6.3666166802371533},null,null,{"$f":"BU39-(BU28-BU53)/60","v":20.90137776118652},null,null,null,null,{"$f":"BZ39-(BZ28-BZ52)/24","v":5.1133083401185777},{"$f":"CA39-(CA28-CA52)/24","v":18.622977820741564},16.097809454545452,5.1859748848108413,12.56302304347826,6.0893036363636375,null,null,{"$f":"CH24","v":9.1560898190476188},null,null,{"$f":"CK39-(CK28-CK53)/60","v":18.517138590070122},null,null,null,null,{"$f":"CP39-(CP28-CP52)/24","v":7.8030449095238144},{"$f":"CQ39-(CQ28-CQ52)/24","v":16.88620070116885},14.080890525362316,6.6988688819875772,16.594855652173909,7.3168409090909101,null,null,{"$f":"CX24","v":10.963213246158876},null,null,{"$f":"DA39-(DA28-DA53)/60","v":24.562081037656661},null,null,null,null,{"$f":"DF39-(DF28-DF52)/24","v":8.8966066230794389},{"$f":"DG39-(DG28-DG52)/24","v":21.286248201910389},18.400866626482212,7.7919375678524379,17.28075875,9.568021250000001,null,null,{"$f":"DN24","v":14.209834922183795},null,null,{"$f":"DQ39-(DQ28-DQ53)/60","v":24.358407079457962},null,null,null,null,{"$f":"DV39-(DV28-DV52)/24","v":11.784917461091887},{"$f":"DW39-(DW28-DW52)/24","v":21.695649446286239},18.665632098484846,10.424728151656314]
[2017,13.966052916666664,7.1824869565217382,null,null,{"$f":"F24","v":8.7755662333333326},null,null,{"$f":"I40-(I28-I53)/60","v":19.495073006753959},null,null,null,null,{"$f":"N40-(N28-N52)/24","v":7.4508845236111156},{"$f":"O40-(O28-O52)/24","v":17.32110675914684},{"$f":"AVERAGE(B37:B41)","v":14.887892249999998},{"$f":"AVERAGE(C37:C41)","v":6.5206760181159424},18.087285217391305,11.359854545454546,null,null,{"$f":"V24","v":14.329750208695652},null,null,{"$f":"Y40-(Y28-Y53)/60","v":23.801445632469704},null,null,null,null,{"$f":"AD40-(AD28-AD52)/24","v":12.239052178985517},{"$f":"AE40-(AE28-AE52)/24","v":22.305939635833326},{"$f":"AVERAGE(R37:R41)","v":19.863145728260868},{"$f":"AVERAGE(S37:S41)","v":11.477283984189723},16.150939583333336,6.4663708695652176,null,null,{"$f":"AL24","v":12.278002909732333},null,null,{"$f":"AO40-(AO28-AO53)/60","v":24.090910886042732},null,null,null,null,{"$f":"AT40-(AT28-AT52)/24","v":9.5653346669606485},{"$f":"AU40-(AU28-AU52)/24","v":21.139090799384046},{"$f":"AVERAGE(AH37:AH41)","v":17.99342725},{"$f":"AVERAGE(AI37:AI41)","v":7.2409989311594201},11.813347391304349,5.2213431818181819,null,null,{"$f":"BB24","v":7.6474146788537558},null,null,{"$f":"BE40-(BE28-BE53)/60","v":19.257450496466891},null,null,null,null,{"$f":"BJ40-(BJ28-BJ52)/24","v":6.2458983944746427},{"$f":"BK40-(BK28-BK52)/24","v":16.52838959956221},{"$f":"AVERAGE(AX37:AX41)","v":13.308447757246375},{"$f":"AVERAGE(AY37:AY41)","v":5.1985658545078106},13.947622083333336,5.43004,null,null,{"$f":"BR24","v":6.3666166802371533},null,null,{"$f":"BU40-(BU28-BU53)/60","v":20.679329604495134},null,null,null,null,{"$f":"BZ40-(BZ28-BZ52)/24","v":5.0088659784420297},{"$f":"CA40-(CA28-CA52)/24","v":18.211063002346432},{"$f":"AVERAGE(BN37:BN41)","v":15.331233234848487},{"$f":"AVERAGE(BO37:BO41)","v":5.1734276467156022},12.128652916666669,6.7688265217391299,null,null,{"$f":"CH24","v":9.1560898190476188},null,null,{"$f":"CK40-(CK28-CK53)/60","v":18.33920002238116},null,null,null,null,{"$f":"CP40-(CP28-CP52)/24","v":7.6902911670634966},{"$f":"CQ40-(CQ28-CQ52)/24","v":16.572350642738115},{"$f":"AVERAGE(CD37:CD41)","v":13.558925192028985},{"$f":"AVERAGE(CE37:CE41)","v":6.58835644720497},16.136525833333334,6.3530713043478269,null,null,{"$f":"CX24","v":10.963213246158876},null,null,{"$f":"DA40-(DA28-DA53)/60","v":24.248713090476315},null,null,null,null,{"$f":"DF40-(DF28-DF52)/24","v":8.7243894044894859},{"$f":"DG40-(DG28-DG52)/24","v":20.699894185084521},{"$f":"AVERAGE(CT37:CT41)","v":17.769146884057971},{"$f":"AVERAGE(CU37:CU41)","v":7.1375331620553357},17.263276250000004,8.3777699999999982,null,null,{"$f":"DN24","v":14.209834922183795},null,null,{"$f":"DQ40-(DQ28-DQ53)/60","v":24.048166095031753},null,null,null,null,{"$f":"DV40-(DV28-DV52)/24","v":11.582841006000894},{"$f":"DW40-(DW28-DW52)/24","v":21.163511992429054},{"$f":"AVERAGE(DJ37:DJ41)","v":18.150217166666668},{"$f":"AVERAGE(DK37:DK41)","v":9.6758258659420271}]
[2018,13.576716956521738,6.5265890909090896,null,null,{"$f":"F24","v":8.7755662333333326},null,null,{"$f":"I41-(I28-I53)/60","v":19.301291474269831},null,null,null,null,{"$f":"N41-(N28-N52)/24","v":7.3489859305555605},{"$f":"O41-(O28-O52)/24","v":16.960097053769857},{"$f":"AVERAGE(B38:B42)","v":14.540799224637681},{"$f":"AVERAGE(C38:C42)","v":6.5752204449934126},17.367290000000001,10.697022631578948,null,null,{"$f":"V24","v":14.329750208695652},null,null,{"$f":"Y41-(Y28-Y53)/60","v":23.522308224757584},null,null,null,null,{"$f":"AD41-(AD28-AD52)/24","v":12.078229253623199},{"$f":"AE41-(AE28-AE52)/24","v":21.911763305303023},{"$f":"AVERAGE(R38:R42)","v":19.312998597826088},{"$f":"AVERAGE(S38:S42)","v":11.256404783232785},17.102339583333329,5.5163000000000002,null,null,{"$f":"AL24","v":12.278002909732333},null,null,{"$f":"AO41-(AO28-AO53)/60","v":23.76805662423331},null,null,null,null,{"$f":"AT41-(AT28-AT52)/24","v":9.3566678790551343},{"$f":"AU41-(AU28-AU52)/24","v":20.589173453985495},{"$f":"AVERAGE(AH38:AH42)","v":17.648492749999999},{"$f":"AVERAGE(AI38:AI42)","v":6.6756753659420296},12.701202173913044,4.3650121739130441,null,null,{"$f":"BB24","v":7.6474146788537558},null,null,{"$f":"BE41-(BE28-BE53)/60","v":19.05570647598887},null,null,null,null,{"$f":"BJ41-(BJ28-BJ52)/24","v":6.1380894495224032},{"$f":"BK41-(BK28-BK52)/24","v":16.11671781778383},{"$f":"AVERAGE(AX38:AX42)","v":13.073982452898552},{"$f":"AVERAGE(AY38:AY42)","v":4.989238652926784},14.310254166666661,4.6225173913043474,null,null,{"$f":"BR24","v":6.3666166802371533},null,null,{"$f":"BU41-(BU28-BU53)/60","v":20.457281447803748},null,null,null,null,{"$f":"BZ41-(BZ28-BZ52)/24","v":4.9044236167654818},{"$f":"CA41-(CA28-CA52)/24","v":17.799148183951299},{"$f":"AVERAGE(BN38:BN42)","v":14.729027734848483},{"$f":"AVERAGE(BO38:BO42)","v":5.0273997336721248},13.234653333333332,6.5733469565217408,null,null,{"$f":"CH24","v":9.1560898190476188},null,null,{"$f":"CK41-(CK28-CK53)/60","v":18.161261454692198},null,null,null,null,{"$f":"CP41-(CP28-CP52)/24","v":7.5775374246031788},{"$f":"CQ41-(CQ28-CQ52)/24","v":16.258500584307381},{"$f":"AVERAGE(CD38:CD42)","v":13.321164222332012},{"$f":"AVERAGE(CE38:CE42)","v":6.5939945657820447},15.372941304347824,6.086503636363636,null,null,{"$f":"CX24","v":10.963213246158876},null,null,{"$f":"DA41-(DA28-DA53)/60","v":23.935345143295969},null,null,null,null,{"$f":"DF41-(DF28-DF52)/24","v":8.5521721858995328},{"$f":"DG41-(DG28-DG52)/24","v":20.113540168258652},{"$f":"AVERAGE(CT38:CT42)","v":17.066933057971013},{"$f":"AVERAGE(CU38:CU42)","v":6.8545233438735185},17.281164999999998,8.822535217391307,null,null,{"$f":"DN24","v":14.209834922183795},null,null,{"$f":"DQ41-(DQ28-DQ53)/60","v":23.737925110605545},null,null,null,null,{"$f":"DV41-(DV28-DV52)/24","v":11.380764550909902},{"$f":"DW41-(DW28-DW52)/24","v":20.631374538571869},{"$f":"AVERAGE(DJ38:DJ42)","v":17.887737250000001},{"$f":"AVERAGE(DK38:DK42)","v":9.4692960760869571}]
[2019,13.850288181818183,5.9466399999999995,null,null,{"$f":"F24","v":8.7755662333333326},null,null,{"$f":"I42-(I28-I53)/60","v":19.107509941785704},null,null,null,null,{"$f":"N42-(N28-N52)/24","v":7.2470873375000053},{"$f":"O42-(O28-O52)/24","v":16.599087348392874},{"$f":"AVERAGE(B39:B43)","v":14.237921277667985},{"$f":"AVERAGE(C39:C43)","v":6.3579680971673245},17.186275500000001,9.4440726315789476,null,null,{"$f":"V24","v":14.329750208695652},null,null,{"$f":"Y42-(Y28-Y53)/60","v":23.243170817045463},null,null,null,null,{"$f":"AD42-(AD28-AD52)/24","v":11.917406328260881},{"$f":"AE42-(AE28-AE52)/24","v":21.517586974772719},{"$f":"AVERAGE(R39:R43)","v":18.532538393478262},{"$f":"AVERAGE(S39:S43)","v":10.812446309548575},16.340090454545454,6.0377533333333337,null,null,{"$f":"AL24","v":12.278002909732333},null,null,{"$f":"AO42-(AO28-AO53)/60","v":23.445202362423888},null,null,null,null,{"$f":"AT42-(AT28-AT52)/24","v":9.1480010911496201},{"$f":"AU42-(AU28-AU52)/24","v":20.039256108586944},{"$f":"AVERAGE(AH39:AH43)","v":17.033962090909093},{"$f":"AVERAGE(AI39:AI43)","v":6.1798622934782612},11.466021304347825,4.2994709090909105,null,null,{"$f":"BB24","v":7.6474146788537558},null,null,{"$f":"BE42-(BE28-BE53)/60","v":18.85396245551085},null,null,null,null,{"$f":"BJ42-(BJ28-BJ52)/24","v":6.0302805045701637},{"$f":"BK42-(BK28-BK52)/24","v":15.705046036005449},{"$f":"AVERAGE(AX39:AX43)","v":12.330069757246378},{"$f":"AVERAGE(AY39:AY43)","v":4.6983110086580089},13.280666363636364,4.2467409523809527,null,null,{"$f":"BR24","v":6.3666166802371533},null,null,{"$f":"BU42-(BU28-BU53)/60","v":20.235233291112362},null,null,null,null,{"$f":"BZ42-(BZ28-BZ52)/24","v":4.7999812550889338},{"$f":"CA42-(CA28-CA52)/24","v":17.387233365556167},{"$f":"AVERAGE(BN39:BN43)","v":14.062187340909091},{"$f":"AVERAGE(BO39:BO43)","v":4.8759025908149827},12.492238571428567,6.3058338095238078,null,null,{"$f":"CH24","v":9.1560898190476188},null,null,{"$f":"CK42-(CK28-CK53)/60","v":17.983322887003236},null,null,null,null,{"$f":"CP42-(CP28-CP52)/24","v":7.464783682142861},{"$f":"CQ42-(CQ28-CQ52)/24","v":15.944650525876645},{"$f":"AVERAGE(CD39:CD43)","v":12.988816572981367},{"$f":"AVERAGE(CE39:CE43)","v":6.4750655181629977},15.161969999999998,6.43722652173913,null,null,{"$f":"CX24","v":10.963213246158876},null,null,{"$f":"DA42-(DA28-DA53)/60","v":23.621977196115623},null,null,null,null,{"$f":"DF42-(DF28-DF52)/24","v":8.3799549673095797},{"$f":"DG42-(DG28-DG52)/24","v":19.527186151432783},{"$f":"AVERAGE(CT39:CT43)","v":16.383058891304344},{"$f":"AVERAGE(CU39:CU43)","v":6.5384385612648215},16.11079391304348,8.4115809090909082,null,null,{"$f":"DN24","v":14.209834922183795},null,null,{"$f":"DQ42-(DQ28-DQ53)/60","v":23.427684126179336},null,null,null,null,{"$f":"DV42-(DV28-DV52)/24","v":11.178688095818909},{"$f":"DW42-(DW28-DW52)/24","v":20.099237084714684},{"$f":"AVERAGE(DJ39:DJ43)","v":17.281382449275362},{"$f":"AVERAGE(DK39:DK43)","v":8.9886785187747034}]
[2020,13.519591199999995,6.7970445833333342,null,null,{"$f":"F24","v":8.7755662333333326},null,null,{"$f":"I43-(I28-I53)/60","v":18.913728409301577},null,null,null,null,{"$f":"N43-(N28-N52)/24","v":7.1451887444444502},{"$f":"O43-(O28-O52)/24","v":16.238077643015892},{"$f":"AVERAGE(B40:B44)","v":13.727324017667982},{"$f":"AVERAGE(C40:C44)","v":6.5074657094861648},null,null,null,null,{"$f":"V24","v":14.329750208695652},null,null,{"$f":"Y43-(Y28-Y53)/60","v":22.964033409333343},null,null,null,null,{"$f":"AD43-(AD28-AD52)/24","v":11.756583402898563},{"$f":"AE43-(AE28-AE52)/24","v":21.123410644242416},{"$f":"AVERAGE(R40:R44)","v":17.956172366847824},{"$f":"AVERAGE(S40:S44)","v":10.655220713022675},13.767987600000003,5.8150758333333314,null,null,{"$f":"AL24","v":12.278002909732333},null,null,{"$f":"AO43-(AO28-AO53)/60","v":23.122348100614467},null,null,null,null,{"$f":"AT43-(AT28-AT52)/24","v":8.9393343032441059},{"$f":"AU43-(AU28-AU52)/24","v":19.489338763188393},{"$f":"AVERAGE(AH40:AH44)","v":16.023631527575759},{"$f":"AVERAGE(AI40:AI44)","v":6.1661545905797102},11.043224166666667,4.9246117391304338,null,null,{"$f":"BB24","v":7.6474146788537558},null,null,{"$f":"BE43-(BE28-BE53)/60","v":18.652218435032829},null,null,null,null,{"$f":"BJ43-(BJ28-BJ52)/24","v":5.9224715596179243},{"$f":"BK43-(BK28-BK52)/24","v":15.293374254227068},{"$f":"AVERAGE(AX40:AX44)","v":11.651390590579711},{"$f":"AVERAGE(AY40:AY44)","v":4.6999131660079057},12.464000416666666,4.8165208695652177,null,null,{"$f":"BR24","v":6.3666166802371533},null,null,{"$f":"BU43-(BU28-BU53)/60","v":20.013185134420976},null,null,null,null,{"$f":"BZ43-(BZ28-BZ52)/24","v":4.6955388934123858},{"$f":"CA43-(CA28-CA52)/24","v":16.975318547161034},{"$f":"AVERAGE(BN40:BN44)","v":13.48368696969697},{"$f":"AVERAGE(BO40:BO44)","v":4.7987021283643889},null,null,null,null,{"$f":"CH24","v":9.1560898190476188},null,null,{"$f":"CK43-(CK28-CK53)/60","v":17.805384319314275},null,null,null,null,{"$f":"CP43-(CP28-CP52)/24","v":7.3520299396825433},{"$f":"CQ43-(CQ28-CQ52)/24","v":15.630800467445908},{"$f":"AVERAGE(CD40:CD44)","v":12.604641966226707},{"$f":"AVERAGE(CE40:CE44)","v":6.4343277310370786},13.271531599999998,5.3549837499999997,null,null,{"$f":"CX24","v":10.963213246158876},null,null,{"$f":"DA43-(DA28-DA53)/60","v":23.308609248935277},null,null,null,null,{"$f":"DF43-(DF28-DF52)/24","v":8.2077377487196266},{"$f":"DG43-(DG28-DG52)/24","v":18.940832134606914},{"$f":"AVERAGE(CT40:CT44)","v":15.307564877971013},{"$f":"AVERAGE(CU40:CU44)","v":6.3097252243083002},15.075508333333332,7.4143565217391298,null,null,{"$f":"DN24","v":14.209834922183795},null,null,{"$f":"DQ43-(DQ28-DQ53)/60","v":23.117443141753128},null,null,null,null,{"$f":"DV43-(DV28-DV52)/24","v":10.976611640727917},{"$f":"DW43-(DW28-DW52)/24","v":19.567099630857498},{"$f":"AVERAGE(DJ40:DJ44)","v":16.602300449275365},{"$f":"AVERAGE(DK40:DK44)","v":8.5188527796442681}]
[2021,14.006444583333334,6.2617282608695657,null,null,{"$f":"F24","v":8.7755662333333326},null,null,{"$f":"I44-(I28-I53)/60","v":18.719946876817449},null,null,null,null,{"$f":"N44-(N28-N52)/24","v":7.043290151388895},{"$f":"O44-(O28-O52)/24","v":15.877067937638907},{"$f":"AVERAGE(B41:B45)","v":13.783818767667981},{"$f":"AVERAGE(C41:C45)","v":6.5428977783267452},16.967675217391303,10.1058,null,null,{"$f":"V24","v":14.329750208695652},null,null,{"$f":"Y44-(Y28-Y53)/60","v":22.684896001621222},null,null,null,null,{"$f":"AD44-(AD28-AD52)/24","v":11.595760477536246},{"$f":"AE44-(AE28-AE52)/24","v":20.729234313712112},{"$f":"AVERAGE(R41:R45)","v":17.402131483695655},{"$f":"AVERAGE(S41:S45)","v":10.40168745215311},15.492252083333332,6.668120869565219,null,null,{"$f":"AL24","v":12.278002909732333},null,null,{"$f":"AO44-(AO28-AO53)/60","v":22.799493838805045},null,null,null,null,{"$f":"AT44-(AT28-AT52)/24","v":8.7306675153385918},{"$f":"AU44-(AU28-AU52)/24","v":18.939421417789841},{"$f":"AVERAGE(AH41:AH45)","v":15.770721860909092},{"$f":"AVERAGE(AI41:AI45)","v":6.1007241811594204},12.490022173913044,4.5446621739130446,null,null,{"$f":"BB24","v":7.6474146788537558},null,null,{"$f":"BE44-(BE28-BE53)/60","v":18.450474414554808},null,null,null,null,{"$f":"BJ44-(BJ28-BJ52)/24","v":5.8146626146656848},{"$f":"BK44-(BK28-BK52)/24","v":14.881702472448687},{"$f":"AVERAGE(AX41:AX45)","v":11.902763442028988},{"$f":"AVERAGE(AY41:AY45)","v":4.6710200355731235},13.304825652173912,3.9658022727272724,null,null,{"$f":"BR24","v":6.3666166802371533},null,null,{"$f":"BU44-(BU28-BU53)/60","v":19.79113697772959},null,null,null,null,{"$f":"BZ44-(BZ28-BZ52)/24","v":4.5910965317358379},{"$f":"CA44-(CA28-CA52)/24","v":16.563403728765902},{"$f":"AVERAGE(BN41:BN45)","v":13.461473736495387},{"$f":"AVERAGE(BO41:BO45)","v":4.6163242971955585},12.83046833333333,5.9029765217391317,null,null,{"$f":"CH24","v":9.1560898190476188},null,null,{"$f":"CK44-(CK28-CK53)/60","v":17.627445751625313},null,null,null,null,{"$f":"CP44-(CP28-CP52)/24","v":7.2392761972222255},{"$f":"CQ44-(CQ28-CQ52)/24","v":15.316950409015172},{"$f":"AVERAGE(CD41:CD45)","v":12.671503288690474},{"$f":"AVERAGE(CE41:CE45)","v":6.3877459523809526},13.781053478260869,7.2435822727272718,null,null,{"$f":"CX24","v":10.963213246158876},null,null,{"$f":"DA44-(DA28-DA53)/60","v":22.99524130175493},null,null,null,null,{"$f":"DF44-(DF28-DF52)/24","v":8.0355205301296735},{"$f":"DG44-(DG28-DG52)/24","v":18.354478117781046},{"$f":"AVERAGE(CT41:CT45)","v":14.744804443188404},{"$f":"AVERAGE(CU41:CU45)","v":6.2950734970355722},16.629330416666669,9.3374769565217388,null,null,{"$f":"DN24","v":14.209834922183795},null,null,{"$f":"DQ44-(DQ28-DQ53)/60","v":22.80720215732692},null,null,null,null,{"$f":"DV44-(DV28-DV52)/24","v":10.774535185636925},{"$f":"DW44-(DW28-DW52)/24","v":19.034962177000313},{"$f":"AVERAGE(DJ41:DJ45)","v":16.472014782608699},{"$f":"AVERAGE(DK41:DK45)","v":8.4727439209486164}]
[2022,null,null,null,null,{"$f":"F24","v":8.7755662333333326},null,null,{"$f":"I45-(I28-I53)/60","v":18.526165344333322},null,null,null,null,{"$f":"N45-(N28-N52)/24","v":6.9413915583333399},{"$f":"O45-(O28-O52)/24","v":15.516058232261923},null,null,null,null,null,null,{"$f":"V24","v":14.329750208695652},null,null,{"$f":"Y45-(Y28-Y53)/60","v":22.405758593909102},null,null,null,null,{"$f":"AD45-(AD28-AD52)/24","v":11.434937552173928},{"$f":"AE45-(AE28-AE52)/24","v":20.335057983181809},null,null,null,null,null,null,{"$f":"AL24","v":12.278002909732333},null,null,{"$f":"AO45-(AO28-AO53)/60","v":22.476639576995623},null,null,null,null,{"$f":"AT45-(AT28-AT52)/24","v":8.5220007274330776},{"$f":"AU45-(AU28-AU52)/24","v":18.38950407239129},null,null,null,null,null,null,{"$f":"BB24","v":7.6474146788537558},null,null,{"$f":"BE45-(BE28-BE53)/60","v":18.248730394076787},null,null,null,null,{"$f":"BJ45-(BJ28-BJ52)/24","v":5.7068536697134453},{"$f":"BK45-(BK28-BK52)/24","v":14.470030690670306},null,null,null,null,null,null,{"$f":"BR24","v":6.3666166802371533},null,null,{"$f":"BU45-(BU28-BU53)/60","v":19.569088821038203},null,null,null,null,{"$f":"BZ45-(BZ28-BZ52)/24","v":4.4866541700592899},{"$f":"CA45-(CA28-CA52)/24","v":16.15148891037077},null,null,null,null,null,null,{"$f":"CH24","v":9.1560898190476188},null,null,{"$f":"CK45-(CK28-CK53)/60","v":17.449507183936351},null,null,null,null,{"$f":"CP45-(CP28-CP52)/24","v":7.1265224547619077},{"$f":"CQ45-(CQ28-CQ52)/24","v":15.003100350584436},null,null,null,null,null,null,{"$f":"CX24","v":10.963213246158876},null,null,{"$f":"DA45-(DA28-DA53)/60","v":22.681873354574584},null,null,null,null,{"$f":"DF45-(DF28-DF52)/24","v":7.8633033115397204},{"$f":"DG45-(DG28-DG52)/24","v":17.768124100955177},null,null,null,null,null,null,{"$f":"DN24","v":14.209834922183795},null,null,{"$f":"DQ45-(DQ28-DQ53)/60","v":22.496961172900711},null,null,null,null,{"$f":"DV45-(DV28-DV52)/24","v":10.572458730545932},{"$f":"DW45-(DW28-DW52)/24","v":18.502824723143128}]
[2023,null,null,null,null,{"$f":"F24","v":8.7755662333333326},null,null,{"$f":"I46-(I28-I53)/60","v":18.332383811849194},null,null,null,null,{"$f":"N46-(N28-N52)/24","v":6.8394929652777847},{"$f":"O46-(O28-O52)/24","v":15.155048526884938},null,null,null,null,null,null,{"$f":"V24","v":14.329750208695652},null,null,{"$f":"Y46-(Y28-Y53)/60","v":22.126621186196981},null,null,null,null,{"$f":"AD46-(AD28-AD52)/24","v":11.27411462681161},{"$f":"AE46-(AE28-AE52)/24","v":19.940881652651505},null,null,null,null,null,null,{"$f":"AL24","v":12.278002909732333},null,null,{"$f":"AO46-(AO28-AO53)/60","v":22.153785315186202},null,null,null,null,{"$f":"AT46-(AT28-AT52)/24","v":8.3133339395275634},{"$f":"AU46-(AU28-AU52)/24","v":17.839586726992739},null,null,null,null,null,null,{"$f":"BB24","v":7.6474146788537558},null,null,{"$f":"BE46-(BE28-BE53)/60","v":18.046986373598767},null,null,null,null,{"$f":"BJ46-(BJ28-BJ52)/24","v":5.5990447247612058},{"$f":"BK46-(BK28-BK52)/24","v":14.058358908891925},null,null,null,null,null,null,{"$f":"BR24","v":6.3666166802371533},null,null,{"$f":"BU46-(BU28-BU53)/60","v":19.347040664346817},null,null,null,null,{"$f":"BZ46-(BZ28-BZ52)/24","v":4.3822118083827419},{"$f":"CA46-(CA28-CA52)/24","v":15.739574091975639},null,null,null,null,null,null,{"$f":"CH24","v":9.1560898190476188},null,null,{"$f":"CK46-(CK28-CK53)/60","v":17.271568616247389},null,null,null,null,{"$f":"CP46-(CP28-CP52)/24","v":7.0137687123015899},{"$f":"CQ46-(CQ28-CQ52)/24","v":14.6892502921537},null,null,null,null,null,null,{"$f":"CX24","v":10.963213246158876},null,null,{"$f":"DA46-(DA28-DA53)/60","v":22.368505407394238},null,null,null,null,{"$f":"DF46-(DF28-DF52)/24","v":7.6910860929497673},{"$f":"DG46-(DG28-DG52)/24","v":17.181770084129308},null,null,null,null,null,null,{"$f":"DN24","v":14.209834922183795},null,null,{"$f":"DQ46-(DQ28-DQ53)/60","v":22.186720188474503},null,null,null,null,{"$f":"DV46-(DV28-DV52)/24","v":10.37038227545494},{"$f":"DW46-(DW28-DW52)/24","v":17.970687269285943}]
[2024,null,null,null,null,{"$f":"F24","v":8.7755662333333326},null,null,{"$f":"I47-(I28-I53)/60","v":18.138602279365067},null,null,null,null,{"$f":"N47-(N28-N52)/24","v":6.7375943722222296},{"$f":"O47-(O28-O52)/24","v":14.794038821507954},null,null,null,null,null,null,{"$f":"V24","v":14.329750208695652},null,null,{"$f":"Y47-(Y28-Y53)/60","v":21.847483778484861},null,null,null,null,{"$f":"AD47-(AD28-AD52)/24","v":11.113291701449292},{"$f":"AE47-(AE28-AE52)/24","v":19.546705322121202},null,null,null,null,null,null,{"$f":"AL24","v":12.278002909732333},null,null,{"$f":"AO47-(AO28-AO53)/60","v":21.83093105337678},null,null,null,null,{"$f":"AT47-(AT28-AT52)/24","v":8.1046671516220492},{"$f":"AU47-(AU28-AU52)/24","v":17.289669381594187},null,null,null,null,null,null,{"$f":"BB24","v":7.6474146788537558},null,null,{"$f":"BE47-(BE28-BE53)/60","v":17.845242353120746},null,null,null,null,{"$f":"BJ47-(BJ28-BJ52)/24","v":5.4912357798089664},{"$f":"BK47-(BK28-BK52)/24","v":13.646687127113545},null,null,null,null,null,null,{"$f":"BR24","v":6.3666166802371533},null,null,{"$f":"BU47-(BU28-BU53)/60","v":19.124992507655431},null,null,null,null,{"$f":"BZ47-(BZ28-BZ52)/24","v":4.277769446706194},{"$f":"CA47-(CA28-CA52)/24","v":15.327659273580508},null,null,null,null,null,null,{"$f":"CH24","v":9.1560898190476188},null,null,{"$f":"CK47-(CK28-CK53)/60","v":17.093630048558428},null,null,null,null,{"$f":"CP47-(CP28-CP52)/24","v":6.9010149698412722},{"$f":"CQ47-(CQ28-CQ52)/24","v":14.375400233722964},null,null,null,null,null,null,{"$f":"CX24","v":10.963213246158876},null,null,{"$f":"DA47-(DA28-DA53)/60","v":22.055137460213892},null,null,null,null,{"$f":"DF47-(DF28-DF52)/24","v":7.5188688743598142},{"$f":"DG47-(DG28-DG52)/24","v":16.595416067303439},null,null,null,null,null,null,{"$f":"DN24","v":14.209834922183795},null,null,{"$f":"DQ47-(DQ28-DQ53)/60","v":21.876479204048294},null,null,null,null,{"$f":"DV47-(DV28-DV52)/24","v":10.168305820363948},{"$f":"DW47-(DW28-DW52)/24","v":17.438549815428757}]
[2025,null,null,null,null,{"$f":"F24","v":8.7755662333333326},null,null,{"$f":"I48-(I28-I53)/60","v":17.944820746880939},null,null,null,null,{"$f":"N48-(N28-N52)/24","v":6.6356957791666744},{"$f":"O48-(O28-O52)/24","v":14.433029116130969},null,null,null,null,null,null,{"$f":"V24","v":14.329750208695652},null,null,{"$f":"Y48-(Y28-Y53)/60","v":21.568346370772741},null,null,null,null,{"$f":"AD48-(AD28-AD52)/24","v":10.952468776086974},{"$f":"AE48-(AE28-AE52)/24","v":19.152528991590898},null,null,null,null,null,null,{"$f":"AL24","v":12.278002909732333},null,null,{"$f":"AO48-(AO28-AO53)/60","v":21.508076791567358},null,null,null,null,{"$f":"AT48-(AT28-AT52)/24","v":7.896000363716535},{"$f":"AU48-(AU28-AU52)/24","v":16.739752036195636},null,null,null,null,null,null,{"$f":"BB24","v":7.6474146788537558},null,null,{"$f":"BE48-(BE28-BE53)/60","v":17.643498332642725},null,null,null,null,{"$f":"BJ48-(BJ28-BJ52)/24","v":5.3834268348567269},{"$f":"BK48-(BK28-BK52)/24","v":13.235015345335164},null,null,null,null,null,null,{"$f":"BR24","v":6.3666166802371533},null,null,{"$f":"BU48-(BU28-BU53)/60","v":18.902944350964045},null,null,null,null,{"$f":"BZ48-(BZ28-BZ52)/24","v":4.173327085029646},{"$f":"CA48-(CA28-CA52)/24","v":14.915744455185378},null,null,null,null,null,null,{"$f":"CH24","v":9.1560898190476188},null,null,{"$f":"CK48-(CK28-CK53)/60","v":16.915691480869466},null,null,null,null,{"$f":"CP48-(CP28-CP52)/24","v":6.7882612273809544},{"$f":"CQ48-(CQ28-CQ52)/24","v":14.061550175292227},null,null,null,null,null,null,{"$f":"CX24","v":10.963213246158876},null,null,{"$f":"DA48-(DA28-DA53)/60","v":21.741769513033546},null,null,null,null,{"$f":"DF48-(DF28-DF52)/24","v":7.3466516557698611},{"$f":"DG48-(DG28-DG52)/24","v":16.009062050477571},null,null,null,null,null,null,{"$f":"DN24","v":14.209834922183795},null,null,{"$f":"DQ48-(DQ28-DQ53)/60","v":21.566238219622086},null,null,null,null,{"$f":"DV48-(DV28-DV52)/24","v":9.9662293652729552},{"$f":"DW48-(DW28-DW52)/24","v":16.906412361571572}]
[2026,null,null,null,null,{"$f":"F24","v":8.7755662333333326},null,null,{"$f":"I49-(I28-I53)/60","v":17.751039214396812},null,null,null,null,{"$f":"N49-(N28-N52)/24","v":6.5337971861111193},{"$f":"O49-(O28-O52)/24","v":14.072019410753985},null,null,null,null,null,null,{"$f":"V24","v":14.329750208695652},null,null,{"$f":"Y49-(Y28-Y53)/60","v":21.28920896306062},null,null,null,null,{"$f":"AD49-(AD28-AD52)/24","v":10.791645850724656},{"$f":"AE49-(AE28-AE52)/24","v":18.758352661060595},null,null,null,null,null,null,{"$f":"AL24","v":12.278002909732333},null,null,{"$f":"AO49-(AO28-AO53)/60","v":21.185222529757937},null,null,null,null,{"$f":"AT49-(AT28-AT52)/24","v":7.6873335758110208},{"$f":"AU49-(AU28-AU52)/24","v":16.189834690797085},null,null,null,null,null,null,{"$f":"BB24","v":7.6474146788537558},null,null,{"$f":"BE49-(BE28-BE53)/60","v":17.441754312164704},null,null,null,null,{"$f":"BJ49-(BJ28-BJ52)/24","v":5.2756178899044874},{"$f":"BK49-(BK28-BK52)/24","v":12.823343563556783},null,null,null,null,null,null,{"$f":"BR24","v":6.3666166802371533},null,null,{"$f":"BU49-(BU28-BU53)/60","v":18.680896194272659},null,null,null,null,{"$f":"BZ49-(BZ28-BZ52)/24","v":4.068884723353098},{"$f":"CA49-(CA28-CA52)/24","v":14.503829636790247},null,null,null,null,null,null,{"$f":"CH24","v":9.1560898190476188},null,null,{"$f":"CK49-(CK28-CK53)/60","v":16.737752913180504},null,null,null,null,{"$f":"CP49-(CP28-CP52)/24","v":6.6755074849206366},{"$f":"CQ49-(CQ28-CQ52)/24","v":13.747700116861491},null,null,null,null,null,null,{"$f":"CX24","v":10.963213246158876},null,null,{"$f":"DA49-(DA28-DA53)/60","v":21.4284015658532},null,null,null,null,{"$f":"DF49-(DF28-DF52)/24","v":7.174434437179908},{"$f":"DG49-(DG28-DG52)/24","v":15.422708033651704},null,null,null,null,null,null,{"$f":"DN24","v":14.209834922183795},null,null,{"$f":"DQ49-(DQ28-DQ53)/60","v":21.255997235195878},null,null,null,null,{"$f":"DV49-(DV28-DV52)/24","v":9.7641529101819629},{"$f":"DW49-(DW28-DW52)/24","v":16.374274907714387}]
[2027,null,null,null,null,{"$f":"F24","v":8.7755662333333326},null,null,{"$f":"I50-(I28-I53)/60","v":17.557257681912684},null,null,null,null,{"$f":"N50-(N28-N52)/24","v":6.4318985930555641},{"$f":"O50-(O28-O52)/24","v":13.711009705377},null,null,null,null,null,null,{"$f":"V24","v":14.329750208695652},null,null,{"$f":"Y50-(Y28-Y53)/60","v":21.0100715553485},null,null,null,null,{"$f":"AD50-(AD28-AD52)/24","v":10.630822925362338},{"$f":"AE50-(AE28-AE52)/24","v":18.364176330530292},null,null,null,null,null,null,{"$f":"AL24","v":12.278002909732333},null,null,{"$f":"AO50-(AO28-AO53)/60","v":20.862368267948515},null,null,null,null,{"$f":"AT50-(AT28-AT52)/24","v":7.4786667879055067},{"$f":"AU50-(AU28-AU52)/24","v":15.639917345398533},null,null,null,null,null,null,{"$f":"BB24","v":7.6474146788537558},null,null,{"$f":"BE50-(BE28-BE53)/60","v":17.240010291686684},null,null,null,null,{"$f":"BJ50-(BJ28-BJ52)/24","v":5.167808944952248},{"$f":"BK50-(BK28-BK52)/24","v":12.411671781778402},null,null,null,null,null,null,{"$f":"BR24","v":6.3666166802371533},null,null,{"$f":"BU50-(BU28-BU53)/60","v":18.458848037581273},null,null,null,null,{"$f":"BZ50-(BZ28-BZ52)/24","v":3.9644423616765501},{"$f":"CA50-(CA28-CA52)/24","v":14.091914818395116},null,null,null,null,null,null,{"$f":"CH24","v":9.1560898190476188},null,null,{"$f":"CK50-(CK28-CK53)/60","v":16.559814345491542},null,null,null,null,{"$f":"CP50-(CP28-CP52)/24","v":6.5627537424603188},{"$f":"CQ50-(CQ28-CQ52)/24","v":13.433850058430755},null,null,null,null,null,null,{"$f":"CX24","v":10.963213246158876},null,null,{"$f":"DA50-(DA28-DA53)/60","v":21.115033618672854},null,null,null,null,{"$f":"DF50-(DF28-DF52)/24","v":7.0022172185899549},{"$f":"DG50-(DG28-DG52)/24","v":14.836354016825837},null,null,null,null,null,null,{"$f":"DN24","v":14.209834922183795},null,null,{"$f":"DQ50-(DQ28-DQ53)/60","v":20.945756250769669},null,null,null,null,{"$f":"DV50-(DV28-DV52)/24","v":9.5620764550909705},{"$f":"DW50-(DW28-DW52)/24","v":15.842137453857202}]
[2028,null,null,null,null,{"$f":"F24","v":8.7755662333333326},null,null,{"$f":"I51-(I28-I53)/60","v":17.363476149428557},6.3330000000000002,13.44,6.33,13.35,{"$f":"L52","v":6.33},{"$f":"M52","v":13.35},null,null,null,null,null,null,{"$f":"V24","v":14.329750208695652},null,null,{"$f":"Y51-(Y28-Y53)/60","v":20.730934147636379},10.55,18.16,10.47,17.97,{"$f":"AB52","v":10.47},{"$f":"AC52","v":17.97},null,null,null,null,null,null,{"$f":"AL24","v":12.278002909732333},null,null,{"$f":"AO51-(AO28-AO53)/60","v":20.539514006139093},7.33,15.3,7.27,15.09,{"$f":"AR52","v":7.27},{"$f":"AS52","v":15.09},null,null,null,null,null,null,{"$f":"BB24","v":7.6474146788537558},null,null,{"$f":"BE51-(BE28-BE53)/60","v":17.038266271208663},5.1100000000000003,12.13,5.0599999999999996,12,{"$f":"BH52","v":5.0599999999999996},{"$f":"BI52","v":12},null,null,null,null,null,null,{"$f":"BR24","v":6.3666166802371533},null,null,{"$f":"BU51-(BU28-BU53)/60","v":18.236799880889887},3.9,13.89,3.86,13.68,{"$f":"BX52","v":3.86},{"$f":"BY52","v":13.68},null,null,null,null,null,null,{"$f":"CH24","v":9.1560898190476188},null,null,{"$f":"CK51-(CK28-CK53)/60","v":16.381875777802581},6.46,13.2,6.45,13.12,{"$f":"CN52","v":6.45},{"$f":"CO52","v":13.12},null,null,null,null,null,null,{"$f":"CX24","v":10.963213246158876},null,null,{"$f":"DA51-(DA28-DA53)/60","v":20.801665671492508},7,14.54,6.83,14.25,{"$f":"DD52","v":6.83},{"$f":"DE52","v":14.25},null,null,null,null,null,null,{"$f":"DN24","v":14.209834922183795},null,null,{"$f":"DQ51-(DQ28-DQ53)/60","v":20.635515266343461},9.4499999999999993,15.48,9.36,15.31,{"$f":"DT52","v":9.36},{"$f":"DU52","v":15.31}]
[2064,null,null,null,null,{"$f":"F24","v":8.7755662333333326},{"$f":"G24","v":4.6603568027},{"$f":"H24","v":5.7269841772999994},{"$f":"H21","v":10.387340979999999},null,null,null,null,null,null,null,null,null,null,null,null,{"$f":"V24","v":14.329750208695652},{"$f":"W24","v":5.5172266928999996},{"$f":"X24","v":5.1647607770999997},{"$f":"X21","v":10.681987469999999},null,null,null,null,null,null,null,null,null,null,null,null,{"$f":"AL24","v":12.278002909732333},{"$f":"AM24","v":3.6371528972},{"$f":"AN24","v":5.2796076838000001},{"$f":"AN21","v":8.9167605810000001},null,null,null,null,null,null,null,null,null,null,null,null,{"$f":"BB24","v":7.6474146788537558},{"$f":"BC24","v":3.7306103697999999},{"$f":"BD24","v":6.0448711642000008},{"$f":"BD21","v":9.7754815340000007},null,null,null,null,null,null,null,null,null,null,null,null,{"$f":"BR24","v":6.3666166802371533},{"$f":"BS24","v":2.7944661922999998},{"$f":"BT24","v":7.4486000476999994},{"$f":"BT21","v":10.243066239999999},null,null,null,null,null,null,null,null,null,null,null,null,{"$f":"CH24","v":9.1560898190476188},{"$f":"CI24","v":5.0179607756999998},{"$f":"CJ24","v":4.9581265652999997},{"$f":"CJ21","v":9.9760873409999995},null,null,null,null,null,null,null,null,null,null,null,null,{"$f":"CX24","v":10.963213246158876},{"$f":"CY24","v":3.1463273572000001},{"$f":"CZ24","v":6.3740922157999993},{"$f":"CZ21","v":9.5204195729999999},null,null,null,null,null,null,null,null,null,null,null,null,{"$f":"DN24","v":14.209834922183795},{"$f":"DO24","v":4.3893142560999996},{"$f":"DP24","v":5.0775255708999998},{"$f":"DP21","v":9.4668398269999994}]
[]
[null,null,"2018-04-18"]
[null,"nc2_12_2019_2p","endpoint 2064 DEC 2019"]
[null,"NAT 10","NAT 90"]
["ACAD1",4.6603568027,10.387340979999999]
["BRIG1",5.5172266928999996,10.681987469999999]
["DOSO1",3.6371528972,8.9167605810000001]
["GRGU1",3.7306103697999999,9.7754815340000007]
["LYBR_RHTS",2.7944661922999998,10.243066239999999]
["MOOS1",5.0179607756999998,9.9760873409999995]
["SHEN1",3.1463273572000001,9.5204195729999999]
["JARI1",4.3893142560999996,9.4668398269999994]

{"sheet":"ACAD-trend","index":2,"n_rows":1,"n_cols":1,"rows_kept":1,"cut":false,"hidden":false,"merged":[]}
["Index"]

{"sheet":"BRIG-trend","index":3,"n_rows":1,"n_cols":1,"rows_kept":1,"cut":false,"hidden":false,"merged":[]}
["Index"]

{"sheet":"DOSO-trend","index":4,"n_rows":1,"n_cols":1,"rows_kept":1,"cut":false,"hidden":false,"merged":[]}
["Index"]

{"sheet":"GRGU-trend","index":5,"n_rows":1,"n_cols":1,"rows_kept":1,"cut":false,"hidden":false,"merged":[]}
["Index"]

{"sheet":"JARI-trend","index":6,"n_rows":1,"n_cols":1,"rows_kept":1,"cut":false,"hidden":false,"merged":[]}
["Index"]

{"sheet":"LYBR-trend","index":7,"n_rows":1,"n_cols":1,"rows_kept":1,"cut":false,"hidden":false,"merged":[]}
["Index"]

{"sheet":"MOOS-trend","index":8,"n_rows":1,"n_cols":1,"rows_kept":1,"cut":false,"hidden":false,"merged":[]}
["Index"]

{"sheet":"SHEN-trend","index":9,"n_rows":1,"n_cols":1,"rows_kept":1,"cut":false,"hidden":false,"merged":[]}
["Index"]

{"sheet":"Species","index":10,"n_rows":449,"n_cols":174,"rows_kept":449,"cut":false,"hidden":false,"merged":[[0,125,0,173],[0,0,0,1],[0,36,0,45],[0,46,0,55],[0,56,0,65],[0,66,0,75],[0,8,0,21],[0,22,0,35],[0,76,0,124]]}
["Index",null,null,null,null,null,null,null,10,null,null,null,null,null,null,null,null,null,null,null,null,null,90,null,null,null,null,null,null,null,null,null,null,null,null,null,10,null,null,null,null,null,null,null,null,null,90,null,null,null,null,null,null,null,null,null,10,null,null,null,null,null,null,null,null,null,90,null,null,null,null,null,null,null,null,null,10,null,null,null,null,null,null,null,null,null,null,null,null,null,null,null,null,null,null,null,null,null,null,null,null,null,null,null,null,null,null,null,null,null,null,null,null,null,null,null,null,null,null,null,null,null,null,null,null,90]
["Site","Year","No Degradation","Uniform Rate of Progress","Straight line path to RPG - 20% Clearest Days","Straight line path to RPG - 20% Most Impaired Days","Natural Conditions - 20% Clearest Days","Natural Conditions - 20% Most Impaired Days","Haze Index - Annual","Haze Index - 5-Year","Base Case - 20% Clearest","Reasonable Progress Goal - 20% Clearest","Total Extinction (Mm-1)","Total PM Extinction (Mm-1)","Sulfate Extinction (Mm-1)","Nitrate Extinction (Mm-1)","Organic Carbon Mass Extinction (Mm-1)","Light Absorbing Carbon Extinction (Mm-1)","Soil Extinction (Mm-1)","Coarse Mass Extinction (Mm-1)","Sea Salt Extinction (Mm-1)","Rayleigh Extinction (Mm-1)","Haze Index - Annual","Haze Index - 5-Year","Base Case - 20% Most Impaired","Reasonable Progress Goal - 20% Most Impaired","Total Extinction (Mm-1)","Total PM Extinction (Mm-1)","Sulfate Extinction (Mm-1)","Nitrate Extinction (Mm-1)","Organic Carbon Mass Extinction (Mm-1)","Light Absorbing Carbon Extinction (Mm-1)","Soil Extinction (Mm-1)","Coarse Mass Extinction (Mm-1)","Sea Salt Extinction (Mm-1)","Rayleigh Extinction (Mm-1)","Haze Index - Annual","Total Extinction","Sulfate Extinction","Nitrate Extinction","Organic Carbon Mass Extinction","Light Absorbing Carbon Extinction","Soil Extinction","Coarse Mass Extinction","Sea Salt Extinction","Rayleigh Extinction","Haze Index - Annual","Total Extinction","Sulfate Extinction","Nitrate Extinction","Organic Carbon Mass Extinction","Light Absorbing Carbon Extinction","Soil Extinction","Coarse Mass Extinction","Sea Salt Extinction","Rayleigh Extinction","Haze Index - Annual","Total Extinction Fraction","Sulfate Extinction Fraction","Nitrate Extinction Fraction","Organic Carbon Mass Extinction Fraction","Light Absorbing Carbon Extinction Fraction","Soil Extinction Fraction","Coarse Mass Extinction Fraction","Sea Salt Extinction Fraction","Rayleigh Extinction Fraction","Haze Index - Annual","Total Extinction Fraction","Sulfate Extinction Fraction","Nitrate Extinction Fraction","Organic Carbon Mass Extinction Fraction","Light Absorbing Carbon Extinction Fraction","Soil Extinction Fraction","Coarse Mass Extinction Fraction","Sea Salt Extinction Fraction","Rayleigh Extinction Fraction","Total Mass (MT)","Fine Mass (MF)","Reconstructed total mass RCTM","Reconstructed fine mass RCFM","ammSO4","ammNO3","OMC","EC","SOIL","CM_calculated","SeaSalt","AL","AS","BR","CA","EC1","EC2","EC3","OC1","OC2","OC3","OC4","OP","OC","CHL","CL","CR","CU","FE","PB","MG","MN","NI","NO3","N2","P","K","RB","SE","SI","NA","SR","SO4","S","TI","V","ZN","ZR","Standard Visual Range (SVR)","Total Mass (MT)","Fine Mass (MF)","Reconstructed total mass RCTM","Reconstructed fine mass RCFM","ammSO4","ammNO3","OMC","EC","SOIL","CM_calculated","SeaSalt","AL","AS","BR","CA","EC1","EC2","EC3","OC1","OC2","OC3","OC4","OP","OC","CHL","CL","CR","CU","FE","PB","MG","MN","NI","NO3","N2","P","K","RB","SE","SI","NA","SR","SO4","S","TI","V","ZN","ZR","Standard Visual Range (SVR)"]
["ACAD1",2000,null,null,null,null,{"$f":"Tracking!G24","v":4.6603568027},{"$f":"Tracking!H21","v":10.387340979999999},{"$f":"Tracking!C24","v":8.9009695000000022},null,null,null,24.574649000000001,12.574648999999999,7.2439050000000025,0.9890230000000001,2.2072560000000001,1.0976999999999999,9.8158999999999996E-2,0.67100400000000004,0.26760250000000002,12,{"$f":"Tracking!B24","v":20.7527680952381},null,null,null,83.817589047619066,71.817589047619066,48.497903333333333,8.4335599999999999,7.2967466666666674,4.152047619047619,0.28869,1.9027857142857141,1.2458552380952379,12,{"$f":"I3","v":8.9009695000000022},{"$f":"M3/M3","v":1},{"$f":"O3/M3","v":0.29477145329725779},{"$f":"P3/M3","v":4.0245661291032075E-2},{"$f":"Q3/M3","v":8.9818414090064927E-2},{"$f":"R3/M3","v":4.4667982846876057E-2},{"$f":"S3/M3","v":3.9943195119490817E-3},{"$f":"T3/M3","v":2.7304723660549538E-2},{"$f":"U3/M3","v":1.0889372214431222E-2},{"$f":"V3/M3","v":0.48830809343400999},{"$f":"W3","v":20.7527680952381},{"$f":"AA3/AA3","v":1},{"$f":"AC3/AA3","v":0.57861248318393343},{"$f":"AD3/AA3","v":0.10061802177593851},{"$f":"AE3/AA3","v":8.7055076978188747E-2},{"$f":"AF3/AA3","v":4.9536710208745414E-2},{"$f":"AG3/AA3","v":3.4442651390985167E-3},{"$f":"AH3/AA3","v":2.2701508548577908E-2},{"$f":"AI3/AA3","v":1.4863887785980499E-2},{"$f":"AJ3/AA3","v":0.14316804069826528},{"$f":"I3","v":8.9009695000000022},{"$f":"BE3","v":8.9009695000000022},{"$f":"BE3*AM3","v":2.6237517152695666},{"$f":"BE3*AN3","v":0.35822540365880723},{"$f":"BE3*AO3","v":0.79947096435403842},{"$f":"BE3*AP3","v":0.39758835294656708},{"$f":"BE3*AQ3","v":3.5553316149113674E-2},{"$f":"BE3*AR3","v":0.24303851250847985},{"$f":"BE3*AS3","v":9.6925969954799795E-2},{"$f":"BE3*AT3","v":4.3464154462592743},{"$f":"W3","v":20.7527680952381},{"$f":"BO3","v":20.7527680952381},{"$f":"BO3*AW3","v":12.007810680526026},{"$f":"BO3*AX3","v":2.0881024721176691},{"$f":"BO3*AY3","v":1.8066338240414523},{"$f":"BO3*AZ3","v":1.0280238591631072},{"$f":"BO3*BA3","v":7.1478035690224512E-2},{"$f":"BO3*BB3","v":0.47111914232070257},{"$f":"BO3*BC3","v":0.3084668162160954},{"$f":"BO3*BD3","v":2.9711331472607094},2.9254899999999995,1.8122199999999999,null,1.9089379999999996,0.81492600000000004,0.103007,0.74546099999999993,0.10976999999999999,9.8158999999999996E-2,1.1183400000000003,3.7616499999999997E-2,3.3139999999999997E-3,1.4300000000000001E-4,6.5850000000000012E-4,5.862E-3,0.12911,5.767499999999999E-2,4.9549999999999993E-3,2.3970000000000002E-2,6.5504999999999994E-2,0.14685500000000001,9.5695000000000002E-2,8.2119999999999999E-2,0.41414499999999999,1.8865E-2,9.2984999999999995E-3,5.7649999999999997E-4,5.6999999999999996E-5,5.4720000000000012E-3,6.6699999999999995E-4,2.9754999999999998E-3,2.5300000000000002E-4,9.7999999999999997E-5,7.984999999999999E-2,1.6849999999999997E-2,8.699999999999999E-4,1.8384000000000001E-2,4.8999999999999998E-5,4.7000000000000004E-5,2.3462000000000004E-2,3.7150000000000002E-2,4.2000000000000004E-5,0.55530999999999997,0.1975575,1.8890000000000001E-3,2.5420000000000004E-3,2.0794999999999993E-3,1.2500000000000001E-5,177.11611949999997,12.284600000000001,9.1132904761904747,null,8.742166666666666,4.7062104761904759,0.8648219047619049,2.2638771428571425,0.41520476190476191,0.28869,3.1713095238095241,0.20336095238095236,6.6595238095238096E-3,5.2952380952380948E-4,2.834285714285715E-3,2.811476190476191E-2,0.46638571428571424,6.7599999999999993E-2,7.1380952380952368E-3,0.10154761904761904,0.27199999999999996,0.35367619047619042,0.40456666666666669,0.12591904761904762,1.2577095238095237,-7.3376190476190456E-2,5.5625714285714285E-2,9.0666666666666673E-4,7.4095238095238099E-4,2.7108571428571433E-2,1.5728571428571428E-3,0,1.5252380952380951E-3,7.0571428571428575E-4,0.67040476190476195,2.7638095238095246E-2,0,3.645904761904762E-2,2.5714285714285714E-5,6.6714285714285703E-4,5.8861428571428565E-2,0.28516666666666673,2.6904761904761901E-4,3.5636619047619047,1.1408995238095239,5.0442857142857147E-3,3.1547619047619041E-3,5.9480952380952384E-3,2.2857142857142858E-5,53.007457619047607]
["ACAD1",2001,null,null,null,null,{"$f":"G3","v":4.6603568027},{"$f":"H3","v":10.387340979999999},{"$f":"Tracking!C25","v":8.8742708333333322},null,null,null,24.474830416666673,12.474830416666665,7.5656137500000007,1.3663395833333334,1.8168150000000003,0.85883333333333345,0.13456416666666668,0.61083499999999991,0.12182916666666666,12,{"$f":"Tracking!B25","v":22.374298400000001},null,null,null,107.41532520000001,95.415325200000012,73.271410799999998,6.3114771999999997,9.8357468000000008,4.0405199999999999,0.57193399999999994,1.360592,2.3644800000000004E-2,12,{"$f":"I4","v":8.8742708333333322},{"$f":"M4/M4","v":1},{"$f":"O4/M4","v":0.30911812752941609},{"$f":"P4/M4","v":5.5826314629044145E-2},{"$f":"Q4/M4","v":7.4231975015557214E-2},{"$f":"R4/M4","v":3.5090471260160072E-2},{"$f":"S4/M4","v":5.4980632909730912E-3},{"$f":"T4/M4","v":2.4957680588627833E-2},{"$f":"U4/M4","v":4.977732821539977E-3},{"$f":"V4/M4","v":0.49029961784038906},{"$f":"W4","v":22.374298400000001},{"$f":"AA4/AA4","v":1},{"$f":"AC4/AA4","v":0.68213181558193514},{"$f":"AD4/AA4","v":5.8757697639963941E-2},{"$f":"AE4/AA4","v":9.156744423280859E-2},{"$f":"AF4/AA4","v":3.7615861540025386E-2},{"$f":"AG4/AA4","v":5.3245102496789713E-3},{"$f":"AH4/AA4","v":1.266664693763828E-2},{"$f":"AI4/AA4","v":2.2012501434013254E-4},{"$f":"AJ4/AA4","v":0.11171590252747285},{"$f":"I4","v":8.8742708333333322},{"$f":"BE4","v":8.8742708333333322},{"$f":"BE4*AM4","v":2.7431979831889106},{"$f":"BE4*AN4","v":0.4954178356450164},{"$f":"BE4*AO4","v":0.65875465078128803},{"$f":"BE4*AP4","v":0.31140234563196006},{"$f":"BE4*AQ4","v":4.8791302702903175E-2},{"$f":"BE4*AR4","v":0.22148121691530945},{"$f":"BE4*AS4","v":4.4173749194318254E-2},{"$f":"BE4*AT4","v":4.3510515981954434},{"$f":"W4","v":22.374298400000001},{"$f":"BO4","v":22.374298400000001},{"$f":"BO4*AW4","v":15.262220789963987},{"$f":"BO4*AX4","v":1.314662260293529},{"$f":"BO4*AY4","v":2.0487573209902186},{"$f":"BO4*AZ4","v":0.84162851066961153},{"$f":"BO4*BA4","v":0.11913218116017581},{"$f":"BO4*BB4","v":0.28340733831016507},{"$f":"BO4*BC4","v":4.9251427561504049E-3},{"$f":"BO4*BD4","v":2.4995649391749919},2.7709458333333337,1.762341666666666,2.7299504166666666,1.8458975000000004,0.84087041666666673,0.14147458333333332,0.62249999999999994,8.5883333333333353E-2,0.13456416666666668,1.0180583333333331,2.0603333333333335E-2,1.0529999999999999E-2,3.375E-5,8.3666666666666666E-4,6.4958333333333335E-3,0.11694166666666667,4.3750000000000004E-2,1.9624999999999998E-3,2.7654166666666664E-2,5.1533333333333341E-2,0.10177083333333332,8.8104166666666692E-2,7.677083333333333E-2,0.34583333333333338,-2.6250000000000031E-4,6.289166666666666E-3,9.7291666666666674E-4,1.2749999999999998E-4,6.7891666666666682E-3,6.9416666666666661E-4,4.6029166666666666E-3,7.6791666666666675E-4,3.3041666666666663E-4,0.10967083333333331,1.5883333333333333E-2,0,1.5220416666666665E-2,1.4166666666666662E-4,9.9583333333333305E-5,3.0332916666666671E-2,4.6758749999999995E-2,7.2083333333333328E-5,0.53628750000000014,0.20384749999999999,2.1925E-3,1.8254166666666668E-3,1.4366666666666666E-3,3.375E-5,177.2700929166667,14.585854166666666,12.264955999999998,12.123024545454546,11.179758400000003,6.689781599999999,0.65971559999999996,2.850768,0.40405200000000008,0.57193399999999994,2.2676531999999998,3.5071999999999998E-3,1.46844E-2,3.076E-4,2.6899999999999997E-3,2.87712E-2,0.47189599999999998,6.0932000000000007E-2,1.3079999999999999E-3,8.8607999999999978E-2,0.34194800000000003,0.52070799999999995,0.50241199999999997,0.13008400000000001,1.5837599999999998,-0.28561999999999999,0,6.6519999999999991E-4,7.7559999999999999E-4,3.4414800000000002E-2,2.5352000000000009E-3,2.7123999999999998E-3,1.0639999999999998E-3,1.2279999999999999E-3,0.51140800000000008,2.0676E-2,0,4.2842000000000005E-2,1.6799999999999999E-4,1.0688E-3,0.15306319999999998,0.17814319999999997,3.1160000000000004E-4,5.1962319999999984,1.6217651999999998,1.16344E-2,3.3876000000000006E-3,5.9583999999999991E-3,6.8000000000000001E-6,47.627562800000007]
["ACAD1",2002,null,null,null,null,{"$f":"G3","v":4.6603568027},{"$f":"H3","v":10.387340979999999},{"$f":"Tracking!C26","v":8.7700729166666651},null,null,null,24.164558333333336,12.164558333333334,6.2921141666666669,1.0139599999999998,2.4589991666666662,0.85629166666666678,9.693166666666668E-2,0.81574708333333346,0.63051625,12,{"$f":"Tracking!B26","v":22.909756799999997},null,null,null,109.51964919999999,97.519649199999989,74.4633276,7.4757399999999983,9.3296299999999981,3.7231200000000002,0.74888160000000004,1.4680939999999998,0.31085799999999997,12,8.7700729166666651,1,0.26038606126672431,4.1960626220149538E-2,0.10176056738743067,3.5435850093128815E-2,4.011315469935826E-3,3.3757996818343121E-2,2.6092603940964503E-2,0.49659504777485758,22.909756799999997,{"$f":"AA5/AA5","v":1},{"$f":"AC5/AA5","v":0.67990838305205248},{"$f":"AD5/AA5","v":6.8259349391707136E-2},{"$f":"AE5/AA5","v":8.518681413015336E-2},{"$f":"AF5/AA5","v":3.3994995666951064E-2},{"$f":"AG5/AA5","v":6.8378743492176937E-3},{"$f":"AH5/AA5","v":1.3404845712380167E-2},{"$f":"AI5/AA5","v":2.8383765129883195E-3},{"$f":"AJ5/AA5","v":0.10956937944611314},8.7700729166666651,{"$f":"BE5","v":8.7700729166666651},2.283604743792806,0.3679977515797066,0.89244759602913881,0.31077498918080892,3.5179529163090202E-2,0.29606009361747043,0.22883403914796269,4.3551747790410671,22.909756799999997,{"$f":"BO5","v":22.909756799999997},15.576535702003762,1.5638050938902381,1.9516091942886167,0.77881708314690257,0.15665403836953562,0.30710175521215233,6.5026515619394432E-2,2.5102078358373703,3.0542363636363632,1.7929833333333332,3.1475681818181829,1.9380495833333338,0.72218833333333332,0.10959041666666669,0.82668749999999991,8.5629166666666687E-2,9.693166666666668E-2,1.3595783333333333,9.7020416666666678E-2,4.364583333333334E-3,5.333333333333334E-5,9.7083333333333342E-4,5.7975000000000006E-3,0.12961666666666669,4.2487500000000004E-2,1.6041666666666667E-3,3.9875000000000006E-3,6.5454166666666661E-2,0.18593333333333337,0.11581666666666668,8.8079166666666667E-2,0.45927083333333335,5.4770833333333324E-2,1.7244999999999996E-2,1.1666666666666668E-5,1.5416666666666668E-4,5.3391666666666683E-3,6.0499999999999996E-4,6.3E-3,2.5458333333333339E-4,2.4916666666666663E-4,8.4954166666666664E-2,5.9750000000000003E-3,3.8791666666666667E-4,1.3820000000000001E-2,1.0541666666666665E-4,5.6249999999999992E-5,2.3529583333333336E-2,6.9632916666666669E-2,1.225E-4,0.47563749999999999,0.17507583333333335,5.7874999999999995E-4,4.779166666666668E-4,1.9716666666666671E-3,7.9166666666666665E-6,178.7360270833334,14.327156521739129,11.772048,13.820242173913046,11.421877200000001,6.7573532000000025,0.75963960000000019,2.7393624000000001,0.37231200000000003,0.74888160000000004,2.4468232000000003,4.4326800000000006E-2,4.82444E-2,3.3560000000000008E-4,2.9792E-3,3.2033200000000005E-2,0.44030399999999992,5.0472000000000003E-2,1.652E-3,0.10493999999999999,0.33433200000000002,0.47910799999999992,0.48337200000000002,0.12011600000000001,1.5218679999999996,-0.18625600000000003,0,1.0200000000000001E-4,8.6760000000000006E-4,4.23392E-2,2.0899999999999998E-3,8.5208000000000002E-3,9.9719999999999995E-4,9.3999999999999997E-4,0.58886799999999995,1.7268000000000002E-2,0,5.2766000000000007E-2,2.1440000000000001E-4,9.2640000000000018E-4,0.1883292,0.18213760000000001,6.6319999999999986E-4,5.0261120000000004,1.6381464000000003,4.3355999999999985E-3,2.5007999999999996E-3,5.8595999999999978E-3,8.6799999999999996E-5,44.561465599999998]
["ACAD1",2003,null,null,null,null,{"$f":"G3","v":4.6603568027},{"$f":"H3","v":10.387340979999999},{"$f":"Tracking!C27","v":8.7697208333333361},null,null,null,24.172724166666669,12.172724166666669,6.841635833333334,1.07007125,2.0936791666666665,0.78250000000000008,0.10046125,0.61414500000000016,0.67023499999999991,12,{"$f":"Tracking!B27","v":22.696693749999998},null,null,null,116.51901166666666,104.51901166666666,82.88316416666666,5.138217083333334,10.371066666666668,4.2865833333333327,0.42817208333333334,1.3471624999999998,6.4644999999999994E-2,12,8.7697208333333361,1,0.28303122917224643,4.426771441323897E-2,8.6613289930879037E-2,3.2371196337028486E-2,4.1559755246176394E-3,2.5406528273999189E-2,2.7726912175013781E-2,0.49642729206944641,22.696693749999998,1,0.71132738753205182,4.4097671357122031E-2,8.9007506314384449E-2,3.6788703165421918E-2,3.674697177815346E-3,1.1561739845973919E-2,5.5480216554646084E-4,0.1029874852897754,8.7697208333333361,8.7697208333333361,2.4821048669557912,0.3882154973338322,0.75957437315037035,0.28388635491676251,3.6446745141062754E-2,0.22280816030716313,0.24315727934522208,4.3535287654966774,22.696693749999998,22.696693749999998,16.144779870802548,1.0008713418807456,2.0201761122687749,0.83498192920523684,8.3403476468864188E-2,0.26241326850124219,1.2592174843244822E-2,2.3374754137046621,2.7405666666666675,1.7356666666666667,2.8493591666666664,1.9073520833333333,0.80020041666666675,0.11740583333333336,0.71331749999999994,7.8250000000000014E-2,0.10046125,1.0235749999999999,9.7717916666666668E-2,3.1800000000000001E-3,5.1666666666666678E-5,9.1833333333333339E-4,6.5716666666666658E-3,0.10584583333333332,4.2420833333333345E-2,3.995833333333333E-3,2.9716666666666659E-2,5.938750000000001E-2,0.1366,9.5420833333333302E-2,7.4141666666666647E-2,0.39526666666666671,6.5420833333333331E-2,2.9742916666666664E-2,2.5833333333333332E-5,1.6458333333333331E-4,6.2679166666666647E-3,5.0583333333333329E-4,8.9975000000000003E-3,1.9458333333333336E-4,2.2416666666666665E-4,9.101250000000001E-2,1.5962500000000001E-2,1.1291666666666667E-4,1.323125E-2,5.458333333333333E-5,6.2500000000000001E-5,2.484083333333334E-2,7.6586666666666664E-2,8.0416666666666665E-5,0.52307916666666665,0.19398791666666668,7.4041666666666668E-4,6.0750000000000008E-4,1.7587499999999999E-3,1.7916666666666667E-5,178.83184708333332,13.894858333333332,11.650887500000001,13.248328750000004,11.680531666666667,7.3019404166666666,0.5576724999999999,2.9537924999999992,0.42865833333333336,0.42817208333333334,2.2452708333333331,1.0293750000000003E-2,2.9665833333333336E-2,2.966666666666666E-4,2.6983333333333325E-3,2.1170833333333333E-2,0.41407083333333339,9.4783333333333344E-2,1.0795833333333333E-2,0.10860416666666665,0.35792916666666663,0.54832083333333326,0.5351499999999999,9.0991666666666679E-2,1.6409958333333334,-0.16035000000000002,1.5833333333333333E-5,5.5833333333333333E-5,7.0708333333333333E-4,2.5848333333333334E-2,2.0041666666666667E-3,1.2476666666666669E-2,7.612500000000001E-4,7.899999999999999E-4,0.43230416666666655,1.874583333333333E-2,0,4.263458333333333E-2,1.0958333333333333E-4,8.7708333333333334E-4,0.10202916666666667,0.31449374999999996,2.7166666666666669E-4,5.0361333333333329,1.7701675000000003,2.3062499999999997E-3,2.1162499999999992E-3,5.3479166666666675E-3,7.0833333333333338E-6,47.317264583333326]
["ACAD1",2004,{"$f":"J7","v":8.7755662333333326},{"$f":"Tracking!I28","v":22.014232929047616},{"$f":"Tracking!N28","v":8.7755662333333326},{"$f":"Tracking!O28","v":22.014232929047616},{"$f":"G3","v":4.6603568027},{"$f":"H3","v":10.387340979999999},{"$f":"Tracking!C28","v":8.5627970833333329},{"$f":"Tracking!Q28","v":8.7755662333333326},null,null,23.658058749999999,11.65805875,5.857960416666665,0.94673499999999988,2.6046212500000001,0.75229166666666669,0.12347541666666667,0.86631124999999976,0.50666458333333331,12,{"$f":"Tracking!B28","v":21.337647599999997},{"$f":"Tracking!P28","v":22.014232929047616},null,null,94.856851199999994,82.85685119999998,62.969708799999999,6.6607271999999993,7.2555220000000018,3.2798000000000003,0.38475040000000005,1.2953147999999999,1.0110259999999998,12,8.5627970833333329,1,0.24760951346723092,4.0017442259500685E-2,0.11009446199807076,3.1798537429309021E-2,5.2191694158620124E-3,3.6618019219349505E-2,2.1416152047273672E-2,0.50722673938748253,21.337647599999997,1,0.66383933267226147,7.0218725539985025E-2,7.6489171928152744E-2,3.4576311131019291E-2,4.0561160857930743E-3,1.3655469094888108E-2,1.0658439397996797E-2,0.12650641306550139,8.5627970833333329,8.5627970833333329,2.1202300197227903,0.3426612378621125,0.94271653808823275,0.2722844235539531,4.4690688651565773E-2,0.31355266816888988,0.18338216428661819,4.3432796446158122,21.337647599999997,21.337647599999997,14.16476974357988,1.49830242049332,1.6320989958187355,0.73777714222164692,8.6547975663343976E-2,0.29137558735941338,0.22742602384041177,2.699349261131704,3.0658478260869564,1.668033333333333,3.271973043478261,1.922655,0.66927999999999999,0.1019854166666667,0.87709500000000029,7.5229166666666666E-2,0.12347541666666667,1.4438520833333335,7.5589583333333335E-2,1.1811250000000001E-2,1.0458333333333333E-4,9.9874999999999985E-4,5.6324999999999995E-3,0.11660416666666663,4.7625000000000001E-2,1.7833333333333332E-3,2.5137500000000004E-2,7.8141666666666665E-2,0.17813750000000003,0.11507499999999998,9.0783333333333327E-2,0.48727499999999996,4.4033333333333334E-2,3.3304166666666669E-3,4.2083333333333338E-5,1.95E-4,7.053750000000001E-3,8.0124999999999988E-4,3.6401250000000003E-2,2.9208333333333332E-4,2.3791666666666669E-4,7.9058333333333342E-2,8.5666666666666651E-3,0,1.4122916666666666E-2,6.9166666666666663E-5,9.4166666666666674E-5,2.6341666666666666E-2,3.8394166666666667E-2,9.583333333333335E-5,0.45521666666666666,0.16224958333333334,7.1000000000000002E-4,5.1625E-4,1.8754166666666669E-3,2.6666666666666663E-5,182.7188408333333,11.795270833333333,9.5099920000000004,12.06519304347826,9.5249600000000001,5.7396015999999994,0.67936760000000007,2.2416983999999998,0.32797999999999994,0.38475040000000005,2.1588579999999999,0.15156320000000001,1.9194399999999997E-2,2.4240000000000001E-4,2.5888E-3,1.9879999999999998E-2,0.40534800000000004,6.5428E-2,1.9680000000000001E-3,5.5947999999999991E-2,0.24289199999999997,0.38315200000000005,0.41863200000000006,0.144764,1.2453879999999999,8.8224999999999984E-2,3.5280000000000001E-4,5.8400000000000003E-5,7.4600000000000003E-4,2.2374000000000002E-2,2.0868000000000002E-3,3.3608800000000008E-2,6.4159999999999998E-4,1.0248E-3,0.53409166666666674,1.6449999999999996E-2,0,3.3479600000000005E-2,1.3399999999999998E-4,8.5040000000000007E-4,9.696719999999999E-2,7.0524799999999999E-2,2.7680000000000001E-4,4.2954999999999997,1.3914184000000001,2.0968000000000007E-3,2.0559999999999997E-3,5.5316000000000011E-3,2.4000000000000001E-5,52.147752400000002]
["ACAD1",2005,{"$f":"C7","v":8.7755662333333326},{"$f":"Tracking!I29","v":21.820451396563488},{"$f":"Tracking!N29","v":8.6736676402777775},{"$f":"Tracking!O29","v":21.653223223670633},{"$f":"G7","v":4.6603568027},{"$f":"H7","v":10.387340979999999},{"$f":"Tracking!C29","v":7.6561283333333341},{"$f":"Tracking!Q29","v":8.5265979999999999},null,null,21.897700833333332,9.8977008333333334,4.7446866666666656,0.97044291666666671,1.8037729166666665,0.77504166666666663,7.3166666666666672E-2,0.71397708333333332,0.81661375000000014,12,{"$f":"Tracking!B29","v":21.850372400000001},{"$f":"Tracking!P29","v":22.233753789999998},null,null,99.557937999999993,87.557937999999993,70.559819599999997,4.3466867999999996,7.0236652000000026,3.7249599999999994,0.21716560000000001,1.2204956000000002,0.46514439999999996,12,7.6561283333333341,1,0.21667510679679039,4.4317114570742042E-2,8.2372708002335551E-2,3.539374624603854E-2,3.3412944684717855E-3,3.2605116343835339E-2,3.729221420163556E-2,0.54800273742589645,21.850372400000001,1,0.70873122743863981,4.3659871702043489E-2,7.0548520199363737E-2,3.7414997486187387E-2,2.1812986926265992E-3,1.2259149039426674E-2,4.6720975679508349E-3,0.12053282983823953,7.6561283333333341,7.6561283333333341,1.658892424274933,0.3392975165166377,0.63065602363007467,0.27097906345710598,2.558137925007678E-2,0.24962895505166749,0.28551397776187776,4.1955792847506332,21.850372400000001,21.850372400000001,15.486041251043378,0.95398445562587209,1.5415114386250199,0.81753162841825833,4.7662188749524333E-2,0.26786697181857511,0.10208707174886006,2.6336872183913655,2.6606749999999999,1.3649173913043477,2.6734795652173911,1.5142191666666667,0.53305958333333325,9.9464999999999984E-2,0.61219499999999993,7.750416666666668E-2,7.3166666666666672E-2,1.1899620833333335,0.11882916666666667,5.9721739130434784E-3,7.0434782608695646E-5,7.6043478260869556E-4,5.2986956521739129E-3,0.14447083333333333,4.0133333333333333E-2,2.1166666666666664E-3,-1.8345833333333336E-2,7.7841666666666684E-2,0.13952083333333334,8.5545833333333335E-2,0.10024583333333331,0.38480833333333336,6.712916666666667E-2,1.4301739130434784E-2,2.8260869565217389E-5,1.7695652173913042E-4,4.7113043478260869E-3,7.2391304347826078E-4,3.3465217391304347E-3,2.1043478260869572E-4,2.4565217391304348E-4,7.7104166666666682E-2,5.4625000000000012E-3,0,1.1307391304347823E-2,3.5652173913043475E-5,7.260869565217392E-5,1.3294347826086956E-2,3.8790869565217392E-2,1.8304347826086958E-4,0.34267083333333331,0.12904217391304348,4.7782608695652178E-4,4.2000000000000002E-4,5.2813043478260871E-3,1.7391304347826088E-6,205.99467958333335,11.494639999999997,9.4135374999999986,11.479585652173911,9.6291819999999984,6.3718388000000008,0.43574679999999999,2.1641471999999995,0.3724960000000001,0.21716560000000001,2.0341591999999999,6.7784800000000006E-2,9.0820833333333326E-3,2.6833333333333326E-4,2.1254166666666669E-3,1.4677916666666667E-2,0.70391599999999999,0.10365199999999999,2.32E-3,5.3408000000000018E-2,0.33876000000000006,0.22278400000000001,0.22171999999999997,0.42431199999999997,1.2609839999999999,3.9899999999999998E-2,0,5.5000000000000016E-5,6.0249999999999995E-4,1.6747500000000002E-2,1.9033333333333335E-3,5.4058333333333328E-3,5.454166666666666E-4,9.3833333333333345E-4,0.34581666666666666,1.6112499999999998E-2,0,3.0577499999999997E-2,1.4083333333333331E-4,8.0249999999999994E-4,5.2940000000000008E-2,6.8330833333333341E-2,2.3291666666666667E-4,4.3704083333333346,1.5239141666666667,1.4358333333333334E-3,2.0616666666666669E-3,5.5129166666666668E-3,6.2916666666666674E-5,49.0730936]
["ACAD1",2006,{"$f":"C7","v":8.7755662333333326},{"$f":"Tracking!I30","v":21.626669864079361},{"$f":"Tracking!N30","v":8.5717690472222223},{"$f":"Tracking!O30","v":21.29221351829365},{"$f":"G7","v":4.6603568027},{"$f":"H7","v":10.387340979999999},{"$f":"Tracking!C30","v":8.2539025000000006},{"$f":"Tracking!Q30","v":8.4025243333333339},null,null,23.131037500000001,11.1310375,5.7911187499999999,0.91340541666666653,2.0078416666666663,0.90633333333333344,7.5782500000000003E-2,0.81870999999999994,0.61784625000000015,12,{"$f":"Tracking!B30","v":22.687711666666669},{"$f":"Tracking!P30","v":22.296436443333331},null,null,104.05007624999998,92.050076249999975,70.297891666666672,7.5744179166666674,7.0839249999999998,3.5330000000000008,0.30918499999999993,2.2396325000000004,1.0120250000000002,12,8.2539025000000006,1,0.25036139213383746,3.9488302963784763E-2,8.6802922984611744E-2,3.9182562966893868E-2,3.2762257205280997E-3,3.5394434858358595E-2,2.6710702016716721E-2,0.51878347436858374,22.687711666666669,1,0.67561595531907825,7.2795890110332037E-2,6.8081881871758856E-2,3.3954804526152391E-2,2.9715019069964403E-3,2.1524563755425417E-2,9.7263263658588662E-3,0.1153290841533622,8.2539025000000006,8.2539025000000006,2.0664585204369614,0.32593260255354051,0.7164628630299944,0.32340905442885276,2.7041647665231185E-2,0.29214221436349319,0.2204675301525332,4.2819882160495393,22.687711666666669,22.687711666666669,15.328179991678798,1.6515721653415649,1.5446221056305254,0.77035681478737383,6.7416578482885389E-2,0.48834309623387573,0.22066808816450381,2.6165530080522177,2.974145833333333,1.6096291666666662,2.9721500000000005,1.6951604166666667,0.6553545833333333,9.8765416666666661E-2,0.68138250000000011,9.063333333333333E-2,7.5782500000000003E-2,1.3645166666666666,9.3240416666666673E-2,4.7824999999999994E-3,2.5000000000000001E-5,8.7749999999999992E-4,5.5795833333333322E-3,0.15928333333333333,4.262083333333333E-2,1.0499999999999999E-3,-2.1866666666666659E-2,8.2191666666666649E-2,0.14544166666666672,8.7912500000000005E-2,0.1079458333333333,0.40162500000000012,5.2149999999999995E-2,1.0993333333333334E-2,3.4583333333333338E-5,2.2749999999999997E-4,5.3954166666666664E-3,5.5458333333333336E-4,1.8183333333333335E-3,2.2875E-4,2.0166666666666664E-4,7.6562499999999992E-2,-2.1916666666666668E-3,5.6791666666666666E-4,1.2205833333333332E-2,5.5416666666666667E-5,5.7916666666666667E-5,1.6365416666666664E-2,3.3964166666666663E-2,1.1541666666666666E-4,0.37911250000000002,0.15887374999999995,5.0291666666666659E-4,3.9333333333333337E-4,1.5012499999999998E-3,1.1666666666666666E-5,191.60284500000003,13.932916666666669,10.200195833333334,13.420825416666666,10.411553333333332,6.6156837499999996,0.80591708333333345,2.1740250000000003,0.3533,0.30918499999999993,3.7327208333333339,0.15344250000000001,1.3950416666666668E-2,2.4916666666666669E-4,2.5666666666666663E-3,2.2853750000000003E-2,0.67510416666666673,5.0633333333333336E-2,1.2750000000000001E-3,6.568333333333333E-2,0.32273333333333337,0.23424166666666668,0.24841250000000001,0.36687500000000001,1.2379458333333331,8.524583333333334E-2,0,9.3749999999999988E-5,8.3083333333333349E-4,2.2304166666666667E-2,2.0891666666666671E-3,1.6864166666666666E-2,6.6666666666666664E-4,9.8416666666666683E-4,0.62474166666666675,7.4958333333333335E-3,0,3.7721249999999998E-2,8.0416666666666665E-5,8.2333333333333314E-4,7.3038333333333316E-2,0.21723791666666667,4.058333333333333E-4,4.2408166666666665,1.6038020833333331,1.7516666666666668E-3,1.7329166666666671E-3,5.7691666666666655E-3,1.2500000000000001E-5,44.37962916666666]
["ACAD1",2007,{"$f":"C7","v":8.7755662333333326},{"$f":"Tracking!I31","v":21.432888331595233},{"$f":"Tracking!N31","v":8.4698704541666672},{"$f":"Tracking!O31","v":20.931203812916667},{"$f":"G7","v":4.6603568027},{"$f":"H7","v":10.387340979999999},{"$f":"Tracking!C31","v":8.2758608333333346},{"$f":"Tracking!Q31","v":8.3036819166666671},null,null,22.997493750000004,10.997493750000002,5.9093579166666652,0.7129762500000002,2.3376916666666663,0.76333333333333331,0.1028425,0.79590250000000007,0.37539125000000001,12,{"$f":"Tracking!B31","v":20.835775000000002},{"$f":"Tracking!P31","v":21.88164008333333},null,null,89.416592499999993,77.416592499999993,57.93730708333333,5.02959625,7.9271441666666655,3.2619583333333337,0.31657958333333336,1.8316874999999999,1.1123204166666667,12,8.2758608333333346,1,0.25695660496338496,3.1002345636032626E-2,0.10164984463433829,3.3192022645221204E-2,4.4719003347919156E-3,3.4608227690028179E-2,1.6323137385350957E-2,0.5217959891825168,20.835775000000002,1,0.64794805375001663,5.6249026152500728E-2,8.8654062350527016E-2,3.6480458963288429E-2,3.5405015387198228E-3,2.0484872536380764E-2,1.2439754027382186E-2,0.13420328000085668,8.2758608333333346,8.2758608333333346,2.1265371028827835,0.25657109799070504,0.8412399679237389,0.27469256018869925,3.7008824831274642E-2,0.28641287605098636,0.1350880133645451,4.3183109898660152,20.835775000000002,20.835775000000002,13.500499859623254,1.1719920528826209,1.8471760959715522,0.76009863485581097,7.3769093447920028E-2,0.42681819507170893,0.25919191596987906,2.79622934635985,3.2110083333333339,1.8816500000000003,3.1508229166666659,1.7643575,0.66323458333333341,7.5684583333333347E-2,0.78858750000000011,7.633333333333335E-2,0.1028425,1.3265041666666664,5.7674166666666665E-2,6.0895833333333331E-3,3.2083333333333332E-5,8.5249999999999996E-4,5.7816666666666667E-3,0.16902500000000006,3.846666666666667E-2,2.0416666666666665E-4,7.2458333333333324E-3,9.8516666666666697E-2,0.17161249999999997,9.9145833333333336E-2,0.12382083333333334,0.50034166666666668,3.2712499999999999E-2,5.0416666666666661E-5,3.7083333333333338E-5,2.5333333333333333E-4,7.8799999999999999E-3,7.0083333333333326E-4,1.7899999999999999E-3,3.2291666666666661E-4,1.3833333333333333E-4,5.8770833333333355E-2,1.1958333333333333E-3,0,1.3105E-2,6.9583333333333335E-5,4.6666666666666672E-5,2.3552499999999994E-2,3.4055000000000002E-2,1.0958333333333335E-4,0.43579583333333322,0.16112000000000001,7.0416666666666663E-4,2.7250000000000001E-4,2.0837499999999992E-3,2.2916666666666667E-5,188.61127999999999,12.493458333333331,9.4374833333333328,12.222043913043478,9.0639666666666674,5.3302337500000005,0.52544000000000002,2.3917049999999995,0.3261958333333333,0.31657958333333336,3.0528124999999999,0.17381291666666665,8.3787500000000025E-3,2.5958333333333329E-4,2.7416666666666666E-3,1.95E-2,0.72152083333333328,5.8824999999999995E-2,1.2958333333333335E-3,8.7866666666666648E-2,0.37756250000000002,0.26527499999999998,0.23308333333333334,0.44399166666666678,1.4077791666666666,0.10185217391304348,0,6.9166666666666663E-5,7.9916666666666678E-4,2.2244583333333335E-2,1.5887499999999999E-3,1.1969583333333334E-2,6.066666666666666E-4,6.6124999999999995E-4,0.41230869565217393,1.0108695652173915E-2,0,3.3195416666666665E-2,1.2E-4,6.7750000000000015E-4,8.339708333333333E-2,0.13228708333333333,3.5416666666666669E-4,3.7555173913043487,1.2937479166666668,1.6166666666666662E-3,1.4658333333333337E-3,4.8129166666666659E-3,7.8333333333333345E-5,54.259564583333336]
["ACAD1",2008,{"$f":"C7","v":8.7755662333333326},{"$f":"Tracking!I32","v":21.239106799111106},{"$f":"Tracking!N32","v":8.367971861111112},{"$f":"Tracking!O32","v":20.570194107539685},{"$f":"G7","v":4.6603568027},{"$f":"H7","v":10.387340979999999},{"$f":"Tracking!C32","v":7.7634958333333337},{"$f":"Tracking!Q32","v":8.102436916666667},null,null,21.942347499999997,9.9423475000000021,4.9093741666666668,0.66035625000000009,1.9764079166666668,0.57162499999999994,8.9820416666666666E-2,0.91054416666666682,0.82421999999999995,12,{"$f":"Tracking!B32","v":19.349384000000001},{"$f":"Tracking!P32","v":21.212178133333332},null,null,72.898890800000004,60.898890800000011,45.562783199999984,3.5388260000000002,6.7848747999999999,2.2688799999999998,0.30393999999999999,1.9067807999999999,0.53280720000000004,12,7.7634958333333337,1,0.22373969634136309,3.0095059336745996E-2,9.0072765307662145E-2,2.6051223552994957E-2,4.0934734383669151E-3,4.1497117237190184E-2,3.7562981809489623E-2,0.54688770196534353,19.349384000000001,1,0.62501339457966054,4.8544305148741716E-2,9.3072401041251501E-2,3.1123655999440798E-2,4.1693364146495352E-3,2.6156513207194091E-2,7.3088519475799762E-3,0.16461155812263745,7.7634958333333337,7.7634958333333337,1.7370022002974377,0.23364286776474699,0.69927953816284627,0.20224856550691156,3.1779663982622219E-2,0.32216269676627085,0.29162005276554848,4.2457603955091869,19.349384000000001,19.349384000000001,12.093624176865371,0.93930240133618059,1.8008936275491751,0.60222357141708382,8.0674091312237087E-2,0.50611241814707009,0.14142178293287283,3.1851322489532312,3.0041913043478261,1.5439083333333337,3.0396213043478251,1.5912362499999997,0.57159499999999996,7.2578749999999997E-2,0.67113749999999994,5.7162499999999998E-2,8.9820416666666666E-2,1.5175737499999997,0.12894083333333331,5.5612499999999994E-3,6.5000000000000008E-5,9.8041666666666676E-4,6.7420833333333334E-3,0.14173333333333335,2.5954166666666671E-2,4.1666666666666665E-5,3.8916666666666661E-3,8.3537500000000001E-2,0.12034166666666668,7.9770833333333346E-2,0.10878333333333336,0.39632499999999998,7.5708333333333336E-2,2.3901666666666665E-2,2.0000000000000002E-5,1.8333333333333331E-4,6.0149999999999995E-3,5.1875000000000001E-4,2.7525000000000002E-3,2.1166666666666667E-4,1.4208333333333334E-4,5.6487500000000003E-2,3.3125000000000012E-3,6.1125000000000003E-4,1.3247083333333335E-2,8.0833333333333338E-5,5.9166666666666671E-5,2.0222083333333331E-2,5.3023333333333332E-2,1.1458333333333334E-4,0.37570833333333331,0.13911500000000002,5.2583333333333345E-4,2.3374999999999994E-4,1.5862499999999998E-3,4.4583333333333331E-5,200.90236583333331,10.828787999999999,7.6415879999999996,10.453161600000001,7.5273459999999988,4.4478188000000003,0.36234080000000007,2.1072815999999999,0.22688800000000001,0.30393999999999999,3.1779680000000003,7.9076800000000003E-2,1.2347199999999997E-2,2.3439999999999995E-4,2.0256000000000002E-3,1.6133999999999999E-2,0.59397600000000006,4.3524000000000014E-2,1.8800000000000002E-4,3.9512000000000012E-2,0.33022400000000007,0.23093999999999998,0.20799600000000001,0.40513600000000005,1.213808,4.8796000000000006E-2,0,1.1399999999999995E-4,6.424E-4,1.8052000000000002E-2,1.2259999999999997E-3,1.321E-2,4.4399999999999995E-4,5.2559999999999998E-4,0.28178000000000003,-5.744E-3,0,2.88992E-2,1.0800000000000001E-4,5.1199999999999998E-4,8.1376399999999988E-2,0.13300960000000001,2.8959999999999999E-4,2.9763119999999996,1.0814032000000002,1.462E-3,1.4232000000000003E-3,3.1992000000000006E-3,3.8800000000000001E-5,60.948527999999996]
["ACAD1",2009,{"$f":"C7","v":8.7755662333333326},{"$f":"Tracking!I33","v":21.045325266626978},{"$f":"Tracking!N33","v":8.2660732680555569},{"$f":"Tracking!O33","v":20.209184402162702},{"$f":"G7","v":4.6603568027},{"$f":"H7","v":10.387340979999999},{"$f":"Tracking!C33","v":6.9209791666666662},{"$f":"Tracking!Q33","v":7.7740733333333338},null,null,20.119052083333333,8.1190520833333348,3.9261937499999999,0.51812541666666678,1.5386983333333335,0.46162499999999995,9.0388750000000004E-2,0.98740249999999996,0.59661916666666659,12,{"$f":"Tracking!B33","v":18.168552800000001},{"$f":"Tracking!P33","v":20.578359173333332},null,null,69.340680000000006,57.340680000000013,43.882439600000005,3.4504151999999992,5.5392319999999993,2.2403999999999997,0.33977800000000002,1.4246319999999999,0.46378359999999996,12,6.9209791666666662,1,0.19514804841389458,2.575297357552362E-2,7.6479663503033257E-2,2.2944669464940205E-2,4.4926942693725739E-3,4.9077983192755206E-2,2.9654437206855646E-2,0.59644957179373403,18.168552800000001,1,0.63285274387271662,4.9760331164909244E-2,7.9884304566958372E-2,3.2310037917136082E-2,4.9001250059849425E-3,2.0545399900895114E-2,6.6884778170620759E-3,0.17305858552295708,6.9209791666666662,6.9209791666666662,1.3506155774882223,0.17823579359591615,0.52931415777817015,0.15879957935290395,3.1093843440530303E-2,0.33966769921907558,0.20523774210787277,4.1280150603516876,18.168552800000001,18.168552800000001,11.498018491676328,0.90407320411513914,1.4513822054160643,0.58702662986748899,8.9028179897837748E-2,0.37328018289652765,0.12151996237092107,3.1442240485671613,2.9946041666666665,1.3427291666666665,2.9340416666666669,1.2467495833333331,0.44085416666666671,5.4432916666666671E-2,0.52903499999999992,4.6162500000000002E-2,9.0388750000000004E-2,1.645670833333333,8.5877916666666665E-2,5.745416666666666E-3,5.2500000000000002E-5,6.279166666666666E-4,5.0904166666666658E-3,0.10646666666666665,2.2104166666666671E-2,4.1666666666666665E-5,-1.1845833333333331E-2,8.1370833333333337E-2,0.1206458333333333,7.8958333333333339E-2,7.9945833333333341E-2,0.34907499999999997,4.8741666666666662E-2,6.3004166666666668E-3,6.416666666666665E-5,1.5166666666666668E-4,4.5900000000000003E-3,8.8083333333333329E-4,2.7066666666666662E-3,1.9291666666666668E-4,1.1041666666666669E-4,4.2358333333333338E-2,4.241666666666667E-3,2.7500000000000002E-4,1.0936666666666666E-2,6.0000000000000002E-5,5.5833333333333347E-5,2.2920416666666665E-2,4.2017500000000006E-2,9.2083333333333326E-5,0.27058750000000004,0.10729625,4.8416666666666676E-4,3.2750000000000005E-4,2.7933333333333334E-3,1.075E-4,219.93928166666672,9.6456791666666657,7.131152000000001,9.1740720833333338,6.8899395999999999,4.1703536000000003,0.35533320000000002,1.7297927999999998,0.22403999999999996,0.33977800000000002,2.3743867999999999,7.0644799999999994E-2,1.8999599999999998E-2,2.7920000000000006E-4,2.0184000000000001E-3,1.4384800000000001E-2,0.52104400000000006,4.7007999999999994E-2,3.6000000000000001E-5,3.4939999999999999E-2,0.28544800000000004,0.17035600000000004,0.17928400000000003,0.339092,1.00912,4.2812000000000003E-2,0,7.8800000000000004E-5,5.9520000000000005E-4,1.6034400000000001E-2,1.2115999999999997E-3,7.1620000000000008E-3,3.7919999999999989E-4,4.7720000000000005E-4,0.27646399999999999,1.2983999999999997E-2,0,2.52556E-2,1.0400000000000001E-4,4.1519999999999995E-4,9.3556000000000014E-2,0.1376472,2.5000000000000006E-4,2.7889599999999994,1.0143139999999999,1.3224000000000005E-3,1.1659999999999999E-3,3.5455999999999999E-3,1.9679999999999999E-4,70.940257599999995]
["ACAD1",2010,{"$f":"C7","v":8.7755662333333326},{"$f":"Tracking!I34","v":20.851543734142851},{"$f":"Tracking!N34","v":8.1641746750000017},{"$f":"Tracking!O34","v":19.848174696785719},{"$f":"G7","v":4.6603568027},{"$f":"H7","v":10.387340979999999},{"$f":"Tracking!C34","v":6.706666666666667},{"$f":"Tracking!Q34","v":7.5841810000000009},null,null,19.727760833333331,7.7277608333333321,3.8472149999999998,0.6465683333333333,1.69224375,0.50037500000000001,7.4574166666666677E-2,0.53502749999999999,0.43175791666666674,12,{"$f":"Tracking!B34","v":17.519251666666669},{"$f":"Tracking!P34","v":19.712135026666669},null,null,65.660927916666665,53.660927916666672,37.075438749999996,3.5319337500000003,7.8980304166666651,2.4852083333333339,0.39957458333333323,1.785202916666667,0.48554041666666664,12,6.706666666666667,1,0.19501529000186837,3.2774542371826032E-2,8.5779818819613468E-2,2.536400376238003E-2,3.7801637649956311E-3,2.7120538641972083E-2,2.1885804492172267E-2,0.60827988038683056,17.519251666666669,1,0.56464993606325753,5.3790494013160176E-2,0.12028508684328103,3.7849119898022567E-2,6.0854239501526982E-3,2.7188207253670722E-2,7.3946627328034193E-3,0.18275708828284848,6.706666666666667,6.706666666666667,1.3079025449458639,0.21980793084037994,0.5752966515502077,0.17010791856636207,2.5352298317237367E-2,0.18188841249215945,0.14678079546083533,4.0795303977943442,17.519251666666669,17.519251666666669,9.8922443334594519,0.94236920189087992,2.1073047081542962,0.66308825685529849,0.10661207368108593,0.47631704524254964,0.1295489574061042,3.2017674234944407,2.2140333333333326,1.3223208333333332,2.1354616666666666,1.2879145833333334,0.44773041666666669,7.0085416666666692E-2,0.57890250000000021,5.0037500000000006E-2,7.4574166666666677E-2,0.89171250000000002,6.6584999999999991E-2,6.1658333333333331E-3,3.9999999999999996E-5,6.9125000000000002E-4,5.1487500000000005E-3,0.10661250000000001,2.1179166666666669E-2,0,-5.2041666666666677E-3,6.0675E-2,0.11197916666666664,7.6408333333333328E-2,7.7754166666666666E-2,0.32161250000000002,4.2404166666666666E-2,9.6041666666666671E-3,4.7916666666666682E-5,1.8000000000000001E-4,4.4420833333333335E-3,5.1958333333333338E-4,2.0179166666666666E-3,2.0083333333333335E-4,8.6250000000000009E-5,5.4329166666666671E-2,1.3604166666666669E-2,0,1.2074166666666665E-2,6.166666666666667E-5,4.2916666666666682E-5,1.6191666666666667E-2,4.9012083333333338E-2,7.7916666666666659E-5,0.28641666666666671,0.10854083333333335,4.9708333333333332E-4,1.5249999999999999E-4,1.4370833333333336E-3,4.8333333333333334E-5,225.70894166666665,9.8440952380952371,7.2624666666666675,9.2602810000000009,6.9114991666666654,3.4812337499999999,0.35055208333333338,2.3636325,0.24852083333333333,0.39957458333333323,2.9753383333333336,6.7985000000000004E-2,3.0175833333333332E-2,2.0916666666666666E-4,1.97875E-3,2.0993750000000002E-2,0.54030000000000011,5.169166666666667E-2,1.8333333333333331E-4,3.6220833333333327E-2,0.35967083333333338,0.31003333333333338,0.26355000000000001,0.34365416666666659,1.3131291666666665,3.5821739130434786E-2,0,9.7499999999999998E-5,8.6291666666666678E-4,2.1596249999999997E-2,1.2933333333333334E-3,1.2298750000000002E-2,6.224999999999999E-4,4.1791666666666664E-4,0.27764782608695654,1.3513043478260867E-2,0,3.7177916666666665E-2,1.1250000000000001E-4,4.5583333333333326E-4,9.7290416666666671E-2,0.1752470833333333,4.5541666666666669E-4,2.3299782608695652,0.84393541666666672,1.8970833333333331E-3,1.0849999999999998E-3,3.9137500000000014E-3,1.0833333333333334E-4,78.613092500000008]
["ACAD1",2011,{"$f":"C7","v":8.7755662333333326},{"$f":"Tracking!I35","v":20.657762201658723},{"$f":"Tracking!N35","v":8.0622760819444466},{"$f":"Tracking!O35","v":19.487164991408736},{"$f":"G7","v":4.6603568027},{"$f":"H7","v":10.387340979999999},{"$f":"Tracking!C35","v":7.5093412500000012},{"$f":"Tracking!Q35","v":7.4352687500000005},null,null,21.325760416666665,9.3257604166666681,4.6436991666666669,0.59310916666666669,1.8658025,0.54200000000000004,4.9500416666666665E-2,0.88085749999999985,0.75079041666666668,12,{"$f":"Tracking!B35","v":17.387662800000001},{"$f":"Tracking!P35","v":18.652125253333335},null,null,58.826478400000006,46.826478399999999,31.168621199999993,3.1597111999999998,7.0249628000000008,2.4613520000000002,0.15571440000000003,2.0423956000000003,0.81372359999999999,12,7.5093412500000012,1,0.21775069568152369,2.7811864856323514E-2,8.7490549623816666E-2,2.5415271925141401E-2,2.3211559962936063E-3,4.1304857730258736E-2,3.5205798151980709E-2,0.56269974742010476,17.387662800000001,1,0.52983999803734627,5.3712397647111228E-2,0.11941838082219793,4.1840886399210325E-2,2.6470120978719001E-3,3.4718984640086839E-2,1.3832607732643059E-2,0.203989773421487,7.5093412500000012,7.5093412500000012,1.6351642812974629,0.20884878400501553,0.65699639327529857,0.19085194984743126,1.7430352470652426E-2,0.31017227197921332,0.26437235230184253,4.225504424666374,17.387662800000001,17.387662800000001,9.21267922382604,0.93393305846748353,2.0764065378583645,0.7275152239625754,4.6025353785317198E-2,0.60368199768020936,0.24051671889987009,3.5469053949012186,2.9260999999999999,1.5005666666666668,2.9225508695652169,1.4561808333333335,0.5376375000000001,6.5230833333333335E-2,0.63733499999999998,5.4199999999999991E-2,4.9500416666666665E-2,1.4680958333333336,0.11227666666666664,4.9033333333333333E-3,6.8750000000000004E-5,5.6916666666666661E-4,4.0837500000000006E-3,0.10799583333333333,2.6133333333333338E-2,1.2916666666666667E-4,-7.6041666666666679E-3,6.3329166666666672E-2,0.12894583333333334,8.9345833333333347E-2,8.0058333333333342E-2,0.35407499999999997,6.6025000000000014E-2,1.7578750000000001E-2,3.7499999999999997E-5,1.9041666666666667E-4,5.1466666666666666E-3,3.833333333333334E-4,7.5099999999999984E-3,2.3333333333333336E-4,1.025E-4,5.0566666666666669E-2,5.0708333333333326E-3,1.5083333333333333E-4,1.1680416666666667E-2,7.6666666666666655E-5,-5.4166666666666617E-6,7.5041666666666633E-3,3.9120000000000002E-2,1.0416666666666667E-4,0.35009166666666669,0.13033625000000001,4.4500000000000003E-4,3.9874999999999996E-4,1.2633333333333333E-3,1.4250000000000002E-4,205.70632583333335,10.558316,6.9892333333333321,9.6016681818181802,6.2102684000000004,3.2044803999999996,0.31985279999999994,2.1668471999999999,0.24613520000000005,0.15571440000000003,3.4039923999999995,0.1172376,1.4025416666666665E-2,1.7541666666666668E-4,2.1741666666666667E-3,1.3299999999999999E-2,0.56026086956521726,4.7491304347826092E-2,1.0434782608695651E-4,3.6717391304347827E-2,0.28800434782608691,0.3102695652173913,0.25028260869565216,0.35253478260869564,1.2378086956521739,6.6519999999999996E-2,1.3337499999999999E-3,1.2916666666666667E-4,4.9500000000000011E-4,1.6773333333333338E-2,1.4499999999999999E-3,1.3120000000000005E-2,5.8125000000000006E-4,5.3541666666666657E-4,0.24794799999999995,6.7600000000000004E-3,2.4379166666666668E-3,3.047041666666667E-2,3.7500000000000052E-6,3.4000000000000002E-4,2.5414583333333334E-2,7.4874583333333314E-2,2.0916666666666666E-4,2.1449960000000003,0.77812208333333333,1.1512499999999997E-3,1.5770833333333333E-3,4.340416666666666E-3,1.5333333333333331E-4,73.85747360000002]
["ACAD1",2012,{"$f":"C7","v":8.7755662333333326},{"$f":"Tracking!I36","v":20.463980669174596},{"$f":"Tracking!N36","v":7.9603774888888914},{"$f":"Tracking!O36","v":19.126155286031754},{"$f":"G7","v":4.6603568027},{"$f":"H7","v":10.387340979999999},{"$f":"Tracking!C36","v":7.7525445833333331},{"$f":"Tracking!Q36","v":7.3306054999999999},null,null,21.894468333333332,9.8944683333333359,4.9137637500000002,0.67653874999999986,2.0322162500000003,0.61175000000000013,9.5087916666666647E-2,1.0204391666666666,0.54467416666666679,12,{"$f":"Tracking!B36","v":15.809913999999999},{"$f":"Tracking!P36","v":17.646953053333334},null,null,49.806599599999998,37.806599599999998,22.402003199999999,4.323871200000001,5.7955571999999993,2.0093199999999998,0.22040479999999998,1.7396907999999995,1.3157535999999999,12,7.7525445833333331,1,0.22442946205361919,3.0899985315925683E-2,9.2818707404100032E-2,2.7940847463678236E-2,4.3430109934160686E-3,4.6607168127170022E-2,2.4877250197367209E-2,0.54808364456745207,15.809913999999999,1,0.44977981592624122,8.6813218222590749E-2,0.11636123016918423,4.0342444899611252E-2,4.4252127583510039E-3,3.4928921347202338E-2,2.6417254150391745E-2,0.24093192661962012,7.7525445833333331,7.7525445833333331,1.7398994103841992,0.23955351378605919,0.7195811673176572,0.21661266565828161,3.3669386352364862E-2,0.36132414880879793,0.19286199126582726,4.2490428899049926,15.809913999999999,15.809913999999999,7.1109802087297034,1.3725095141623924,1.839661041909008,0.63781058441259253,6.996223314123215E-2,0.55222324261203304,0.41765451623383654,3.8091130397105046,3.3008458333333333,1.7154478260869566,3.1869430434782613,1.5634579166666669,0.56421041666666671,7.1841666666666665E-2,0.69086999999999987,6.1175000000000007E-2,9.5087916666666647E-2,1.7007316666666668,8.0272500000000011E-2,9.7421739130434774E-3,5.0000000000000002E-5,7.3826086956521738E-4,5.8330434782608697E-3,0.11930833333333331,2.8687500000000001E-2,8.3333333333333331E-5,-1.1916666666666667E-2,6.88E-2,0.14784166666666662,9.2187499999999992E-2,8.6904166666666657E-2,0.38381666666666653,4.4595833333333335E-2,9.4452173913043488E-3,5.9130434782608711E-5,1.4086956521739126E-4,7.3243478260869551E-3,5.8695652173913055E-4,7.3326086956521722E-3,2.2913043478260865E-4,1.7478260869565219E-4,5.5691666666666667E-2,2.0624999999999997E-3,3.6869565217391312E-4,1.3377826086956522E-2,-2.6086956521739154E-6,2.5217391304347831E-5,1.629434782608696E-2,3.8052173913043476E-2,1.6478260869565219E-4,0.37943333333333329,0.13707,5.6260869565217392E-4,3.5434782608695646E-4,1.5339130434782607E-3,3.7913043478260861E-4,201.19756083333334,8.8586291666666686,5.8832439999999986,8.0735358333333327,5.2770311999999988,2.3638823999999996,0.45274399999999987,1.8412200000000001,0.20093200000000003,0.22040479999999998,2.8994848000000002,0.19784880000000005,1.8117199999999997E-2,2.02E-4,1.9996000000000002E-3,1.6448400000000002E-2,0.41359199999999996,4.6924E-2,3.1999999999999999E-5,1.3292000000000002E-2,0.24823200000000004,0.29239999999999999,0.20935999999999999,0.25961600000000001,1.0229000000000001,0.109916,5.7696000000000006E-3,1.2000000000000002E-4,7.4439999999999988E-4,1.9111600000000003E-2,1.0475999999999999E-3,1.5658400000000003E-2,6.2040000000000001E-4,3.3960000000000001E-4,0.35096400000000005,6.3119999999999999E-3,2.3072000000000006E-3,3.14592E-2,-3.0800000000000003E-5,3.1480000000000001E-4,4.1871599999999995E-2,0.10655240000000001,2.4479999999999999E-4,1.5903560000000005,0.57306239999999997,1.6628000000000001E-3,8.2560000000000012E-4,4.3256000000000006E-3,2.1559999999999998E-4,86.229038800000012]
["ACAD1",2013,{"$f":"C7","v":8.7755662333333326},{"$f":"Tracking!I37","v":20.270199136690469},{"$f":"Tracking!N37","v":7.8584788958333363},{"$f":"Tracking!O37","v":18.765145580654771},{"$f":"G7","v":4.6603568027},{"$f":"H7","v":10.387340979999999},{"$f":"Tracking!C37","v":6.2538669565217395},{"$f":"Tracking!Q37","v":7.0286797246376809},null,null,18.842232608695657,6.8422326086956513,3.5974256521739125,0.53390434782608698,1.2330973913043481,0.30734782608695649,4.2141304347826085E-2,0.59550782608695652,0.53280782608695643,12,{"$f":"Tracking!B37","v":15.312182083333335},{"$f":"Tracking!P37","v":16.839512670000001},null,null,47.448728749999987,35.448728750000008,21.801854583333334,3.7478629166666662,4.7924412500000004,1.9000416666666666,0.17911833333333335,1.8804624999999999,1.1469479166666667,12,6.2538669565217395,1,0.19092353474681695,2.8335514103551139E-2,6.5443273995846749E-2,1.6311645889835583E-2,2.23653455633373E-3,3.1604950350317337E-2,2.8277319209033997E-2,0.63686720407336561,15.312182083333335,1,0.4594823751380977,7.8987636031590563E-2,0.10100252159021229,4.0044100584394837E-2,3.7749869817815382E-3,3.9631462202240779E-2,2.4172363451711382E-2,0.25290456280137963,6.2538669565217395,6.2538669565217395,1.1940103851754487,0.1772065353482542,0.4092735287692244,0.1020108632369264,1.3986989558974523E-2,0.19765315465835978,0.17684259222039517,3.9828827632468085,15.312182083333335,15.312182083333335,7.0356777921970259,1.2094730652477756,1.546569001465137,0.61316255951156851,5.7803288027251848E-2,0.60684416546945352,0.37013163055711656,3.8725207153205354,2.1201695652173917,1.1599652173913042,2.023272173913043,1.0681760869565218,0.42767913043478262,5.8375652173913037E-2,0.42719478260869559,3.0734782608695662E-2,4.2141304347826085E-2,0.99251304347826075,8.2047826086956516E-2,4.7456521739130449E-3,7.6521739130434789E-5,5.0130434782608689E-4,3.5921739130434782E-3,7.0082608695652179E-2,1.5434782608695652E-2,0,1.7478260869565217E-3,3.9530434782608696E-2,8.6043478260869555E-2,5.5226086956521751E-2,5.4782608695652171E-2,0.23733043478260871,4.6460869565217382E-2,1.5538260869565218E-2,4.2608695652173909E-5,9.3913043478260888E-5,3.4734782608695654E-3,3.5913043478260872E-4,5.2152173913043469E-3,1.7434782608695651E-4,7.3478260869565225E-5,4.5252173913043474E-2,6.8130434782608688E-3,3.5130434782608698E-4,9.6591304347826094E-3,5.3478260869565206E-5,2.9565217391304345E-5,6.6856521739130439E-3,3.1893478260869565E-2,1.3913043478260873E-5,0.30625217391304349,0.10368000000000001,3.547826086956522E-4,5.5652173913043473E-5,1.2926086956521737E-3,1.2304347826086955E-4,237.0738286956522,8.5675583333333325,5.4786541666666677,7.7864245833333348,4.8182616666666673,2.3335470833333338,0.39788958333333335,1.5429674999999998,0.19000416666666672,0.17911833333333335,3.1341041666666669,0.17473499999999997,1.682875E-2,1.5666666666666669E-4,2.0145833333333331E-3,1.4623749999999998E-2,0.3964125,4.5941666666666679E-2,1.5833333333333332E-4,2.2237500000000004E-2,0.20366666666666663,0.20698749999999991,0.17180416666666665,0.25250833333333328,0.85720416666666654,9.7466666666666688E-2,6.8133333333333344E-3,1.1125000000000001E-4,5.691666666666665E-4,1.7164166666666668E-2,1.2133333333333334E-3,1.4016666666666665E-2,5.8458333333333322E-4,2.2583333333333331E-4,0.30844166666666673,6.2708333333333331E-3,1.1191666666666665E-3,3.1879999999999999E-2,-1.083333333333333E-5,3.1749999999999997E-4,2.9861250000000002E-2,9.6444166666666623E-2,3.4166666666666671E-4,1.6088000000000002,0.56570833333333326,1.2199999999999997E-3,3.3041666666666674E-4,4.1583333333333342E-3,3.0749999999999999E-4,90.895132083333337]
["ACAD1",2014,{"$f":"C7","v":8.7755662333333326},{"$f":"Tracking!I38","v":20.076417604206341},{"$f":"Tracking!N38","v":7.7565803027777811},{"$f":"Tracking!O38","v":18.404135875277788},{"$f":"G7","v":4.6603568027},{"$f":"H7","v":10.387340979999999},{"$f":"Tracking!C38","v":7.032901739130434},{"$f":"Tracking!Q38","v":7.0510642391304348},null,null,20.469046086956521,8.4690460869565225,4.3119134782608697,0.67791043478260871,1.5714595652173908,0.36700000000000005,4.662869565217391E-2,0.89425304347826096,0.59988130434782605,12,{"$f":"Tracking!B38","v":15.364677916666665},{"$f":"Tracking!P38","v":16.278737693333333},null,null,47.981446250000005,35.981446250000005,19.369213750000004,5.4096324999999998,5.3877829166666666,1.8853333333333342,0.17773666666666665,2.1834350000000002,1.5683129166666665,12,7.032901739130434,1,0.21065532120759395,3.3118809342785799E-2,7.677248654097131E-2,1.7929511636297663E-2,2.278010194226251E-3,4.3688066345607839E-2,2.9306754296190094E-2,0.58625106167730767,15.364677916666665,1,0.40368132400761059,0.11274425684907319,0.11228888117699591,3.9292965941670296E-2,3.7042790611311895E-3,4.5505818824708728E-2,3.2685820024999063E-2,0.25009667148163545,7.032901739130434,7.032901739130434,1.4815181748779678,0.23292133182480751,0.539933354111365,0.12609649356867719,1.6021021856730659E-2,0.30725387778127117,0.20611152325794363,4.1230461112374002,15.364677916666665,15.364677916666665,6.2024335243504947,1.7322791934399491,1.7252824929073962,0.60372376608431699,5.6915054687733113E-2,0.69918224957583641,0.50220709712624412,3.8426548053457217,2.8154521739130431,1.3250304347826087,2.7309760869565225,1.2776708695652175,0.49026217391304344,7.3540434782608702E-2,0.53932695652173912,3.670000000000001E-2,4.662869565217391E-2,1.4904217391304351,9.1210869565217401E-2,5.7143478260869547E-3,9.43478260869565E-5,7.7739130434782613E-4,3.6578260869565222E-3,9.0126086956521745E-2,1.8921739130434784E-2,2.9130434782608699E-4,-3.2260869565217385E-3,5.7213043478260873E-2,0.10595652173913045,6.670434782608696E-2,7.2639130434782609E-2,0.29928695652173914,5.1395652173913051E-2,6.5056521739130426E-3,2.4782608695652168E-5,1.3956521739130431E-4,3.7508695652173907E-3,6.7913043478260858E-4,5.1656521739130443E-3,1.265217391304348E-4,6.8260869565217399E-5,5.6473913043478256E-2,1.6269565217391306E-2,1.0782608695652174E-4,1.1313043478260868E-2,-1.6956521739130433E-5,5.2173913043478263E-5,7.3786956521739114E-3,2.8197826086956524E-2,6.0869565217391306E-5,0.329604347826087,0.11885173913043479,3.0130434782608696E-4,9.7391304347826078E-5,1.576086956521739E-3,2.3304347826086949E-4,219.40055173913044,9.5066666666666677,5.8676083333333322,8.3915166666666661,4.9420616666666675,2.0667516666666668,0.57450625,1.7048924999999997,0.18853333333333333,0.17773666666666665,3.6390583333333342,0.22964041666666676,1.8302083333333333E-2,2.2208333333333336E-4,2.6050000000000001E-3,1.4930416666666666E-2,0.39295000000000008,4.2958333333333341E-2,3.1250000000000001E-4,4.1470833333333325E-2,0.21648333333333336,0.25196250000000003,0.18955833333333336,0.24768749999999998,0.94716250000000002,0.12788333333333338,7.1824999999999988E-3,1.1124999999999998E-4,7.0083333333333326E-4,1.738375E-2,1.1033333333333331E-3,2.4672083333333331E-2,6.4708333333333317E-4,2.8000000000000003E-4,0.44535416666666672,1.6512500000000003E-2,4.4583333333333329E-4,3.7713333333333335E-2,-1.5416666666666654E-5,2.5791666666666666E-4,2.7573750000000005E-2,0.12169416666666666,3.7750000000000001E-4,1.3648,0.50103083333333331,1.2412499999999999E-3,4.4124999999999996E-4,4.2633333333333334E-3,2.283333333333334E-4,90.91811541666668]
["ACAD1",2015,{"$f":"C7","v":8.7755662333333326},{"$f":"Tracking!I39","v":19.882636071722214},{"$f":"Tracking!N39","v":7.6546817097222259},{"$f":"Tracking!O39","v":18.043126169900805},{"$f":"G7","v":4.6603568027},{"$f":"H7","v":10.387340979999999},{"$f":"Tracking!C39","v":6.0495565217391309},{"$f":"Tracking!Q39","v":6.9196422101449286},null,null,18.407270869565217,6.4072708695652167,2.6592786956521737,0.59975869565217399,1.4612521739130435,0.24839999999999998,3.3126956521739137E-2,0.80131999999999981,0.60413347826086972,12,{"$f":"Tracking!B39","v":16.072577500000005},{"$f":"Tracking!P39","v":15.989402860000002},null,null,51.648247916666662,39.648247916666669,21.485300000000006,5.271068333333333,7.6988024999999993,2.0342958333333327,0.20758041666666671,1.726335833333333,1.2248654166666668,12,6.0495565217391309,1,0.14446892831077171,3.2582706035136452E-2,7.9384509755277943E-2,1.34946675017809E-2,1.7996669227327779E-3,4.3532797755745048E-2,3.2820372044383324E-2,0.65191630443385995,16.072577500000005,1,0.41599281421251844,0.102057059938182,0.149062220124521,3.9387509071278186E-2,4.0191182671209533E-3,3.3424867308543334E-2,2.3715526974757418E-2,0.23234089217047096,6.0495565217391309,6.0495565217391309,0.873972947451092,0.19711092179076867,0.48024107871510535,8.1636753794099751E-2,1.0887186769376269E-2,0.26335412057281804,0.19854869574700379,3.94380453111593,16.072577500000005,16.072577500000005,6.6860767458738062,1.6403200052785758,2.395814085273424,0.63305879208007187,6.4597589829967245E-2,0.53722377024377932,0.38116964525512925,3.734316995829039,2.3671856521739132,1.039716956521739,2.298034347826087,1.001132608695652,0.29308217391304348,6.0852608695652163E-2,0.50401217391304354,2.4839999999999997E-2,3.3126956521739137E-2,1.3355339130434782,8.5218260869565202E-2,3.421304347826087E-3,5.3478260869565226E-5,4.5521739130434781E-4,2.9804347826086963E-3,6.1980434782608701E-2,1.7630869565217394E-2,0,-5.5452173913043473E-3,3.9878695652173918E-2,0.12743478260869565,6.3466956521739129E-2,5.4771304347826101E-2,0.28000652173913038,4.9761304347826094E-2,2.6473913043478261E-2,-7.8260869565217384E-6,1.4043478260869569E-4,2.8969565217391306E-3,2.0043478260869566E-4,6.6465217391304347E-3,6.5217391304347834E-5,4.217391304347825E-5,4.7172608695652173E-2,1.5634347826086956E-2,1.0999999999999999E-4,8.0847826086956551E-3,2.9130434782608693E-5,2.9462015556671315E-21,5.2908695652173912E-3,3.3338260869565213E-2,4.7826086956521735E-5,0.18785521739130434,7.1050434782608696E-2,2.1652173913043479E-4,2.4347826086956523E-5,8.2000000000000009E-4,7.3913043478260836E-5,241.54710260869572,9.0589387499999994,6.1817124999999997,8.3999754166666669,5.7976479166666657,2.300417916666667,0.57357666666666662,2.325377916666667,0.20342958333333336,0.20758041666666671,2.8772262499999997,0.18726458333333332,2.1154166666666668E-2,2.1208333333333333E-4,3.5412499999999997E-3,1.7601666666666665E-2,0.4791754166666668,3.4183333333333323E-2,3.3333333333333328E-5,1.1173333333333334E-2,0.24236958333333328,0.45497833333333332,0.27339333333333332,0.30996249999999997,1.2918770833333335,0.10531749999999999,7.2949999999999994E-3,1.1833333333333334E-4,6.9125000000000002E-4,2.0824166666666664E-2,1.1333333333333336E-3,2.7419166666666665E-2,7.3791666666666656E-4,1.7791666666666669E-4,0.44463333333333327,2.1832500000000001E-2,6.2916666666666676E-4,3.8443333333333322E-2,1.5833333333333333E-5,3.2624999999999999E-4,3.1916250000000007E-2,0.12769833333333333,3.4916666666666668E-4,1.4714220833333338,0.55767708333333332,1.2808333333333333E-3,1.5458333333333331E-4,5.0062499999999994E-3,3.6208333333333323E-4,84.79177833333334]
["ACAD1",2016,{"$f":"C7","v":8.7755662333333326},{"$f":"Tracking!I40","v":19.688854539238086},{"$f":"Tracking!N40","v":7.5527831166666708},{"$f":"Tracking!O40","v":17.682116464523823},{"$f":"G7","v":4.6603568027},{"$f":"H7","v":10.387340979999999},{"$f":"Tracking!C40","v":6.0845679166666669},{"$f":"Tracking!Q40","v":6.6346875434782602},null,null,18.458207916666666,6.4582079166666686,2.7207758333333332,0.50939875000000001,1.5918533333333336,0.35224166666666662,3.9057916666666657E-2,0.78413708333333343,0.46074416666666668,12,{"$f":"Tracking!B40","v":13.723970833333333},{"$f":"Tracking!P40","v":15.256664466666667},null,null,40.338074583333338,28.338074583333338,13.395533750000004,4.6563133333333324,5.7005049999999997,1.5547500000000003,0.14369625000000003,1.7319674999999997,1.1553045833333335,12,6.0845679166666669,1,0.14740194961595562,2.7597410989180764E-2,8.6240947145035926E-2,1.9083199639798907E-2,2.1160188921373929E-3,4.2481755914413784E-2,2.4961478857903754E-2,0.65011728409260749,13.723970833333333,1,0.3320816347425441,0.11543221587619361,0.1413182225201027,3.8542989868990504E-2,3.5622981881086521E-3,4.2936295742672964E-2,2.8640548545434935E-2,0.29748569122230967,6.0845679166666669,6.0845679166666669,0.89687717348736007,0.16791832148783339,0.52473890010163138,0.11611302427566532,1.2875060662159725E-2,0.25848312908050652,0.15187981341135448,3.9556827688603482,13.723970833333333,13.723970833333333,4.5574786694923279,1.5841883639119179,1.9394471640843993,0.52896286879148779,4.8888876433239317E-2,0.58925647046381791,0.39306205288821644,4.0826849496689839,2.4042245833333338,1.0973287499999997,2.3331966666666664,1.0608404166666665,0.31543791666666671,5.5148333333333327E-2,0.54655083333333332,3.5224166666666668E-2,3.9057916666666657E-2,1.3068958333333331,6.9421666666666673E-2,4.3845833333333323E-3,3.9166666666666665E-5,5.3208333333333341E-4,2.81E-3,6.7300833333333338E-2,2.36875E-2,0,-5.4662499999999989E-3,5.3554166666666674E-2,0.13716125000000004,6.2625833333333325E-2,5.5764166666666649E-2,0.30363916666666674,3.9812500000000001E-2,1.8294999999999995E-2,-4.5833333333333332E-6,1.3124999999999999E-4,3.2687500000000004E-3,3.1625000000000007E-4,5.0504166666666675E-3,1.1333333333333334E-4,4.958333333333333E-5,4.275000000000001E-2,4.1066666666666673E-3,1.7916666666666667E-4,8.1554166666666667E-3,3.6666666666666666E-5,3.0833333333333322E-5,6.5512500000000006E-3,2.885416666666667E-2,5.0416666666666681E-5,0.20268500000000009,7.647000000000001E-2,2.966666666666667E-4,3.5833333333333335E-5,8.3916666666666677E-4,-5.8333333333333212E-6,240.43074583333328,7.3807162500000016,4.4941024999999994,6.971849166666666,4.2197333333333331,1.4614116666666668,0.48422499999999996,1.8033349999999999,0.155475,0.14369625000000003,2.8866137500000004,0.17158999999999999,1.499958333333333E-2,6.3749999999999991E-5,2.1191666666666663E-3,1.2478333333333333E-2,0.30554333333333333,4.0108749999999999E-2,0,2.9661666666666659E-2,0.21219416666666668,0.3563575000000001,0.21346208333333336,0.19017708333333336,1.0018525000000003,9.5327500000000009E-2,5.7183333333333322E-3,1.0791666666666668E-4,8.2166666666666662E-4,1.367E-2,1.3045833333333332E-3,2.2268750000000004E-2,4.7166666666666662E-4,6.7500000000000001E-5,0.37536791666666663,1.0367083333333334E-2,7.3333333333333323E-4,3.3372499999999999E-2,-6.791666666666666E-5,1.8416666666666665E-4,2.218458333333333E-2,0.1025833333333333,3.8208333333333329E-4,0.96502791666666654,0.35428166666666661,1.0504166666666667E-3,9.541666666666665E-5,3.9970833333333325E-3,2.6499999999999999E-4,107.18555458333333]
["ACAD1",2017,{"$f":"C7","v":8.7755662333333326},{"$f":"Tracking!I41","v":19.495073006753959},{"$f":"Tracking!N41","v":7.4508845236111156},{"$f":"Tracking!O41","v":17.32110675914684},{"$f":"G7","v":4.6603568027},{"$f":"H7","v":10.387340979999999},{"$f":"Tracking!C41","v":7.1824869565217382},{"$f":"Tracking!Q41","v":6.5206760181159424},null,null,20.616926086956514,8.6169260869565232,3.5015673913043472,0.72081260869565211,2.3468630434782609,0.6753217391304347,5.8067826086956514E-2,0.97759608695652178,0.33669695652173914,12,{"$f":"Tracking!B41","v":13.966052916666664},{"$f":"Tracking!P41","v":14.887892249999998},null,null,42.77798791666666,30.777987916666664,12.614951250000003,5.1885287500000006,7.0209829166666671,1.7494208333333334,0.17772416666666668,2.311514583333333,1.7148641666666664,12,{"$f":"I20","v":7.1824869565217382},{"$f":"M20/M20","v":1},{"$f":"O20/M20","v":0.16983945019425789},{"$f":"P20/M20","v":3.4962176497867002E-2},{"$f":"Q20/M20","v":0.11383185997659588},{"$f":"R20/M20","v":3.2755694824830511E-2},{"$f":"S20/M20","v":2.816512308481023E-3},{"$f":"T20/M20","v":4.7417160193197125E-2},{"$f":"U20/M20","v":1.6331093932317752E-2},{"$f":"V20/M20","v":0.58204603098382879},{"$f":"W20","v":13.966052916666664},{"$f":"AA20/AA20","v":1},{"$f":"AC20/AA20","v":0.29489351566919098},{"$f":"AD20/AA20","v":0.12128968665163671},{"$f":"AE20/AA20","v":0.16412606713396247},{"$f":"AF20/AA20","v":4.0895351056278749E-2},{"$f":"AG20/AA20","v":4.15457050043777E-3},{"$f":"AH20/AA20","v":5.4035140405300545E-2},{"$f":"AI20/AA20","v":4.0087536842716744E-2},{"$f":"AJ20/AA20","v":0.28051810251984061},{"$f":"I20","v":7.1824869565217382},{"$f":"BE20","v":7.1824869565217382},{"$f":"BE20*AM20","v":1.2198696357230807},{"$f":"BE20*AN20","v":0.25111537666754058},{"$f":"BE20*AO20","v":0.81759584951850883},{"$f":"BE20*AP20","v":0.23526735083115174},{"$f":"BE20*AQ20","v":2.022956291854788E-2},{"$f":"BE20*AR20","v":0.34057313460294014},{"$f":"BE20*AS20","v":0.11729786915460355},{"$f":"BE20*AT20","v":4.180538025636598},{"$f":"W20","v":13.966052916666664},{"$f":"BO20","v":13.966052916666664},{"$f":"BO20*AW20","v":4.1184984446177912},{"$f":"BO20*AX20","v":1.6939381820226767},{"$f":"BO20*AY20","v":2.292193338597305},{"$f":"BO20*AZ20","v":0.571146636897649},{"$f":"BO20*BA20","v":5.8022951455136196E-2},{"$f":"BO20*BB20","v":0.75465763025994037},{"$f":"BO20*BC20","v":0.5598646608442065},{"$f":"BO20*BD20","v":3.9177306638750182},3.0585621739130429,1.4292347826086955,3.0697069565217387,1.4650791304347821,0.41292652173913047,7.9053478260869572E-2,0.79540565217391301,6.7532173913043461E-2,5.8067826086956514E-2,1.6293273913043478,5.209304347826086E-2,5.9100000000000012E-3,6.2173913043478255E-5,6.5260869565217383E-4,3.3947826086956519E-3,0.11733565217391304,3.1149565217391307E-2,0,-6.500434782608696E-3,7.2489999999999999E-2,0.19671521739130429,9.8233913043478283E-2,8.0953043478260878E-2,0.44189173913043478,3.2381304347826087E-2,6.5178260869565227E-3,3.4782608695652171E-5,1.0130434782608697E-4,5.350434782608696E-3,3.9956521739130434E-4,4.2478260869565224E-3,1.9565217391304343E-4,1.7391304347826089E-5,6.1282173913043483E-2,2.9613043478260866E-3,8.0000000000000007E-5,1.2550434782608698E-2,3.6521739130434786E-5,3.3478260869565214E-5,1.0256521739130437E-2,2.7979130434782604E-2,2.6956521739130439E-5,0.2778421739130435,0.10010347826086956,5.3913043478260865E-4,8.2173913043478267E-5,1.3756521739130435E-3,2.452173913043478E-4,212.88567086956525,8.6848216666666662,4.8322966666666671,8.460079583333334,4.7015316666666669,1.403322916666667,0.56309958333333343,2.1135570833333333,0.1749420833333333,0.17772416666666668,3.8525249999999986,0.26888666666666666,1.534666666666667E-2,1.8708333333333337E-4,2.3216666666666668E-3,1.7693333333333335E-2,0.31573374999999998,3.7190000000000008E-2,0,2.4569999999999998E-2,0.26553749999999998,0.44172750000000005,0.26438166666666668,0.1779816666666667,1.1741983333333332,0.15016666666666664,2.2825416666666664E-2,8.2083333333333327E-5,6.3750000000000015E-4,1.7164583333333334E-2,1.1841666666666665E-3,2.7763333333333331E-2,4.8458333333333323E-4,1.4791666666666667E-4,0.43651041666666668,7.8158333333333326E-3,3.3458333333333338E-4,3.2898749999999997E-2,1.0000000000000001E-5,2.1958333333333335E-4,2.8455000000000008E-2,0.15565000000000001,2.0416666666666665E-4,0.95122125000000024,0.34019958333333333,1.4070833333333338E-3,4.4166666666666681E-4,3.7983333333333341E-3,7.6666666666666655E-5,107.83165958333332]
[{"$f":"A20","v":"ACAD1"},{"$f":"B20+1","v":2018},{"$f":"C7","v":8.7755662333333326},{"$f":"Tracking!I42","v":19.301291474269831},{"$f":"Tracking!N42","v":7.3489859305555605},{"$f":"Tracking!O42","v":16.960097053769857},{"$f":"G7","v":4.6603568027},{"$f":"H7","v":10.387340979999999},{"$f":"Tracking!C42","v":6.5265890909090896},{"$f":"Tracking!Q42","v":6.5752204449934126},null,null,19.292492727272727,7.2924927272727267,2.7722704545454544,0.67569818181818186,1.4215304545454546,0.50643636363636346,4.9118181818181818E-2,0.78525681818181792,1.082183181818182,12,{"$f":"Tracking!B42","v":13.576716956521738},{"$f":"Tracking!P42","v":14.540799224637681},null,null,39.884972608695655,27.884972608695659,12.270217391304346,5.4425334782608692,5.0004095652173923,1.9402869565217395,0.15716478260869565,1.4664000000000001,1.6079586956521739,12,{"$f":"I21","v":6.5265890909090896},{"$f":"M21/M21","v":1},{"$f":"O21/M21","v":0.14369685108790786},{"$f":"P21/M21","v":3.502389200660342E-2},{"$f":"Q21/M21","v":7.3683088786961976E-2},{"$f":"R21/M21","v":2.6250436933970823E-2},{"$f":"S21/M21","v":2.545973841355719E-3},{"$f":"T21/M21","v":4.0702714225816131E-2},{"$f":"U21/M21","v":5.6093486576172691E-2},{"$f":"V21/M21","v":0.62200360366269647},{"$f":"W21","v":13.576716956521738},{"$f":"AA21/AA21","v":1},{"$f":"AC21/AA21","v":0.30764011076766323},{"$f":"AD21/AA21","v":0.13645574065341837},{"$f":"AE21/AA21","v":0.12537076593421581},{"$f":"AF21/AA21","v":4.8647067544900897E-2},{"$f":"AG21/AA21","v":3.940451060368306E-3},{"$f":"AH21/AA21","v":3.6765726640621992E-2},{"$f":"AI21/AA21","v":4.0314900336715025E-2},{"$f":"AJ21/AA21","v":0.30086519345844503},{"$f":"I21","v":6.5265890909090896},{"$f":"BE21","v":6.5265890909090896},{"$f":"BE21*AM21","v":0.93785030070832742},{"$f":"BE21*AN21","v":0.22858655149147594},{"$f":"BE21*AO21","v":0.48089924346147189},{"$f":"BE21*AP21","v":0.17132581532485103},{"$f":"BE21*AQ21","v":1.6616525098732144E-2},{"$f":"BE21*AR21","v":0.26564989063660177},{"$f":"BE21*AS21","v":0.36609913755910412},{"$f":"BE21*AT21","v":4.0595619341710956},{"$f":"W21","v":13.576716956521738},{"$f":"BO21","v":13.576716956521738},{"$f":"BO21*AW21","v":4.1767427083655591},{"$f":"BO21*AX21","v":1.8526209679439978},{"$f":"BO21*AY21","v":1.7021234037111856},{"$f":"BO21*AZ21","v":0.66046746682191426},{"$f":"BO21*BA21","v":5.3498388727646444E-2},{"$f":"BO21*BB21","v":0.49915786430057557},{"$f":"BO21*BC21","v":0.54734399100196274},{"$f":"BO21*BD21","v":4.0847615736544638},2.3773295454545451,1.1088919047619048,2.3774471428571431,1.1672109090909091,0.32845136363636357,7.5377727272727277E-2,0.49100272727272731,5.0643636363636363E-2,4.9118181818181818E-2,1.3087613636363635,0.17261454545454546,4.3931818181818178E-3,4.0909090909090915E-6,6.9454545454545452E-4,4.3840909090909104E-3,8.8242272727272739E-2,2.3133181818181817E-2,0,2.5613636363636364E-3,5.125227272727273E-2,9.6945000000000003E-2,6.0623181818181819E-2,6.1397272727272731E-2,0.27277909090909092,9.5897272727272748E-2,5.3015909090909079E-2,4.6363636363636377E-5,1.0772727272727274E-4,4.1245454545454554E-3,3.1909090909090911E-4,1.0570909090909091E-2,1.4818181818181819E-4,6.2727272727272729E-5,5.8410909090909076E-2,4.7031818181818182E-3,8.0000000000000007E-5,1.2066363636363637E-2,3.181818181818182E-5,3.5454545454545453E-5,7.6172727272727277E-3,6.3405454545454543E-2,5.2272727272727274E-5,0.22617636363636365,8.0074545454545454E-2,5.0500000000000002E-4,1.7954545454545456E-4,1.0827272727272727E-3,1.6363636363636366E-4,228.84681681818176,6.7321495652173908,4.2881495652173927,6.48618043478261,4.147119565217392,1.3585421739130437,0.57853739130434778,1.6154234782608696,0.19402869565217398,0.15716478260869565,2.4440000000000004,0.24342000000000003,1.5385652173913042E-2,1.0565217391304347E-4,2.1608695652173917E-3,1.3475217391304348E-2,0.34163347826086959,3.6479999999999985E-2,0,3.4844782608695647E-2,0.18351086956521731,0.29105434782608697,0.20396260869565216,0.18408478260869565,0.8974573913043481,0.13523347826086957,2.871086956521739E-2,1.0782608695652176E-4,5.3565217391304354E-4,1.4869130434782607E-2,8.4478260869565234E-4,1.8921739130434784E-2,4.4130434782608694E-4,9.8695652173913062E-5,0.44847869565217385,1.0628260869565219E-2,6.6652173913043481E-4,3.0396521739130433E-2,2.3913043478260871E-5,1.8130434782608697E-4,2.5231304347826083E-2,0.11975391304347827,2.6521739130434786E-4,0.91171043478260849,0.32934391304347821,1.3108695652173917E-3,9.7826086956521744E-5,3.8978260869565219E-3,-5.0000000000000002E-5,108.94352565217389]
[{"$f":"A21","v":"ACAD1"},{"$f":"B21+1","v":2019},{"$f":"C7","v":8.7755662333333326},{"$f":"Tracking!I43","v":19.107509941785704},{"$f":"Tracking!N43","v":7.2470873375000053},{"$f":"Tracking!O43","v":16.599087348392874},{"$f":"G7","v":4.6603568027},{"$f":"H7","v":10.387340979999999},{"$f":"Tracking!C43","v":5.9466399999999995},{"$f":"Tracking!Q43","v":6.3579680971673245},null,null,18.184561904761907,6.1845619047619049,2.6317833333333338,0.57603857142857151,1.5758342857142857,0.43327619047619048,3.1191428571428568E-2,0.60148476190476197,0.33495476190476187,12,{"$f":"Tracking!B43","v":13.850288181818183},{"$f":"Tracking!P43","v":14.237921277667985},null,null,42.374876363636361,30.374876363636364,12.363569090909088,5.913931818181819,6.5419754545454545,2.2293772727272727,0.18173590909090911,1.9483659090909091,1.1959177272727275,12,{"$f":"I22","v":5.9466399999999995},{"$f":"M22/M22","v":1},{"$f":"O22/M22","v":0.14472624345402355},{"$f":"P22/M22","v":3.1677341166944858E-2},{"$f":"Q22/M22","v":8.6657808638305953E-2},{"$f":"R22/M22","v":2.3826594929555626E-2},{"$f":"S22/M22","v":1.7152697290585049E-3},{"$f":"T22/M22","v":3.3076670477678871E-2},{"$f":"U22/M22","v":1.8419732279447921E-2},{"$f":"V22/M22","v":0.65990041788455822},{"$f":"W22","v":13.850288181818183},{"$f":"AA22/AA22","v":1},{"$f":"AC22/AA22","v":0.29176649354235706},{"$f":"AD22/AA22","v":0.13956222001527324},{"$f":"AE22/AA22","v":0.15438335202222311},{"$f":"AF22/AA22","v":5.2610826603859871E-2},{"$f":"AG22/AA22","v":4.2887655301069912E-3},{"$f":"AH22/AA22","v":4.5979270650164841E-2},{"$f":"AI22/AA22","v":2.8222329594783057E-2},{"$f":"AJ22/AA22","v":0.28318666695385802},{"$f":"I22","v":5.9466399999999995},{"$f":"BE22","v":5.9466399999999995},{"$f":"BE22*AM22","v":0.8606348683734345},{"$f":"BE22*AN22","v":0.18837374407700094},{"$f":"BE22*AO22","v":0.51532279116089563},{"$f":"BE22*AP22","v":0.14168818247189266},{"$f":"BE22*AQ22","v":1.0200091581608468E-2},{"$f":"BE22*AR22","v":0.19669505172938426},{"$f":"BE22*AS22","v":0.10953551676225617},{"$f":"BE22*AT22","v":3.9241902210090291},{"$f":"W22","v":13.850288181818183},{"$f":"BO22","v":13.850288181818183},{"$f":"BO22*AW22","v":4.0410500173602388},{"$f":"BO22*AX22","v":1.932976966505848},{"$f":"BO22*AY22","v":2.1382539159828728},{"$f":"BO22*AZ22","v":0.72867510994712603},{"$f":"BO22*BA22","v":5.9400638536230052E-2},{"$f":"BO22*BB22","v":0.63682614889459777},{"$f":"BO22*BC22","v":0.39088739805000133},{"$f":"BO22*BD22","v":3.9222169465595016},1.9610785714285708,0.95860571428571428,2.0125747619047623,1.0393033333333332,0.30743428571428572,6.2451904761904778E-2,0.54370047619047623,4.3327619047619045E-2,3.1191428571428568E-2,1.0024728571428567,5.1197142857142858E-2,2.7690476190476189E-3,0,3.0047619047619053E-4,2.4371428571428578E-3,7.796666666666667E-2,2.9258095238095243E-2,0,1.9479523809523808E-2,6.0064761904761906E-2,9.9062857142857147E-2,5.9551428571428575E-2,6.3897142857142847E-2,0.30205571428571421,2.8782857142857148E-2,1.2476190476190478E-3,2.5714285714285711E-5,1.2095238095238096E-4,2.8923809523809527E-3,5.333333333333334E-5,2.5080952380952377E-3,9.4761904761904756E-5,1.619047619047619E-5,4.8411904761904753E-2,2.6014285714285718E-3,1.6285714285714284E-4,6.7704761904761905E-3,-1.4285714285714301E-6,-1.4285714285714284E-5,5.4233333333333338E-3,2.0610952380952379E-2,3.1904761904761908E-5,0.20190666666666668,7.4529523809523823E-2,3.2142857142857141E-4,2.5714285714285714E-5,6.8238095238095243E-4,7.1904761904761891E-5,243.72991047619058,7.8712677272727243,4.623991363636363,7.6622554545454564,4.5354422727272725,1.3451686363636364,0.59817590909090912,2.0134550000000004,0.22293772727272729,0.18173590909090911,3.2472763636363635,0.17396681818181817,1.4152727272727272E-2,7.0909090909090919E-5,2.0363636363636365E-3,1.4729999999999998E-2,0.40781909090909085,4.8731363636363649E-2,0,8.2923636363636366E-2,0.24628090909090916,0.33403636363636374,0.22173227272727269,0.23361272727272728,1.1185859090909092,9.6648636363636353E-2,4.0849999999999992E-3,1.6500000000000003E-4,7.6409090909090936E-4,1.8409090909090906E-2,1.0640909090909093E-3,1.3967727272727271E-2,6.4681818181818178E-4,1.2045454545454546E-4,0.46370227272727277,5.2218181818181825E-3,7.3909090909090897E-4,2.8795909090909098E-2,7.9090909090909082E-5,2.3454545454545456E-4,3.1744999999999995E-2,0.1018186363636364,2.2045454545454546E-4,0.89069409090909124,0.32610181818181827,1.544090909090909E-3,9.2272727272727284E-5,4.156363636363636E-3,4.3090909090909085E-4,108.99731590909091]
["ACAD1",2020,{"$f":"C7","v":8.7755662333333326},{"$f":"Tracking!I44","v":18.913728409301577},{"$f":"Tracking!N44","v":7.1451887444444502},{"$f":"Tracking!O44","v":16.238077643015892},{"$f":"G7","v":4.6603568027},{"$f":"H7","v":10.387340979999999},{"$f":"Tracking!C44","v":6.7970445833333342},{"$f":"Tracking!Q44","v":6.5074657094861648},null,null,19.794917083333335,7.7949170833333312,3.1588858333333332,0.91730166666666679,1.7289595833333333,0.57849583333333332,5.5928333333333337E-2,0.63787666666666665,0.7174687500000001,12,{"$f":"Tracking!B44","v":13.519591199999995},{"$f":"Tracking!P44","v":13.727324017667982},null,null,40.079979199999997,28.079979199999997,11.058983600000001,6.3215036000000007,5.1134656000000005,1.6401759999999999,0.19106680000000004,1.6924339999999995,2.0623479999999996,12,{"$f":"I23","v":6.7970445833333342},{"$f":"M23/M23","v":1},{"$f":"O23/M23","v":0.15958065497495871},{"$f":"P23/M23","v":4.6340263149624632E-2},{"$f":"Q23/M23","v":8.7343613315211108E-2},{"$f":"R23/M23","v":2.9224463578097413E-2},{"$f":"S23/M23","v":2.8253886135458047E-3},{"$f":"T23/M23","v":3.2224265652708278E-2},{"$f":"U23/M23","v":3.6245100041570021E-2},{"$f":"V23/M23","v":0.60621622962510935},{"$f":"W23","v":13.519591199999995},{"$f":"AA23/AA23","v":1},{"$f":"AC23/AA23","v":0.27592288770449269},{"$f":"AD23/AA23","v":0.15772222756043749},{"$f":"AE23/AA23","v":0.12758154325589074},{"$f":"AF23/AA23","v":4.0922576127484615E-2},{"$f":"AG23/AA23","v":4.7671382025068531E-3},{"$f":"AH23/AA23","v":4.222641911949894E-2},{"$f":"AI23/AA23","v":5.1455815126770318E-2},{"$f":"AJ23/AA23","v":0.29940135298273812},{"$f":"I23","v":6.7970445833333342},{"$f":"BE23","v":6.7970445833333342},{"$f":"BE23*AM23","v":1.0846768265023288},{"$f":"BE23*AN23","v":0.31497683463139742},{"$f":"BE23*AO23","v":0.59367843377291696},{"$f":"BE23*AP23","v":0.19863998186432932},{"$f":"BE23*AQ23","v":1.920429237151319E-2},{"$f":"BE23*AR23","v":0.2190297703066352},{"$f":"BE23*AS23","v":0.2463595609099283},{"$f":"BE23*AT23","v":4.1204787399021061},{"$f":"W23","v":13.519591199999995},{"$f":"BO23","v":13.519591199999995},{"$f":"BO23*AW23","v":3.7303646444882461},{"$f":"BO23*AX23","v":2.1323400397704875},{"$f":"BO23*AY23","v":1.7248503094847594},{"$f":"BO23*AZ23","v":0.55325650009447092},{"$f":"BO23*BA23","v":6.444975969179545E-2},{"$f":"BO23*BB23","v":0.5708839243354894},{"$f":"BO23*BC23","v":0.69566158537671063},{"$f":"BO23*BD23","v":4.0477838970535185},2.0736833333333338,1.0105541666666666,2.2833374999999996,1.2575283333333331,0.35100791666666664,9.4226250000000025E-2,0.59439624999999985,5.7849583333333343E-2,5.5928333333333337E-2,1.0631291666666669,0.10412208333333334,5.085000000000001E-3,1.2500000000000001E-6,4.2166666666666676E-4,3.9262499999999992E-3,8.7882500000000016E-2,2.9309999999999999E-2,0,1.1889583333333335E-2,6.7814166666666661E-2,0.12324500000000001,6.792875000000001E-2,5.9342916666666669E-2,0.33022041666666674,5.861874999999999E-2,8.1166666666666644E-3,3.3333333333333328E-5,1.4791666666666667E-4,4.5445833333333336E-3,2.2499999999999997E-4,4.2283333333333331E-3,1.7625E-4,9.1666666666666664E-6,7.3042916666666666E-2,-8.958333333333332E-5,3.2874999999999999E-4,1.0157083333333334E-2,2.7916666666666673E-5,4.5416666666666675E-5,1.0489166666666667E-2,4.2172916666666671E-2,6.8333333333333318E-5,0.22713874999999997,8.5092916666666671E-2,6.2041666666666669E-4,2.3749999999999998E-5,1.2308333333333333E-3,-4.6666666666666651E-5,221.43015249999999,6.593907999999999,3.7731831999999996,6.9931916000000003,4.2553179999999999,1.2717159999999996,0.69395680000000004,1.6128155999999996,0.16401759999999996,0.19106680000000004,2.8207248000000003,0.32174479999999994,1.57856E-2,3.8000000000000002E-5,1.9632000000000004E-3,1.7396000000000002E-2,0.2995607999999999,3.6894799999999998E-2,0,3.7037599999999997E-2,0.19185480000000002,0.29036280000000009,0.20431559999999999,0.17243799999999998,0.89600880000000016,0.17965680000000003,2.359E-2,1.2199999999999998E-4,5.3080000000000011E-4,1.7215999999999999E-2,9.5759999999999997E-4,2.2985199999999997E-2,5.4639999999999995E-4,8.6799999999999996E-5,0.53795040000000005,2.5071999999999998E-3,3.5159999999999971E-4,2.9152399999999998E-2,2.7600000000000007E-5,2.4239999999999993E-4,3.3352E-2,0.16717239999999997,2.4000000000000001E-4,0.86344200000000004,0.30829479999999998,1.6876E-3,1.1719999999999999E-4,3.6915999999999997E-3,1.3519999999999995E-4,110.91267680000001]
["ACAD1",2021,{"$f":"C7","v":8.7755662333333326},{"$f":"Tracking!I45","v":18.719946876817449},{"$f":"Tracking!N45","v":7.043290151388895},{"$f":"Tracking!O45","v":15.877067937638907},{"$f":"G7","v":4.6603568027},{"$f":"H7","v":10.387340979999999},{"$f":"Tracking!C45","v":6.2617282608695657},{"$f":"Tracking!Q45","v":6.5428977783267452},null,null,18.799872608695647,6.7998726086956536,2.9991495652173921,0.62981347826086942,1.7028300000000005,0.54055217391304344,6.774130434782609E-2,0.51428434782608701,0.34550130434782611,12,{"$f":"Tracking!B45","v":14.006444583333334},{"$f":"Tracking!P45","v":13.783818767667981},null,null,42.344295833333327,30.34429583333333,13.19901875,4.5877474999999999,6.5017854166666673,2.0512708333333332,0.3582108333333332,1.7374637500000001,1.9087995833333329,12,{"$f":"I24","v":6.2617282608695657},{"$f":"M24/M24","v":1},{"$f":"O24/M24","v":0.15953031319106772},{"$f":"P24/M24","v":3.3500943935628427E-2},{"$f":"Q24/M24","v":9.0576677589420354E-2},{"$f":"R24/M24","v":2.8752970042095805E-2},{"$f":"S24/M24","v":3.6032852859063094E-3},{"$f":"T24/M24","v":2.735573578239095E-2},{"$f":"U24/M24","v":1.8377853485454936E-2},{"$f":"V24/M24","v":0.63830219756114459},{"$f":"W24","v":14.006444583333334},{"$f":"AA24/AA24","v":1},{"$f":"AC24/AA24","v":0.31170712584172355},{"$f":"AD24/AA24","v":0.10834393180269954},{"$f":"AE24/AA24","v":0.15354572059144925},{"$f":"AF24/AA24","v":4.8442671981300908E-2},{"$f":"AG24/AA24","v":8.459482588711523E-3},{"$f":"AH24/AA24","v":4.1031825321612099E-2},{"$f":"AI24/AA24","v":4.5078080666315641E-2},{"$f":"AJ24/AA24","v":0.2833911808861308},{"$f":"I24","v":6.2617282608695657},{"$f":"BE24","v":6.2617282608695657},{"$f":"BE24*AM24","v":0.99893547057388166},{"$f":"BE24*AN24","v":0.2097738074075314},{"$f":"BE24*AO24","v":0.5671665418373445},{"$f":"BE24*AP24","v":0.18004328509652728},{"$f":"BE24*AQ24","v":2.256279330673501E-2},{"$f":"BE24*AR24","v":0.17129418384547823},{"$f":"BE24*AS24","v":0.11507712454399342},{"$f":"BE24*AT24","v":3.9968749094437679},{"$f":"W24","v":14.006444583333334},{"$f":"BO24","v":14.006444583333334},{"$f":"BO24*AW24","v":4.3659085843322103},{"$f":"BO24*AX24","v":1.5175132767349571},{"$f":"BO24*AY24","v":2.1506296264721176},{"$f":"BO24*AZ24","v":0.67850960057468557},{"$f":"BO24*BA24","v":0.11848727408246117},{"$f":"BO24*BB24","v":0.57470998752017333},{"$f":"BO24*BC24","v":0.63138363877577974},{"$f":"BO24*BD24","v":3.9693028704869837},1.8712639130434783,1.1233072727272726,1.8764750000000001,1.1743508695652174,0.3480373913043478,6.8073043478260861E-2,0.58488782608695655,5.4055217391304346E-2,6.774130434782609E-2,0.8571404347826086,5.1555652173913044E-2,6.1927272727272725E-3,0,4.7590909090909091E-4,5.7000000000000002E-3,0.10132869565217392,3.0955217391304354E-2,0,7.696086956521739E-3,6.1137391304347831E-2,0.11064608695652171,6.6749130434782603E-2,7.8709130434782615E-2,0.32493782608695648,2.8642173913043488E-2,1.5645454545454545E-3,1.9545454545454546E-5,1.5272727272727272E-4,5.0600000000000003E-3,1.490909090909091E-4,2.7277272727272732E-3,3.4363636363636367E-4,3.1363636363636378E-5,5.2770434782608691E-2,3.3208695652173913E-3,2.1772727272727267E-4,1.1947272727272728E-2,2.4999999999999998E-5,3.7727272727272731E-5,1.2243636363636363E-2,1.7841818181818181E-2,4.4545454545454554E-5,0.2127408695652174,8.5820454545454547E-2,6.3545454545454539E-4,4.0454545454545452E-5,1.0745454545454545E-3,2.5363636363636365E-4,235.81013652173917,7.940995833333333,5.045222916666666,7.5886508333333325,4.8508316666666671,1.4805412499999999,0.50295875000000001,2.0022941666666667,0.20512708333333332,0.3582108333333332,2.895772916666667,0.30170000000000002,3.2227499999999992E-2,2.3333333333333332E-5,1.99E-3,2.2595000000000001E-2,0.37913625000000001,4.8170833333333336E-2,0,4.3575833333333341E-2,0.22396458333333333,0.37700916666666662,0.24565541666666665,0.22218000000000004,1.1123850000000002,0.16761083333333329,2.6465416666666672E-2,1.129166666666667E-4,7.2999999999999985E-4,2.7219999999999994E-2,9.1375000000000017E-4,2.7293333333333336E-2,7.7250000000000007E-4,9.7083333333333353E-5,0.38989083333333335,4.3366666666666666E-3,4.0249999999999986E-4,4.2421250000000001E-2,2.7500000000000004E-5,2.8916666666666668E-4,7.202041666666667E-2,0.16417874999999998,4.8374999999999997E-4,0.96188583333333322,0.35891916666666668,2.7204166666666661E-3,1.9166666666666667E-4,4.0474999999999999E-3,3.4958333333333342E-4,106.35413291666664]
["ACAD1",2022,{"$f":"C7","v":8.7755662333333326},{"$f":"Tracking!I46","v":18.526165344333322},{"$f":"Tracking!N46","v":6.9413915583333399},{"$f":"Tracking!O46","v":15.516058232261923},{"$f":"G7","v":4.6603568027},{"$f":"H7","v":10.387340979999999}]
["ACAD1",2023,{"$f":"C7","v":8.7755662333333326},{"$f":"Tracking!I47","v":18.332383811849194},{"$f":"Tracking!N47","v":6.8394929652777847},{"$f":"Tracking!O47","v":15.155048526884938},{"$f":"G7","v":4.6603568027},{"$f":"H7","v":10.387340979999999}]
["ACAD1",2024,{"$f":"C7","v":8.7755662333333326},{"$f":"Tracking!I48","v":18.138602279365067},{"$f":"Tracking!N48","v":6.7375943722222296},{"$f":"Tracking!O48","v":14.794038821507954},{"$f":"G7","v":4.6603568027},{"$f":"H7","v":10.387340979999999}]
["ACAD1",2025,{"$f":"C7","v":8.7755662333333326},{"$f":"Tracking!I49","v":17.944820746880939},{"$f":"Tracking!N49","v":6.6356957791666744},{"$f":"Tracking!O49","v":14.433029116130969},{"$f":"G7","v":4.6603568027},{"$f":"H7","v":10.387340979999999}]
["ACAD1",2026,{"$f":"C7","v":8.7755662333333326},{"$f":"Tracking!I50","v":17.751039214396812},{"$f":"Tracking!N50","v":6.5337971861111193},{"$f":"Tracking!O50","v":14.072019410753985},{"$f":"G7","v":4.6603568027},{"$f":"H7","v":10.387340979999999}]
["ACAD1",2027,{"$f":"C7","v":8.7755662333333326},{"$f":"Tracking!I51","v":17.557257681912684},{"$f":"Tracking!N51","v":6.4318985930555641},{"$f":"Tracking!O51","v":13.711009705377},{"$f":"G7","v":4.6603568027},{"$f":"H7","v":10.387340979999999}]
[{"$f":"A30","v":"ACAD1"},2028,{"$f":"C7","v":8.7755662333333326},{"$f":"Tracking!I52","v":17.363476149428557},{"$f":"Tracking!N52","v":6.33},{"$f":"Tracking!O52","v":13.35},{"$f":"G7","v":4.6603568027},{"$f":"H7","v":10.387340979999999},null,null,6.33,{"$f":"E31","v":6.33},null,null,null,null,null,null,null,null,null,null,null,null,13.44,{"$f":"F31","v":13.35},null,{"$f":"IF(AA31=\"\",\"\",AA31-AJ31)","v":""}]
[null,"5-yr period"]
[{"$f":"A7","v":"ACAD1"},"2000-04",null,null,null,null,null,null,null,{"$f":"IF(J7=\"\",\"\",J7)","v":8.7755662333333326},null,null,{"$f":"IF(COUNT(M3:M7)<3,\"\",AVERAGE(M3:M7))","v":24.208964133333332},{"$f":"IF(COUNT(N3:N7)<3,\"\",AVERAGE(N3:N7))","v":12.208964133333334},6.7602458333333342,1.0772257666666665,2.2362741166666664,0.86952333333333343,0.11071830000000001,0.71560846666666666,0.43936950000000002,12,null,{"$f":"IF(X7=\"\",\"\",X7)","v":22.014232929047616},null,null,{"$f":"IF(COUNT(AA3:AA7)<3,\"\",AVERAGE(AA3:AA7))","v":102.42568526285713},{"$f":"IF(COUNT(AB3:AB7)<3,\"\",AVERAGE(AB3:AB7))","v":90.425685262857144},68.417102939999978,6.8039442966666659,8.8177424266666655,3.8964141904761904,0.48448561666666673,1.4747898028571427,0.53120580761904757,12,{"$f":"J33","v":8.7755662333333326},{"$f":"M33/M33","v":1},{"$f":"O33/M33","v":0.27924556358961056},{"$f":"P33/M33","v":4.4496978917963448E-2},{"$f":"Q33/M33","v":9.2373804362308076E-2},{"$f":"R33/M33","v":3.5917411771290389E-2},{"$f":"S33/M33","v":4.5734422749444262E-3},{"$f":"T33/M33","v":2.9559648348660449E-2},{"$f":"U33/M33","v":1.8149041717775607E-2},{"$f":"V33/M33","v":0.49568415789741271},{"$f":"X33","v":22.014232929047616},{"$f":"AA33/AA33","v":1},{"$f":"AC33/AA33","v":0.66796822266231137},{"$f":"AD33/AA33","v":6.6428106184552874E-2},{"$f":"AE33/AA33","v":8.6089171910712761E-2},{"$f":"AF33/AA33","v":3.8041377809450265E-2},{"$f":"AG33/AA33","v":4.7301183821550361E-3},{"$f":"AH33/AA33","v":1.4398632521445763E-2},{"$f":"AI33/AA33","v":5.1862558327611212E-3},{"$f":"AJ33/AA33","v":0.11715811292064246},{"$f":"J33","v":8.7755662333333326},{"$f":"BE33","v":8.7755662333333326},{"$f":"BE33*AM33","v":2.4505379386451223},{"$f":"BE33*AN33","v":0.39048618567782523},{"$f":"BE33*AO33","v":0.81063243840641008},{"$f":"BE33*AP33","v":0.31519562592886508},{"$f":"BE33*AQ33","v":4.0134545598101486E-2},{"$f":"BE33*AR33","v":0.25940265191771206},{"$f":"BE33*AS33","v":0.1592681176658696},{"$f":"BE33*AT33","v":4.3499091584428031},{"$f":"X33","v":22.014232929047616},{"$f":"BO33","v":22.014232929047616},{"$f":"BO33*AW33","v":14.704808042890065},{"$f":"BO33*AX33","v":1.4623638025822554},{"$f":"BO33*AY33","v":1.8951870831112538},{"$f":"BO33*AZ33","v":0.83745175203914124},{"$f":"BO33*BA33","v":0.10412992784673084},{"$f":"BO33*BB33","v":0.31697485018686722},{"$f":"BO33*BC33","v":0.11417144393203514},{"$f":"BO33*BD33","v":2.5791459873626863},{"$f":"IF(COUNT(BY3:BY7)<3,\"\",AVERAGE(BY3:BY7))","v":2.911417337944664},{"$f":"IF(COUNT(BZ3:BZ7)<3,\"\",AVERAGE(BZ3:BZ7))","v":1.7542489999999997},2.9997127021574439,1.9045784333333333,0.76949303333333341,0.11469265000000002,0.75701219999999991,8.695233333333334E-2,0.11071830000000001,1.1926807500000001,6.5709550000000005E-2,6.6399666666666661E-3,7.726666666666667E-5,8.7661666666666673E-4,6.0718999999999999E-3,0.11962366666666666,4.6791666666666669E-2,2.8601666666666662E-3,2.2093166666666667E-2,6.400433333333333E-2,0.14985933333333334,0.10202233333333333,8.2378999999999994E-2,0.42035816666666664,3.6565500000000001E-2,1.3181199999999999E-2,3.2580000000000011E-4,1.3965000000000001E-4,6.1844000000000014E-3,6.5464999999999989E-4,1.1855433333333335E-2,3.5243333333333335E-4,2.2793333333333334E-4,8.8909166666666664E-2,1.2647500000000001E-2,2.7416666666666664E-4,1.4955716666666665E-2,8.3966666666666657E-5,7.1899999999999986E-5,2.5701400000000006E-2,5.3704500000000002E-2,8.2566666666666677E-5,0.50910616666666675,0.18654366666666666,1.2221333333333334E-3,1.1938166666666669E-3,1.8243999999999999E-3,1.9749999999999999E-5,178.93458548333334,13.37754797101449,10.862234795238095,12.814197128211465,10.509858786666667,6.238977458571429,0.70424344095238101,2.6098996885714287,0.38964141904761906,0.48448561666666673,2.4579829514285718,8.2610380476190473E-2,2.3689711428571431E-2,3.4235809523809526E-4,2.7581238095238094E-3,2.5993999047619048E-2,0.43960090952380959,{"$f":"IF(COUNT(EL3:EL7)<3,\"\",AVERAGE(EL3:EL7))","v":6.784306666666666E-2},4.5723857142857139E-3,9.1929557142857138E-2,0.30982023333333331,0.45699300476190469,0.4688265333333333,0.12237494285714287,1.4499442714285713,-0.12347543809523809,1.1198869523809524E-2,3.5762000000000001E-4,7.6744714285714298E-4,3.0416980952380955E-2,2.0578047619047623E-3,1.1463733333333335E-2,9.9785761904761894E-4,9.3770285714285702E-4,0.54741531904761909,2.0155585714285711E-2,0,4.1636246190476192E-2,1.3033952380952382E-4,8.7796523809523816E-4,0.11985003904761904,0.20609320333333336,3.5846285714285711E-4,4.6235278476190471,1.5124794047619048,5.0834671428571423E-3,2.64308238095238E-3,5.7291223809523804E-3,2.9508095238095238E-5,48.932300600476182]
["ACAD1","2001-05",null,null,null,null,null,null,null,8.5265979999999999,null,null,23.673574500000001,{"$f":"IF(COUNT(N4:N8)<3,\"\",AVERAGE(N4:N8))","v":11.673574499999999},6.2604021666666672,1.0735097499999999,2.1555774999999997,0.80499166666666677,0.10571983333333335,0.72420308333333339,0.54917174999999996,12,null,22.233753789999998,null,null,{"$f":"IF(COUNT(AA4:AA8)<3,\"\",AVERAGE(AA4:AA8))","v":105.57375505333331},93.573755053333315,72.829486193333338,5.9865696566666662,8.7631261333333335,3.8109966666666666,0.47018073666666665,1.3383317800000001,0.37506363999999992,12,{"$f":"J34","v":8.5265979999999999},{"$f":"M34/M34","v":1},{"$f":"O34/M34","v":0.26444684839066729},{"$f":"P34/M34","v":4.5346331201483743E-2},{"$f":"Q34/M34","v":9.1054162522013718E-2},{"$f":"R34/M34","v":3.4003807353497326E-2},{"$f":"S34/M34","v":4.4657317522258135E-3},{"$f":"T34/M34","v":3.0591201313233597E-2},{"$f":"U34/M34","v":2.3197669198624819E-2},{"$f":"V34/M34","v":0.50689430106974342},{"$f":"X34","v":22.233753789999998},{"$f":"AA34/AA34","v":1},{"$f":"AC34/AA34","v":0.68984461295841604},{"$f":"AD34/AA34","v":5.6705093549456451E-2},{"$f":"AE34/AA34","v":8.3004778307889243E-2},{"$f":"AF34/AA34","v":3.6097955071707384E-2},{"$f":"AG34/AA34","v":4.4535759519886611E-3},{"$f":"AH34/AA34","v":1.2676746974888855E-2},{"$f":"AI34/AA34","v":3.5526219542965655E-3},{"$f":"AJ34/AA34","v":0.11366461289491778},{"$f":"J34","v":8.5265979999999999},{"$f":"BE34","v":8.5265979999999999},{"$f":"BE34*AM34","v":2.2548319685941669},{"$f":"BE34*AN34","v":0.3866499369299089},{"$f":"BE34*AO34","v":0.77638224005187706},{"$f":"BE34*AP34","v":0.28993679577271558},{"$f":"BE34*AQ34","v":3.8077499427065113E-2},{"$f":"BE34*AR34","v":0.26083887593501498},{"$f":"BE34*AS34","v":0.19779719979365598},{"$f":"BE34*AT34","v":4.3220839337126717},{"$f":"X34","v":22.233753789999998},{"$f":"BO34","v":22.233753789999998},{"$f":"BO34*AW34","v":15.337835277875264},{"$f":"BO34*AX34","v":1.2607670886175317},{"$f":"BO34*AY34","v":1.8455078042911421},{"$f":"BO34*AZ34","v":0.80259304538682374},{"$f":"BO34*BA34","v":9.9019711201580748E-2},{"$f":"BO34*BB34","v":0.28185167109780607},{"$f":"BO34*BC34","v":7.8988121840778469E-2},{"$f":"BO34*BD34","v":2.5271910177412606},2.8584543379446643,{"$f":"IF(COUNT(BZ4:BZ8)<3,\"\",AVERAGE(BZ4:BZ8))","v":1.6647884782608693},2.9344660747694333,1.825634666666667,0.71311975000000005,0.11398425000000001,0.73035899999999998,8.0499166666666677E-2,0.10571983333333335,1.2070051666666668,8.1952083333333342E-2,7.1716014492753622E-3,6.2753623188405801E-5,8.9700362318840578E-4,5.9592391304347818E-3,0.12269583333333331,4.3283333333333333E-2,2.2924999999999998E-3,1.3629999999999998E-2,6.6471666666666679E-2,0.14839250000000001,9.9992499999999998E-2,8.6004166666666659E-2,0.41449083333333336,4.6218333333333327E-2,1.4181847826086955E-2,2.1615217391304353E-4,1.6364130434782609E-4,6.0322608695652178E-3,6.6603260869565215E-4,1.192963768115942E-2,3.4392028985507251E-4,2.5746376811594204E-4,8.8360000000000008E-2,1.0370000000000001E-2,1.0016666666666667E-4,1.3540394927536231E-2,8.1297101449275349E-5,7.7021739130434775E-5,2.3667869565217395E-2,5.4032673913043484E-2,1.1077536231884057E-4,0.46657833333333337,0.17284060144927535,9.3989855072463754E-4,7.6941666666666673E-4,2.4647608695652174E-3,1.7597826086956522E-5,184.7102975,13.21955597101449,10.9222842,12.547274833003954,10.687261853333334,6.5721031233333331,0.61842841999999998,2.5899536999999997,0.38109966666666673,0.47018073666666665,2.2305528866666666,5.5495150000000007E-2,2.4174223333333335E-2,2.9011999999999999E-4,2.6163499999999999E-3,2.3306630000000002E-2,0.4871069666666667,{"$f":"IF(COUNT(EL4:EL8)<3,\"\",AVERAGE(EL4:EL8))","v":7.5053466666666652E-2},3.6087666666666665E-3,8.2301633333333318E-2,0.32317223333333328,0.43081456666666657,0.43225720000000001,0.18205353333333335,1.4505991666666664,-0.1008202,7.3726666666666673E-5,1.8728666666666664E-4,7.397566666666668E-4,2.834476666666667E-2,2.1239000000000002E-3,1.2544900000000003E-2,8.018933333333334E-4,9.8422666666666669E-4,0.48249770000000003,1.7850466666666669E-2,0,4.0459936666666668E-2,1.5336333333333332E-4,9.0503666666666665E-4,0.11866575333333333,0.16272603666666668,3.5123666666666664E-4,4.7848771333333335,1.5890823333333333,4.3617766666666658E-3,2.4244633333333327E-3,5.6420866666666656E-3,3.752E-5,48.145427796666667]
["ACAD1","2002-06",null,null,null,null,null,null,null,8.4025243333333339,null,null,23.404815916666667,{"$f":"IF(COUNT(N5:N9)<3,\"\",AVERAGE(N5:N9))","v":11.404815916666667},5.9055031666666666,0.98292291666666665,2.1937828333333331,0.81449166666666672,9.3963500000000005E-2,0.76577808333333341,0.64837516666666661,12,null,22.296436443333331,null,null,{"$f":"IF(COUNT(AA5:AA9)<3,\"\",AVERAGE(AA5:AA9))","v":104.90070526333332},92.900705263333322,72.234782366666664,6.2391578000000001,8.2127617733333338,3.7094926666666668,0.41763093666666667,1.5141398800000001,0.57273967999999997,12,8.4025243333333339,1,0.25232000062266385,4.199660959378549E-2,9.3732112277419413E-2,3.4800174014043998E-2,4.014707927400882E-3,3.2718825307573543E-2,2.770263901990171E-2,0.51271499176606428,22.296436443333331,1,0.68860149400649828,5.9476795550018259E-2,7.8290815611932768E-2,3.5361942108536729E-2,3.9812023724557751E-3,1.4434029553939024E-2,5.459826781547804E-3,0.11439389248981956,8.4025243333333339,8.4025243333333339,2.120124945018615,0.35287753402928274,0.78758635422574874,0.29240930895723904,3.3733681051212147E-2,0.27492072580496918,0.23277209846227362,4.308100194379155,22.296436443333331,22.296436443333331,15.353359445900267,1.3261205918341128,1.7456061943881878,0.78844529473582181,8.8766625665508067E-2,0.32182742257059638,0.12173468082638979,2.550576153404768,2.8990943379446641,{"$f":"IF(COUNT(BZ5:BZ9)<3,\"\",AVERAGE(BZ5:BZ9))","v":1.6342459782608691},2.9829059914361009,1.7954872500000001,0.67601658333333337,0.10544241666666668,0.74213550000000006,8.1449166666666684E-2,9.3963500000000005E-2,1.2762968333333335,9.6479499999999996E-2,6.0221014492753628E-3,6.1003623188405806E-5,9.0517028985507252E-4,5.7759891304347815E-3,0.13116416666666667,4.3057499999999999E-2,2.1099999999999999E-3,3.7258333333333336E-3,7.2603333333333339E-2,0.15712666666666669,9.995416666666665E-2,9.223916666666665E-2,0.42564916666666675,5.6700833333333325E-2,1.5122681159420287E-2,2.8485507246376815E-5,1.8364130434782609E-4,5.7535108695652174E-3,6.3811594202898539E-4,1.1372721014492753E-2,2.3608695652173919E-4,2.3171376811594201E-4,8.173833333333333E-2,6.7549999999999997E-3,2.1375000000000002E-4,1.2937478260869564E-2,6.404710144927535E-5,6.8688405797101451E-5,2.0874369565217394E-2,5.1473757246376817E-2,1.1944202898550726E-4,0.43514333333333333,0.16384585144927535,6.0198188405797095E-4,4.8300000000000003E-4,2.4776775362318842E-3,1.3181159420289854E-5,187.57684791666665,13.088968471014491,10.509332166666667,12.806835007246377,10.533620840000001,6.5572835533333347,0.6476687166666667,2.4546050999999998,0.37094926666666667,0.41763093666666667,2.5235664133333335,8.5482210000000003E-2,2.4027426666666667E-2,2.7843333333333329E-4,2.5916833333333332E-3,2.2123140000000003E-2,0.52774860000000001,{"$f":"IF(COUNT(EL5:EL9)<3,\"\",AVERAGE(EL5:EL9))","v":7.2993733333333324E-2},3.6021666666666658E-3,7.77167E-2,0.31932930000000004,0.37352130000000006,0.3814573,0.22941173333333334,1.381436333333333,-2.6647033333333348E-2,7.3726666666666673E-5,7.2996666666666672E-5,7.5080333333333335E-4,2.5922639999999997E-2,2.0346933333333329E-3,1.5375253333333335E-2,7.2242666666666661E-4,9.3546000000000015E-4,0.50516443333333327,1.5214433333333333E-2,0,3.9435786666666674E-2,1.3584666666666665E-4,8.5594333333333333E-4,0.10266077999999998,0.17054498000000001,3.7008333333333327E-4,4.5937940666666668,1.5854897100000001,2.3852299999999999E-3,2.0935266666666668E-3,5.604239999999999E-3,3.8659999999999999E-5,47.495841069999997]
["ACAD1","2003-07",null,null,null,null,null,null,null,8.3036819166666671,null,null,23.171403000000002,{"$f":"IF(COUNT(N6:N10)<3,\"\",AVERAGE(N6:N10))","v":11.171403000000002},5.8289519166666661,0.92272616666666674,2.169521333333333,0.79590000000000005,9.514566666666667E-2,0.76180916666666665,0.59735016666666674,12,null,21.88164008333333,null,null,{"$f":"IF(COUNT(AA6:AA10)<3,\"\",AVERAGE(AA6:AA10))","v":100.88009392333331},88.880093923333305,68.92957826333334,5.7499290500000004,7.932264606666668,3.6172603333333333,0.33117053333333335,1.5868585799999999,0.73303216333333343,12,8.3036819166666671,1,0.25155800521300614,3.9821765072519201E-2,9.3629260745813833E-2,3.4348373294444019E-2,4.1061677045048442E-3,3.2877127322271618E-2,2.5779628737485887E-2,0.51787973304853396,21.88164008333333,1,0.6832822570101722,5.6997657579203109E-2,7.8630622734104691E-2,3.5857027810485317E-2,3.2828134912821932E-3,1.5730145743182773E-2,7.2663707459513479E-3,0.1189531009866004,8.3036819166666671,8.3036819166666671,2.0888576588799781,0.330667270522426,0.7774675993258825,0.28521796619199108,3.4096310514697553E-2,0.27300120761789443,0.21406583696584192,4.3003085743232727,21.88164008333333,21.88164008333333,14.95133642322425,1.2472022287411986,1.7205669861960462,0.78461057700711345,7.1833343276947875E-2,0.34420138761070335,0.15900010937496972,2.6028889425851931,2.9304487318840584,{"$f":"IF(COUNT(BZ6:BZ10)<3,\"\",AVERAGE(BZ6:BZ10))","v":1.651979311594203},2.9835569384057972,1.7607488333333337,0.66422583333333329,9.8661250000000006E-2,0.7345155000000001,7.9590000000000008E-2,9.514566666666667E-2,1.269682,8.8610250000000002E-2,6.3671014492753626E-3,5.6753623188405797E-5,8.8150362318840567E-4,5.7728224637681163E-3,0.13904583333333334,4.2253333333333337E-2,1.83E-3,4.3774999999999994E-3,7.9215833333333346E-2,0.1542625,9.6619999999999984E-2,9.938749999999999E-2,0.43386333333333338,5.2289166666666664E-2,1.1683764492753622E-2,3.3568840579710148E-5,2.0347463768115941E-4,6.2616775362318838E-3,6.5728260869565218E-4,1.0470721014492753E-2,2.4975362318840585E-4,2.0954710144927536E-4,7.6501666666666662E-2,5.799166666666666E-3,1.3616666666666665E-4,1.2794478260869565E-2,5.6880434782608697E-5,6.6771739130434783E-5,2.0878952898550723E-2,4.4358173913043482E-2,1.1685869565217393E-4,0.42717499999999997,0.1610546847826087,6.2706521739130439E-4,4.4191666666666674E-4,2.5000942028985504E-3,1.6181159420289855E-5,189.55189849999999,12.722228833333332,10.042419233333332,12.487195355072464,10.062038733333333,6.2718596633333332,0.60082879666666666,2.3850736199999996,0.36172603333333331,0.33117053333333335,2.6447642733333332,0.11137943333333333,1.6054296666666669E-2,2.6322999999999993E-4,2.5441766666666663E-3,1.9616500000000002E-2,0.58399196666666664,{"$f":"IF(COUNT(EL6:EL10)<3,\"\",AVERAGE(EL6:EL10))","v":7.4664333333333333E-2},3.5309333333333323E-3,7.4302033333333323E-2,0.32797540000000003,0.33075470000000001,0.33139956666666659,0.29418686666666671,1.3586185666666666,3.0974601449275357E-2,7.3726666666666673E-5,6.6429999999999999E-5,7.3711666666666676E-4,2.1903716666666666E-2,1.9344433333333335E-3,1.6065010000000001E-2,6.4431999999999998E-4,8.7970999999999991E-4,0.46985257246376816,1.3782572463768118E-2,0,3.5521669999999998E-2,1.1696666666666665E-4,8.061633333333332E-4,8.1674356666666656E-2,0.16057487666666667,3.0827666666666666E-4,4.3396751449275364,1.5166100133333333,1.8414433333333335E-3,1.8865333333333331E-3,5.3949033333333335E-3,3.6966666666666666E-5,49.435460866666666]
["ACAD1","2004-08",null,null,null,null,null,null,null,8.102436916666667,null,null,22.725327666666665,{"$f":"IF(COUNT(N7:N11)<3,\"\",AVERAGE(N7:N11))","v":10.725327666666669},5.4424995833333316,0.84078316666666664,2.1460670833333331,0.75372499999999998,9.3017500000000003E-2,0.82108899999999996,0.6281471666666667,12,null,21.212178133333332,null,null,{"$f":"IF(COUNT(AA7:AA11)<3,\"\",AVERAGE(AA7:AA11))","v":92.156069749999986},80.156069749999986,61.465502069999999,5.4300508333333335,7.215026233333333,3.213719666666667,0.3063241166666667,1.6987822399999999,0.82666460333333325,12,8.102436916666667,1,0.23949047790040659,3.699762568880012E-2,9.4435033668674784E-2,3.3166738497925292E-2,4.0931203001502749E-3,3.6131008188030091E-2,2.764084091020734E-2,0.52804519151561047,21.212178133333332,1,0.66697182547761602,5.8922335208781346E-2,7.8291383876354315E-2,3.4872577307005513E-2,3.3239711447944722E-3,1.8433753138653138E-2,8.9702675643167102E-3,0.13021388642716072,8.102436916666667,8.102436916666667,1.9404564893303968,0.29977092820994911,0.76515390302373021,0.26873140641101945,3.3164249024295336E-2,0.29274921457908065,0.22395816979857422,4.2784528534044028,21.212178133333332,21.212178133333332,14.147925171945701,1.2498710704806484,1.6607307810904088,0.73972332180463851,7.0508668033440261E-2,0.39102005524300276,0.19027891347794818,2.7621201543265688,2.9831736594202898,{"$f":"IF(COUNT(BZ7:BZ11)<3,\"\",AVERAGE(BZ7:BZ11))","v":1.6136276449275364},3.0216093659420289,1.6975256666666667,0.61850474999999994,8.9695833333333336E-2,0.7260795000000001,7.5372500000000009E-2,9.3017500000000003E-2,1.3684817499999999,9.4854833333333333E-2,6.8433514492753618E-3,5.9420289855072463E-5,8.9392028985507232E-4,5.8069057971014493E-3,0.14622333333333334,3.8960000000000002E-2,1.0391666666666665E-3,-7.8749999999999827E-4,8.4045833333333347E-2,0.15101083333333334,9.348999999999999E-2,0.10631583333333332,0.43407499999999999,5.4346666666666668E-2,1.0515514492753623E-2,3.2402173913043484E-5,2.0722463768115939E-4,6.2110942028985507E-3,6.5986594202898546E-4,9.2217210144927529E-3,2.5317028985507244E-4,1.9313043478260869E-4,6.9596666666666682E-2,3.2691666666666667E-3,2.3583333333333334E-4,1.279764492753623E-2,6.2130434782608696E-5,6.6105072463768132E-5,1.9955202898550722E-2,3.9645507246376811E-2,1.2369202898550725E-4,0.39770083333333328,0.15008010144927536,5.8414855072463771E-4,3.6716666666666668E-4,2.4655942028985502E-3,2.1514492753623187E-5,193.96600225,12.109014766666666,9.2405593333333336,11.928161925072462,9.2314015999999999,5.7010353399999998,0.5617624566666668,2.2157714400000001,0.32137196666666668,0.3063241166666667,2.8313037066666666,0.12513604333333334,1.2590570000000001E-2,2.5077666666666661E-4,2.4096300000000003E-3,1.8609133333333333E-2,0.61997300000000011,{"$f":"IF(COUNT(EL7:EL11)<3,\"\",AVERAGE(EL7:EL11))","v":6.4412466666666668E-2},1.4093666666666668E-3,6.0483599999999992E-2,0.32243436666666669,0.26727853333333329,0.26596876666666669,0.35701573333333336,1.2731809999999999,7.2803801449275368E-2,7.0560000000000002E-5,7.8063333333333322E-5,7.2418000000000005E-4,2.034445E-2,1.77881E-3,1.6211676666666668E-2,5.8087000000000004E-4,8.2682999999999997E-4,0.43974773913043486,8.8846057971014476E-3,0,3.2774593333333338E-2,1.1665E-4,7.3314666666666659E-4,7.7543803333333328E-2,0.12427804666666667,3.1186333333333333E-4,3.9277108782608701,1.3788571533333334,1.6725933333333336E-3,1.7479233333333338E-3,4.9651599999999997E-3,4.3310000000000004E-5,52.161713550000002]
["ACAD1","2005-09",null,null,null,null,null,null,null,7.7740733333333338,null,null,22.017526333333333,{"$f":"IF(COUNT(N8:N12)<3,\"\",AVERAGE(N8:N12))","v":10.017526333333334},5.0561462499999994,0.75506125000000002,1.9328824999999994,0.69559166666666672,8.6400166666666681E-2,0.84530725000000007,0.64613808333333345,12,null,20.578359173333332,null,null,{"$f":"IF(COUNT(AA8:AA12)<3,\"\",AVERAGE(AA8:AA12))","v":87.052835509999994},75.052835509999994,57.648048230000008,4.7879884333333331,6.8717682333333343,3.0058396666666667,0.29732963666666662,1.7246456800000001,0.7172161233333334,12,7.7740733333333338,1,0.22964188498983512,3.4293645824185003E-2,8.7788358725554058E-2,3.159263470999369E-2,3.9241541197051529E-3,3.8392471397672455E-2,2.9346533918077605E-2,0.54502035416361261,20.578359173333332,1,0.66221907525778201,5.5000947473828395E-2,7.893790240231699E-2,3.4528911655282934E-2,3.4155077766824904E-3,1.9811481956861537E-2,8.2388599880924597E-3,0.13784731915620976,7.7740733333333338,7.7740733333333338,1.7852528543158777,0.26660131750457466,0.68247313854543046,0.24560345902870304,3.0506661897889972E-2,0.29846588809340818,0.2281421067582893,4.23702820142723,20.578359173333332,20.578359173333332,13.627381982087295,1.1318292519900812,1.6244125080244112,0.71054834590670779,7.0285545787885456E-2,0.40768779146430939,0.16954222001377142,2.8366716446775966,2.9689249275362317,{"$f":"IF(COUNT(BZ8:BZ12)<3,\"\",AVERAGE(BZ8:BZ12))","v":1.5485668115942028},2.9540230905797098,1.5623445833333331,0.57281958333333327,8.0185333333333317E-2,0.65646749999999998,6.9559166666666672E-2,8.6400166666666681E-2,1.4088454999999998,9.6912499999999999E-2,5.6301847826086947E-3,4.9003623188405798E-5,8.1975362318840572E-4,5.6984891304347821E-3,0.14419583333333336,3.3855833333333335E-2,6.9083333333333345E-4,-8.184166666666666E-3,8.4691666666666679E-2,0.13951250000000001,8.6266666666666672E-2,0.10414833333333333,0.40643499999999999,5.5288333333333342E-2,1.1109514492753624E-2,3.6818840579710139E-5,1.9855797101449275E-4,5.7183442028985506E-3,6.7578260869565214E-4,2.4828043478260869E-3,2.3333695652173915E-4,1.676304347826087E-4,6.2256666666666668E-2,2.4041666666666669E-3,2.9083333333333337E-4,1.216039492753623E-2,6.0297101449275367E-5,5.8438405797101459E-5,1.9270952898550721E-2,4.0370173913043483E-2,1.2294202898550723E-4,0.36077499999999996,0.13908943478260868,5.3898188405797104E-4,3.2941666666666671E-4,2.6491775362318835E-3,3.7681159420289856E-5,201.41009041666669,11.679096433333333,8.7647913333333332,11.349937733043479,8.7043975199999988,5.3871857400000014,0.49695557666666679,2.1133903199999997,0.30058396666666665,0.29732963666666662,2.8744094666666671,0.10895236333333333,1.255161E-2,2.5813666666666665E-4,2.2955499999999999E-3,1.7510093333333334E-2,0.64311220000000002,{"$f":"IF(COUNT(EL8:EL12)<3,\"\",AVERAGE(EL8:EL12))","v":6.0728466666666668E-2},1.0229666666666667E-3,5.6282000000000013E-2,0.33094556666666675,0.22471933333333333,0.21809916666666665,0.39588133333333336,1.2259274,6.3721201449275372E-2,0,8.2143333333333323E-5,6.9402000000000005E-4,1.9076530000000001E-2,1.6037699999999998E-3,1.0922316666666666E-2,5.2838999999999989E-4,7.1731000000000008E-4,0.38822220579710148,8.1914057971014496E-3,0,3.1129793333333333E-2,1.1065000000000001E-4,6.4610666666666667E-4,7.6861563333333327E-2,0.13770252666666666,3.0650333333333334E-4,3.6264028782608699,1.3034362733333333,1.5177133333333333E-3,1.5699233333333336E-3,4.5679599999999994E-3,7.7869999999999998E-5,55.92021459]
["ACAD1","2006-10",null,null,null,null,null,null,null,7.5841810000000009,null,null,21.583538333333333,{"$f":"IF(COUNT(N9:N13)<3,\"\",AVERAGE(N9:N13))","v":9.583538333333335},4.876651916666666,0.69028633333333334,1.9105766666666664,0.64065833333333333,8.6681666666666671E-2,0.80951733333333331,0.56916691666666674,12,null,19.712135026666669,null,null,{"$f":"IF(COUNT(AA9:AA13)<3,\"\",AVERAGE(AA9:AA13))","v":80.273433493333329},68.273433493333329,50.95117205999999,4.6250378233333329,7.0466412766666666,2.7578893333333339,0.3338114333333333,1.8375871433333333,0.72129532666666685,12,7.5841810000000009,1,0.22594311652483914,3.1982074610411033E-2,8.8520085870999049E-2,2.9682729654382432E-2,4.0161008509340028E-3,3.750623835773606E-2,2.6370417485609986E-2,0.5559792752547601,19.712135026666669,1,0.63472022863244615,5.7616045833114145E-2,8.7782980869404156E-2,3.4356190003538033E-2,4.1584297420273692E-3,2.2891597672671422E-2,8.985479943704789E-3,0.14948905855629802,7.5841810000000009,7.5841810000000009,1.7135934914284712,0.2425578426008618,0.67135235338119947,0.22511919427290383,3.0458835767737499E-2,0.28445410033421309,0.19999801925643107,4.2166474557809224,19.712135026666669,19.712135026666669,12.511690850959518,1.1357352751649614,1.7303899719409919,0.67723385635155731,8.1971528573750146E-2,0.45124226429982756,0.17712299392971401,2.9467485072710269,2.8795965942028987,{"$f":"IF(COUNT(BZ9:BZ13)<3,\"\",AVERAGE(BZ9:BZ13))","v":1.5400475},2.8464195108695654,1.5170836666666667,0.55575375000000005,7.4309416666666669E-2,0.64980900000000008,6.406583333333335E-2,8.6681666666666671E-2,1.3491955833333331,8.6463666666666675E-2,5.6689166666666659E-3,4.2916666666666669E-5,8.0591666666666659E-4,5.6684999999999999E-3,0.13662416666666669,3.0065000000000001E-2,2.675E-4,-5.5558333333333319E-3,8.1258333333333335E-2,0.13400416666666665,8.4439166666666662E-2,9.9649999999999989E-2,0.3937958333333334,5.034333333333333E-2,1.0170000000000002E-2,4.0750000000000001E-5,1.9916666666666667E-4,5.6644999999999994E-3,6.3491666666666666E-4,2.2170833333333331E-3,2.3141666666666666E-4,1.3574999999999997E-4,5.7701666666666672E-2,4.0325000000000005E-3,2.9083333333333337E-4,1.2313749999999998E-2,6.5500000000000006E-5,5.2500000000000009E-5,1.9850416666666666E-2,4.241441666666667E-2,1.0191666666666667E-4,0.34952416666666669,0.13498916666666666,5.4283333333333332E-4,2.7591666666666666E-4,1.8803333333333332E-3,4.6999999999999997E-5,205.35294283333332,11.348987480952379,8.3345771666666657,10.906076802608696,8.1608609533333318,4.8090647300000002,0.4799166333333334,2.1532873800000001,0.27578893333333332,0.3338114333333333,3.0626452933333335,0.10899240333333333,1.6770360000000002E-2,2.4630333333333334E-4,2.2662166666666669E-3,1.8773260000000003E-2,0.61038900000000007,{"$f":"IF(COUNT(EL9:EL13)<3,\"\",AVERAGE(EL9:EL13))","v":5.0336400000000003E-2},5.9563333333333341E-4,5.2844566666666662E-2,0.3351277333333334,0.24216920000000003,0.22646516666666666,0.37974976666666665,1.2363564333333332,6.2905549275362321E-2,0,9.0643333333333327E-5,7.4610333333333351E-4,2.004628E-2,1.4817699999999999E-3,1.23009E-2,5.4380666666666662E-4,6.1322666666666667E-4,0.37458843768115951,7.6715144927536226E-3,0,3.2449876666666669E-2,1.0498333333333334E-4,5.7677333333333331E-4,8.5731646666666661E-2,0.15908577666666665,3.5100333333333333E-4,3.2183168637681163,1.1674405233333334,1.6099633333333334E-3,1.3745900000000004E-3,4.2481266666666668E-3,8.695333333333334E-5,61.828214369999998]
["ACAD1","2007-11",null,null,null,null,null,null,null,7.4352687500000005,null,null,21.222482916666667,{"$f":"IF(COUNT(N10:N14)<3,\"\",AVERAGE(N10:N14))","v":9.2224829166666673},4.6471679999999997,0.62622708333333343,1.8821688333333335,0.56779166666666669,8.1425250000000005E-2,0.82194683333333329,0.59575575000000003,12,null,18.652125253333335,null,null,{"$f":"IF(COUNT(AA10:AA14)<3,\"\",AVERAGE(AA10:AA14))","v":71.228713923333331},59.228713923333338,43.125317966666657,3.7420964799999998,7.0348488366666659,2.5435597333333333,0.30311731333333336,1.7981397633333334,0.68163504666666674,12,7.4352687500000005,1,0.21897381273660663,2.9507719986973723E-2,8.8687494329667174E-2,2.6754252501754283E-2,3.8367447541236685E-3,3.8730003297014468E-2,2.8071915634910689E-2,0.56543808031886933,18.652125253333335,1,0.60544849950659474,5.2536347687363649E-2,9.8764226520200685E-2,3.5709752334867104E-2,4.2555494355772331E-3,2.5244591180864955E-2,9.5696666291116977E-3,0.16847138378654625,7.4352687500000005,7.4352687500000005,1.6281291469088432,0.21939782830289614,0.65941535510517657,0.19892505755590295,2.8527228372062147E-2,0.28796798320168865,0.20872223707288787,4.2041840886548796,18.652125253333335,18.652125253333335,11.292901247239731,0.97991453741737589,1.8421627236033691,0.66606277331545372,7.9375041094138524E-2,0.47086527667468719,0.17849462059883558,3.1423493519890515,2.8699874275362318,{"$f":"IF(COUNT(BZ10:BZ14)<3,\"\",AVERAGE(BZ10:BZ14))","v":1.5182350000000002},2.8364996847826083,1.4692877499999999,0.53221033333333334,6.760250000000001E-2,0.64099950000000006,5.6779166666666672E-2,8.1425250000000005E-2,1.3699114166666664,9.0270916666666659E-2,5.693083333333333E-3,5.1666666666666671E-5,7.442499999999999E-4,5.3693333333333336E-3,0.12636666666666668,2.6767500000000007E-2,8.3333333333333331E-5,-2.7033333333333341E-3,7.7485833333333337E-2,0.13070499999999999,8.4725833333333347E-2,9.4072500000000017E-2,0.38428583333333333,5.3118333333333337E-2,1.1487083333333334E-2,4.1333333333333333E-5,1.9175E-4,5.6147499999999999E-3,6.0066666666666667E-4,3.3554166666666663E-3,2.3233333333333336E-4,1.1591666666666669E-4,5.2502500000000007E-2,5.4850000000000003E-3,2.0741666666666668E-4,1.2208666666666666E-2,6.9750000000000001E-5,3.9833333333333344E-5,1.8078166666666666E-2,4.3445583333333336E-2,9.9666666666666672E-5,0.34371999999999997,0.12928166666666668,5.3125000000000015E-4,2.7700000000000001E-4,1.83275E-3,7.3166666666666665E-5,208.17363900000001,10.674067347619047,7.6923846666666664,10.142245355639,7.3206039666666669,4.1268240599999997,0.38270377666666666,2.1518518199999996,0.25435597333333332,0.30311731333333336,2.9968996066666667,0.10175142333333334,1.6785359999999999E-2,2.3155333333333333E-4,2.1877166666666665E-3,1.6862510000000004E-2,0.58742034057971015,{"$f":"IF(COUNT(EL10:EL14)<3,\"\",AVERAGE(EL10:EL14))","v":4.9707994202898551E-2},3.6150289855072469E-4,4.705137826086956E-2,0.32818193623188413,0.25737477971014494,0.22683918840579712,0.37688172318840579,1.2363290057971015,5.9160382608695647E-2,2.6674999999999995E-4,9.772666666666666E-5,6.7893666666666674E-4,1.8940113333333335E-2,1.3539366666666668E-3,1.155206666666667E-2,5.2672333333333326E-4,5.2347666666666668E-4,0.29922970434782609,7.5243478260869565E-3,4.8758333333333336E-4,3.0999709999999996E-2,8.9650000000000011E-5,4.8010666666666659E-4,7.6206896666666663E-2,0.13061310999999998,3.1167000000000006E-4,2.7991527304347827,1.0023045233333334,1.4898799999999999E-3,1.3434233333333334E-3,3.9623766666666664E-3,1.1512E-4,67.723783256666664]
["ACAD1","2008-12",null,null,null,null,null,null,null,7.3306054999999999,null,null,21.001877833333332,{"$f":"IF(COUNT(N11:N15)<3,\"\",AVERAGE(N11:N15))","v":9.0018778333333351},4.4480491666666673,0.61893958333333332,1.82107375,0.53747499999999993,7.9874333333333339E-2,0.86685416666666659,0.62961233333333344,12,null,17.646953053333334,null,null,{"$f":"IF(COUNT(AA11:AA15)<3,\"\",AVERAGE(AA11:AA15))","v":63.306715343333323},51.306715343333352,36.018257189999993,3.6009514699999996,6.608531443333332,2.2930320666666666,0.28388235666666667,1.7797404233333336,0.72232168333333324,12,7.3306054999999999,1,0.21179292642141281,2.9470678205306834E-2,8.6710043951863464E-2,2.5591759187692319E-2,3.8031995980168988E-3,4.1275078997499486E-2,2.9978858953937832E-2,0.57137747849166542,17.646953053333334,1,0.56894844401041866,5.6881034665451288E-2,0.10438910639247469,3.6220992579235757E-2,4.4842376535740077E-3,2.8112980016120101E-2,1.1409874598862745E-2,0.18955335046084792,7.3306054999999999,7.3306054999999999,1.5525703912859041,0.21603791574055239,0.63563712509877202,0.18760309065597283,2.7879755890820465E-2,0.30257132111200419,0.21976318833146091,4.1885428864071343,17.646953053333334,17.646953053333334,10.040206481218908,1.0037769483662449,1.8421496597874194,0.63919015559090853,7.9133131352610145E-2,0.49610843853376962,0.20134952139055137,3.3450390766846239,2.887954927536232,{"$f":"IF(COUNT(BZ11:BZ15)<3,\"\",AVERAGE(BZ11:BZ15))","v":1.4849945652173913},2.8437237101449275,1.4291078333333334,0.51240550000000007,6.6833916666666673E-2,0.62145600000000001,5.3747500000000004E-2,7.9874333333333339E-2,1.4447569166666665,9.4790583333333317E-2,6.4236014492753627E-3,5.5250000000000001E-5,7.2140217391304337E-4,5.379608695652174E-3,0.11642333333333335,2.4811666666666669E-2,5.9166666666666664E-5,-6.5358333333333336E-3,7.1542499999999995E-2,0.12595083333333332,8.3334166666666668E-2,8.6689166666666678E-2,0.36098083333333325,5.5495000000000003E-2,1.3366043478260869E-2,4.5742753623188407E-5,1.6925724637681161E-4,5.5036195652173906E-3,5.778913043478261E-4,4.4639384057971005E-3,2.1357608695652173E-4,1.2320652173913044E-4,5.1886666666666671E-2,5.6583333333333338E-3,2.811557971014493E-4,1.226323188405797E-2,5.5311594202898548E-5,3.5543478260869569E-5,1.6626536231884058E-2,4.4245018115942031E-2,1.1070652173913046E-4,0.33244750000000001,0.12447166666666669,5.0293840579710152E-4,2.9336956521739131E-4,1.7227826086956524E-3,1.4440942028985508E-4,210.69089516666668,9.9471015142857127,6.9815367999999989,9.3125437396969701,6.5632168733333334,3.53355379,0.36816457666666663,2.04175482,0.2293032066666667,0.28388235666666667,2.9662340666666664,0.10655860000000002,1.8733049999999998E-2,2.2003666666666667E-4,2.0393033333333333E-3,1.625219E-2,0.52583457391304345,{"$f":"IF(COUNT(EL11:EL15)<3,\"\",AVERAGE(EL11:EL15))","v":4.7327794202898552E-2},1.0873623188405797E-4,3.2136444927536235E-2,0.30231583623188407,0.26279977971014495,0.22209452173913044,0.34000658985507248,1.1593531724637682,6.0773147826086962E-2,1.4206700000000002E-3,1.0789333333333331E-4,6.6798333333333341E-4,1.8313516666666668E-2,1.2457066666666666E-3,1.2289830000000003E-2,5.2946999999999998E-4,4.5914666666666671E-4,0.28696076521739128,6.7650086956521725E-3,9.4902333333333339E-4,3.0652466666666666E-2,5.9490000000000008E-5,4.0756666666666669E-4,6.7901799999999998E-2,0.12546617333333332,2.8979666666666674E-4,2.366120452173913,0.85816742000000001,1.4991066666666666E-3,1.2153766666666665E-3,3.8649133333333334E-3,1.4257333333333333E-4,74.117678100000006]
["ACAD1","2009-13",null,null,null,null,null,null,null,7.0286797246376809,null,null,20.381854855072465,{"$f":"IF(COUNT(N12:N16)<3,\"\",AVERAGE(N12:N16))","v":8.381854855072465},4.1856594637681157,0.59364920289855072,1.6724116449275364,0.48461956521739136,7.0338510869565218E-2,0.80384689855072455,0.57132989855072469,12,null,16.839512670000001,null,null,{"$f":"IF(COUNT(AA12:AA16)<3,\"\",AVERAGE(AA12:AA16))","v":58.216682933333331},46.216682933333338,31.266071466666666,3.6427588533333335,6.2100447333333326,2.2192644000000001,0.2589180233333333,1.7744767633333336,0.8451498266666666,12,7.0286797246376809,1,0.20536204842644259,2.9126358082704543E-2,8.2053947337934294E-2,2.3777009926885202E-2,3.4510358046269747E-3,3.9439339759142183E-2,2.8031300517702241E-2,0.58875897632121255,16.839512670000001,1,0.53706377435607111,6.2572422023852312E-2,0.10667122241307955,3.8120763468117623E-2,4.4474884223450611E-3,3.0480554265954498E-2,1.4517313321243114E-2,0.2061264811968378,7.0286797246376809,7.0286797246376809,1.4434240659849986,0.20471984250844225,0.57673091598062676,0.16712098758560689,2.4256225388980302E-2,0.27720648771817941,0.19702303360399948,4.1381982795673427,16.839512670000001,16.839512670000001,9.0438922328670817,1.0536890934632481,1.7962914013494413,0.6419350794114399,7.4893537637757968E-2,0.51327767975016336,0.24446448160743323,3.4710694917366669,2.7111505797101452,{"$f":"IF(COUNT(BZ12:BZ16)<3,\"\",AVERAGE(BZ12:BZ16))","v":1.4082059420289856},2.6404538840579712,1.3244958007246379,0.48362232608695654,6.399329710144927E-2,0.57266745652173912,4.8461956521739138E-2,7.0338510869565218E-2,1.3397447753623188,8.5411981884057964E-2,6.260481884057971E-3,5.7554347826086955E-5,6.2557971014492748E-4,4.7496268115942031E-3,0.10209318840579709,2.270778985507247E-2,5.0833333333333327E-5,-6.9646014492753634E-3,6.2741086956521752E-2,0.1190911956521739,7.8425217391304342E-2,7.5889021739130438E-2,0.32918192028985505,4.9645507246376813E-2,1.1693362318840581E-2,5.0264492753623188E-5,1.513731884057971E-4,4.9953152173913039E-3,5.4596739130434782E-4,4.9564818840579696E-3,2.0611231884057969E-4,1.0948550724637681E-4,{"$f":"IF(COUNT(DF12:DF16)<3,\"\",AVERAGE(DF12:DF16))","v":4.9639601449275365E-2},6.3584420289855073E-3,2.2916666666666666E-4,1.1545641304347825E-2,4.9840579710144923E-5,2.9623188405797109E-5,1.3919249999999999E-2,4.0019047101449282E-2,9.0572463768115937E-5,0.31855626811594207,0.11738466666666666,4.6872826086956528E-4,2.5775E-4,1.6640543478260868E-3,1.6010144927536233E-4,217.92518773913042,9.4948555809523789,6.5489500333333321,8.7791963363636363,6.0214000066666671,3.1106994466666666,0.37527433333333327,1.9288919999999998,0.22192644,0.2589180233333333,2.9574612999999998,0.12569024000000001,1.9629360000000002E-2,2.0449000000000002E-4,2.0371E-3,1.5950140000000002E-2,0.48632187391304338,{"$f":"IF(COUNT(EL12:EL16)<3,\"\",AVERAGE(EL12:EL16))","v":4.7811327536231886E-2},1.0280289855072464E-4,2.8681544927536228E-2,0.2770043695652174,0.25800927971014492,0.21485615507246375,0.30948105652173907,1.0880324057971014,7.0507281159420301E-2,2.7833366666666672E-3,1.0734333333333333E-4,6.5333666666666666E-4,1.8135950000000001E-2,1.2431733333333334E-3,1.2451163333333334E-2,5.5758666666666664E-4,3.9919333333333326E-4,0.29229309855072466,9.1679753623188399E-3,1.1728566666666666E-3,3.1248626666666661E-2,3.5723333333333337E-5,3.6866666666666661E-4,5.7598770000000001E-2,0.11815308666666664,3.0021000000000003E-4,2.0926180521739131,0.75502844666666669,1.4507066666666665E-3,9.9681999999999982E-4,4.0567400000000005E-3,1.9631333333333334E-4,80.106998916666683]
["ACAD1","2010-14",null,null,null,null,null,null,null,7.0510642391304348,null,null,{"$f":"IF(COUNT(M13:M17)<3,\"\",AVERAGE(M13:M17))","v":20.451853655797102},8.4518536557971018,4.2628034094202905,0.62560620652173904,1.6789638913043479,0.46569456521739133,6.1586500000000002E-2,0.78521700724637677,0.57198232608695654,12,null,16.278737693333333,null,null,{"$f":"IF(COUNT(AA13:AA17)<3,\"\",AVERAGE(AA13:AA17))","v":53.944836183333337},41.944836183333337,26.363426296666667,4.0346023133333331,6.1797549166666661,2.1482510666666665,0.22650975666666665,1.9262373633333332,1.06605569,12,{"$f":"J43","v":7.0510642391304348},{"$f":"M43/M43","v":1},{"$f":"O43/M43","v":0.20843115157984685},{"$f":"P43/M43","v":3.0589217830844895E-2},{"$f":"Q43/M43","v":8.2093482554743566E-2},{"$f":"R43/M43","v":2.277028640312951E-2},{"$f":"S43/M43","v":3.0112918387005588E-3},{"$f":"T43/M43","v":3.839343956110336E-2},{"$f":"U43/M43","v":2.796726085143033E-2},{"$f":"V43/M43","v":0.58674388160403179},{"$f":"X43","v":16.278737693333333},{"$f":"AA43/AA43","v":1},{"$f":"AC43/AA43","v":0.4887108417026178},{"$f":"AD43/AA43","v":7.47912608284063E-2},{"$f":"AE43/AA43","v":0.11455693174532149},{"$f":"AF43/AA43","v":3.9823108543063569E-2},{"$f":"AG43/AA43","v":4.1989145336703898E-3},{"$f":"AH43/AA43","v":3.5707539397968523E-2},{"$f":"AI43/AA43","v":1.9761959909878564E-2},{"$f":"AJ43/AA43","v":0.222449465954769},{"$f":"J43","v":7.0510642391304348},{"$f":"BE43","v":7.0510642391304348},{"$f":"BE43*AM43","v":1.469661439225433},{"$f":"BE43*AN43","v":0.2156865399500415},{"$f":"BE43*AO43","v":0.57884641910743051},{"$f":"BE43*AP43","v":0.16055475217186446},{"$f":"BE43*AQ43","v":2.1232812197446844E-2},{"$f":"BE43*AR43","v":0.27071460870651159},{"$f":"BE43*AS43","v":0.19719895285595299},{"$f":"BE43*AT43","v":4.1371688011067702},{"$f":"X43","v":16.278737693333333},{"$f":"BO43","v":16.278737693333333},{"$f":"BO43*AW43","v":7.955595599965064},{"$f":"BO43*AX43","v":1.2175073167793025},{"$f":"BO43*AY43","v":1.8648422428351787},{"$f":"BO43*AZ43","v":0.64826993810567357},{"$f":"BO43*BA43","v":6.8353028290345327E-2},{"$f":"BO43*BB43","v":0.5812736675338952},{"$f":"BO43*BC43","v":0.32169976167908237},{"$f":"BO43*BD43","v":3.6211965062997682},{"$f":"IF(COUNT(BY13:BY17)<3,\"\",AVERAGE(BY13:BY17))","v":2.6753201811594201},1.404666195652174,2.5998407681159419,1.3306800579710147,0.49350392753623196,6.7814800724637678E-2,0.57472584782608693,4.656945652173914E-2,6.1586500000000002E-2,1.3086949565217392,8.6478572463768111E-2,6.2542681159420297E-3,6.5923913043478265E-5,6.5547463768115947E-4,4.4631086956521734E-3,9.8825072463768121E-2,2.2071304347826091E-2,1.007608695652174E-4,-5.2406521739130438E-3,5.7909528985507254E-2,0.11615333333333333,7.5974420289855085E-2,7.4427681159420292E-2,0.31922431159420284,5.0176304347826092E-2,1.1734409420289856E-2,4.238768115942029E-5,1.4895289855072462E-4,4.8274891304347818E-3,5.0562681159420299E-4,5.4482789855072452E-3,1.9283333333333332E-4,1.0105434782608697E-4,5.2462717391304349E-2,8.7640217391304343E-3,1.9573188405797105E-4,1.1620916666666667E-2,3.4449275362318838E-5,2.8891304347826087E-5,1.0810905797101448E-2,3.7255112318840579E-2,8.4329710144927548E-5,0.33035963768115945,0.11969576449275363,4.3215579710144928E-4,2.1172826086956518E-4,1.4206050724637682E-3,1.8521014492753622E-4,217.8174417536232,9.4670530809523807,6.2962413000000002,8.6226852530303031,5.6318244200000001,2.6899790599999998,0.41910894333333337,1.92391194,0.21482510666666671,0.22650975666666665,3.2103956066666668,0.15748936333333335,1.9489856666666666E-2,1.9306666666666668E-4,2.1544199999999998E-3,1.6059263333333334E-2,{"$f":"IF(COUNT(EK13:EK17)<3,\"\",AVERAGE(EK13:EK17))","v":0.46070307391304349},4.7001394202898561E-2,1.5810289855072466E-4,2.9987711594202899E-2,0.26321143623188409,0.27433057971014491,0.21691102173913043,0.29120015652173914,1.0756409057971015,8.7521547826086968E-2,4.2198366666666666E-3,1.1383333333333334E-4,6.7446333333333341E-4,1.840582E-2,1.2215199999999998E-3,1.5953180000000001E-2,6.1116333333333334E-4,3.597533333333333E-4,0.32607113188405801,9.87367536231884E-3,1.2620233333333335E-3,3.3740173333333331E-2,1.1840000000000005E-5,3.3721000000000001E-4,4.4402320000000009E-2,0.11496247999999998,3.2571E-4,1.8077860521739133,0.65237181333333327,1.4344766666666664E-3,8.5187000000000001E-4,4.2002866666666673E-3,2.0262000000000001E-4,84.102570480000026]
["ACAD1","2011-15",null,null,null,null,null,null,null,6.9196422101449286,null,null,{"$f":"IF(COUNT(M14:M18)<3,\"\",AVERAGE(M14:M18))","v":20.187755663043482},8.1877556630434789,4.0252161485507241,0.61624427898550727,1.6327655760869564,0.41529956521739131,5.3297057971014493E-2,0.83847550724637665,0.60645743840579713,12,null,15.989402860000002,null,null,{"$f":"IF(COUNT(AA14:AA18)<3,\"\",AVERAGE(AA14:AA18))","v":51.142300183333333},39.142300183333333,23.245398546666667,4.3824292299999996,6.1399093333333337,2.0580685666666669,0.18811092333333335,1.9144639466666669,1.2139206899999999,12,6.9196422101449286,1,0.19938898685600037,3.0525645805869785E-2,8.0879004250876824E-2,2.0571854155024046E-2,2.6400685078917531E-3,4.1533864449396107E-2,3.0040854888887056E-2,0.59441971659919002,15.989402860000002,1,0.45452391588444951,8.5690890208105677E-2,0.12005540054559879,4.024200239897241E-2,3.678186602069112E-3,3.7434060255478456E-2,2.3736137906358819E-2,0.2346394267950947,6.9196422101449286,6.9196422101449286,1.3797004496868126,0.21122654721023007,0.55965377172885833,0.14234987035204971,1.8268329484882113E-2,0.28739948159447914,0.20787196751798151,4.1131717615221417,15.989402860000002,15.989402860000002,7.2675660005812173,1.3701461649694311,1.9196141648422431,0.64344558825025644,5.8812007374737546E-2,0.5985482701103596,0.37952667132528817,3.7517443218662483,{"$f":"IF(COUNT(BY14:BY18)<3,\"\",AVERAGE(BY14:BY18))","v":2.7059506449275359},1.3481454202898551,2.6323553043478261,1.2733236630434783,0.46257427898550729,6.5968239130434786E-2,0.55974778260869562,4.1529956521739138E-2,5.3297057971014493E-2,1.3974592391304346,9.0205224637681145E-2,5.7053623188405792E-3,6.8619565217391311E-5,6.0826811594202901E-4,4.0294456521739134E-3,8.989865942028985E-2,2.1361644927536234E-2,1.007608695652174E-4,-5.3088623188405799E-3,5.3750268115942038E-2,0.11924445652173912,7.3386144927536229E-2,6.9831108695652178E-2,0.31090311594202891,5.1647731884057982E-2,1.5108358695652174E-2,3.1239130434782607E-5,1.4103985507246377E-4,4.518463768115941E-3,4.4179710144927532E-4,6.3739999999999995E-3,1.6571014492753624E-4,9.2239130434782613E-5,5.1031405797101449E-2,9.1700579710144916E-3,2.1773188405797107E-4,1.0823039855072466E-2,2.794202898550724E-5,2.0307971014492757E-5,8.630746376811594E-3,3.4120347826086958E-2,7.8311594202898558E-5,0.31064734782608699,0.11219768478260869,3.7604347826086955E-4,1.8609782608695649E-4,1.2971884057971016E-3,1.903260869565217E-4,220.98507394202903,9.310021783333335,6.0800904666666664,8.4506241363636381,5.4090541700000001,2.4538158933333336,0.46371386000000003,1.9162610233333333,0.2058068566666667,0.18811092333333335,3.1907731900000003,0.18134528,1.7685523333333335E-2,1.9365000000000002E-4,2.4669200000000001E-3,1.5380846666666666E-2,{"$f":"IF(COUNT(EK14:EK18)<3,\"\",AVERAGE(EK14:EK18))","v":0.4484781572463768},4.3499727536231887E-2,1.2810289855072463E-4,2.4978211594202899E-2,0.23975118623188404,0.30331957971014489,0.21887968840579708,0.28446182318840579,1.0713904891304349,0.1014207,5.6788366666666668E-3,1.1800000000000001E-4,6.4012999999999993E-4,1.8251403333333333E-2,1.1895199999999999E-3,1.8977263333333334E-2,6.3424666666666663E-4,3.1175333333333338E-4,0.35946823333333333,1.1537566666666669E-2,1.3878566666666668E-3,3.3993256666666673E-2,-7.4933333333333299E-6,3.112933333333333E-4,3.1327486666666668E-2,0.10545272999999999,3.0446E-4,1.636074816666667,0.59512014666666657,1.3112266666666665E-3,6.6578666666666667E-4,4.4187866666666673E-3,2.5336999999999999E-4,85.338307646666678]
["ACAD1","2012-16",null,null,null,null,null,null,null,6.6346875434782602,null,null,{"$f":"IF(COUNT(M15:M19)<3,\"\",AVERAGE(M15:M19))","v":19.614245163043481},7.6142451630434795,3.6406314818840579,0.599502195652174,1.5779757427536234,0.37734789855072465,5.1208557971014479E-2,0.8191314239130435,0.54844818840579712,12,null,15.256664466666667,null,null,{"$f":"IF(COUNT(AA15:AA19)<3,\"\",AVERAGE(AA15:AA19))","v":47.444619419999995},35.444619420000002,19.690781056666669,4.6817496566666659,5.8750177733333331,1.8767481666666668,0.18570729333333333,1.8523783266666662,1.2822368866666669,12,6.6346875434782602,1,0.18561160277243891,3.0564632524413247E-2,8.0450495526934354E-2,1.9238461404658652E-2,2.6107840268816446E-3,4.1762067166185121E-2,2.796172801180059E-2,0.61180024519169396,15.256664466666667,1,0.41502664153242502,9.8678200265910496E-2,0.12382895774387337,3.9556607042263152E-2,3.9141908103292643E-3,3.9042958913183046E-2,2.7025970538740323E-2,0.25292646767320198,6.6346875434782602,6.6346875434782602,1.2314749888393353,0.20278678668071506,0.53376390053920486,0.12764118023717602,1.732173626186366E-2,0.27707826681739089,0.1855173285340205,4.0591034658702769,15.256664466666667,15.256664466666667,6.3319222145877534,1.5055001916315338,1.8892168595553209,0.60350188108359271,5.9717495851703696E-2,0.59566532392428639,0.41232616439557968,3.8588142520292559,{"$f":"IF(COUNT(BY15:BY19)<3,\"\",AVERAGE(BY15:BY19))","v":2.6015755615942036},1.267497836956522,2.5144844637681159,1.1942555797101451,0.4181343623188406,6.3951739130434768E-2,0.54159094927536233,3.7734789855072469E-2,5.1208557971014479E-2,1.3652192391304347,8.1634224637681149E-2,5.6016123188405795E-3,6.2702898550724641E-5,6.0085144927536237E-4,3.7746956521739136E-3,8.1759659420289871E-2,2.0872478260869569E-2,7.492753623188406E-5,-4.8812789855072463E-3,5.1795268115942025E-2,0.12088753985507246,6.8042144927536227E-2,6.4972275362318838E-2,0.30081594927536226,4.6405231884057978E-2,1.5251608695652171E-2,2.2822463768115947E-5,1.2920652173913042E-4,4.142880434782609E-3,4.2838043478260869E-4,5.8820833333333338E-3,1.4171014492753625E-4,8.1655797101449275E-5,4.9468072463768123E-2,8.9772246376811603E-3,2.2339855072463769E-4,1.0118039855072463E-2,1.9942028985507245E-5,2.7557971014492754E-5,8.4401630434782614E-3,3.2067181159420297E-2,6.7561594202898554E-5,0.28116601449275364,0.10142443478260869,3.4637681159420289E-4,1.1351449275362319E-4,1.2123550724637681E-3,1.6065942028985504E-4,227.92995794202898,8.6745018333333341,5.5810642999999995,7.9246603333333336,5.0109471566666661,2.1052021466666671,0.49658829999999998,1.8435585833333334,0.18767481666666669,0.18570729333333333,3.0872974600000003,0.19221576000000001,1.7880356666666666E-2,1.7131666666666669E-4,2.4559199999999999E-3,1.5216513333333331E-2,{"$f":"IF(COUNT(EK15:EK19)<3,\"\",AVERAGE(EK15:EK19))","v":0.39753465000000004},4.2023216666666668E-2,1.0723333333333333E-4,2.3567066666666667E-2,0.22458914999999999,0.31253716666666664,0.21151558333333337,0.25199028333333329,1.0241992500000001,0.10718220000000001,6.5557533333333333E-3,1.1375E-4,7.054633333333333E-4,1.7630736666666667E-2,1.1604366666666667E-3,2.0807013333333332E-2,6.1233000000000001E-4,2.1817000000000003E-4,0.38495221666666668,1.2258983333333334E-2,1.0469400000000001E-3,3.4573673333333332E-2,-2.1826666666666665E-5,2.8012666666666665E-4,3.0681486666666667E-2,0.11099448000000001,3.3904333333333329E-4,1.4000812000000002,0.51035206333333327,1.2910599999999999E-3,3.6945333333333338E-4,4.3501200000000007E-3,2.7570333333333335E-4,92.003923843333354]
["ACAD1","2013-17",null,null,null,null,null,null,null,6.5206760181159424,null,null,19.358736713768117,7.358736713768117,3.3581922101449271,0.60835696739130429,1.6409051014492753,0.39006224637681158,4.3804539855072461E-2,0.81056280797101454,0.50685274637681155,12,null,14.887892249999998,null,null,46.038897083333332,34.038897083333339,17.733370666666669,4.8546811666666665,6.1201029166666672,1.8247683333333335,0.17717116666666671,1.966743083333333,1.3620589999999999,12,{"$f":"J46","v":6.5206760181159424},{"$f":"M46/M46","v":1},{"$f":"O46/M46","v":0.17347166087322985},{"$f":"P46/M46","v":3.1425447661501335E-2},{"$f":"Q46/M46","v":8.4763025899424929E-2},{"$f":"R46/M46","v":2.0149158085268841E-2},{"$f":"S46/M46","v":2.262778842584199E-3},{"$f":"T46/M46","v":4.1870645794492088E-2},{"$f":"U46/M46","v":2.6182118899129046E-2},{"$f":"V46/M46","v":0.6198751590781999},{"$f":"X46","v":14.887892249999998},{"$f":"AA46/AA46","v":1},{"$f":"AC46/AA46","v":0.38518235210040197},{"$f":"AD46/AA46","v":0.10544738197962007},{"$f":"AE46/AA46","v":0.13293330866699285},{"$f":"AF46/AA46","v":3.9635361595009258E-2},{"$f":"AG46/AA46","v":3.848293028088306E-3},{"$f":"AH46/AA46","v":4.271916157707694E-2},{"$f":"AI46/AA46","v":2.9584961549678015E-2},{"$f":"AJ46/AA46","v":0.26064916321255993},{"$f":"J46","v":6.5206760181159424},{"$f":"BE46","v":6.5206760181159424},{"$f":"BE46*AM46","v":1.1311524988788115},{"$f":"BE46*AN46","v":0.20491516292490949},{"$f":"BE46*AO46","v":0.55271223020532068},{"$f":"BE46*AP46","v":0.13138613191183948},{"$f":"BE46*AQ46","v":1.4754847733138936E-2},{"$f":"BE46*AR46","v":0.27302491589517169},{"$f":"BE46*AS46","v":0.17072511480901095},{"$f":"BE46*AT46","v":4.0420050840270232},{"$f":"X46","v":14.887892249999998},{"$f":"BO46","v":14.887892249999998},{"$f":"BO46*AW46","v":5.7345533546723448},{"$f":"BO46*AX46","v":1.5698892609571751},{"$f":"BO46*AY46","v":1.9790967758701805},{"$f":"BO46*AZ46","v":0.59008699271628595},{"$f":"BO46*BA46","v":5.7292971948604915E-2},{"$f":"BO46*BB46","v":0.63599827456986147},{"$f":"BO46*BC46","v":0.44045771977199927},{"$f":"BO46*BD46","v":3.8805166569612557},2.5531188297101446,1.2102552282608694,2.4910372463768113,1.174579822463768,0.38787758333333333,6.5394101449275363E-2,0.56249807971014487,3.9006224637681164E-2,4.3804539855072461E-2,1.350938384057971,7.5998333333333334E-2,4.8351775362318848E-3,6.5137681159420287E-5,5.8372101449275361E-4,3.2870434782608696E-3,8.1365123188405802E-2,2.1364891304347829E-2,5.82608695652174E-5,-3.7980326086956518E-3,5.2533268115942035E-2,0.13066224999999998,6.9251427536231897E-2,6.3782050724637676E-2,0.31243096376811597,4.3962326086956514E-2,1.4666130434782609E-2,1.7952898550724637E-5,1.2129347826086959E-4,3.7480978260869568E-3,3.9090217391304341E-4,5.2651268115942035E-3,1.3501449275362317E-4,5.0177536231884062E-5,5.0586173913043472E-2,9.156985507246378E-3,1.6565942028985508E-4,9.9525615942028991E-3,2.7768115942028984E-5,2.9210144927536226E-5,7.2325978260869579E-3,3.0052572463768114E-2,3.9996376811594203E-5,0.26084778260869568,9.4031130434782603E-2,3.4168115942028989E-4,5.9079710144927531E-5,1.1807028985507245E-3,1.3387681159420287E-4,230.26757994927539,8.6397403333333322,5.3708748333333336,8.0019690833333321,4.895847250000001,1.9130902500000004,0.51865941666666671,1.8980260000000002,0.18247683333333337,0.17717116666666671,3.2779055000000001,0.20642333333333335,1.7326250000000001E-2,1.6833333333333335E-4,2.5203333333333332E-3,1.5465499999999998E-2,0.37796299999999999,4.007641666666667E-2,1.0083333333333334E-4,2.582266666666666E-2,0.22805024999999998,0.34240266666666669,0.22251991666666671,0.23566341666666668,1.0544589166666667,0.11523233333333334,9.9669166666666656E-3,1.0616666666666667E-4,6.8408333333333331E-4,1.7241333333333331E-2,1.18775E-3,2.3227999999999999E-2,5.8516666666666667E-4,1.7983333333333333E-4,0.40206149999999996,1.255975E-2,6.524166666666666E-4,3.4861583333333335E-2,-1.3666666666666661E-5,2.6108333333333333E-4,2.7998166666666668E-2,0.12081399999999998,3.309166666666667E-4,1.27225425,0.46377949999999996,1.2399166666666667E-3,2.9266666666666666E-4,4.2446666666666666E-3,2.4791666666666668E-4,96.32444799999999]
[{"$f":"A31","v":"ACAD1"},"2014-18",null,null,null,null,null,null,null,6.5752204449934126,null,null,19.448788737483529,7.4487887374835307,3.1931611706192355,0.63671573418972338,1.6785917140974966,0.42987995388669298,4.5199915349143603E-2,0.84851260638998682,0.61672781752305672,12,null,14.540799224637681,null,null,44.526145855072464,32.526145855072464,15.827043228260871,5.193615278985507,6.1616965797101448,1.832817391304348,0.17278045652173915,1.8839305833333331,1.4542611557971017,12,6.5752204449934126,1,0.16418303544349144,3.273806625101465E-2,8.6308290801799775E-2,2.2103173605777723E-2,2.3240478345075591E-3,4.3628043773988545E-2,3.1710345865109894E-2,0.61700500540028358,14.540799224637681,1,0.35545504611551371,0.11664192305999566,0.13838378465914758,4.1162722623017046E-2,3.8804269537300595E-3,4.2310659212798536E-2,3.2660836186688066E-2,0.26950457466178712,6.5752204449934126,6.5752204449934126,1.0795396513691231,0.21526000254322036,0.56749603825243078,0.14533323899194844,1.528112683659677E-2,0.28686400539779705,0.20850251445008292,4.0569439261712157,14.540799224637681,14.540799224637681,5.1686004589500127,1.6960667843910329,2.0122108286741609,0.59853888520074217,5.6424509240061205E-2,0.61523080067537006,0.47491466149941214,3.9188119102784222,2.6045508257575758,1.2000405657349895,2.5618722401656315,1.1943867868906455,0.36803202997364953,6.8794516469038211E-2,0.57525966864295131,4.2987995388669306E-2,4.5199915349143603E-2,1.4141880480895916,9.4111677206851124E-2,4.764683465085638E-3,5.0651515151515148E-5,6.2236923583662714E-4,3.4454268774703561E-3,8.4997055994729925E-2,2.290457114624506E-2,5.82608695652174E-5,-3.6353250988142285E-3,5.487763570487484E-2,0.13284255434782608,7.0330846508563902E-2,6.5104983530961807E-2,0.3195206949934124,5.3849606719367601E-2,2.216166007905138E-2,1.8703886693017127E-5,1.2405632411067194E-4,3.8783112648221344E-3,3.8289426877470355E-4,6.3362651515151526E-3,1.2978129117259554E-4,4.8027338603425557E-5,5.321792094861659E-2,8.735013175230566E-3,1.1139855072463769E-4,1.0434008234519105E-2,2.3436100131752306E-5,3.0388010540184449E-5,7.4189219367588946E-3,3.6354967720685111E-2,4.7668313570487486E-5,0.24483262055335969,8.9310039525691692E-2,3.7172463768115943E-4,8.385836627140975E-5,1.1387266139657444E-3,1.419953886693017E-4,228.6221775737813,8.2726585797101446,5.1327739130434784,7.7419202536231877,4.7616188297101454,1.7180892681159423,0.55478897826086959,1.912517195652174,0.1832817391304348,0.17278045652173915,3.1398846666666667,0.22016033333333335,1.7037630434782607E-2,1.5813043478260871E-4,2.5495905797101445E-3,1.5235793478260869E-2,0.36700719565217399,3.8184083333333327E-2,6.9166666666666676E-5,2.834412318840579E-2,0.22401909057971009,0.35921603623188408,0.22895160507246376,0.22197870652173918,1.0625095615942031,0.12278569565217393,1.4346423913043476E-2,1.0548188405797101E-4,6.7738043478260867E-4,1.6782326086956519E-2,1.1140398550724638E-3,2.4209014492753624E-2,5.5651086956521733E-4,1.5440579710144928E-4,0.43006890579710139,1.3431235507246378E-2,5.6188768115942038E-4,3.4564887681159416E-2,-6.717391304347824E-6,2.3384420289855072E-4,2.7072177536231888E-2,0.12547594927536229,3.1562681159420287E-4,1.132836336956522,0.41650661594202898,1.258090579710145E-3,2.4614855072463768E-4,4.1925652173913043E-3,1.7641666666666665E-4,99.934126713768109]
[{"$f":"A47","v":"ACAD1"},"2015-19",null,null,null,null,null,null,null,{"$f":"IF(J22=\"\",\"\",J22)","v":6.3579680971673245},null,null,18.991891901044607,6.9918919010446077,2.8571351416337287,0.61634136151891594,1.6794666581968756,0.44313519198193108,4.211246193299454E-2,0.78995895007528705,0.56374250903444378,12,null,14.237921277667985,null,null,43.404831877799737,31.40483187779974,14.425914296442688,5.294475142621871,6.3925350872859026,1.9016261791831357,0.17358030500658764,1.8369167651515148,1.3797821179183138,12,{"$f":"J48","v":6.3579680971673245},{"$f":"M48/M48","v":1},{"$f":"O48/M48","v":0.15043973273018568},{"$f":"P48/M48","v":3.2452868030752403E-2},{"$f":"Q48/M48","v":8.8430719116745826E-2},{"$f":"R48/M48","v":2.3332861954503722E-2},{"$f":"S48/M48","v":2.2173916191402837E-3},{"$f":"T48/M48","v":4.1594536984060924E-2},{"$f":"U48/M48","v":2.9683325493414184E-2},{"$f":"V48/M48","v":0.63184858372851027},{"$f":"X48","v":14.237921277667985},{"$f":"AA48/AA48","v":1},{"$f":"AC48/AA48","v":0.33235733609236967},{"$f":"AD48/AA48","v":0.12197893445429599},{"$f":"AE48/AA48","v":0.14727703830954111},{"$f":"AF48/AA48","v":4.3811393730009127E-2},{"$f":"AG48/AA48","v":3.9991009640419489E-3},{"$f":"AH48/AA48","v":4.2320559386639221E-2},{"$f":"AI48/AA48","v":3.1788675551212786E-2},{"$f":"AJ48/AA48","v":0.27646691579832239},{"$f":"J48","v":6.3579680971673245},{"$f":"BE48","v":6.3579680971673245},{"$f":"BE48*AM48","v":0.95649102124489949},{"$f":"BE48*AN48","v":0.20633429960110516},{"$f":"BE48*AO48","v":0.56223969095383464},{"$f":"BE48*AP48","v":0.1483495919223439},{"$f":"BE48*AQ48","v":1.4098105173420122E-2},{"$f":"BE48*AR48","v":0.26445673916110574},{"$f":"BE48*AS48","v":0.18872563650496091},{"$f":"BE48*AT48","v":4.0172731375862254},{"$f":"X48","v":14.237921277667985},{"$f":"BO48","v":14.237921277667985},{"$f":"BO48*AW48","v":4.7320775873385994},{"$f":"BO48*AX48","v":1.7367264662940893},{"$f":"BO48*AY48","v":2.0969188774593381},{"$f":"BO48*AZ48","v":0.62378317499278668},{"$f":"BO48*BA48","v":5.6938884707475414E-2},{"$f":"BO48*BB48","v":0.60255679297384213},{"$f":"BO48*BC48","v":0.45260466001949656},{"$f":"BO48*BD48","v":3.9363141830161776},2.4336761052606812,1.1267556216356107,2.4181919751552794,1.1467132796442687,0.33146645233389799,6.6576810464897412E-2,0.57613437257669875,4.431351919819311E-2,4.211246193299454E-2,1.3165982716920759,8.6108931865236202E-2,4.1756234236777715E-3,3.1781949934123847E-5,5.2698621306230002E-4,3.2012902315076233E-3,8.2565171936758899E-2,2.4971842367777154E-2,0,9.0579705439488016E-4,5.5447979390175053E-2,0.13146382142857141,6.890026265763223E-2,6.3356586015433841E-2,0.32007444654620743,4.9327047713156415E-2,2.1110053453792584E-2,1.8890222096743839E-5,1.2033375682288727E-4,3.706613542254847E-3,2.5773484848484854E-4,5.80475376435159E-3,1.2342932429888951E-4,3.7613259928477309E-5,5.1605519292301907E-2,6.0013858460380197E-3,1.2240476190476189E-4,9.5254947769621689E-3,2.6541690193864106E-5,1.7096085074345941E-5,7.0278494729907786E-3,3.4837592979484286E-2,4.1875352907961604E-5,0.21929308432147562,8.0445596461509505E-2,3.7574948240165631E-4,6.9522962544701675E-5,9.5998541313758719E-4,1.0976764539808016E-4,233.48804932119333,7.9455787918313563,4.8840505191040844,7.5960680111989474,4.6802949509222662,1.5737726620553363,0.55952291007905131,1.9742296956521741,0.1901626179183136,0.17358030500658764,3.0615282727272723,0.2090256136363636,1.6207759222661398E-2,1.2789558629776023E-4,2.4358633069828722E-3,{"$f":"IF(COUNT(EJ18:EJ22)<3,\"\",AVERAGE(EJ18:EJ22))","v":1.5195710144927535E-2},0.36998101383399212,3.9338689393939391E-2,6.6666666666666658E-6,3.6634683794466397E-2,0.22997860573122528,0.37563080895915679,0.23538639295125163,0.21916375197628457,1.096794243412385,0.11653875625823451,1.372692391304348E-2,1.1623188405797103E-4,6.900319499341239E-4,1.6987394268774703E-2,1.1061913702239789E-3,2.2068143280632412E-2,5.5645783926218698E-4,1.2249670619235838E-4,0.43373852700922261,1.1173099143610015E-2,6.2053919631093542E-4,3.2781402832674569E-2,1.2184123847167324E-5,2.2916996047430828E-4,2.7906427536231883E-2,0.12150084321475627,2.8421772068511198E-4,1.0380151551383399,0.3815208129117259,1.3186587615283271E-3,1.7635309617918316E-4,4.1711712779973643E-3,2.169318181818181E-4,103.54996681225296]
[{"$f":"A48","v":"ACAD1"},"2016-20",null,null,null,null,null,null,null,6.5074657094861648,null,null,19.26942114379823,7.2694211437982306,2.9570565691699606,0.6798499557218145,1.7330081400809334,0.5091543586485977,4.6672737295313377E-2,0.75727028340862035,0.5864095633822699,12,null,13.727324017667982,null,null,41.091178134466404,29.091178134466407,12.340651016442688,5.504562195955204,5.8754677072859032,1.8228022125164691,0.1702775816732543,1.8301363984848482,1.5472786345849801,12,{"$f":"J49","v":6.5074657094861648},{"$f":"M49/M49","v":1},{"$f":"O49/M49","v":0.15345850542696116},{"$f":"P49/M49","v":3.52812858595195E-2},{"$f":"Q49/M49","v":8.9935661644859208E-2},{"$f":"R49/M49","v":2.6422919238156078E-2},{"$f":"S49/M49","v":2.42211413342506E-3},{"$f":"T49/M49","v":3.929906756188907E-2},{"$f":"U49/M49","v":3.0432131770133791E-2},{"$f":"V49/M49","v":0.62274833843995059},{"$f":"X49","v":13.727324017667982},{"$f":"AA49/AA49","v":1},{"$f":"AC49/AA49","v":0.30032361145886965},{"$f":"AD49/AA49","v":0.13395970731094942},{"$f":"AE49/AA49","v":0.14298610976932993},{"$f":"AF49/AA49","v":4.4359940387972023E-2},{"$f":"AG49/AA49","v":4.1438963155556036E-3},{"$f":"AH49/AA49","v":4.4538426045997663E-2},{"$f":"AI49/AA49","v":3.765476447333E-2},{"$f":"AJ49/AA49","v":0.2920334861349389},{"$f":"J49","v":6.5074657094861648},{"$f":"BE49","v":6.5074657094861648},{"$f":"BE49*AM49","v":0.99862596189494623},{"$f":"BE49*AN49","v":0.22959175791740224},{"$f":"BE49*AO49","v":0.58525323421387143},{"$f":"BE49*AP49","v":0.17194624088682298},{"$f":"BE49*AQ49","v":1.5761824667725376E-2},{"$f":"BE49*AR49","v":0.25573733457377318},{"$f":"BE49*AS49","v":0.19803605396071014},{"$f":"BE49*AT49","v":4.0525134580374633},{"$f":"X49","v":13.727324017667982},{"$f":"BO49","v":13.727324017667982},{"$f":"BO49*AW49","v":4.1226395246521284},{"$f":"BO49*AX49","v":1.8389083075693691},{"$f":"BO49*AY49","v":1.9628166588294333},{"$f":"BO49*AZ49","v":0.60894327511012825},{"$f":"BO49*BA49","v":5.6884607419252296E-2},{"$f":"BO49*BB49","v":0.61139340557035293},{"$f":"BO49*BC49","v":0.51689915273437392},{"$f":"BO49*BD49","v":4.0088382881834566},{"$f":"IF(COUNT(BY19:BY23)<3,\"\",AVERAGE(BY19:BY23))","v":2.3749756414925653},1.1209230636645962,2.4152526055900618,1.197992424571805,0.34305160088462261,7.3251538725766993E-2,0.59421118779408988,5.0915435864859783E-2,4.6672737295313377E-2,1.2621173224167135,8.9889696357989837E-2,4.5083625541125537E-3,2.1336297760210802E-5,5.2027606813476385E-4,3.3904532749858842E-3,8.7745584980237171E-2,2.7307668454733675E-2,0,4.3927571993224168E-3,6.1035073593073599E-2,0.13062586490683231,6.9792621353284415E-2,6.4270908479201957E-2,0.33011722553171474,5.109853684359119E-2,1.743860417843026E-2,2.7122106154714849E-5,1.2183013363448146E-4,4.0361389045736875E-3,2.6264789196310935E-4,5.32111608319217E-3,1.4563584603801994E-4,3.1011810653114994E-5,5.6779580886504796E-2,2.8565996141539621E-3,1.6615476190476189E-4,9.9399549218897043E-3,2.62989365706757E-5,2.6179418407679273E-5,8.0675088932806345E-3,3.6604524138904568E-2,4.5976802183323926E-5,0.22714979084321479,8.3254092838321109E-2,4.5652846790890275E-4,6.9403397327310375E-5,1.0421520798042539E-3,8.5651703369094681E-5,229.46465929945421,7.4525726418313551,4.4023446591040845,7.3147112478656142,4.3718289675889332,1.3680322787220027,0.58359893674571806,1.8317172323188404,0.18228022125164692,0.1702775816732543,3.0502279827272725,0.23592165696969697,1.5134045889328063E-2,9.3078919631093559E-5,2.1202533069828722E-3,1.5154576811594203E-2,0.33405809050065871,3.988098272727273E-2,0,4.1807537127799735E-2,0.21987564906455864,0.34270770229249015,0.22157084628458498,0.1916588519762846,1.0176205867457182,0.13140661625823452,1.6985923913043478E-2,1.1696521739130434E-4,6.5794194993412387E-4,1.6265760935441367E-2,1.0710447035573124E-3,2.1181349947299078E-2,5.1815450592885366E-4,1.0427337285902504E-4,0.45240194034255599,7.3080391436100133E-3,5.6502586297760206E-4,3.0923216166007905E-2,1.4537457180500659E-5,2.1239996047430827E-4,2.8193577536231883E-2,0.1293956565480896,2.6238438735177864E-4,0.91641913847167333,0.33164435624505934,1.4000120948616602E-3,1.688764295125165E-4,3.9082412779973645E-3,1.7155515151515149E-4,108.77414650558629]
["ACAD1","2017-21",null,null,null,null,null,null,null,6.5428977783267452,null,null,19.337754082204025,7.337754082204027,3.0127313155467723,0.70393290137398845,1.755203473414267,0.5468164600978731,5.2409414831545265E-2,0.70329973630717102,0.56336099091850178,12,null,13.783818767667981,null,null,41.492422384466394,29.492422384466401,12.301348016442686,5.4908490292885377,6.0357237906192367,1.9221063791831359,0.21318049833992095,1.8312356484848487,1.69797763458498,12,{"$f":"J50","v":6.5428977783267452},{"$f":"M50/M50","v":1},{"$f":"O50/M50","v":0.15579530604949113},{"$f":"P50/M50","v":3.640199882476515E-2},{"$f":"Q50/M50","v":9.0765632138715108E-2},{"$f":"R50/M50","v":2.8277144169554441E-2},{"$f":"S50/M50","v":2.7102120860961888E-3},{"$f":"T50/M50","v":3.6369256394381259E-2},{"$f":"U50/M50","v":2.9132700132790838E-2},{"$f":"V50/M50","v":0.62054776107858634},{"$f":"X50","v":13.783818767667981},{"$f":"AA50/AA50","v":1},{"$f":"AC50/AA50","v":0.29647215827649454},{"$f":"AD50/AA50","v":0.13233377840441918},{"$f":"AE50/AA50","v":0.14546568852241423},{"$f":"AF50/AA50","v":4.6324274860913374E-2},{"$f":"AG50/AA50","v":5.1378176083479226E-3},{"$f":"AH50/AA50","v":4.4134218810286001E-2},{"$f":"AI50/AA50","v":4.0922595910444011E-2},{"$f":"AJ50/AA50","v":0.28920943416628442},{"$f":"J50","v":6.5428977783267452},{"$f":"BE50","v":6.5428977783267452},{"$f":"BE50*AM50","v":1.0193527618249509},{"$f":"BE50*AN50","v":0.23817455723720868},{"$f":"BE50*AO50","v":0.59387025286882167},{"$f":"BE50*AP50","v":0.18501446376440284},{"$f":"BE50*AQ50","v":1.7732640636913048E-2},{"$f":"BE50*AR50","v":0.23796032686219293},{"$f":"BE50*AS50","v":0.19061227897549646},{"$f":"BE50*AT50","v":4.0601805673067188},{"$f":"X50","v":13.783818767667981},{"$f":"BO50","v":13.783818767667981},{"$f":"BO50*AW50","v":4.0865184993425778},{"$f":"BO50*AX50","v":1.8240648183672488},{"$f":"BO50*AY50","v":2.0050726875069982},{"$f":"BO50*AZ50","v":0.63852540922646783},{"$f":"BO50*BA50","v":7.0818746774801114E-2},{"$f":"BO50*BB50","v":0.60833807353358538},{"$f":"BO50*BC50","v":0.56406964553207117},{"$f":"BO50*BD50","v":3.9864104264478684},2.2683835074345939,1.1261187682100509,2.323908272256729,1.2206945151515152,0.34957149581215885,7.5836480754752494E-2,0.60187858634481461,5.468164600978731E-2,5.2409414831545265E-2,1.1721662427065687,8.631649345943912E-2,4.8699913419913421E-3,1.3502964426877469E-5,5.0904121964991523E-4,3.9684532749858833E-3,9.4551157444005288E-2,2.8761211932994545E-2,0,7.0252245906267646E-3,6.2551718520609825E-2,0.12532283229813662,7.0617280773574251E-2,6.8859901232825149E-2,0.33437695741577256,4.886447162619989E-2,1.4092513269339354E-2,3.1947863730472423E-5,1.2612558817993601E-4,4.3943889045736876E-3,2.2921607378129116E-4,4.8565782044042915E-3,1.9169645209862602E-4,2.7367871259175609E-5,5.8783667843026535E-2,2.6994401938641071E-3,1.7386688311688309E-4,1.0698326134010918E-2,2.396560323734237E-5,2.7558206286467159E-5,9.2059861660079064E-3,3.4402054441934879E-2,4.4802559759081496E-5,0.22916096475625825,8.5124183747412013E-2,5.2428604366647842E-4,7.0327639751552792E-5,1.0892278373800114E-3,1.3754564276303405E-4,228.54053743713536,7.5646285584980237,4.5125687424374181,7.4380715811989457,4.4980486342555999,1.3718581953886693,0.58734568674571808,1.8715090656521738,0.19221063791831355,0.21318049833992095,3.0520598160606061,0.26194365696969696,1.8579629222661397E-2,8.4995586297760228E-5,2.0944199736495392E-3,1.717791014492754E-2,0.34877667383399202,4.1493399393939395E-2,0,4.4590370461133073E-2,0.22222973239789195,0.34683803562582349,0.22800951295125166,0.19805943530961795,1.039727086745718,0.14586328292490117,2.1135340579710147E-2,1.1796521739130437E-4,6.3960861660079056E-4,1.8975760935441364E-2,9.9287803689064569E-4,2.2186266613965742E-2,5.7832117259552036E-4,1.1019003952569169E-4,0.45530652367588936,6.10195581027668E-3,4.9885919631093532E-4,3.2732966166007904E-2,3.3620790513833999E-5,2.3339996047430832E-4,3.8160744202898549E-2,0.14171473988142291,2.8271772068511199E-4,0.91579072180500665,0.33257185624505931,1.7340120948616602E-3,1.881264295125165E-4,3.9183246113306978E-3,1.8847181818181817E-4,108.60786217225295]
["ACAD1","2018-22",null,null,null,null,null,null,null,""]
["ACAD1","2019-23",null,null,null,null,null,null,null,""]
["ACAD1","2020-24",null,null,null,null,null,null,null,""]
["ACAD1","2021-25",null,null,null,null,null,null,null,""]
["ACAD1","2022-26",null,null,null,null,null,null,null,""]
["ACAD1","2023-27",null,null,null,null,null,null,null,""]
["ACAD1","2024-28",null,null,null,null,null,null,null,""]
[" ",null,null,null,null,null,null,null,null,{"$f":"IF(J32=\"\",\"\",J32)","v":""}]
["BRIG1",2000,null,null,null,null,{"$f":"Tracking!W24","v":5.5172266928999996},{"$f":"Tracking!X21","v":10.681987469999999},{"$f":"Tracking!S24","v":14.263685499999999},null,null,null,42.522564500000001,30.522564500000005,14.823826499999999,3.6542025000000011,4.6950770000000004,2.9655499999999995,0.22516849999999997,3.4483979999999996,0.71034149999999996,12,{"$f":"Tracking!R24","v":27.366363333333332},null,null,null,161.95321380952379,149.95321380952379,111.70858095238093,13.282737619047623,13.522638095238094,6.7326190476190471,0.51931095238095237,3.8411742857142857,0.34615142857142855,12,{"$f":"I59","v":14.263685499999999},{"$f":"M59/M59","v":1},{"$f":"O59/M59","v":0.34861082990420295},{"$f":"P59/M59","v":8.5935609551488851E-2},{"$f":"Q59/M59","v":0.11041377807775446},{"$f":"R59/M59","v":6.9740619712623381E-2},{"$f":"S59/M59","v":5.2952709378570042E-3},{"$f":"T59/M59","v":8.1095720367476878E-2},{"$f":"U59/M59","v":1.6705048445514143E-2},{"$f":"V59/M59","v":0.28220311124461928},{"$f":"W59","v":27.366363333333332},{"$f":"AA59/AA59","v":1},{"$f":"AC59/AA59","v":0.68975834640591627},{"$f":"AD59/AA59","v":8.201589401411756E-2},{"$f":"AE59/AA59","v":8.3497188954473736E-2},{"$f":"AF59/AA59","v":4.1571382804032567E-2},{"$f":"AG59/AA59","v":3.2065492259494384E-3},{"$f":"AH59/AA59","v":2.3717802168668062E-2},{"$f":"AI59/AA59","v":2.1373544891708277E-3},{"$f":"AJ59/AA59","v":7.4095473116781899E-2},{"$f":"I59","v":14.263685499999999},{"$f":"BE59","v":14.263685499999999},{"$f":"BE59*AM59","v":4.9724752396475456},{"$f":"BE59*AN59","v":1.2257585078932329},{"$f":"BE59*AO59","v":1.574907405367884},{"$f":"BE59*AP59","v":0.99475826615596019},{"$f":"BE59*AQ59","v":7.5530079294882355E-2},{"$f":"BE59*AR59","v":1.1567238507176345},{"$f":"BE59*AS59","v":0.23827555728907762},{"$f":"BE59*AT59","v":4.0252564259147627},{"$f":"W59","v":27.366363333333332},{"$f":"BO59","v":27.366363333333332},{"$f":"BO59*AW59","v":18.876177519943496},{"$f":"BO59*AX59","v":2.2444767546984994},{"$f":"BO59*AY59","v":2.2850144102401151},{"$f":"BO59*AZ59","v":1.1376575660842407},{"$f":"BO59*BA59","v":8.7751591163551093E-2},{"$f":"BO59*BB59","v":0.64906999161589141},{"$f":"BO59*BC59","v":5.8491619522779932E-2},{"$f":"BO59*BD59","v":2.027723638669086},9.8983549999999987,4.1510250000000006,null,4.4802245000000003,1.8863315,0.4480555,1.5133950000000003,0.29655500000000001,0.22516849999999997,5.7473299999999998,0.11071900000000001,7.0279999999999995E-3,3.3700000000000001E-4,1.6300000000000002E-3,2.0027999999999997E-2,0.36099999999999993,8.7915000000000007E-2,1.2095E-2,7.9210000000000017E-2,0.16396500000000003,0.22950999999999996,0.20363500000000001,0.16445500000000007,0.84077500000000005,7.9850000000000004E-2,2.8600999999999998E-2,9.3449999999999989E-4,8.7049999999999996E-4,1.9661500000000002E-2,1.4915000000000002E-3,6.0065000000000006E-3,5.4100000000000003E-4,4.2249999999999997E-4,0.34733000000000003,2.2394999999999998E-2,0,2.4718999999999998E-2,3.4499999999999998E-5,2.2899999999999998E-4,4.7487999999999995E-2,0.134213,1.1899999999999999E-4,1.2224149999999998,0.45729250000000005,3.7899999999999991E-3,1.5775000000000001E-3,4.8455E-3,4.7500000000000003E-5,101.82690250000002,22.893628571428572,16.491671428571433,null,16.791350476190473,10.271054761904761,1.4461952380952381,3.8274257142857149,0.67326190476190473,0.51931095238095237,6.4019571428571433,5.4102380952380964E-2,2.6888095238095242E-2,8.5523809523809521E-4,3.5228571428571422E-3,3.3602380952380946E-2,0.74688571428571437,8.488095238095239E-2,8.1761904761904741E-3,0.2066047619047619,0.5085761904761904,0.54953333333333332,0.69495238095238099,0.16668095238095237,2.1263476190476189,-0.2813095238095239,0,4.285714285714286E-4,1.2209523809523812E-3,4.3378095238095243E-2,2.48E-3,0,1.6247619047619047E-3,1.2823809523809524E-3,1.1210809523809526,2.9895238095238093E-2,0,5.3979523809523811E-2,5.6666666666666671E-5,1.6766666666666661E-3,0.11004428571428571,0.27701238095238101,3.7619047619047625E-4,7.6988523809523812,2.4899523809523818,1.0786190476190474E-2,2.7490476190476184E-3,9.9880952380952369E-3,3.2857142857142864E-5,26.856999047619048]
["BRIG1",2001,null,null,null,null,{"$f":"G59","v":5.5172266928999996},{"$f":"H59","v":10.681987469999999},{"$f":"Tracking!S25","v":13.804496666666664},null,null,null,40.272124285714284,28.272124285714284,13.751013333333336,3.435397619047619,4.3173138095238084,2.3960476190476192,0.24740380952380953,3.7180666666666662,0.40688047619047618,12,{"$f":"Tracking!R25","v":27.072117727272722},null,null,null,161.93548681818183,149.93548681818183,109.3283640909091,16.217855,11.690850454545453,5.8471363636363636,0.67500545454545469,6.1490563636363644,2.7219999999999998E-2,12,{"$f":"I60","v":13.804496666666664},1,0.3414523960984901,8.5304604114619709E-2,0.10720352814999848,5.9496429889037868E-2,6.1433016984299236E-3,9.2323579463762601E-2,1.0103278220533521E-2,0.29797285871648832,{"$f":"W60","v":27.072117727272722},{"$f":"AA60/AA60","v":1},{"$f":"AC60/AA60","v":0.67513530381182585},{"$f":"AD60/AA60","v":0.10015009877488501},{"$f":"AE60/AA60","v":7.2194493524891948E-2},{"$f":"AF60/AA60","v":3.6107813540594842E-2},{"$f":"AG60/AA60","v":4.1683603008112625E-3},{"$f":"AH60/AA60","v":3.7972259721801502E-2},{"$f":"AI60/AA60","v":1.6809163040687992E-4},{"$f":"AJ60/AA60","v":7.4103584308690643E-2},{"$f":"I60","v":13.804496666666664},{"$f":"BE60","v":13.804496666666664},{"$f":"BE60*AM60","v":4.713578463766952},{"$f":"BE60*AN60","v":1.1775871231515871},{"$f":"BE60*AO60","v":1.4798907470015599},{"$f":"BE60*AP60","v":0.82131826808179009},{"$f":"BE60*AQ60","v":8.4805187818303526E-2},{"$f":"BE60*AR60","v":1.2744805449622456},{"$f":"BE60*AS60","v":0.13947067051776088},{"$f":"BE60*AT60","v":4.1133653349088997},{"$f":"W60","v":27.072117727272722},{"$f":"BO60","v":27.072117727272722},{"$f":"BO60*AW60","v":18.277342426631787},{"$f":"BO60*AX60","v":2.7112752644316784},{"$f":"BO60*AY60","v":1.9544578279667031},{"$f":"BO60*AZ60","v":0.97751497904539564},{"$f":"BO60*BA60","v":0.11284634079325244},{"$f":"BO60*BB60","v":1.0279894855591865},{"$f":"BO60*BC60","v":4.5505964073442682E-3},{"$f":"BO60*BD60","v":2.0061409584177525},9.8596809523809519,3.8748650000000007,9.9890220000000003,4.075273809523809,1.6993276190476192,0.40739428571428571,1.4147314285714283,0.2396047619047619,0.24740380952380953,6.1967780952380949,6.6811428571428563E-2,1.2455000000000001E-3,2.4499999999999999E-4,1.7459999999999999E-3,1.9210999999999999E-2,0.27671428571428575,6.1180952380952391E-2,3.2714285714285714E-3,3.1152380952380952E-2,0.13195714285714288,0.28136190476190476,0.23992857142857144,0.10156190476190477,0.78596190476190486,2.4957142857142858E-2,1.22995E-2,4.86E-4,6.7449999999999997E-4,1.9301499999999999E-2,1.521E-3,0,8.7949999999999986E-4,7.9850000000000006E-4,0.31580952380952382,9.8809523809523826E-3,0,2.37845E-2,1.5100000000000001E-4,4.1799999999999997E-4,6.0895000000000019E-2,0.13577899999999998,2.185E-4,1.1647190476190477,0.40252949999999987,3.8360000000000004E-3,2.8110000000000001E-3,3.8309999999999998E-3,5.0500000000000001E-5,105.17751952380955,27.658140909090914,17.409713636363634,23.073664705882351,16.599216363636366,10.170360909090904,1.7992386363636363,3.3655581818181819,0.58471363636363638,0.67500545454545469,10.248427272727275,4.3372727272727278E-3,2.1896363636363637E-2,5.113636363636363E-4,3.0540909090909091E-3,3.5427272727272724E-2,0.71232272727272727,5.0577272727272728E-2,2.9772727272727273E-3,0.20137727272727268,0.44949999999999996,0.42803181818181818,0.60968181818181821,0.1811636363636363,1.8697545454545454,-0.38169999999999998,0,5.9999999999999995E-4,1.09E-3,4.3661818181818184E-2,2.7431818181818182E-3,0,8.2272727272727261E-4,1.8881818181818186E-3,1.394759090909091,2.0186363636363638E-2,0,4.5996818181818194E-2,1.509090909090909E-4,1.9127272727272728E-3,0.17023727272727271,0.30638590909090913,3.7409090909090904E-4,7.9207045454545444,2.4655422727272733,1.6917727272727275E-2,4.2568181818181819E-3,8.7313636363636361E-3,3.8636363636363643E-5,28.406947727272726]
["BRIG1",2002,null,null,null,null,{"$f":"G59","v":5.5172266928999996},{"$f":"H59","v":10.681987469999999},{"$f":"Tracking!S26","v":14.832330000000002},null,null,null,44.478603636363637,32.478603636363637,16.345109545454548,3.6266959090909081,4.3113277272727268,2.0506363636363631,0.23342727272727271,3.9048709090909086,2.006533181818182,12,{"$f":"Tracking!R26","v":26.532768636363642},null,null,null,155.81272454545453,143.81272454545453,111.51460772727273,9.9717918181818188,13.107415454545452,4.7817272727272737,0.9796354545454542,3.4526236363636347,4.9218181818181817E-3,12,14.832330000000002,1,0.36748252438598472,8.1537989338448802E-2,9.6930374939828048E-2,4.6103883575154735E-2,5.2480800574511164E-3,8.779212002731282E-2,4.5112324078846168E-2,0.26979264228046401,26.532768636363642,{"$f":"AA61/AA61","v":1},{"$f":"AC61/AA61","v":0.71569641088421565},{"$f":"AD61/AA61","v":6.3998571665260837E-2},{"$f":"AE61/AA61","v":8.4122882086704584E-2},{"$f":"AF61/AA61","v":3.0688939473183543E-2},{"$f":"AG61/AA61","v":6.2872622079056814E-3},{"$f":"AH61/AA61","v":2.2158804079935184E-2},{"$f":"AI61/AA61","v":3.1588037473681184E-5},{"$f":"AJ61/AA61","v":7.7015532813555901E-2},14.832330000000002,{"$f":"BE61","v":14.832330000000002},5.4506220709259736,1.2093983654043545,1.43770330813126,0.68382801546827499,7.784125527853393E-2,1.3021616956447131,0.66912087780439244,4.0016535018757953,26.532768636363642,{"$f":"BO61","v":26.532768636363642},18.989407283866743,1.6980592950521036,2.2320129674306322,0.81426253073734645,0.16681847351851428,0.58793442191143097,8.3811808996596751E-4,2.043435313548351,10.847959090909093,4.3398409090909098,10.839058181818181,4.5881595454545456,1.9874886363636362,0.42642636363636366,1.4051127272727275,0.20506363636363634,0.23342727272727271,6.5081181818181815,0.33063863636363638,7.3413636363636355E-3,2.1772727272727273E-4,2.0090909090909087E-3,1.6843636363636363E-2,0.26031363636363641,5.2677272727272739E-2,2.340909090909091E-3,3.423181818181819E-2,0.1199409090909091,0.28395909090909094,0.23179545454545458,0.11069090909090908,0.78061818181818188,0.13359545454545455,7.4012272727272718E-2,7.9090909090909082E-5,5.0999999999999993E-4,1.6032272727272732E-2,1.1372727272727272E-3,9.4795454545454558E-3,5.0863636363636367E-4,5.4772727272727265E-4,0.33056363636363639,1.0990909090909091E-2,0,2.3265000000000001E-2,6.8181818181818184E-5,4.6227272727272713E-4,5.710500000000001E-2,7.3510454545454545E-2,3.0409090909090908E-4,1.3242590909090912,0.48181545454545466,1.3172727272727275E-3,1.5277272727272728E-3,2.9654545454545459E-3,4.4545454545454547E-5,93.983942727272733,22.517400000000002,16.763027272727271,20.685204761904764,16.42273590909091,10.255184999999999,1.0840750000000001,3.624897272727273,0.47817272727272725,0.9796354545454542,5.7543727272727274,7.7045454545454563E-4,7.3532272727272738E-2,4.6999999999999988E-4,3.543181818181819E-3,3.5870909090909092E-2,0.5791409090909091,6.0354545454545445E-2,2.4227272727272726E-3,0.14818636363636364,0.43120909090909088,0.59271363636363639,0.67797727272727282,0.16374545454545458,2.0138318181818189,-0.34247272727272721,0,1.6636363636363637E-4,1.1299999999999997E-3,5.171636363636363E-2,2.2572727272727276E-3,2.4882727272727275E-2,1.301818181818182E-3,1.3440909090909091E-3,0.84036818181818196,2.2763636363636364E-2,0,5.4128636363636379E-2,1.8000000000000004E-4,1.8277272727272728E-3,0.24735681818181818,8.9366363636363633E-2,7.563636363636365E-4,7.6308409090909093,2.486105454545454,4.8390909090909101E-3,4.0077272727272739E-3,6.7695454545454552E-3,6.7272727272727273E-5,30.502083636363626]
["BRIG1",2003,null,null,null,null,{"$f":"G59","v":5.5172266928999996},{"$f":"H59","v":10.681987469999999},{"$f":"Tracking!S27","v":14.38665304347826},null,null,null,42.626021739130429,30.626021739130426,15.105755652173913,3.9268234782608697,4.0418013043478265,1.9022173913043481,0.19056869565217394,2.831066086956521,2.6277873913043477,12,{"$f":"Tracking!R27","v":28.492539166666663},null,null,null,186.71730249999999,174.71730249999999,138.16855416666667,14.105485000000002,12.725255833333334,5.8170000000000002,0.69773708333333329,3.0297587500000005,0.17351208333333334,12,14.38665304347826,1,0.35437873476958609,9.2122682766242511E-2,9.4820045114308138E-2,4.4625731271518684E-2,4.4707126744889967E-3,6.6416380686016949E-2,6.164749334071809E-2,0.28151817857738465,28.492539166666663,1,0.73998795139334594,7.5544605728223829E-2,6.8152526107393474E-2,3.1154049046954287E-2,3.7368635578555092E-3,1.6226448804871743E-2,9.2927693904175466E-4,6.4268280653851026E-2,14.38665304347826,14.38665304347826,5.0983239031168406,1.3253370743923452,1.3641430906265071,0.64201491261483723,6.4318592104953956E-2,0.95550942533329641,0.8869010976930477,4.0501043606247871,28.492539166666663,28.492539166666663,21.084135687936335,2.1524576375418083,1.9418385194221808,0.88765796267059927,0.10647273128268743,0.46233272810871962,2.6477459582327303E-2,1.8311665037041758,8.8963826086956548,4.1779391304347824,9.1283386956521735,4.486661739130434,1.9049600000000002,0.46946956521739125,1.3134521739130434,0.1902217391304348,0.19056869565217394,4.7184434782608697,0.41798565217391298,6.3734782608695648E-3,2.1826086956521743E-4,1.75E-3,1.7208695652173915E-2,0.21853478260869566,5.1721739130434784E-2,3.8913043478260869E-3,2.3630434782608695E-2,0.10999565217391305,0.2806826086956522,0.23146086956521736,8.3926086956521734E-2,0.72969565217391308,0.22130869565217398,8.2639130434782618E-2,1.3521739130434781E-4,6.1217391304347832E-4,1.5891304347826086E-2,1.1321739130434781E-3,1.1513913043478262E-2,4.6608695652173914E-4,6.9130434782608717E-4,0.36393043478260861,1.4604347826086956E-2,6.2304347826086959E-4,2.4594347826086958E-2,4.2173913043478257E-5,4.5695652173913037E-4,4.1746521739130439E-2,8.5911304347826081E-2,2.2130434782608699E-4,1.3438739130434783,0.46180869565217381,9.6739130434782619E-4,1.5273913043478261E-3,3.8373913043478259E-3,4.7826086956521743E-6,98.713696521739152,23.62179047619048,18.920937499999997,21.113066666666668,18.796674583333331,12.371956250000002,1.5300633333333333,3.5870099999999994,0.58169999999999999,0.69773708333333329,5.0495979166666656,2.8208333333333325E-2,2.3715416666666666E-2,5.3625000000000005E-4,3.2087499999999998E-3,3.1063750000000001E-2,0.52357083333333343,7.5245833333333331E-2,3.1083333333333332E-3,0.16884166666666667,0.47277916666666658,0.58210416666666676,0.74883333333333335,2.0225000000000003E-2,1.9927833333333336,-0.2656041666666667,0,8.1666666666666669E-5,1.597916666666667E-3,4.5486249999999999E-2,2.4891666666666677E-3,3.8511666666666673E-2,8.4708333333333337E-4,1.7433333333333335E-3,1.1860958333333333,2.4583333333333336E-2,0,6.1272083333333338E-2,1.25E-4,1.95875E-3,0.18612083333333332,0.43161791666666666,7.5416666666666687E-4,9.1510666666666669,2.9992620833333334,4.2883333333333341E-3,5.0537500000000001E-3,6.7287499999999995E-3,1.2500000000000001E-5,24.585178333333342]
["BRIG1",2004,{"$f":"J63","v":14.329750208695652},{"$f":"Tracking!Y28","v":27.430231932727271},{"$f":"Tracking!AD28","v":14.329750208695652},{"$f":"Tracking!AE28","v":27.430231932727271},{"$f":"G59","v":5.5172266928999996},{"$f":"H59","v":10.681987469999999},{"$f":"Tracking!S28","v":14.361585833333336},{"$f":"Tracking!AG28","v":14.329750208695652},null,null,42.189543749999991,30.189543749999999,13.869555833333335,4.411200833333333,5.3657595833333334,2.7658333333333336,0.28070666666666666,2.2370208333333328,1.2594662500000002,12,{"$f":"Tracking!R28","v":27.687370800000004},{"$f":"Tracking!AF28","v":27.430231932727271},null,null,170.0588736,158.0588736,124.43427199999998,10.083792000000001,13.96393,4.6505200000000002,1.0301331999999999,3.1954199999999999,0.70080719999999996,12,14.361585833333336,1,0.32874391615892595,0.10455673233805317,0.12718221403693977,6.5557317939313672E-2,6.6534653308894035E-3,5.3023110337222672E-2,2.9852568623712612E-2,0.28443066535887823,27.687370800000004,1,0.73171290251330923,5.9295888456361037E-2,8.2112327950877362E-2,2.7346529478600522E-2,6.0575092507257431E-3,1.8790080942885888E-2,4.1209681398242538E-3,7.0563797971669034E-2,14.361585833333336,14.361585833333336,4.7212839691025534,1.5016004859258099,1.8265382833648824,0.94150704858857659,9.555431343867575E-2,0.7614959502583275,0.42873022663492233,4.0848754141836405,27.687370800000004,27.687370800000004,20.259206451030249,1.6417472506067079,2.273474471227146,0.75715350176714336,0.16771650474927385,0.52024793842769523,0.11409877294230038,1.9537260394978888,7.6571999999999987,4.164366666666667,8.1621230434782621,4.7578100000000001,1.7387808333333334,0.53582833333333335,1.725195,0.27658333333333329,0.28070666666666666,3.728368333333334,0.20071666666666665,1.5193750000000001E-2,3.0624999999999999E-4,1.9216666666666668E-3,1.8356666666666667E-2,0.3257666666666667,6.2762500000000013E-2,2.4125000000000001E-3,5.7316666666666662E-2,0.16217083333333329,0.31632083333333333,0.30827499999999997,0.11435833333333334,0.95844166666666641,0.11261666666666668,2.1651666666666666E-2,1.1916666666666667E-4,1.0441666666666666E-3,2.5626250000000003E-2,2E-3,2.2752916666666664E-2,6.7666666666666656E-4,8.145833333333335E-4,0.41537083333333341,1.3729166666666667E-2,0,2.7396250000000007E-2,5.8333333333333333E-5,4.6416666666666671E-4,5.9082500000000003E-2,0.14879166666666668,2.4875E-4,1.203154166666667,0.42152249999999997,1.9220833333333332E-3,1.2604166666666668E-3,5.418333333333334E-3,7.0000000000000007E-5,98.023451249999994,22.452612000000002,17.126912000000001,23.294716000000005,17.911928,11.259685599999997,1.1327383999999998,3.9114504000000005,0.46505199999999997,1.0301331999999999,5.3256999999999994,0.1128692,5.8219200000000006E-2,7.1280000000000009E-4,3.5839999999999995E-3,3.4582400000000006E-2,0.52542400000000011,5.3739999999999996E-2,4.9119999999999997E-3,0.196768,0.55526799999999998,0.58641599999999994,0.71555199999999997,0.11902399999999998,2.1730280000000004,6.3896000000000008E-2,0,7.039999999999999E-5,1.2252000000000001E-3,4.33336E-2,2.3800000000000002E-3,3.58372E-2,9.360000000000002E-4,1.2744E-3,0.87809200000000009,1.7788000000000005E-2,0,5.1005999999999989E-2,1.064E-4,1.6003999999999999E-3,0.29098360000000001,0.20609160000000004,4.7719999999999989E-4,8.2288200000000025,2.7296207999999997,3.762800000000001E-3,3.5052E-3,7.2859999999999991E-3,2.3999999999999999E-6,26.558826800000006]
["BRIG1",2005,{"$f":"C63","v":14.329750208695652},{"$f":"Tracking!Y29","v":27.15109452501515},{"$f":"Tracking!AD29","v":14.168927283333332},{"$f":"Tracking!AE29","v":27.036055602196967},{"$f":"G63","v":5.5172266928999996},{"$f":"H63","v":10.681987469999999},{"$f":"Tracking!S29","v":14.609202916666668},{"$f":"Tracking!AG29","v":14.398853692028984},null,null,43.721470833333335,31.721470833333331,15.754264583333333,3.9352041666666668,3.3386845833333338,2.187208333333333,0.16780999999999999,2.8512491666666659,3.4870491666666674,12,{"$f":"Tracking!R29","v":28.809123333333336},{"$f":"Tracking!AF29","v":27.718783932727273},null,null,191.40875916666661,179.40875916666661,148.16472583333331,8.8206579166666668,12.346787499999998,5.7591666666666681,0.60807833333333339,3.2587404166666669,0.45060125000000001,12,14.609202916666668,1,0.36033244726346786,9.0006216434659822E-2,7.6362586154990794E-2,5.0025955020383282E-2,3.8381599887088273E-3,6.5213935220424193E-2,7.9755989453313053E-2,0.27446469140400409,28.809123333333336,1,0.77407495079324373,4.60828331737222E-2,6.4504819704981203E-2,3.0088313051817816E-2,3.1768574018279767E-3,1.7025032871296985E-2,2.3541307720805244E-3,6.2693055700503028E-2,14.609202916666668,14.609202916666668,5.2641698395310925,1.3149190796553636,1.1155965163797013,0.73083932799281892,5.6072458101678303E-2,0.9527236126295322,1.165171433742977,4.0097103701813932,28.809123333333336,28.809123333333336,22.300420726646493,1.3276060244511878,1.8583273064752339,0.86681792160176263,9.1522476701675085E-2,0.49047627174324898,6.7820443755663054E-2,1.8061319738193282,8.6954782608695655,4.0073249999999998,8.9436495652173917,4.4702166666666665,1.9485483333333333,0.47195249999999994,1.1000175000000001,0.21872083333333334,0.16780999999999999,4.7520820833333337,0.56316750000000004,5.9045833333333337E-3,1.6999999999999999E-4,1.9437500000000002E-3,1.8930833333333334E-2,0.3480125,6.0112499999999992E-2,6.5416666666666661E-4,-2.5875000000000008E-3,0.15280833333333335,0.17187499999999997,0.14281250000000001,0.18205833333333332,0.64696666666666658,0.31287083333333326,0.13516416666666667,8.0833333333333324E-5,6.7750000000000015E-4,1.6417916666666667E-2,1.0816666666666668E-3,2.0650000000000002E-2,5.1125000000000009E-4,8.0124999999999999E-4,0.36585416666666665,1.3158333333333336E-2,0,2.3160833333333335E-2,6.7916666666666673E-5,4.0416666666666661E-4,3.2284583333333332E-2,0.18571833333333335,2.8708333333333331E-4,1.2154458333333336,0.47237541666666671,1.1845833333333335E-3,1.4254166666666662E-3,3.484583333333333E-3,9.1666666666666664E-6,96.881507916666649,23.34795217391304,17.940249999999995,23.349430434782612,18.608547083333331,12.813941249999997,1.0037816666666666,3.5326649999999997,0.57591666666666663,0.60807833333333339,5.431234166666667,7.4163750000000001E-2,3.2765833333333334E-2,5.7499999999999988E-4,3.48125E-3,3.4114166666666675E-2,1.0763374999999999,6.7350000000000007E-2,1.4083333333333335E-3,0.14163333333333331,0.61766666666666681,0.31219583333333334,0.41068333333333323,0.55224583333333332,2.0344250000000001,4.2041666666666672E-2,0,1.6333333333333334E-4,1.1295833333333334E-3,4.9000000000000009E-2,2.2841666666666666E-3,8.4704166666666678E-3,1.2191666666666668E-3,1.5175E-3,0.77812500000000007,1.6916666666666663E-2,0,4.2853333333333327E-2,1.2E-4,1.8720833333333335E-3,0.14183333333333328,0.17208333333333334,4.0583333333333335E-4,8.7420291666666667,3.1064099999999999,4.3733333333333332E-3,3.9212500000000003E-3,7.3012499999999996E-3,2.1250000000000002E-5,23.596100833333335]
["BRIG1",2006,{"$f":"C63","v":14.329750208695652},{"$f":"Tracking!Y30","v":26.87195711730303},{"$f":"Tracking!AD30","v":14.008104357971014},{"$f":"Tracking!AE30","v":26.641879271666664},{"$f":"G63","v":5.5172266928999996},{"$f":"H63","v":10.681987469999999},{"$f":"Tracking!S30","v":15.349784500000002},{"$f":"Tracking!AG30","v":14.707911258695654},null,null,46.555190500000002,34.555190500000002,16.150978500000001,4.1794369999999992,3.9552794999999996,2.0306000000000002,0.25186049999999999,5.347364999999999,2.639669,12,{"$f":"Tracking!R30","v":26.883259523809524},{"$f":"Tracking!AF30","v":27.68101229203463},null,null,155.27985476190474,143.27985476190477,106.33022095238093,9.4833823809523814,11.306973809523811,5.7187142857142863,0.62766999999999995,8.9091257142857163,0.9037695238095238,12,15.349784500000002,1,0.34692111291006317,8.9773813727601418E-2,8.4958937070615137E-2,4.3617048457786897E-2,5.4099338289680067E-3,0.11486076939154612,5.6699778728217208E-2,0.25775858440531996,26.883259523809524,1,0.68476507216869986,6.107284422369879E-2,7.2816746427674939E-2,3.6828436595867264E-2,4.0421856457969075E-3,5.7374639665566059E-2,5.8202625523787405E-3,7.7279824986956361E-2,15.349784500000002,15.349784500000002,5.3251643216696385,1.3780086944618237,1.3041013753830037,0.66951229435308635,8.3041318433918765E-2,1.7630880576644292,0.87032938467581833,3.9565387236467227,26.883259523809524,26.883259523809524,18.408717147951318,1.6418371211228859,1.9575514918946155,0.9900684188628639,0.10866712575937587,1.5424173282144684,0.15646762869230771,2.0775335910789279,13.190034999999998,4.2777599999999998,13.278806499999998,4.6436975,1.973751,0.50528550000000005,1.2877019999999999,0.20306000000000002,0.25186049999999999,8.9122749999999975,0.42203700000000011,1.4356500000000003E-2,1.4899999999999999E-4,1.7625000000000006E-3,2.0230499999999998E-2,0.36719999999999997,5.2389999999999992E-2,1.415E-3,-9.8500000000000011E-3,0.17963999999999999,0.21770499999999998,0.14992999999999998,0.21256499999999998,0.74999000000000005,0.23446500000000001,0.11335550000000001,9.4000000000000008E-5,6.6050000000000006E-4,1.9946000000000002E-2,1.1754999999999999E-3,1.7817499999999997E-2,5.6800000000000004E-4,6.8100000000000018E-4,0.39169499999999996,1.5099999999999998E-3,0,2.5294499999999998E-2,6.2500000000000001E-5,3.28E-4,5.3990000000000003E-2,0.18752300000000002,3.2749999999999999E-4,1.18468,0.47848499999999994,1.7880000000000003E-3,1.0509999999999999E-3,2.882E-3,3.4999999999999997E-5,88.352984500000019,29.671552380952377,14.823009523809523,29.398023809523806,15.856096666666666,10.10544761904762,1.0977847619047618,3.3078514285714284,0.57187142857142859,0.62766999999999995,14.848542857142856,0.14547428571428572,3.3418571428571422E-2,4.2952380952380955E-4,3.4052380952380949E-3,3.5870952380952371E-2,1.0139142857142853,8.6247619047619031E-2,3.9476190476190479E-3,0.12028571428571426,0.53869047619047605,0.28572380952380955,0.39358571428571426,0.52616666666666656,1.864452380952381,8.0819047619047638E-2,0,1.5142857142857143E-4,1.5280952380952381E-3,4.6226666666666673E-2,2.5328571428571427E-3,1.6329523809523811E-2,1.1295238095238096E-3,1.4776190476190475E-3,0.85099523809523803,6.9190476190476198E-3,0,5.0236190476190483E-2,9.0000000000000006E-5,1.3923809523809525E-3,0.15074761904761907,0.2624366666666666,5.5619047619047618E-4,6.3596999999999992,2.4498052380952373,3.7242857142857143E-3,3.0233333333333336E-3,8.5142857142857156E-3,4.4761904761904754E-5,28.501205238095238]
["BRIG1",2007,{"$f":"C63","v":14.329750208695652},{"$f":"Tracking!Y31","v":26.592819709590909},{"$f":"Tracking!AD31","v":13.847281432608696},{"$f":"Tracking!AE31","v":26.24770294113636},{"$f":"G63","v":5.5172266928999996},{"$f":"H63","v":10.681987469999999},{"$f":"Tracking!S31","v":12.737269545454541},{"$f":"Tracking!AG31","v":14.288899167786562},null,null,36.031899545454543,24.031899545454543,11.282292272727274,3.2614059090909091,3.2742731818181823,1.6434999999999997,0.21121909090909091,2.3859700000000008,1.9732359090909093,12,{"$f":"Tracking!R31","v":26.103783478260869},{"$f":"Tracking!AF31","v":27.595215260414079},null,null,142.51393956521741,130.51393956521741,102.92910130434782,7.615380869565219,10.088043913043478,4.86591304347826,0.62110173913043487,3.4114065217391305,0.98299521739130424,12,12.737269545454541,1,0.31311955281443232,9.0514403909697241E-2,9.0871511719432363E-2,4.5612360734040978E-2,5.8620026580235175E-3,6.6218268537024519E-2,5.4763582658240252E-2,0.33303822866351801,26.103783478260869,1,0.72223883234415309,5.3436042065767596E-2,7.0786366188599917E-2,3.4143418239108568E-2,4.3581823716704248E-3,2.393735330134494E-2,6.8975373243503994E-3,8.4202289520658044E-2,12.737269545454541,12.737269545454541,3.9882881441496139,1.1529063603439582,1.1574549387733413,0.5809769332739867,7.4665907931416517E-2,0.8434399351893731,0.69753851359278607,4.2419976874279541,26.103783478260869,26.103783478260869,18.853166099103724,1.394882872020037,1.8477919762000983,0.89127239692139304,0.11376504898885821,0.62485548762094134,0.18005182084806565,2.1979983340210918,7.0470947368421051,3.2232136363636368,7.3599068421052634,3.5765440909090911,1.4034672727272728,0.38665909090909095,1.0876418181818182,0.16435000000000002,0.21121909090909091,3.9766172727272733,0.32320636363636362,7.6063636363636359E-3,1.3636363636363637E-4,1.6568181818181816E-3,1.5512727272727274E-2,0.31123636363636364,4.4845454545454549E-2,8.8181818181818185E-4,8.8636363636363635E-3,0.14349545454545451,0.19183636363636361,0.12723636363636365,0.18670000000000006,0.65813181818181821,0.17984090909090911,5.3168181818181816E-2,7.0909090909090905E-5,6.9000000000000008E-4,1.6121363636363635E-2,1.2754545454545453E-3,9.405454545454545E-3,4.5545454545454551E-4,5.4454545454545456E-4,0.3002545454545455,-2.499999999999999E-4,0,2.1113181818181816E-2,8.3181818181818183E-5,3.3545454545454541E-4,5.0788636363636355E-2,0.12410454545454544,2.6499999999999999E-4,0.92340454545454531,0.3408595454545455,1.3818181818181818E-3,1.2204545454545454E-3,3.6072727272727272E-3,1.309090909090909E-4,117.18892136363637,21.720859090909084,15.889836363636364,21.393271428571431,14.786163913043481,9.6881343478260877,0.86073999999999995,2.9778495652173911,0.48659130434782621,0.62110173913043487,5.685677391304349,0.1517478260869565,1.2972272727272728E-2,4.8545454545454548E-4,3.58409090909091E-3,2.9557272727272731E-2,0.95305652173913047,5.9208695652173918E-2,1.3521739130434782E-3,0.10945652173913044,0.52157826086956516,0.25646521739130429,0.32892173913043476,0.51491304347826083,1.7313347826086953,8.4478260869565225E-2,0,2.0681818181818182E-4,1.4209090909090909E-3,4.1611818181818187E-2,2.1918181818181819E-3,9.7654545454545442E-3,8.6681818181818181E-4,1.2731818181818183E-3,0.66815217391304349,9.3869565217391294E-3,0,4.3518181818181817E-2,1.3227272727272724E-4,1.4695454545454541E-3,0.17854590909090909,0.18118181818181822,4.8636363636363639E-4,7.4652217391304347,2.337593636363636,3.3972727272727275E-3,3.0686363636363632E-3,7.324545454545456E-3,9.1818181818181829E-5,30.616463478260872]
["BRIG1",2008,{"$f":"C63","v":14.329750208695652},{"$f":"Tracking!Y32","v":26.313682301878789},{"$f":"Tracking!AD32","v":13.686458507246378},{"$f":"Tracking!AE32","v":25.853526610606057},{"$f":"G63","v":5.5172266928999996},{"$f":"H63","v":10.681987469999999},null,{"$f":"Tracking!AG32","v":14.264460698863637},null,null,null,null,null,null,null,null,null,null,null,null,null,{"$f":"Tracking!AF32","v":27.370884283850934}]
["BRIG1",2009,{"$f":"C63","v":14.329750208695652},{"$f":"Tracking!Y33","v":26.034544894166668},{"$f":"Tracking!AD33","v":13.52563558188406},{"$f":"Tracking!AE33","v":25.459350280075753},{"$f":"G63","v":5.5172266928999996},{"$f":"H63","v":10.681987469999999},{"$f":"Tracking!S33","v":12.780625833333334},{"$f":"Tracking!AG33","v":13.869220698863636},null,null,36.15732666666667,24.157326666666666,10.932125416666667,2.8349320833333329,3.8262033333333338,1.6764583333333334,0.25741375000000005,2.5361525,2.0940408333333331,12,{"$f":"Tracking!R33","v":23.029385999999999},{"$f":"Tracking!AF33","v":26.206388083850932},null,null,102.78220120000002,90.782201200000003,58.300750400000005,14.011521599999998,8.8714215999999997,4.2878800000000004,0.67643759999999997,4.095828,0.53836479999999998,12,12.780625833333334,1,0.30234883008496755,7.8405467015537078E-2,0.10582096869624764,4.6365660514355873E-2,7.1192694187014937E-3,7.0142146386559912E-2,5.7914702949093386E-2,0.33188294341082369,23.029385999999999,1,0.56722613175558256,0.13632245112882441,8.6312819694700199E-2,4.1718118019834736E-2,6.5812717776275826E-3,3.9849584385044282E-2,5.2379185667800225E-3,0.11675173191367688,12.780625833333334,12.780625833333334,3.8642072684620468,1.0020709372133378,1.3524582062276207,0.59258215854933993,9.0988718647116301E-2,0.89646052811351595,0.74018614864100918,4.2416717201990783,23.029385999999999,23.029385999999999,13.062869537486169,3.1394223475118328,1.9877312414976529,0.96074264307232971,0.15156264813789175,0.91771146074275733,0.12062604851094391,2.6887207004085836,7.7120291666666674,3.4718625000000003,7.9319908333333338,3.7105362500000005,1.3715145833333331,0.33885583333333336,1.2431999999999999,0.1676458333333333,0.25741375000000005,4.2269208333333337,0.33190499999999995,1.5997500000000001E-2,2.3458333333333331E-4,1.3808333333333337E-3,1.819875E-2,0.32791666666666669,3.7187500000000005E-2,1.6666666666666666E-4,5.8791666666666654E-3,0.16750833333333337,0.20230833333333334,0.15660833333333332,0.19627916666666664,0.72858333333333325,0.18500000000000005,4.8335833333333335E-2,8.3333333333333331E-5,6.3291666666666672E-4,1.8176249999999998E-2,1.0141666666666669E-3,6.4979166666666666E-3,3.7791666666666675E-4,4.3375000000000005E-4,0.26351666666666662,1.3208333333333334E-2,2.4379166666666668E-3,2.4017083333333328E-2,8.1666666666666641E-5,2.1708333333333334E-4,5.8652083333333327E-2,0.17141416666666665,2.7833333333333329E-4,0.93104583333333324,0.33361666666666667,1.5033333333333337E-3,1.0241666666666665E-3,2.6666666666666666E-3,5.7500000000000009E-5,116.38780333333335,18.208379999999998,11.361804000000001,17.999908000000001,11.5087268,6.0088927999999999,1.5995496,2.7045935999999995,0.428788,0.67643759999999997,6.8263800000000012,9.04668E-2,5.1180799999999999E-2,5.6280000000000013E-4,3.0536000000000001E-3,2.9797600000000007E-2,0.83289599999999997,4.699600000000001E-2,5.1999999999999997E-5,8.2399999999999987E-2,0.44339200000000001,0.25029599999999996,0.32874400000000004,0.44658800000000004,1.55142,5.0856000000000005E-2,0,1.8559999999999996E-4,1.5060000000000002E-3,3.9849599999999992E-2,2.1512000000000002E-3,1.1148799999999999E-2,1.0215999999999999E-3,7.5880000000000001E-4,1.2441279999999997,1.5776000000000002E-2,0,5.2434000000000008E-2,1.3199999999999998E-4,1.2204E-3,0.16613279999999997,0.1935316,5.9120000000000006E-4,4.0382759999999998,1.4607348000000002,3.4103999999999996E-3,2.0876000000000002E-3,7.4064000000000005E-3,1.1240000000000002E-4,40.8934316]
["BRIG1",2010,{"$f":"C63","v":14.329750208695652},{"$f":"Tracking!Y34","v":25.755407486454548},{"$f":"Tracking!AD34","v":13.364812656521742},{"$f":"Tracking!AE34","v":25.06517394954545},{"$f":"G63","v":5.5172266928999996},{"$f":"H63","v":10.681987469999999},{"$f":"Tracking!S34","v":11.816622083333334},{"$f":"Tracking!AG34","v":13.171075490530303},null,null,33.092290000000006,21.092289999999995,8.8391699999999993,2.6038045833333334,3.8828962499999999,1.8746666666666669,0.23856291666666671,2.7449950000000007,0.90819500000000009,12,{"$f":"Tracking!R34","v":24.5091392},{"$f":"Tracking!AF34","v":25.131392050517597},null,null,120.16900680000001,108.16900680000002,64.113459599999999,19.879256800000004,10.974941599999999,4.8308000000000009,0.72221319999999989,7.0200360000000011,0.62829959999999996,12,11.816622083333334,1,0.26710662816021491,7.8683118736519383E-2,0.11733537479576056,5.6649650618517684E-2,7.2090180723868511E-3,8.294968405027274E-2,2.7444308024618422E-2,0.36262223013275896,24.5091392,1,0.53352741532353243,0.16542748691503709,9.1329219507204906E-2,4.0200049319205997E-2,6.0099789390952998E-3,5.8418024638279699E-2,5.228466280375382E-3,9.9859359077269158E-2,11.816622083333334,11.816622083333334,3.156298080922701,0.92976867844749378,1.3865077809677777,0.6694075125118939,8.5186242153315564E-2,0.98018506835397567,0.32429901626550828,4.284969852494342,24.5091392,24.5091392,13.07629768918067,4.0544853043068221,2.2384005539294405,0.98526860461128496,0.14729941040735503,1.4317754976486268,0.12814520786822647,2.4474669320475733,7.5589083333333322,2.9874583333333331,7.7567287499999997,3.3012416666666673,1.13509875,0.31571125,1.2779849999999999,0.18746666666666664,0.23856291666666671,4.5749916666666666,0.14641666666666667,1.5214583333333335E-2,9.2499999999999985E-5,1.4679166666666668E-3,1.5827499999999998E-2,0.31575833333333336,5.7112500000000004E-2,2.7916666666666666E-4,3.7000000000000006E-3,0.16071250000000001,0.21335833333333332,0.14653749999999999,0.18568333333333334,0.70999166666666669,8.4537499999999988E-2,8.5191666666666662E-3,1.325E-4,6.9000000000000008E-4,1.9055416666666668E-2,1.1608333333333334E-3,5.8600000000000006E-3,4.8833333333333335E-4,3.2833333333333331E-4,0.24473749999999997,1.2641666666666667E-2,1.0529166666666666E-3,1.9944583333333335E-2,9.1666666666666668E-5,2.2458333333333336E-4,5.2020833333333322E-2,9.8529166666666668E-2,2.2374999999999996E-4,0.73700833333333327,0.27517541666666667,1.4991666666666662E-3,6.733333333333334E-4,2.9250000000000005E-3,8.1666666666666669E-5,130.5620283333333,25.343083999999998,13.643024,24.727048,13.283105599999999,6.5739552000000012,2.1664316000000001,3.2363928000000004,0.48308000000000001,0.72221319999999989,11.700059999999999,0.10103239999999998,4.9118400000000007E-2,5.6720000000000013E-4,3.6739999999999989E-3,3.1760400000000001E-2,0.91525600000000007,4.6912000000000002E-2,9.8000000000000019E-4,7.2939999999999991E-2,0.49021199999999981,0.34917599999999999,0.40560000000000002,0.48006800000000005,1.7979960000000004,4.8576000000000008E-2,0,2.6400000000000007E-4,1.6916000000000004E-3,4.5102000000000003E-2,2.5187999999999999E-3,1.4701599999999997E-2,1.3928000000000002E-3,9.180000000000002E-4,1.6794040000000001,1.9852000000000002E-2,0,5.2394400000000008E-2,1.4440000000000004E-4,1.4299999999999998E-3,0.17897759999999999,0.29520720000000006,5.2839999999999994E-4,4.604671999999999,1.5936859999999999,3.4535999999999994E-3,2.2087999999999995E-3,8.6855999999999982E-3,1.7119999999999999E-4,35.607086800000005]
["BRIG1",2011,{"$f":"C63","v":14.329750208695652},{"$f":"Tracking!Y35","v":25.476270078742427},{"$f":"Tracking!AD35","v":13.203989731159425},{"$f":"Tracking!AE35","v":24.670997619015147},{"$f":"G63","v":5.5172266928999996},{"$f":"H63","v":10.681987469999999},{"$f":"Tracking!S35","v":12.91688304347826},{"$f":"Tracking!AG35","v":12.562850126399868},null,null,36.712619130434788,24.712619130434781,9.9081752173913049,3.6808608695652176,3.313503913043478,1.6273043478260871,0.15060521739130434,4.0391452173913054,1.9930252173913043,12,{"$f":"Tracking!R35","v":22.664752173913044},{"$f":"Tracking!AF35","v":24.076765213043476},null,null,100.25327608695655,88.253276086956518,53.129895652173907,13.206361304347823,9.6228721739130432,3.9417391304347831,0.28013173913043482,6.9547252173913021,1.1175486956521739,12,12.91688304347826,1,0.26988472770599525,0.10026146204626903,9.0255176327002529E-2,4.4325476807974475E-2,4.1022738491150717E-3,0.11002062269218083,5.4287197824550874E-2,0.32686308643264272,22.664752173913044,1,0.52995670292201424,0.13172997252372121,9.5985613134143027E-2,3.9317808697003E-2,2.7942402489416641E-3,6.9371550625028866E-2,1.1147253628727776E-2,0.11969683653621031,12.91688304347826,12.91688304347826,3.4860694629993172,1.2950655790197914,1.1658155566843993,0.57254699977501433,5.2988591521338758E-2,1.42112351568555,0.701221385057891,4.2220522586807716,22.664752173913044,22.664752173913044,12.011337334631511,2.9856271811265156,2.1754901339464445,0.89112839013889589,6.3330762756635905E-2,1.5722890028363419,0.25264974091486792,2.7128991360945869,10.082047826086955,3.3501391304347821,10.125975217391305,3.447545652173913,1.2636260869565217,0.4469395652173912,1.0955660869565218,0.16273043478260873,0.15060521739130434,6.7319086956521739,0.32807826086956521,1.1303043478260869E-2,1.5478260869565213E-4,1.1843478260869567E-3,1.4222173913043479E-2,0.27753043478260864,4.3430434782608704E-2,6.0869565217391306E-5,-9.2652173913043527E-3,0.12605652173913046,0.18282608695652178,0.15073913043478263,0.15829130434782607,0.60864782608695644,0.18518695652173917,5.8394782608695642E-2,1.1434782608695653E-4,7.9434782608695659E-4,1.7183913043478261E-2,7.6347826086956537E-4,1.811217391304348E-2,5.2173913043478267E-4,3.4826086956521739E-4,0.34646521739130437,4.8347826086956522E-3,9.1217391304347845E-4,2.0245652173913047E-2,-2.6086956521739179E-6,1.6434782608695651E-4,2.3578260869565212E-2,0.10644391304347824,2.3652173913043473E-4,0.87627826086956551,0.3063334782608696,1.1656521739130436E-3,9.6391304347826097E-4,3.0256521739130435E-3,2.3521739130434778E-4,115.00348173913042,23.031247826086958,11.440039130434783,22.343043913043481,10.74316043478261,5.5210043478260857,1.4963104347826084,2.8729956521739131,0.39417391304347821,0.28013173913043482,11.591208695652174,0.17854434782608694,2.4913478260869561E-2,3.747826086956522E-4,3.2143478260869564E-3,2.2864347826086963E-2,0.78276956521739127,5.1008695652173926E-2,1.8695652173913045E-4,1.0939130434782608E-2,0.40116956521739133,0.36236956521739122,0.38183913043478257,0.43979130434782615,1.5961086956521737,9.9191304347826095E-2,4.8195652173913042E-3,2.6608695652173916E-4,1.4047826086956521E-3,3.2358695652173919E-2,2.4713043478260875E-3,1.9467391304347825E-2,1.2221739130434779E-3,8.4478260869565245E-4,1.1599304347826087,1.0069565217391304E-2,2.6860869565217393E-3,3.8692608695652171E-2,9.0434782608695658E-5,9.8478260869565184E-4,4.2533913043478255E-2,9.7163913043478253E-2,4.4043478260869559E-4,4.0215826086956517,1.3384252173913043,1.9773913043478262E-3,2.3252173913043479E-3,7.7113043478260887E-3,4.9173913043478248E-4,42.931069999999998]
["BRIG1",2012,{"$f":"C63","v":14.329750208695652},{"$f":"Tracking!Y36","v":25.197132671030307},{"$f":"Tracking!AD36","v":13.043166805797107},{"$f":"Tracking!AE36","v":24.276821288484843},{"$f":"G63","v":5.5172266928999996},{"$f":"H63","v":10.681987469999999},{"$f":"Tracking!S36","v":11.926676086956521},{"$f":"Tracking!AG36","v":12.360201761775361},null,null,33.141280434782608,21.141280434782608,8.4524269565217391,2.97573,3.3331339130434778,1.394173913043478,0.14702173913043479,3.3176373913043475,1.5211591304347827,12,{"$f":"Tracking!R36","v":20.951915833333334},{"$f":"Tracking!AF36","v":22.788798301811592},null,null,83.559431250000003,71.559431249999975,38.00200791666667,14.73691125,9.2021816666666663,4.0501250000000004,0.33971333333333331,4.4206124999999998,0.80788041666666677,12,11.926676086956521,1,0.25504225683600035,8.9789228447459027E-2,0.10057348024324582,4.2067593489244229E-2,4.4362117939212679E-3,0.10010589053229228,4.5899226296588345E-2,0.36208619107563805,20.951915833333334,1,0.45479016968137476,0.17636442744456809,0.1101273851318449,4.8469992428293369E-2,4.0655295069798991E-3,5.2903812697983145E-2,9.6683331202863671E-3,0.14361035996161114,11.926676086956521,11.926676086956521,3.0418063857693487,1.0708870437905857,1.1995073217991139,0.50172656130397697,5.2909261119235274E-2,1.1939305307749775,0.54742520468132616,4.3184847165189817,20.951915833333334,20.951915833333334,9.5287253569915489,3.6951726398126143,2.3073797042274995,1.0155392017999068,8.5180632048176011E-2,1.1084362309105742,0.20257010178486901,3.00891217471038,8.4819130434782615,2.9525173913043483,8.5677247826086962,3.0746739130434784,1.0829534782608696,0.35652304347826097,1.1041826086956521,0.13941739130434783,0.14702173913043479,5.5293956521739123,0.24457695652173911,1.2559130434782609E-2,1.3217391304347828E-4,1.2152173913043479E-3,1.2862173913043475E-2,0.25338260869565216,3.7395652173913031E-2,2.6086956521739128E-5,-3.9086956521739132E-3,0.11650000000000002,0.2068347826086957,0.14262173913043477,0.15138695652173911,0.61343478260869555,0.13616521739130433,2.9989130434782602E-2,1.2391304347826089E-4,6.1869565217391291E-4,1.5797391304347829E-2,7.0521739130434793E-4,1.6782608695652172E-2,4.621739130434783E-4,2.8869565217391302E-4,0.27637391304347825,5.7130434782608703E-3,5.239130434782609E-4,1.9953913043478259E-2,-1.0434782608695653E-5,1.826086956521739E-4,2.3329130434782613E-2,9.8461739130434781E-2,1.3304347826086955E-4,0.76079130434782627,0.26253391304347823,1.0860869565217388E-3,7.4869565217391303E-4,2.646521739130435E-3,-2.8695652173913044E-5,127.19399652173912,17.12382083333333,9.7561333333333327,16.825297083333336,9.4696583333333333,4.1534675000000005,1.667690833333334,2.7753224999999997,0.40501249999999994,0.33971333333333331,7.3676874999999979,0.1284525,2.6660416666666669E-2,6.7625000000000009E-4,3.0875E-3,2.2021250000000003E-2,0.75492500000000007,4.1645833333333333E-2,0,4.5249999999999985E-2,0.37577916666666661,0.38777916666666679,0.34147916666666672,0.39155833333333329,1.5418458333333331,7.1362499999999995E-2,1.6379166666666669E-3,2.4041666666666664E-4,1.8879166666666669E-3,3.5400833333333333E-2,2.4925000000000004E-3,9.2341666666666666E-3,1.2916666666666664E-3,6.0749999999999986E-4,1.2927833333333336,1.5441666666666671E-2,3.5579166666666671E-3,5.4467083333333333E-2,-2.8749999999999997E-5,9.5E-4,6.2115000000000004E-2,6.6444166666666679E-2,7.5041666666666659E-4,3.0119416666666665,1.0069012499999999,2.489166666666666E-3,1.3241666666666664E-3,7.1220833333333318E-3,7.4999999999999993E-5,50.770020416666661]
["BRIG1",2013,{"$f":"C63","v":14.329750208695652},{"$f":"Tracking!Y37","v":24.917995263318186},{"$f":"Tracking!AD37","v":12.882343880434789},{"$f":"Tracking!AE37","v":23.88264495795454},{"$f":"G63","v":5.5172266928999996},{"$f":"H63","v":10.681987469999999},{"$f":"Tracking!S37","v":11.801418636363639},{"$f":"Tracking!AG37","v":12.248445136693016},null,null,32.82344227272727,20.82344227272727,8.5972254545454554,2.8276254545454549,3.6730336363636358,1.5700454545454543,0.13245636363636362,2.5343999999999998,1.4886590909090907,12,{"$f":"Tracking!R37","v":20.118025652173912},{"$f":"Tracking!AF37","v":22.254643771884055},null,null,76.795246956521737,64.795246956521737,33.808626956521728,16.03394391304348,7.0514656521739143,3.5415652173913044,0.23689434782608695,3.0876856521739136,1.0350652173913044,12,11.801418636363639,1,0.26192333464332657,8.6146523909678599E-2,0.11190275553199761,4.7833053020462521E-2,4.0354196411148662E-3,7.7213108209123207E-2,4.5353533567257978E-2,0.36559236841440917,20.118025652173912,1,0.4402437428928741,0.2087882329764657,9.1821641724339528E-2,4.6116984549791094E-2,3.0847527316398456E-3,4.0206728600300383E-2,1.3478245834371952E-2,0.15625967069021732,11.801418636363639,11.801418636363639,3.0910669227582641,1.0166511927256268,1.3206112645957608,0.5644978833498564,4.762367655820085E-2,0.91122421419070887,0.53523603626558214,4.3145085899181295,20.118025652173912,20.118025652173912,8.8568349127278978,4.2004070268926004,1.847270143634985,0.92778267817360527,6.2059134585743962E-2,0.8088799973708376,0.27115569544220108,3.1436360633460398,7.1930818181818186,2.9690818181818184,7.3613613636363633,3.1781572727272729,1.0915299999999999,0.34385590909090907,1.2081599999999999,0.15700454545454548,0.13245636363636362,4.2240000000000002,0.24515181818181817,1.1501363636363636E-2,1.0136363636363637E-4,1.1418181818181818E-3,1.1267272727272725E-2,0.26624090909090908,4.9472727272727272E-2,4.0909090909090908E-4,1.2899999999999997E-2,0.14049090909090911,0.21314090909090908,0.14554999999999998,0.15911818181818183,0.67120000000000002,0.13619545454545454,4.2704090909090914E-2,1.1454545454545457E-4,6.5545454545454533E-4,1.401136363636364E-2,8.5227272727272723E-4,1.2294090909090909E-2,3.631818181818181E-4,2.0000000000000001E-4,0.26655454545454543,4.7318181818181825E-3,9.0909090909090931E-4,2.0058636363636365E-2,5.1818181818181805E-5,2.0272727272727274E-4,2.1184545454545452E-2,7.9813636363636364E-2,2.3090909090909097E-4,0.76416818181818169,0.26461363636363633,1.0977272727272726E-3,2.531818181818182E-4,2.6840909090909085E-3,5.4545454545454573E-5,129.40000545454544,13.918790909090909,9.0167043478260887,13.597522727272725,8.7103421739130447,3.8994539130434793,1.8604321739130438,2.1937930434782609,0.35415652173913043,0.23689434782608695,5.1461430434782605,0.16561086956521742,1.9637826086956519E-2,3.7782608695652173E-4,2.9873913043478259E-3,1.7597391304347822E-2,0.65391304347826107,5.1091304347826091E-2,0,3.6421739130434783E-2,0.30868260869565217,0.26321304347826091,0.25960869565217387,0.35084782608695653,1.218773913043478,9.3191304347826118E-2,2.2939130434782608E-3,2.5956521739130435E-4,1.1826086956521736E-3,2.7801304347826083E-2,1.7626086956521738E-3,1.0874347826086959E-2,9.4217391304347831E-4,6.039130434782609E-4,1.4421956521739132,8.113043478260867E-3,3.345652173913043E-3,3.5752173913043486E-2,-4.3478260869564615E-7,7.5565217391304347E-4,3.7912608695652161E-2,6.8446086956521726E-2,2.5217391304347829E-4,2.8544608695652172,0.94532217391304341,1.7143478260869568E-3,7.2521739130434787E-4,6.6899999999999989E-3,1.2999999999999996E-4,55.1838847826087]
["BRIG1",2014,{"$f":"C63","v":14.329750208695652},{"$f":"Tracking!Y38","v":24.638857855606066},{"$f":"Tracking!AD38","v":12.721520955072471},{"$f":"Tracking!AE38","v":23.488468627424236},{"$f":"G63","v":5.5172266928999996},{"$f":"H63","v":10.681987469999999},{"$f":"Tracking!S38","v":11.663864999999999},{"$f":"Tracking!AG38","v":12.02509297002635},null,null,32.66946227272728,20.669462272727273,8.0832609090909102,2.5614100000000004,4.5243931818181817,1.2380909090909091,0.1385068181818182,2.7491290909090904,1.3746713636363637,12,{"$f":"Tracking!R38","v":21.088576521739132},{"$f":"Tracking!AF38","v":21.866481876231884},null,null,100.44030956521739,88.440309565217404,37.565744782608697,29.051502608695653,10.804231304347827,4.4723043478260864,0.28006217391304344,4.8486182608695643,1.4178473913043477,12,11.663864999999999,1,0.24742558789646438,7.8403800424296705E-2,0.13848998015480593,3.7897498855513058E-2,4.2396418106166621E-3,8.4149811464882443E-2,4.2078175396965442E-2,0.36731550399645518,21.088576521739132,1,0.37401064318919386,0.28924146823573937,0.10756867786565789,4.4526986895855318E-2,2.7883443920609873E-3,4.8273629201842354E-2,1.4116318412815307E-2,0.11947394479313329,11.663864999999999,11.663864999999999,2.8859386547699946,0.91449134363593942,1.6153284323783355,0.44203131048835881,4.9450609727388309E-2,0.98151204070184106,0.49079415727652631,4.2843184510216137,21.088576521739132,21.088576521739132,7.887352068840185,6.0996908361495681,2.268470294512233,0.93901077043572045,5.8802214080940308E-2,1.0180221234051132,0.29769306105389071,2.519535427124028,7.5897999999999994,3.0079181818181819,7.7806127272727261,3.2932081818181826,1.0233845454545456,0.31216181818181821,1.4657809090909091,0.1238090909090909,0.1385068181818182,4.5818818181818184,0.22956545454545454,1.2177727272727274E-2,2.1727272727272725E-4,1.4831818181818184E-3,1.2083636363636364E-2,0.24480454545454536,3.8227272727272728E-2,6.8181818181818184E-5,4.1095454545454546E-2,0.2274636363636364,0.24084545454545447,0.14562727272727274,0.15929090909090912,0.81432272727272703,0.12753636363636364,3.1160909090909093E-2,1.3318181818181821E-4,6.2727272727272729E-4,1.4067727272727272E-2,9.2909090909090936E-4,1.6357272727272724E-2,4.8090909090909082E-4,2.4863636363636369E-4,0.24198636363636358,1.2686363636363641E-2,3.1272727272727268E-4,1.9484090909090909E-2,1.8636363636363634E-5,1.8681818181818182E-4,2.2366363636363643E-2,8.2720454545454528E-2,1.8136363636363638E-4,0.67556818181818179,0.24809318181818182,1.1763636363636366E-3,3.3454545454545456E-4,2.8495454545454544E-3,3.1590909090909087E-4,133.21777499999999,20.178952173913043,12.097913043478261,19.151131304347825,11.080231739130436,4.2164069565217401,2.9984521739130434,2.9062252173913046,0.44723043478260865,0.28006217391304344,8.0810304347826083,0.23185565217391305,2.5634347826086958E-2,7.3739130434782602E-4,4.8356521739130439E-3,2.5159130434782608E-2,0.80920434782608708,5.4234782608695638E-2,2.2608695652173911E-4,0.13698260869565218,0.42049999999999993,0.32454782608695654,0.31610434782608704,0.41643478260869571,1.6145695652173913,0.12880869565217393,9.8130434782608671E-3,3.4739130434782614E-4,1.7065217391304343E-3,3.6546521739130429E-2,2.4652173913043474E-3,1.9859130434782608E-2,1.3547826086956524E-3,5.3347826086956531E-4,2.3243826086956516,1.5969565217391304E-2,8.2347826086956531E-4,4.9559565217391313E-2,1.695652173913044E-5,1.0230434782608694E-3,3.6209130434782612E-2,9.9019565217391303E-2,3.9913043478260871E-4,3.0591086956521738,1.0221591304347826,2.089130434782609E-3,7.1956521739130442E-4,9.3652173913043469E-3,4.3739130434782605E-4,52.510029565217408]
["BRIG1",2015,{"$f":"C63","v":14.329750208695652},{"$f":"Tracking!Y39","v":24.359720447893945},{"$f":"Tracking!AD39","v":12.560698029710153},{"$f":"Tracking!AE39","v":23.094292296893933},{"$f":"G63","v":5.5172266928999996},{"$f":"H63","v":10.681987469999999},{"$f":"Tracking!S39","v":11.441348695652175},{"$f":"Tracking!AG39","v":11.950038292490119},null,null,31.561706521739133,19.561706521739133,6.245348260869565,2.6372295652173916,3.6757804347826095,1.1527260869565219,0.16476130434782607,3.5152708695652168,2.170588260869565,12,{"$f":"Tracking!R39","v":20.838002499999998},{"$f":"Tracking!AF39","v":21.132254536231883},null,null,82.534888333333342,70.534888333333342,29.789329583333338,18.724139999999998,11.391667499999999,4.0414041666666671,0.38012208333333336,4.7592291666666666,1.448995833333333,12,11.441348695652175,1,0.19787739476532684,8.3557888842319586E-2,0.11646329808721839,3.6522932819318406E-2,5.2202913753836939E-3,0.11137771866498923,6.8772842158408107E-2,0.38020757818448814,20.838002499999998,1,0.36093014947840341,0.22686333474371329,0.13802245002128694,4.8966009990159112E-2,4.6055927500396653E-3,5.7663241118659857E-2,1.7556161552933578E-2,0.14539306034480406,11.441348695652175,11.441348695652175,2.2639842724973227,0.95601494251752261,1.3324972036615466,0.41787160977370069,5.972717391867053E-2,1.2743113161723896,0.78685406792539558,4.3500874787381658,20.838002499999998,20.838002499999998,7.5210633571563434,4.7273787365478341,2.8761121585997018,1.0203538385899604,9.5971353239308416E-2,1.2015867625887369,0.36583533833043375,3.0297009549476779,8.6741373913043471,2.8153526086956524,8.7572986956521728,2.9612308695652176,0.8048126086956523,0.31825434782608703,1.2096899999999999,0.11527260869565219,0.16476130434782607,5.8587847826086943,0.34843869565217389,1.3985217391304348E-2,8.3478260869565224E-5,1.4778260869565216E-3,1.5132173913043483E-2,0.22740173913043479,3.108652173913044E-2,4.4782608695652177E-5,-8.8378260869565184E-3,0.12136695652173914,0.27034695652173912,0.14591347826086953,0.14326043478260872,0.67204999999999981,0.19499782608695651,0.10536217391304346,1.043478260869565E-4,5.8347826086956522E-4,1.5366956521739129E-2,7.2782608695652162E-4,2.3543043478260865E-2,3.7347826086956521E-4,9.3913043478260875E-5,0.24670956521739129,2.3015652173913045E-2,3.2391304347826087E-4,2.0382173913043481E-2,3.2608695652173917E-5,1.4434782608695656E-4,2.7996086956521737E-2,0.12386130434782608,2.0565217391304346E-4,0.53784782608695658,0.19510608695652176,1.2530434782608694E-3,8.0434782608695659E-5,2.3626086956521734E-3,4.8086956521739132E-4,133.96941565217392,18.580092916666665,10.648044166666667,17.617372083333333,9.9104816666666675,3.4263241666666668,2.1474312499999999,3.3080329166666655,0.40414041666666667,0.38012208333333336,7.9320487499999999,0.24442874999999997,3.5667083333333335E-2,4.0916666666666667E-4,3.8633333333333332E-3,2.4823750000000006E-2,0.77466208333333342,3.5121666666666669E-2,1.2083333333333332E-4,8.4088333333333334E-2,0.4698783333333334,0.49308666666666651,0.38497875000000009,0.40576416666666654,1.83779625,0.14083583333333335,7.1241666666666675E-3,2.4375000000000004E-4,1.383333333333333E-3,3.9597083333333338E-2,1.8787500000000002E-3,1.7629583333333334E-2,1.1037499999999997E-3,3.154166666666667E-4,1.6646758333333336,3.340958333333334E-2,7.4833333333333338E-4,4.7324583333333337E-2,1.8749999999999995E-5,7.2708333333333338E-4,6.4010416666666667E-2,9.2519999999999991E-2,3.4958333333333342E-4,2.3215212500000004,0.83062416666666683,3.0829166666666657E-3,3.4000000000000008E-4,7.8162499999999985E-3,4.0000000000000002E-4,51.229391666666665]
["BRIG1",2016,{"$f":"C63","v":14.329750208695652},{"$f":"Tracking!Y40","v":24.080583040181825},{"$f":"Tracking!AD40","v":12.399875104347835},{"$f":"Tracking!AE40","v":22.700115966363629},{"$f":"G63","v":5.5172266928999996},{"$f":"H63","v":10.681987469999999},{"$f":"Tracking!S40","v":11.119933043478261},{"$f":"Tracking!AG40","v":11.590648292490119},null,null,30.555172173913043,18.555172173913046,6.3094360869565209,2.2465752173913045,2.9277291304347828,0.89048695652173915,0.12648434782608697,4.6520517391304343,1.4024113043478261,12,{"$f":"Tracking!R40","v":19.18383875},{"$f":"Tracking!AF40","v":20.436071851449277},null,null,70.393395000000012,58.393394999999998,19.905109166666666,19.713479166666673,7.9937120833333326,3.7230083333333339,0.32078333333333336,5.8627475000000011,0.87455541666666681,12,11.119933043478261,1,0.20649322645098039,7.3525202365226833E-2,9.5817791952564332E-2,2.9143575151640164E-2,4.1395396859872698E-3,0.15225087630506617,4.5897673112938853E-2,0.39273220035216128,19.18383875,1,0.28276955766470224,0.28004728521286221,0.11355770073787932,5.2888603161324058E-2,4.5570089826372671E-3,8.3285477280929554E-2,1.2423827784789562E-2,0.17047053917487567,11.119933043478261,11.119933043478261,2.296190852066696,0.81759532730951179,1.0654874308864455,0.32407460433381541,4.6031404138999463E-2,1.6930195503232266,0.51037905186733246,4.3671557719339225,19.18383875,19.18383875,5.4246055976484744,5.3723819618988076,2.1784726197762327,1.0146064347595809,8.742092550521488E-2,1.597735166374141,0.23833670888117264,3.2702793351563728,10.554321304347825,2.8046965217391304,10.147295217391305,2.486830869565217,0.79986391304347837,0.26948130434782608,0.975424347826087,8.9048695652173909E-2,0.12648434782608697,7.7534191304347813,0.22652782608695651,1.1354347826086957E-2,5.5217391304347828E-5,1.1182608695652174E-3,1.1330869565217392E-2,0.1709408695652174,3.5537391304347833E-2,0,-6.3147826086956526E-3,9.7131304347826089E-2,0.22121478260869568,0.11244130434782608,0.11742956521739131,0.54190217391304341,0.12584869565217394,4.7078695652173909E-2,7.3478260869565225E-5,4.2217391304347831E-4,1.1046086956521739E-2,4.6695652173913034E-4,1.7356956521739134E-2,2.9521739130434788E-4,5.3913043478260872E-5,0.2089004347826087,5.2278260869565215E-3,5.991304347826087E-4,1.6088260869565215E-2,4.6086956521739126E-5,9.0434782608695644E-5,2.1819565217391302E-2,9.7363478260869565E-2,1.8565217391304349E-4,0.51687652173913046,0.19390652173913045,1.0169565217391307E-3,1.0000000000000002E-4,1.8247826086956517E-3,7.5217391304347806E-5,138.50584304347825,17.881827083333331,8.1105808333333353,17.455323333333332,7.8438245833333333,2.3547637500000005,2.1932125,2.462696666666667,0.3723008333333333,0.32078333333333336,9.771246249999999,0.14006874999999999,3.1357083333333334E-2,4.9583333333333326E-4,2.4145833333333337E-3,1.8705833333333335E-2,0.52409583333333321,5.088125000000001E-2,0,3.9633749999999995E-2,0.31820291666666661,0.44913916666666664,0.35851250000000001,0.20267625000000003,1.3681645833333331,7.781583333333332E-2,3.7154166666666668E-3,2.2791666666666674E-4,1.4045833333333332E-3,3.4924999999999998E-2,2.01125E-3,1.4696249999999999E-2,9.8416666666666661E-4,1.4166666666666668E-4,1.7001641666666669,1.4471666666666666E-2,1.4654166666666667E-3,3.9094166666666659E-2,3.1666666666666673E-5,6.1000000000000008E-4,5.2937499999999978E-2,5.8728749999999996E-2,3.7125000000000005E-4,1.5963820833333335,0.57085166666666665,2.5641666666666664E-3,1.5208333333333333E-4,7.4379166666666656E-3,5.9958333333333326E-4,61.220672083333334]
["BRIG1",2017,{"$f":"C63","v":14.329750208695652},{"$f":"Tracking!Y41","v":23.801445632469704},{"$f":"Tracking!AD41","v":12.239052178985517},{"$f":"Tracking!AE41","v":22.305939635833326},{"$f":"G63","v":5.5172266928999996},{"$f":"H63","v":10.681987469999999},{"$f":"Tracking!S41","v":11.359854545454546},{"$f":"Tracking!AG41","v":11.477283984189723},null,null,31.392802727272738,19.392802727272727,6.3476327272727282,2.501870909090909,4.1127640909090912,1.3471636363636366,0.14248545454545455,3.2181336363636359,1.7227513636363634,12,{"$f":"Tracking!R41","v":18.087285217391305},{"$f":"Tracking!AF41","v":19.863145728260868},null,null,62.958239130434777,50.958239130434784,16.737980434782607,15.430581739130433,8.8659239130434795,3.5555173913043476,0.19105217391304349,5.2505330434782609,0.92665260869565214,12,{"$f":"I76","v":11.359854545454546},{"$f":"M76/M76","v":1},{"$f":"O76/M76","v":0.20220025533936076},{"$f":"P76/M76","v":7.969568473468569E-2},{"$f":"Q76/M76","v":0.13100977719762805},{"$f":"R76/M76","v":4.2913136748802545E-2},{"$f":"S76/M76","v":4.5387936777517872E-3},{"$f":"T76/M76","v":0.10251182936169817},{"$f":"U76/M76","v":5.4877271666467359E-2},{"$f":"V76/M76","v":0.3822532223150279},{"$f":"W76","v":18.087285217391305},{"$f":"AA76/AA76","v":1},{"$f":"AC76/AA76","v":0.26585845897159571},{"$f":"AD76/AA76","v":0.24509233346189796},{"$f":"AE76/AA76","v":0.14082229801051702},{"$f":"AF76/AA76","v":5.6474219107973234E-2},{"$f":"AG76/AA76","v":3.034585727806459E-3},{"$f":"AH76/AA76","v":8.3397075839436702E-2},{"$f":"AI76/AA76","v":1.4718528051203024E-2},{"$f":"AJ76/AA76","v":0.19060253535901475},{"$f":"I76","v":11.359854545454546},{"$f":"BE76","v":11.359854545454546},{"$f":"BE76*AM76","v":2.2969654897089069},{"$f":"BE76*AN76","v":0.90533138648643174},{"$f":"BE76*AO76","v":1.4882520129974623},{"$f":"BE76*AP76","v":0.4874869915555971},{"$f":"BE76*AQ76","v":5.1560035991088993E-2},{"$f":"BE76*AR76","v":1.1645194707373476},{"$f":"BE76*AS76","v":0.62339782398246324},{"$f":"BE76*AT76","v":4.3423410050300166},{"$f":"W76","v":18.087285217391305},{"$f":"BO76","v":18.087285217391305},{"$f":"BO76*AW76","v":4.8086577748753756},{"$f":"BO76*AX76","v":4.4330549399213268},{"$f":"BO76*AY76","v":2.5470930690846973},{"$f":"BO76*AZ76","v":1.0214653084353618},{"$f":"BO76*BA76","v":5.4887417575460395E-2},{"$f":"BO76*BB76","v":1.508426697004305},{"$f":"BO76*BC76","v":0.2662182148422837},{"$f":"BO76*BD76","v":3.4474824201964109},8.2102427272727283,2.8466863636363637,8.3352404545454579,3.0181268181818179,0.81206772727272736,0.30265863636363638,1.3344368181818183,0.13471636363636363,0.14248545454545455,5.3635563636363637,0.2917663636363636,1.1501818181818181E-2,1.1454545454545455E-4,1.374090909090909E-3,1.7267727272727271E-2,0.21533681818181813,3.6862272727272737E-2,0,9.8327272727272725E-3,0.13968000000000005,0.30043090909090908,0.17392727272727271,0.11748272727272728,0.74135363636363638,0.16254363636363636,6.1954545454545443E-2,8.4999999999999993E-5,5.8363636363636376E-4,1.2556818181818185E-2,6.6181818181818182E-4,1.6876363636363637E-2,3.8363636363636361E-4,6.2272727272727273E-5,0.23461818181818186,9.0540909090909092E-3,6.5954545454545454E-4,2.1221363636363635E-2,8.2727272727272727E-5,1.7727272727272728E-4,2.2683181818181818E-2,0.10198636363636361,2.3636363636363636E-4,0.55622636363636369,0.19686454545454549,1.1168181818181817E-3,1.0863636363636362E-4,2.0659090909090909E-3,1.8818181818181824E-4,135.90214363636366,15.736022173913044,6.9851347826086956,15.888221304347825,7.2115182608695649,2.0343191304347821,1.8188721739130436,2.6552056521739131,0.35555173913043481,0.19105217391304349,8.7508873913043459,0.15651608695652169,1.6387826086956523E-2,3.0217391304347826E-4,2.5165217391304347E-3,1.9656521739130434E-2,0.56636347826086941,4.54804347826087E-2,0,6.6599565217391313E-2,0.3212734782608696,0.45782521739130427,0.37312304347826097,0.25629217391304354,1.4751134782608692,8.6953913043478256E-2,1.1137391304347828E-2,1.478260869565217E-4,1.1517391304347827E-3,2.2195217391304343E-2,1.3004347826086956E-3,1.5062608695652169E-2,6.9391304347826092E-4,1.117391304347826E-4,1.409978260869565,1.5660434782608697E-2,1.1004347826086957E-3,4.190695652173914E-2,5.2173913043478197E-6,4.7391304347826094E-4,2.668826086956522E-2,7.0076086956521746E-2,3.4565217391304348E-4,1.4255534782608696,0.49316826086956522,1.4395652173913045E-3,9.956521739130438E-5,5.8665217391304343E-3,3.0652173913043478E-4,68.571696521739128]
[{"$f":"A76","v":"BRIG1"},{"$f":"B76+1","v":2018},{"$f":"C63","v":14.329750208695652},{"$f":"Tracking!Y42","v":23.522308224757584},{"$f":"Tracking!AD42","v":12.078229253623199},{"$f":"Tracking!AE42","v":21.911763305303023},{"$f":"G63","v":5.5172266928999996},{"$f":"H63","v":10.681987469999999},{"$f":"Tracking!S42","v":10.697022631578948},{"$f":"Tracking!AG42","v":11.256404783232785},null,null,29.262104210526314,17.262104210526321,5.9054636842105266,2.5561294736842104,2.7822894736842105,1.2533736842105265,0.11995631578947367,3.0265794736842109,1.6183115789473683,12,{"$f":"Tracking!R42","v":17.367290000000001},{"$f":"Tracking!AF42","v":19.312998597826088},null,null,58.286259999999992,46.286259999999984,15.784597499999999,15.954438999999997,6.1790904999999992,3.0416199999999995,0.23576049999999998,3.7680139999999995,1.3227360000000004,12,10.697022631578948,1,0.20181268037744815,8.7352893534044157E-2,9.5081661033909901E-2,4.2832657391728396E-2,4.0993742256690609E-3,0.10343000120256131,5.5304005730566055E-2,0.41008670851781392,17.367290000000001,1,0.27081163725378848,0.27372555727541964,0.10601281502707499,5.2184168275679378E-2,4.0448726681039408E-3,6.4646693749092835E-2,2.2693787523852114E-2,0.2058804253352334,10.697022631578948,10.697022631578948,2.1587948093371714,0.93441587906757673,1.0170906799278523,0.45818190548998594,4.3851098867293367E-2,1.1063930636480361,0.59158820091683695,4.3867068019247748,17.367290000000001,17.367290000000001,4.7032642395613484,4.7538711336138233,1.8411553022915692,0.90629758385252379,7.024847664003489E-2,1.1227378778816826,0.39412958912512158,3.5755850521203461,7.3201511111111124,2.4133599999999995,7.3800383333333333,2.5345800000000005,0.77212631578947366,0.31401736842105271,0.93715894736842109,0.12533736842105261,0.11995631578947367,5.0443010526315781,0.26598473684210527,1.0125789473684211E-2,7.947368421052632E-5,1.1763157894736844E-3,1.3195263157894739E-2,0.19643000000000002,3.5137894736842097E-2,0,5.4878947368421039E-3,9.8864210526315804E-2,0.18324736842105266,0.12681368421052633,0.10623052631578948,0.52064368421052631,0.14803578947368426,5.5267368421052628E-2,7.8421052631578945E-5,4.4789473684210535E-4,1.0830000000000001E-2,5.1684210526315789E-4,1.6208947368421055E-2,3.0947368421052629E-4,8.7368421052631598E-5,0.24342421052631577,1.2903684210526315E-2,3.4105263157894734E-4,1.8003684210526318E-2,1.0526315789473688E-5,1.142105263157895E-4,1.9426842105263156E-2,0.10349210526315789,1.8315789473684208E-4,0.53227210526315782,0.18718210526315793,8.1947368421052627E-4,1.0526315789473685E-4,2.1410526315789476E-3,9.5789473684210522E-5,144.81035842105263,12.645998500000001,6.3659744999999992,12.712737999999998,6.4957280000000015,1.948798,1.8440815000000002,1.9484470000000003,0.30416199999999999,0.23576049999999998,6.2800239999999992,0.21447749999999996,2.0717000000000003E-2,1.6800000000000002E-4,2.2929999999999999E-3,1.9589000000000002E-2,0.47242249999999997,3.863500000000001E-2,0,4.9492499999999995E-2,0.24707000000000004,0.33046399999999998,0.24854850000000001,0.20689549999999998,1.0824704999999999,0.11915399999999995,1.2309E-2,1.63E-4,1.1795E-3,2.5243000000000005E-2,1.052E-3,1.3748000000000002E-2,7.9050000000000008E-4,2.33E-4,1.429521,1.17255E-2,1.0154999999999999E-3,3.2830999999999999E-2,5.1499999999999991E-5,3.7400000000000004E-4,3.7576499999999999E-2,8.300699999999997E-2,2.9200000000000005E-4,1.3714804999999999,0.47243599999999991,1.8555000000000002E-3,2.31E-4,5.5405000000000003E-3,3.0200000000000002E-4,73.645870499999987]
[{"$f":"A77","v":"BRIG1"},{"$f":"B77+1","v":2019},{"$f":"C63","v":14.329750208695652},{"$f":"Tracking!Y43","v":23.243170817045463},{"$f":"Tracking!AD43","v":11.917406328260881},{"$f":"Tracking!AE43","v":21.517586974772719},{"$f":"G63","v":5.5172266928999996},{"$f":"H63","v":10.681987469999999},{"$f":"Tracking!S43","v":9.4440726315789476},{"$f":"Tracking!AG43","v":10.812446309548575},null,null,25.93563842105263,13.935638421052632,4.4244152631578944,2.4699299999999997,2.8084199999999999,1.3795210526315793,9.3651578947368405E-2,1.4057942105263159,1.3539047368421051,12,{"$f":"Tracking!R43","v":17.186275500000001},{"$f":"Tracking!AF43","v":18.532538393478262},null,null,59.614467499999989,47.614467499999996,14.592081999999996,19.693899500000004,6.7020295000000001,3.4653000000000005,0.25276599999999999,2.0892925,0.81909699999999996,12,{"$f":"I78","v":9.4440726315789476},{"$f":"M78/M78","v":1},{"$f":"O78/M78","v":0.17059210925636908},{"$f":"P78/M78","v":9.5233051907258753E-2},{"$f":"Q78/M78","v":0.10828420547844825},{"$f":"R78/M78","v":5.3190171386403438E-2},{"$f":"S78/M78","v":3.6109224468270267E-3},{"$f":"T78/M78","v":5.4203185119406826E-2},{"$f":"U78/M78","v":5.2202483504053848E-2},{"$f":"V78/M78","v":0.4626838100217841},{"$f":"W78","v":17.186275500000001},{"$f":"AA78/AA78","v":1},{"$f":"AC78/AA78","v":0.24477417331623399},{"$f":"AD78/AA78","v":0.33035436406439439},{"$f":"AE78/AA78","v":0.11242286949891822},{"$f":"AF78/AA78","v":5.8128507144679285E-2},{"$f":"AG78/AA78","v":4.2400110342342657E-3},{"$f":"AH78/AA78","v":3.5046735928656925E-2},{"$f":"AI78/AA78","v":1.373990298579787E-2},{"$f":"AJ78/AA78","v":0.20129341925263364},{"$f":"I78","v":9.4440726315789476},{"$f":"BE78","v":9.4440726315789476},{"$f":"BE78*AM78","v":1.611084270191401},{"$f":"BE78*AN78","v":0.8993878591390797},{"$f":"BE78*AO78","v":1.0226439013912842},{"$f":"BE78*AP78","v":0.50233184185932633},{"$f":"BE78*AQ78","v":3.4101813854833213E-2},{"$f":"BE78*AR78","v":0.51189881713059726},{"$f":"BE78*AS78","v":0.49300404576108642},{"$f":"BE78*AT78","v":4.3696195073014046},{"$f":"W78","v":17.186275500000001},{"$f":"BO78","v":17.186275500000001},{"$f":"BO78*AW78","v":4.2067563778975465},{"$f":"BO78*AX78","v":5.6775611134379815},{"$f":"BO78*AY78","v":1.9321304077089556},{"$f":"BO78*AZ78","v":0.99901253819217661},{"$f":"BO78*BA78","v":7.2869997757390031E-2},{"$f":"BO78*BB78","v":0.60232285904564631},{"$f":"BO78*BC78","v":0.23613775805719481},{"$f":"BO78*BD78","v":3.4594841596127659},4.3041257894736837,1.961134736842105,4.565833684210526,2.2762989473684208,0.5835152631578947,0.30134736842105259,0.93886421052631575,0.13795210526315788,9.3651578947368405E-2,2.3429910526315791,0.22096736842105263,7.0784210526315785E-3,3.1578947368421052E-5,7.805263157894737E-4,9.5931578947368434E-3,0.21443947368421049,3.7572631578947364E-2,0,2.8278947368421043E-3,0.10442578947368422,0.18708157894736843,0.11319578947368422,0.11405999999999999,0.52159105263157901,0.1227594736842105,2.5130526315789475E-2,1.1157894736842106E-4,5.8473684210526311E-4,9.9073684210526317E-3,5.889473684210526E-4,9.1621052631578933E-3,3.5263157894736846E-4,7.3684210526315789E-5,0.23360210526315789,8.0010526315789504E-3,5.7526315789473679E-4,1.7320526315789481E-2,2.7894736842105256E-5,1.6210526315789473E-4,1.4885263157894738E-2,8.6342105263157887E-2,1.7999999999999996E-4,0.38549789473684209,0.14145842105263157,7.2315789473684222E-4,9.6315789473684223E-5,2.1626315789473683E-3,2.252631578947368E-4,166.93863947368419,9.8037360000000007,6.3215819999999994,10.442342999999999,6.8750750000000007,1.8382995000000004,2.2499989999999999,2.0464004999999998,0.34653,0.25276599999999999,3.482154,0.14107900000000001,1.9098500000000001E-2,7.4500000000000008E-5,2.1700000000000001E-3,2.4542500000000002E-2,0.5331785,5.1381500000000004E-2,0,5.6069000000000001E-2,0.25089899999999998,0.30801099999999998,0.28387999999999997,0.23803000000000005,1.136889,7.8377500000000003E-2,2.8895000000000001E-3,4.5700000000000005E-4,2.346E-3,2.8701000000000004E-2,1.3680000000000003E-3,9.9789999999999983E-3,1.039E-3,4.8650000000000012E-4,1.7441854999999999,8.3820000000000006E-3,6.9099999999999988E-4,3.4992499999999996E-2,9.3000000000000011E-5,5.3449999999999993E-4,3.9170999999999997E-2,7.7206499999999997E-2,2.5649999999999995E-4,1.3988440000000002,0.44564850000000006,1.9345000000000005E-3,1.7500000000000003E-4,8.6740000000000012E-3,2.1049999999999997E-4,76.658638500000009]
["BRIG1",2020,{"$f":"C63","v":14.329750208695652},{"$f":"Tracking!Y44","v":22.964033409333343},{"$f":"Tracking!AD44","v":11.756583402898563},{"$f":"Tracking!AE44","v":21.123410644242416},{"$f":"G63","v":5.5172266928999996},{"$f":"H63","v":10.681987469999999},null,{"$f":"Tracking!AG44","v":10.655220713022675},null,null,null,null,null,null,null,null,null,null,null,null,null,{"$f":"Tracking!AF44","v":17.956172366847824}]
["BRIG1",2021,{"$f":"C63","v":14.329750208695652},{"$f":"Tracking!Y45","v":22.684896001621222},{"$f":"Tracking!AD45","v":11.595760477536246},{"$f":"Tracking!AE45","v":20.729234313712112},{"$f":"G63","v":5.5172266928999996},{"$f":"H63","v":10.681987469999999},{"$f":"Tracking!S45","v":10.1058},{"$f":"Tracking!AG45","v":10.40168745215311},null,null,27.521280000000001,15.521279999999997,5.3513352173913038,2.4997360869565215,3.265082173913044,1.6253434782608696,0.20775086956521741,2.0244717391304348,0.54755869565217385,12,{"$f":"Tracking!R45","v":16.967675217391303},{"$f":"Tracking!AF45","v":17.402131483695655},null,null,57.411688695652167,45.411688695652174,15.12632304347826,15.21802739130435,7.7680847826086987,3.580365217391305,0.35463304347826091,2.4438852173913044,0.92036826086956536,12,{"$f":"I80","v":10.1058},{"$f":"M80/M80","v":1},{"$f":"O80/M80","v":0.19444354395548841},{"$f":"P80/M80","v":9.0829208777953696E-2},{"$f":"Q80/M80","v":0.11863845627503677},{"$f":"R80/M80","v":5.905769928800076E-2},{"$f":"S80/M80","v":7.5487357261441838E-3},{"$f":"T80/M80","v":7.3560231905290555E-2},{"$f":"U80/M80","v":1.9895829541800886E-2},{"$f":"V80/M80","v":0.43602623133807727},{"$f":"W80","v":16.967675217391303},{"$f":"AA80/AA80","v":1},{"$f":"AC80/AA80","v":0.26347113953858997},{"$f":"AD80/AA80","v":0.2650684509904831},{"$f":"AE80/AA80","v":0.13530493457157239},{"$f":"AF80/AA80","v":6.2363001310958635E-2},{"$f":"AG80/AA80","v":6.1770181566722935E-3},{"$f":"AH80/AA80","v":4.2567729201394865E-2},{"$f":"AI80/AA80","v":1.6031025768090072E-2},{"$f":"AJ80/AA80","v":0.20901667016996783},{"$f":"I80","v":10.1058},{"$f":"BE80","v":10.1058},{"$f":"BE80*AM80","v":1.9650075665053748},{"$f":"BE80*AN80","v":0.91790181806824445},{"$f":"BE80*AO80","v":1.1989365114242667},{"$f":"BE80*AP80","v":0.59682529746467805},{"$f":"BE80*AQ80","v":7.6286013501267902E-2},{"$f":"BE80*AR80","v":0.74338499158848537},{"$f":"BE80*AS80","v":0.2010632741835314},{"$f":"BE80*AT80","v":4.4063938886563419},{"$f":"W80","v":16.967675217391303},{"$f":"BO80","v":16.967675217391303},{"$f":"BO80*AW80","v":4.4704927248467792},{"$f":"BO80*AX80","v":4.4975953867835212},{"$f":"BO80*AY80","v":2.2958101851208204},{"$f":"BO80*AZ80","v":1.0581551518260941},{"$f":"BO80*BA80","v":0.10480963789434458},{"$f":"BO80*BB80","v":0.72227540383113176},{"$f":"BO80*BC80","v":0.27200923863458326},{"$f":"BO80*BD80","v":3.5465269744646153},5.6188147826086956,2.2446960869565218,5.8405608695652171,2.5577791304347826,0.70103652173913045,0.30590130434782609,1.0918552173913043,0.16253434782608694,0.20775086956521741,3.3741186956521734,8.8699565217391307E-2,1.4588695652173909E-2,6.5217391304347829E-6,9.0130434782608707E-4,2.0473913043478259E-2,0.24836,5.9257391304347824E-2,0,-3.1569565217391296E-3,0.10458739130434783,0.22185391304347826,0.13821913043478262,0.14508304347826084,0.60658652173913052,4.9277826086956508E-2,3.8165217391304346E-3,7.7391304347826067E-5,6.7782608695652182E-4,1.7613043478260867E-2,7.6304347826086974E-4,8.3286956521739126E-3,5.1999999999999995E-4,6.0000000000000008E-5,0.23713304347826084,5.4313043478260862E-3,9.2434782608695639E-4,1.9779565217391302E-2,6.2608695652173921E-5,1.4869565217391303E-4,3.8901304347826085E-2,4.4944782608695652E-2,1.8304347826086955E-4,0.44341782608695646,0.16994826086956524,1.4408695652173911E-3,6.0434782608695654E-5,2.4443478260869561E-3,5.1913043478260881E-4,153.84896217391304,10.61957304347826,6.546430434782609,10.834434782608696,6.8529091304347824,1.870717391304348,1.7248830434782607,2.393570434782609,0.35803652173913053,0.35463304347826091,4.0731426086956519,0.1510686956521739,2.6946956521739136E-2,1.4000000000000001E-4,2.2095652173913043E-3,3.0491739130434788E-2,0.56224913043478253,5.3862173913043467E-2,0,3.9869130434782615E-2,0.28466652173913043,0.4126508695652174,0.33450000000000002,0.25807478260869571,1.3297613043478258,8.3926521739130455E-2,3.0456521739130439E-3,2.9347826086956527E-4,1.7895652173913041E-3,3.3036521739130437E-2,1.3743478260869566E-3,1.6640869565217393E-2,1.057391304347826E-3,2.7652173913043481E-4,1.3371186956521741,8.4143478260869566E-3,6.6695652173913032E-4,4.2084347826086957E-2,3.869565217391304E-5,5.0913043478260868E-4,6.4629130434782592E-2,8.8047826086956521E-2,2.8739130434782614E-4,1.2938878260869564,0.45350739130434786,2.4604347826086958E-3,2.5782608695652174E-4,7.6765217391304343E-3,2.3695652173913044E-4,77.663184347826089]
["BRIG1",2022,{"$f":"C63","v":14.329750208695652},{"$f":"Tracking!Y46","v":22.405758593909102},{"$f":"Tracking!AD46","v":11.434937552173928},{"$f":"Tracking!AE46","v":20.335057983181809},{"$f":"G63","v":5.5172266928999996},{"$f":"H63","v":10.681987469999999}]
["BRIG1",2023,{"$f":"C63","v":14.329750208695652},{"$f":"Tracking!Y47","v":22.126621186196981},{"$f":"Tracking!AD47","v":11.27411462681161},{"$f":"Tracking!AE47","v":19.940881652651505},{"$f":"G63","v":5.5172266928999996},{"$f":"H63","v":10.681987469999999}]
["BRIG1",2024,{"$f":"C63","v":14.329750208695652},{"$f":"Tracking!Y48","v":21.847483778484861},{"$f":"Tracking!AD48","v":11.113291701449292},{"$f":"Tracking!AE48","v":19.546705322121202},{"$f":"G63","v":5.5172266928999996},{"$f":"H63","v":10.681987469999999}]
["BRIG1",2025,{"$f":"C63","v":14.329750208695652},{"$f":"Tracking!Y49","v":21.568346370772741},{"$f":"Tracking!AD49","v":10.952468776086974},{"$f":"Tracking!AE49","v":19.152528991590898},{"$f":"G63","v":5.5172266928999996},{"$f":"H63","v":10.681987469999999}]
["BRIG1",2026,{"$f":"C63","v":14.329750208695652},{"$f":"Tracking!Y50","v":21.28920896306062},{"$f":"Tracking!AD50","v":10.791645850724656},{"$f":"Tracking!AE50","v":18.758352661060595},{"$f":"G63","v":5.5172266928999996},{"$f":"H63","v":10.681987469999999}]
["BRIG1",2027,{"$f":"C63","v":14.329750208695652},{"$f":"Tracking!Y51","v":21.0100715553485},{"$f":"Tracking!AD51","v":10.630822925362338},{"$f":"Tracking!AE51","v":18.364176330530292},{"$f":"G63","v":5.5172266928999996},{"$f":"H63","v":10.681987469999999}]
[{"$f":"A86","v":"BRIG1"},2028,{"$f":"C63","v":14.329750208695652},{"$f":"Tracking!Y52","v":20.730934147636379},{"$f":"Tracking!AD52","v":10.47},{"$f":"Tracking!AE52","v":17.97},{"$f":"G63","v":5.5172266928999996},{"$f":"H63","v":10.681987469999999},null,null,10.55,{"$f":"E87","v":10.47},null,{"$f":"IF(M87=\"\",\"\",M87-V87)","v":""},null,null,null,null,null,null,null,null,null,null,18.16,{"$f":"F87","v":17.97},null,{"$f":"IF(AA87=\"\",\"\",AA87-AJ87)","v":""}]
[null,"5-yr period"]
[{"$f":"A63","v":"BRIG1"},"2000-04",null,null,null,null,null,null,null,{"$f":"IF(J63=\"\",\"\",J63)","v":14.329750208695652},null,null,{"$f":"IF(COUNT(M59:M63)<3,\"\",AVERAGE(M59:M63))","v":42.41777158224167},{"$f":"IF(COUNT(N59:N63)<3,\"\",AVERAGE(N59:N63))","v":30.41777158224167},14.779052172859025,3.8108640679465466,4.5462558848955386,2.4160569414643325,0.23545498891398459,3.2278844992094853,1.4022017598626013,12,null,{"$f":"IF(X63=\"\",\"\",X63)","v":27.430231932727271},null,null,{"$f":"IF(COUNT(AA59:AA63)<3,\"\",AVERAGE(AA59:AA63))","v":167.29552025463201},{"$f":"IF(COUNT(AB59:AB63)<3,\"\",AVERAGE(AB59:AB63))","v":155.29552025463201},119.03087578744586,12.732332287445889,13.002017967532467,5.5658005367965373,0.78036442896103886,3.933606607142857,0.25052250601731602,12,{"$f":"J89","v":14.329750208695652},{"$f":"M89/M89","v":1},{"$f":"O89/M89","v":0.34841651556835485},{"$f":"P89/M89","v":8.9841213382882576E-2},{"$f":"Q89/M89","v":0.10717809341023568},{"$f":"R89/M89","v":5.6958601344249356E-2},{"$f":"S89/M89","v":5.5508571084992723E-3},{"$f":"T89/M89","v":7.6097455825822988E-2},{"$f":"U89/M89","v":3.3056940700997066E-2},{"$f":"V89/M89","v":0.28290029278727685},{"$f":"X89","v":27.430231932727271},{"$f":"AA89/AA89","v":1},{"$f":"AC89/AA89","v":0.7115006762062428},{"$f":"AD89/AA89","v":7.6106833393187412E-2},{"$f":"AE89/AA89","v":7.7718865082237451E-2},{"$f":"AF89/AA89","v":3.3269274206058332E-2},{"$f":"AG89/AA89","v":4.6645865219420452E-3},{"$f":"AH89/AA89","v":2.3512922528682863E-2},{"$f":"AI89/AA89","v":1.4974848438022038E-3},{"$f":"AJ89/AA89","v":7.1729356421112833E-2},{"$f":"J89","v":14.329750208695652},{"$f":"BE89","v":14.329750208695652},{"$f":"BE89*AM89","v":4.9927216366786444},{"$f":"BE89*AN89","v":1.2874021462228322},{"$f":"BE89*AO89","v":1.5358353064129269},{"$f":"BE89*AP89","v":0.81620252949976968},{"$f":"BE89*AQ89","v":7.9542395808957195E-2},{"$f":"BE89*AR89","v":1.0904575335012952},{"$f":"BE89*AS89","v":0.47369770290895247},{"$f":"BE89*AT89","v":4.053890529608541},{"$f":"X89","v":27.430231932727271},{"$f":"BO89","v":27.430231932727271},{"$f":"BO89*AW89","v":19.516628568629528},{"$f":"BO89*AX89","v":2.0876280916405636},{"$f":"BO89*AY89","v":2.1318464947541123},{"$f":"BO89*AZ89","v":0.91258390770568099},{"$f":"BO89*BA89","v":0.12795069016714392},{"$f":"BO89*BB89","v":0.64496491837801917},{"$f":"BO89*BC89","v":4.1076356581238316E-2},{"$f":"BO89*BD89","v":1.9675528830163851},{"$f":"IF(COUNT(BY59:BY63)<3,\"\",AVERAGE(BY59:BY63))","v":9.4319155303971378},{"$f":"IF(COUNT(BZ59:BZ63)<3,\"\",AVERAGE(BZ59:BZ63))","v":4.1416073412384717},9.5296354802371539,4.4776259188217571,1.8433777177489179,0.45743480958027477,1.47437726595144,0.24160569414643324,0.23545498891398459,5.379807617730096,0.22537427675512892,7.4364183794466392E-3,2.648476284584981E-4,1.8113515151515151E-3,1.8329599736495387E-2,0.2884658742706569,6.3251492847731988E-2,4.8022284020327495E-3,4.5108260116694901E-2,0.13760590749105966,0.27836688753999622,0.24301897910784867,0.1149984468285338,0.81909848108413319,0.1144655919442876,4.3840713965744404E-2,3.5079499341238472E-4,7.4226811594202901E-4,1.9302565415019762E-2,1.4563893280632411E-3,9.9505750329380756E-3,6.1437799736495391E-4,6.549229907773387E-4,0.3546008856578205,1.4320075192923018E-2,1.2460869565217392E-4,2.4751819565217392E-2,7.0837812911725957E-5,4.0607918313570484E-4,5.3263404347826095E-2,0.11564108511198948,2.2232905138339925E-4,1.2516842436476567,0.44499373003952564,2.3665494729907771E-3,1.740807048748353E-3,4.1795358366271407E-3,4.3465612648221344E-5,99.545102504564298,23.828714391341997,17.342452367532466,22.04166303361345,17.304381066450215,10.865648504199132,1.3984621215584416,3.6632683137662339,0.55658005367965369,0.78036442896103886,6.5560110119047623,4.0057528311688309E-2,4.0850269653679654E-2,6.1713034632034634E-4,3.3825759740259741E-3,3.4109342554112555E-2,0.61746883679653686,{"$f":"IF(COUNT(EL59:EL63)<3,\"\",AVERAGE(EL59:EL63))","v":6.495972077922077E-2},4.3193047619047619E-3,0.18435561298701297,0.48346648961038952,0.54775979090909099,0.68939936103896104,0.13016780865800867,2.0351490632034634,-0.24143808354978358,0,2.6940034632034636E-4,1.2528138095238097E-3,4.5515225411255418E-2,2.4699242424242427E-3,1.9846318787878788E-2,1.1064781385281385E-3,1.5064774025974029E-3,1.0840792116883118,2.3043314285714284E-2,0,5.3276612337662343E-2,1.237951515151515E-4,1.7952542424242424E-3,0.20094856199134198,0.26209483406926404,5.4760233766233766E-4,8.1260569004329,2.6340965983116886,8.118828398268399E-3,3.9145086147186151E-3,7.9007508658008666E-3,3.0733246753246754E-5,27.382007108917755]
["BRIG1","2001-05",null,null,null,null,null,null,null,14.398853692028984,null,null,{"$f":"IF(COUNT(M60:M64)<3,\"\",AVERAGE(M60:M64))","v":42.657552848908338},30.657552848908335,14.965139789525693,3.8670644012798787,4.2749774015622055,2.2603886081309996,0.22398328891398456,3.1084547325428189,1.9575432931959349,12,null,27.718783932727273,null,null,{"$f":"IF(COUNT(AA60:AA64)<3,\"\",AVERAGE(AA60:AA64))","v":173.1866293260606},161.1866293260606,126.32210476363635,11.839916346969698,12.766847848484847,5.3711100606060613,0.79811790515151504,3.8171198333333338,0.27141247030303028,12,{"$f":"J90","v":14.398853692028984},{"$f":"M90/M90","v":1},{"$f":"O90/M90","v":0.35082040084511484},{"$f":"P90/M90","v":9.0653685994995889E-2},{"$f":"Q90/M90","v":0.1002161895386741},{"$f":"R90/M90","v":5.2989176761668033E-2},{"$f":"S90/M90","v":5.2507299166299126E-3},{"$f":"T90/M90","v":7.2869973192153437E-2},{"$f":"U90/M90","v":4.5889723213365978E-2},{"$f":"V90/M90","v":0.2813100892707936},{"$f":"X90","v":27.718783932727273},{"$f":"AA90/AA90","v":1},{"$f":"AC90/AA90","v":0.72939871429571024},{"$f":"AD90/AA90","v":6.8365071790146933E-2},{"$f":"AE90/AA90","v":7.3717283477170437E-2},{"$f":"AF90/AA90","v":3.1013422234194572E-2},{"$f":"AG90/AA90","v":4.6084268067189448E-3},{"$f":"AH90/AA90","v":2.2040499593919547E-2},{"$f":"AI90/AA90","v":1.5671675773078226E-3},{"$f":"AJ90/AA90","v":6.9289413661417554E-2},{"$f":"J90","v":14.398853692028984},{"$f":"BE90","v":14.398853692028984},{"$f":"BE90*AM90","v":5.0514116239477698},{"$f":"BE90*AN90","v":1.3053091612850827},{"$f":"BE90*AO90","v":1.4429982507400141},{"$f":"BE90*AP90","v":0.76298340345232019},{"$f":"BE90*AQ90","v":7.5604491845913654E-2},{"$f":"BE90*AR90","v":1.0492440825358915},{"$f":"BE90*AS90","v":0.66075941051696285},{"$f":"BE90*AT90","v":4.0505428175017695},{"$f":"X90","v":27.718783932727273},{"$f":"BO90","v":27.718783932727273},{"$f":"BO90*AW90","v":20.218045362371864},{"$f":"BO90*AX90","v":1.8949966534964713},{"$f":"BO90*AY90","v":2.0433534528112935},{"$f":"BO90*AZ90","v":0.8596543499240793},{"$f":"BO90*BA90","v":0.12773998692523075},{"$f":"BO90*BB90","v":0.61093584601321915},{"$f":"BO90*BC90","v":4.3439979461771201E-2},{"$f":"BO90*BD90","v":1.9206182861061945},{"$f":"IF(COUNT(BY60:BY64)<3,\"\",AVERAGE(BY60:BY64))","v":9.1913401825710519},4.1128673412384718,9.4124382972332015,4.4756243521550907,1.8558210844155845,0.46221420958027482,1.3917017659514399,0.22603886081309993,0.22398328891398456,5.1807580343967627,0.31586397675512889,7.2117350461133062E-3,2.3144762845849805E-4,1.8741015151515152E-3,1.8110166403162053E-2,0.28586837427065692,5.7690992847731992E-2,2.5140617353660833E-3,2.8748760116694898E-2,0.13537457415772633,0.26683988753999627,0.23085447910784868,0.11851911349520046,0.78033681441746661,0.16106975861095427,6.5153347299077735E-2,1.8006166007905139E-4,7.0366811594202894E-4,1.8653848748353095E-2,1.3744226613965744E-3,1.2879275032938075E-2,6.0842799736495379E-4,7.3067299077733867E-4,0.35830571899115377,1.2472741859589685E-2,1.2460869565217392E-4,2.4440186231884063E-2,7.7521146245059281E-5,4.4111251646903812E-4,5.0222721014492752E-2,0.12594215177865614,2.559457180500659E-4,1.2502904103143235,0.44801031337285907,1.8454661396574445E-3,1.7103903820816862E-3,3.9073525032938079E-3,3.5798945981554678E-5,98.556023587897613,23.919579111838889,17.632168081818179,22.303216513847282,17.667820387878788,11.374225801818181,1.3099794072727273,3.6043161709090912,0.53711100606060602,0.79811790515151504,6.3618664166666665,4.4069802121212122E-2,4.2025817272727278E-2,5.6108272727272725E-4,3.3742545454545454E-3,3.4211699696969702E-2,{"$f":"IF(COUNT(EK60:EK64)<3,\"\",AVERAGE(EK60:EK64))","v":0.68335919393939393},6.1453530303030302E-2,2.9657333333333335E-3,0.17136132727272724,0.50528458484848482,0.50029229090909089,0.63254555151515146,0.20728078484848483,2.01676453939394,-0.17676784545454544,0,2.1635272727272723E-4,1.2345399999999999E-3,4.6639606363636364E-2,2.4307575757575761E-3,2.154040212121212E-2,1.025359090909091E-3,1.5535012121212122E-3,1.0154880212121213,2.04476E-2,0,5.1051374242424251E-2,1.3646181818181819E-4,1.8343375757575759E-3,0.20730637151515152,0.24110902454545458,5.535309090909091E-4,8.3346922575757585,2.757388122121212,6.8362569696969718E-3,4.1489490909090909E-3,7.3633818181818187E-3,2.8411818181818184E-5,26.729827466060605]
["BRIG1","2002-06",null,null,null,null,null,null,null,14.707911258695654,null,null,{"$f":"IF(COUNT(M61:M65)<3,\"\",AVERAGE(M61:M65))","v":43.91416609176548},31.91416609176548,15.445132822859026,4.0158722774703559,4.2025705396574438,2.1872990843214755,0.22487462700922264,3.4343143992094851,2.4041009979578396,12,null,27.68101229203463,null,null,{"$f":"IF(COUNT(AA61:AA65)<3,\"\",AVERAGE(AA61:AA65))","v":171.85550291480519},159.85550291480519,125.72247613593075,10.493021823160174,12.69007251948052,5.3454256450216464,0.788650814242424,4.3691337034632038,0.44672237506493512,12,14.707911258695654,1,0.35171185513540254,9.1448218988801164E-2,9.5699654887571331E-2,4.9808507800211302E-2,5.1207764378199084E-3,7.8205160312800906E-2,5.4745454870624134E-2,0.27326034097799179,27.68101229203463,1,0.73155921110222344,6.1057234974674822E-2,7.3841525608705327E-2,3.1104186682177772E-2,4.5890343973063576E-3,2.5423298232289584E-2,2.5994068708197903E-3,6.9826102722755537E-2,14.707911258695654,14.707911258695654,5.1729467539627221,1.3450122896530543,1.4075420315741989,0.73257911265355813,7.5315925423074859E-2,1.1502345578527431,0.80519129205406759,4.0190888456252187,27.68101229203463,27.68101229203463,20.250299514871806,1.6901260718516204,2.0440081780371622,0.86099537388310277,0.12702911756040702,0.70374263087207023,7.1954213543161893E-2,1.9328572077734687,{"$f":"IF(COUNT(BY61:BY65)<3,\"\",AVERAGE(BY61:BY65))","v":9.8574109920948612},4.1934463412384719,10.070395197233202,4.5893090902503291,1.9107057606060607,0.48179245243741764,1.3662958802371541,0.21872990843214754,0.22487462700922264,5.7238574153491433,0.3869090910408432,9.8339350461133061E-3,2.1224762845849804E-4,1.8774015151515153E-3,1.8314066403162056E-2,0.30396551712779979,5.5932802371541503E-2,2.1427760210803691E-3,2.054828392621871E-2,0.14491114558629775,0.2541085065876153,0.21285476482213439,0.1407197325428195,0.7731424334650856,0.20297133003952567,8.5364547299077734E-2,1.0166166007905138E-4,7.0086811594202898E-4,1.8782748748353097E-2,1.3053226613965745E-3,1.6442775032938076E-2,5.4612799736495385E-4,7.071729907773387E-4,0.373482814229249,1.0798551383399208E-2,1.2460869565217392E-4,2.474218623188406E-2,5.9821146245059298E-5,4.2311251646903817E-4,4.8841721014492759E-2,0.13629095177865613,2.7774571805006594E-4,1.2542826007905141,0.46320141337285897,1.4358661396574441E-3,1.3583903820816863E-3,3.7175525032938075E-3,3.269894598155467E-5,95.19111658313571,24.322261406211179,17.114827259307354,23.56808833457557,17.519196448484848,11.361243143809522,1.1696886323809523,3.59277482025974,0.53454256450216453,0.788650814242424,7.2818895335497826,7.2297204718614713E-2,4.4330258831168833E-2,5.4471476190476201E-4,3.4444839826839823E-3,3.4300435627705628E-2,{"$f":"IF(COUNT(EK61:EK65)<3,\"\",AVERAGE(EK61:EK65))","v":0.74367750562770563},6.8587599567099561E-2,3.1598025974025972E-3,0.15514301558441554,0.52312268008658014,0.47183068917748922,0.58932633073593077,0.27628139090909087,2.0157041064935068,-8.4264035930735934E-2,0,1.2663844155844155E-4,1.3221590476190476E-3,4.7152576060606063E-2,2.3886926406926409E-3,2.4806306883116882E-2,1.0867183982683983E-3,1.4713886580086579E-3,0.90673525064935079,1.7794136796536797E-2,0,5.1899248701298709E-2,1.2428E-4,1.7302683116883117E-3,0.20340844077922077,0.23231917606060604,5.8995082251082258E-4,8.0224913484848486,2.754240715194805,4.1975686580086585E-3,3.9022521212121212E-3,7.3199662337662327E-3,2.9636926406926407E-5,26.748678968225114]
["BRIG1","2003-07",null,null,null,null,null,null,null,14.288899167786562,null,null,{"$f":"IF(COUNT(M62:M66)<3,\"\",AVERAGE(M62:M66))","v":42.224825273583662},30.224825273583654,14.432569368313571,3.9428142774703558,3.9951596305665347,2.105871811594203,0.22043299064558633,3.130534217391304,2.397441543412385,12,null,27.595215260414079,null,null,{"$f":"IF(COUNT(AA62:AA66)<3,\"\",AVERAGE(AA62:AA66))","v":169.19574591875775},157.19574591875775,124.00537485134574,10.021739633436855,12.086198211180124,5.3622627991718428,0.71694407115942027,4.3608902805383023,0.64233705490683224,12,14.288899167786562,1,0.34180293878783086,9.3376686627452452E-2,9.4616368562357389E-2,4.9872836606186285E-2,5.2204595097162373E-3,7.4139660664263363E-2,5.6778009805341978E-2,0.28419300547129411,27.595215260414079,1,0.73291071343418435,5.9231628898335102E-2,7.1433227505516117E-2,3.1692657342263356E-2,4.2373646409743261E-3,2.5774231242387494E-2,3.7964137420763606E-3,7.092376900399143E-2,14.288899167786562,14.288899167786562,4.8839877275924373,1.334250059841672,1.3519637500096551,0.71262793347729037,7.4594619543847787E-2,1.0593741355655708,0.81129525705612826,4.0608051993695362,27.595215260414079,27.595215260414079,20.224828903879974,1.6345095496745203,1.971215289760849,0.87456570153430002,0.11693098940455375,0.71124545930537275,0.1047628544301913,1.9571566727450274,{"$f":"IF(COUNT(BY62:BY66)<3,\"\",AVERAGE(BY62:BY66))","v":9.0972381212814657},3.9701208866930173,9.3745649292906172,4.3869859993412383,1.793901487878788,0.47383899789196315,1.3028016984189721,0.21058718115942029,0.22043299064558633,5.2175572335309619,0.38542263649538866,9.8869350461133071E-3,1.9597490118577072E-4,1.8069469696969699E-3,1.8047884584980238E-2,0.31415006258234524,5.4366438735177859E-2,1.8509578392621872E-3,1.5474647562582345E-2,0.14962205467720685,0.23568396113306983,0.19194294664031619,0.1559215507246377,0.74864516073781284,0.21222042094861662,8.1195729117259557E-2,1.0002529644268774E-4,7.368681159420291E-4,1.8800566930171281E-2,1.3329590250329378E-3,1.6427956851119897E-2,5.3549163372859014E-4,7.0653662714097502E-4,0.36742099604743084,8.5503695652173924E-3,1.2460869565217392E-4,2.4311822595520421E-2,6.282114624505929E-5,3.9774888010540177E-4,4.7578448287220035E-2,0.14640976996047431,2.6992753623188408E-4,1.1741116916996048,0.43501023155467722,1.4487752305665351E-3,1.296935836627141E-3,3.845916139657444E-3,4.9971673254281948E-5,99.832112310408434,24.162953224393,16.940189077489173,23.709701667908906,17.191882049275364,11.247833013374741,1.1250216323809521,3.463365278757764,0.5362262799171843,0.71694407115942027,7.268150466356107,0.1024926790269151,3.2218258831168828E-2,5.4780567099567109E-4,3.4526658008658005E-3,3.3037708354978358E-2,{"$f":"IF(COUNT(EK62:EK66)<3,\"\",AVERAGE(EK62:EK66))","v":0.81846062815734988},6.8358429606625248E-2,2.9456919254658379E-3,0.14739704720496893,0.54119651407867497,0.40458100538302277,0.51951522401656314,0.34651490869565216,1.9592046993788821,1.126161697722569E-3,0,1.3472935064935064E-4,1.3803408658008658E-3,4.5131666969696976E-2,2.3756017316017316E-3,2.1782852337662341E-2,9.9971839826839843E-4,1.45720683982684E-3,0.87229204906832292,1.511880082815735E-2,0,4.9777157792207795E-2,1.1473454545454544E-4,1.6586319480519477E-3,0.18964625896103893,0.25068226696969698,5.3595082251082257E-4,7.9893675144927538,2.7245383515584409,3.9092050216450224E-3,3.7144339393939394E-3,7.4309662337662345E-3,3.4546017316017317E-5,26.771554936604559]
["BRIG1","2004-08",null,null,null,null,null,null,null,14.264460698863637,null,null,{"$f":"IF(COUNT(M63:M67)<3,\"\",AVERAGE(M63:M67))","v":42.124526157196968},30.124526157196968,14.264272797348486,3.9468119772727275,3.9834992121212123,2.1567854166666667,0.22789906439393942,3.2054012499999995,2.3398550814393944,12,null,27.370884283850934,null,null,{"$f":"IF(COUNT(AA63:AA67)<3,\"\",AVERAGE(AA63:AA67))","v":164.81535677344721},152.81535677344721,120.46458002251549,9.0008032917960676,11.926433805641821,5.2485784989648039,0.72174581811594207,4.6936731631728783,0.75954329780020702,12,14.264460698863637,1,0.33862156084838091,9.3693919844803172E-2,9.4564843228287149E-2,5.1200229733579572E-2,5.4101276663263524E-3,7.6093467212861629E-2,5.5546146031594718E-2,0.28486967319749429,27.370884283850934,1,0.7309062843464541,5.4611435900165789E-2,7.2362394130758845E-2,3.1845203030318486E-2,4.3791175303405944E-3,2.8478372738195343E-2,4.6084497990333765E-3,7.2808749347884047E-2,14.264460698863637,14.264460698863637,4.8302539465095915,1.3364932373486746,1.3489164897241031,0.73034366480743518,7.7172553472147104E-2,1.0854322724981333,0.79233581704102318,4.0635122576237857,27.370884283850934,27.370884283850934,20.005551331186243,1.4947632925983805,1.9806227162554144,0.87163136713858635,0.11986031918833549,0.77947824480951977,0.12613734617727865,1.9928398532528413,{"$f":"IF(COUNT(BY63:BY67)<3,\"\",AVERAGE(BY63:BY67))","v":9.1474519994279166},3.9181663257575763,9.4361214877002286,4.3620670643939397,1.7661368598484848,0.4749313560606061,1.3001390795454546,0.21567854166666667,0.22789906439393942,5.3423356723484847,0.37728188257575757,1.0765299242424243E-2,1.9040340909090908E-4,1.8211837121212123E-3,1.8257681818181819E-2,0.33805388257575764,5.5027613636363638E-2,1.3408712121212121E-3,1.3435700757575757E-2,0.15952865530303029,0.2244342992424242,0.18206346590909089,0.17392041666666669,0.75338253787878784,0.20994835227272726,8.0834878787878789E-2,9.1227272727272717E-5,7.6804166666666676E-4,1.9527882575757577E-2,1.3831553030303027E-3,1.7656467803030304E-2,5.5284280303030296E-4,7.1034469696969714E-4,0.36829363636363638,7.0368750000000006E-3,0,2.4241191287878786E-2,6.7982954545454548E-5,3.829469696969697E-4,4.9036429924242425E-2,0.16153438636363637,2.820833333333333E-4,1.1316711363636365,0.42831061553030303,1.5691212121212122E-3,1.2393219696969697E-3,3.848047348484848E-3,6.1268939393939397E-5,100.11171625757575,24.298243911443627,16.445001971861473,24.358860418219464,16.790683915760869,10.966802204218427,1.023761207142857,3.4324540984472049,0.52485784989648032,0.72174581811594207,7.8227886037784682,0.12106376545031056,3.4343969372294371E-2,5.5069458874458879E-4,3.5136447510822513E-3,3.3531197943722946E-2,{"$f":"IF(COUNT(EK63:EK67)<3,\"\",AVERAGE(EK63:EK67))","v":0.89218307686335385},6.6636578674948238E-2,2.9050315734989647E-3,0.1420358923395445,0.55830085093167703,0.36020021506211175,0.46218569668737053,0.42808738586956518,1.9508100408902693,6.7808743788819889E-2,0,1.4799502164502165E-4,1.3259469155844155E-3,4.5043021212121219E-2,2.3472104978354978E-3,1.7600648755411258E-2,1.0378771645021647E-3,1.3856752164502163E-3,0.79384110300207045,1.2752667701863354E-2,0,4.6903426406926407E-2,1.1216818181818181E-4,1.583602435064935E-3,0.19052761536796534,0.20544835454545454,4.8139686147186144E-4,7.6989427264492756,2.6558574186147181,3.814422943722944E-3,3.3796049242424244E-3,7.6065202922077921E-3,4.0057521645021645E-5,27.318149087422363]
["BRIG1","2005-09",null,null,null,null,null,null,null,13.869220698863636,null,null,{"$f":"IF(COUNT(M64:M68)<3,\"\",AVERAGE(M64:M68))","v":40.616471886363641},28.616471886363637,13.529915193181818,3.5527447897727269,3.5986101496212126,1.8844416666666666,0.2220758352272727,3.2801841666666665,2.5484987272727273,12,null,26.206388083850932,null,null,{"$f":"IF(COUNT(AA64:AA68)<3,\"\",AVERAGE(AA64:AA68))","v":147.99618867344719},135.99618867344719,103.93119962251552,9.9827356917960657,10.653306705641821,5.1579184989648041,0.63332191811594207,4.9187751631728789,0.71893269780020708,12,13.869220698863636,1,0.33311399451522228,8.7470541501304219E-2,8.8599772025728094E-2,4.6395995987513108E-2,5.4676298780601687E-3,8.0759948226028416E-2,6.2745448063605616E-2,0.29544663636894608,26.206388083850932,1,0.70225591992668923,6.7452653891127687E-2,7.1983655803111835E-2,3.4851698176807271E-2,4.2793123511671201E-3,3.3235823214516222E-2,4.8577784620286966E-3,8.1083169151591708E-2,13.869220698863636,13.869220698863636,4.6200315078116683,1.2131482447306992,1.2288097920938275,0.64347630789441101,7.5831765478517346E-2,1.1200775455755889,0.87023046704323226,4.0976146045378252,26.206388083850932,26.206388083850932,18.403591171780562,1.7676904251565697,1.8864316196706969,0.91333712780265131,0.11214532020670213,0.87099088144587411,0.12730482760129655,2.1248969978551426,{"$f":"IF(COUNT(BY64:BY68)<3,\"\",AVERAGE(BY64:BY68))","v":9.1611592910945845},3.7450402840909089,9.3785884351639979,4.10024862689394,1.6743202973484848,0.4256882310606061,1.1796403295454545,0.18844416666666666,0.2220758352272727,5.4669737973484853,0.41007896590909093,1.0966236742424244E-2,1.7248674242424241E-4,1.685975378787879E-3,1.821820265151515E-2,0.33859138257575755,4.8633863636363635E-2,7.7941287878787878E-4,5.7632575757575661E-4,0.16086303030303031,0.19593117424242421,0.14414679924242424,0.19440062500000002,0.69591795454545458,0.2280441856060606,8.7505920454545472E-2,8.2268939393939392E-5,6.6522916666666672E-4,1.7665382575757574E-2,1.1366969696969698E-3,1.3592717803030303E-2,4.7815530303030313E-4,6.1513636363636371E-4,0.33033009469696967,6.9066666666666669E-3,6.094791666666667E-4,2.3396399621212122E-2,7.3816287878787878E-5,3.2117613636363637E-4,4.8928825757575754E-2,0.16719001136363637,2.8947916666666667E-4,1.0636440530303031,0.40633415719696969,1.4644337121212125E-3,1.1802594696969694E-3,3.1601306818181819E-3,5.8143939393939395E-5,104.7028042784091,23.237185911443625,15.00372497186147,23.035158418219464,15.189883615760868,9.654104004218425,1.1404640071428571,3.1307398984472048,0.51579184989648041,0.63332191811594207,8.1979586037784689,0.11546316545031056,3.2584369372294371E-2,5.1319458874458869E-4,3.3810447510822512E-3,3.2334997943722944E-2,{"$f":"IF(COUNT(EK64:EK68)<3,\"\",AVERAGE(EK64:EK68))","v":0.96905107686335379},6.4950578674948245E-2,1.6900315734989649E-3,0.11344389233954449,0.53033185093167701,0.27617021506211181,0.36548369668737057,0.50997838586956523,1.7954080408902693,6.454874378881989E-2,0,1.7679502164502165E-4,1.3961469155844156E-3,4.4172021212121215E-2,2.290010497835498E-3,1.1428548755411256E-2,1.0592771645021645E-3,1.2567752164502166E-3,0.88535010300207029,1.2249667701863354E-2,0,4.726042640692641E-2,1.1856818181818181E-4,1.4886024350649349E-3,0.15931491536796535,0.20230835454545454,5.0989686147186143E-4,6.6513067264492749,2.3386359186147185,3.7263229437229438E-3,3.0252049242424244E-3,7.6366202922077929E-3,6.7557521645021656E-5,30.901800287422361]
["BRIG1","2006-10",null,null,null,null,null,null,null,13.171075490530303,null,null,{"$f":"IF(COUNT(M65:M69)<3,\"\",AVERAGE(M65:M69))","v":37.959176678030303},25.9591766780303,11.801141547348486,3.2198948939393937,3.734663066287879,1.8063062500000002,0.23976406439393944,3.2536206250000004,1.9037851856060606,12,null,25.131392050517597,null,null,{"$f":"IF(COUNT(AA65:AA69)<3,\"\",AVERAGE(AA65:AA69))","v":130.18625058178054},118.18625058178057,82.918383064182194,12.7473854126294,10.310345230641822,4.9258268322981369,0.66185563478260856,5.859099059006212,0.76335728530020708,12,13.171075490530303,1,0.31089034536880911,8.4825203698450549E-2,9.8386303211086143E-2,4.7585496000640055E-2,6.3163663012930438E-3,8.5713677422384768E-2,5.0153489938782513E-2,0.31612909051700427,25.131392050517597,1,0.63692120092278437,9.791652617433462E-2,7.9196882808795985E-2,3.7836767018678566E-2,5.0839134841420396E-3,4.5005513507170532E-2,5.8635783878012559E-3,9.2175632575437191E-2,13.171075490530303,13.171075490530303,4.0947602081296228,1.1172391614119024,1.2958534268274196,0.626752160078758,8.3193337380172344E-2,1.1289413159011925,0.66057540209725651,4.1637601159521509,25.131392050517597,25.131392050517597,16.006716405676983,2.4607786075119713,1.9903279110467491,0.95089062587050488,0.12776582292088648,1.1310512043835679,0.14735988728277527,2.316501959757773,{"$f":"IF(COUNT(BY65:BY69)<3,\"\",AVERAGE(BY65:BY69))","v":8.8770168092105255},3.4900736174242422,9.0818582313596483,3.8080048768939396,1.4709579015151515,0.38662791856060608,1.2241322045454546,0.18063062499999999,0.23976406439393944,5.4227011931818172,0.30589125757575758,1.3293736742424244E-2,1.5311174242424241E-4,1.5670170454545457E-3,1.7442369318181817E-2,0.33052784090909093,4.7883863636363641E-2,6.8566287878787881E-4,2.1482007575757572E-3,0.16283907196969696,0.20630200757575756,0.14507804924242423,0.19530687499999999,0.7116742045454546,0.17096085227272728,5.5844670454545456E-2,9.518560606060607E-5,6.6835416666666671E-4,1.8324757575757574E-2,1.1564886363636363E-3,9.8952178030303033E-3,4.7242613636363639E-4,4.9690719696969705E-4,0.30005092803030303,6.7775000000000005E-3,8.7270833333333341E-4,2.2592337121212117E-2,7.9753787878787867E-5,2.7628030303030306E-4,5.386288825757575E-2,0.14539271969696971,2.7364583333333331E-4,0.94403467803030294,0.35703415719696968,1.5430795454545454E-3,9.9223863636363615E-4,3.0202348484848485E-3,7.6268939393939395E-5,113.12293438257575,23.735968867965369,13.929418471861471,23.379562809523808,13.858523244927536,8.094107491718427,1.4311264904761904,3.0566718484472051,0.49258268322981369,0.66185563478260856,9.7651650621118016,0.12218032795031056,3.6672511038961041E-2,5.1124458874458878E-4,3.4292322510822509E-3,3.1746556277056276E-2,{"$f":"IF(COUNT(EK65:EK69)<3,\"\",AVERAGE(EK65:EK69))","v":0.92878070186335404},5.9841078674948242E-2,1.5829482401656316E-3,9.6270559006211176E-2,0.49846818426501027,0.28541525672877843,0.3642128633540373,0.49193392753623189,1.7363007908902692,6.6182327122153217E-2,0,2.0196168831168831E-4,1.5366510822510825E-3,4.3197521212121212E-2,2.3486688311688312E-3,1.2986344588744588E-2,1.102685497835498E-3,1.1069002164502165E-3,1.1106698530020702,1.2983501035196689E-2,0,4.9645693073593081E-2,1.2466818181818183E-4,1.3780816017316016E-3,0.16860098203463203,0.23308932121212123,5.4053852813852816E-4,5.6169674347826088,1.9604549186147182,3.4963896103896103E-3,2.5970924242424238E-3,7.9827077922077928E-3,1.0504502164502165E-4,33.904546779089031]
["BRIG1","2007-11",null,null,null,null,null,null,null,12.562850126399868,null,null,{"$f":"IF(COUNT(M66:M70)<3,\"\",AVERAGE(M66:M70))","v":35.498533835639002},23.498533835638995,10.240440726696312,3.0952508613306984,3.5742191695487486,1.7054823369565217,0.21445024374176552,2.926565679347827,1.7421242399538868,12,null,24.076765213043476,null,null,{"$f":"IF(COUNT(AA66:AA70)<3,\"\",AVERAGE(AA66:AA70))","v":116.42960591304349},104.42960591304349,69.61830173913043,13.67813014347826,9.8893198217391305,4.4815830434782606,0.57497106956521749,5.3704989347826082,0.81680207826086948,12,12.562850126399868,1,0.28847503319743728,8.719376624572589E-2,0.10068638851671069,4.8043740196511746E-2,6.0411014363209196E-3,8.2441874723560585E-2,4.9075949108773304E-2,0.33804213029081542,24.076765213043476,1,0.59794329108290112,0.11747982857293097,8.4938188566274622E-2,3.8491782294834631E-2,4.9383579464714489E-3,4.6126574874723998E-2,7.0154156398236503E-3,0.10306656890140391,12.562850126399868,12.562850126399868,3.6240686072676311,1.095402217301398,1.2649080087039051,0.60356630760047003,7.5893451942878692E-2,1.0357049162915251,0.61653379346434611,4.2467726192524511,24.076765213043476,24.076765213043476,14.396540230117523,2.8285342498190555,2.045036823731408,0.92675760494431725,0.1188996848151606,1.1105787133406,0.16890851523194719,2.48150958075307,{"$f":"IF(COUNT(BY66:BY70)<3,\"\",AVERAGE(BY66:BY70))","v":8.1000200157322642},3.2581684000329378,8.2936504107074764,3.5089669149374179,1.2934266732542818,0.37204143486495389,1.1760982262845849,0.17054823369565217,0.21445024374176552,4.877609617094862,0.28240157279314887,1.2530372611989461E-2,1.5455739459815544E-4,1.4224790019762845E-3,1.5940287796442687E-2,0.3081104496047431,4.5643972332015822E-2,3.4713027009222665E-4,2.2943964097496697E-3,0.14944320240447961,0.197582279314888,0.14528033185111988,0.18173845108695652,0.67633866106719365,0.15864134140316208,4.2104491106719363E-2,1.002725625823452E-4,7.0181612318840584E-4,1.7634235836627141E-2,1.0534832015810277E-3,9.9688862812911741E-3,4.6086091897233204E-4,4.1372241436100129E-4,0.28874348237812913,7.6086956521739134E-3,1.1007518115942029E-3,2.1330125164690385E-2,6.3476613965744388E-5,2.3536725955204213E-4,4.6259953474967058E-2,0.12512294795783924,2.5090126811594198E-4,0.86693424324769441,0.31399627676218711,1.3874925889328063E-3,9.7046689723320149E-4,3.0561478919631097E-3,1.2632328722002634E-4,119.78555869235836,22.075892729249009,13.083675873517787,21.615817835403725,12.580289186956522,6.9479966739130434,1.5307579086956522,2.9479579043478261,0.44815830434782611,0.57497106956521749,8.9508315217391292,0.13044784347826086,3.4546237747035573E-2,4.975592885375495E-4,3.3815096837944664E-3,2.8494905138339924E-2,{"$f":"IF(COUNT(EK66:EK70)<3,\"\",AVERAGE(EK66:EK70))","v":0.87099452173913039},5.103134782608696E-2,6.427826086956522E-4,6.8933913043478262E-2,0.46408795652173906,0.30457669565217388,0.36127621739130433,0.47034008695652174,1.6692148695652174,7.0775391304347832E-2,1.2048913043478261E-3,2.3062628458498025E-4,1.505822924901186E-3,3.9730528458498025E-2,2.3332806324110676E-3,1.3770811462450591E-2,1.1258480237154149E-3,9.4869110671936771E-4,1.187903652173913,1.3771130434782609E-2,6.7152173913043482E-4,4.6759797628458499E-2,1.2477687747035573E-4,1.2761820158102765E-3,0.14154755553359682,0.19177113280632413,5.1159960474308304E-4,5.0324380869565211,1.6826099134387351,3.0596660079051383E-3,2.4225634387351779E-3,7.7819624505928858E-3,2.1678932806324107E-4,37.51201296956522]
["BRIG1","2008-12",null,null,null,null,null,null,null,12.360201761775361,null,null,{"$f":"IF(COUNT(M67:M71)<3,\"\",AVERAGE(M67:M71))","v":34.775879057971018},22.775879057971011,9.5329743976449279,3.0238318840579712,3.5889343523550723,1.6431508152173913,0.19840090579710148,3.159482527173914,1.6291050452898552,12,null,22.788798301811592,null,null,{"$f":"IF(COUNT(AA67:AA71)<3,\"\",AVERAGE(AA67:AA71))","v":101.69097883423913},89.690978834239132,53.386528392210138,15.458512738586956,9.667854260144928,4.2776360326086964,0.50462396811594201,5.6228004293478264,0.77302337807971011,12,12.360201761775361,1,0.27412605104111276,8.6951989884059458E-2,0.10320182981923641,4.7249727676999233E-2,5.7051298535507698E-3,9.0852700571769598E-2,4.6845833647343738E-2,0.34506676251076585,22.788798301811592,1,0.52498785048802199,0.15201459279672219,9.5070913575371965E-2,4.2065049246712782E-2,4.9623277689017208E-3,5.529301117765071E-2,7.6016907983526543E-3,0.11800456773614638,12.360201761775361,12.360201761775361,3.3882532990268843,1.0747441385548251,1.2755954387501669,0.58401616727665195,7.0516556067015429E-2,1.122957709669236,0.57902395557973352,4.2650948059156883,22.788798301811592,22.788798301811592,11.963842235673154,3.4642298941765235,2.1665518738381135,0.95861192283910923,0.11308548663298004,1.2600612792272958,0.17323339835639578,2.6891822928315037,{"$f":"IF(COUNT(BY67:BY71)<3,\"\",AVERAGE(BY67:BY71))","v":8.4587245923913024},3.1904943387681159,8.5956048958333326,3.3834993704710148,1.2132982246376811,0.36450742300724637,1.1802334239130434,0.16431508152173913,0.19840090579710148,5.2658042119565209,0.26274422101449274,1.3768564311594202E-2,1.5350996376811593E-4,1.3120788043478261E-3,1.5277649456521738E-2,0.29364701086956518,4.3781521739130434E-2,1.3319746376811594E-4,-8.9868659420289988E-4,0.14269433876811596,0.20133188405797103,0.14912667572463767,0.17291019021739129,0.66516440217391293,0.1477224184782609,3.6309728260869562E-2,1.1352355072463769E-4,6.8399003623188402E-4,1.7553242753623188E-2,9.1092391304347839E-4,1.181317481884058E-2,4.6254076086956527E-4,3.4975996376811593E-4,0.28277332427536228,9.0994565217391316E-3,1.2317300724637682E-3,2.1040307971014492E-2,4.0072463768115936E-5,1.9715579710144929E-4,3.9395076992753617E-2,0.11871224637681158,2.179121376811594E-4,0.82628093297101457,0.29441486865942029,1.3135597826086955E-3,8.5252717391304342E-4,2.8159601449275363E-3,8.6422101449275352E-5,122.28682748188405,20.926633164855069,11.550250115942029,20.473824249094207,11.251162792028985,5.5643299619565223,1.7324956170289856,2.897326138043478,0.42776360326086954,0.50462396811594201,9.3713340489130434,0.12462401195652173,3.7968273731884057E-2,5.4525815217391319E-4,3.2573619565217388E-3,2.6610899456521744E-2,{"$f":"IF(COUNT(EK67:EK71)<3,\"\",AVERAGE(EK67:EK71))","v":0.82146164130434784},4.6640632246376816E-2,3.0473913043478266E-4,5.2882282608695645E-2,0.42763818297101447,0.33740518297101452,0.36441557427536236,0.43950140942028987,1.621842632246377,6.7496451086956524E-2,1.6143704710144928E-3,2.3902590579710146E-4,1.6225748188405799E-3,3.8177782246376808E-2,2.4084510869565221E-3,1.3637989492753622E-2,1.2320601449275362E-3,7.8227065217391313E-4,1.3440614420289856,1.5284807971014495E-2,1.5610009057971017E-3,4.9497023007246378E-2,8.4521195652173905E-5,1.146295652173913E-3,0.11243982826086954,0.16308671992753623,5.776128623188406E-4,3.9191180688405791,1.3499368168478258,2.8326394927536227E-3,1.9864460144927536E-3,7.7313469202898548E-3,2.125847826086956E-4,42.550402204166666]
["BRIG1","2009-13",null,null,null,null,null,null,null,12.248445136693016,null,null,{"$f":"IF(COUNT(M68:M72)<3,\"\",AVERAGE(M68:M72))","v":34.38539170092227},22.385391700922263,9.3458246090250334,2.9845905981554681,3.6057542091567854,1.6285297430830039,0.18521199736495392,3.034466021739131,1.6010158544137023,12,null,22.254643771884055,null,null,{"$f":"IF(COUNT(AA68:AA72)<3,\"\",AVERAGE(AA68:AA72))","v":96.711832458695653},84.711832458695653,49.470948105072452,15.57359897347826,9.1445765385507265,4.1304218695652182,0.45107804405797103,5.1157774739130435,0.82543174594202884,12,12.248445136693016,1,0.27179636894391884,8.6798214314813715E-2,0.10486296740543087,4.7361093258662057E-2,5.3863570604602493E-3,8.8248697241327112E-2,4.6560931116883586E-2,0.34898540939634376,{"$f":"X98","v":22.254643771884055},{"$f":"AA98/AA98","v":1},{"$f":"AC98/AA98","v":0.51152942558710013},{"$f":"AD98/AA98","v":0.1610309574077147},{"$f":"AE98/AA98","v":9.4554888539168713E-2},{"$f":"AF98/AA98","v":4.2708547284834739E-2},{"$f":"AG98/AA98","v":4.6641453541956257E-3},{"$f":"AH98/AA98","v":5.2897120692009685E-2},{"$f":"AI98/AA98","v":8.5349612860924733E-3},{"$f":"AJ98/AA98","v":0.12407995686696394},12.248445136693016,12.248445136693016,3.3290829133619635,1.0631431659979182,1.2844083031362481,0.58009975239252365,6.597449894168643E-2,1.0809093265450274,0.57029901029849128,4.2745286404974676,{"$f":"X98","v":22.254643771884055},22.254643771884055,11.383905145277387,3.5836865933541246,2.1042853613294019,0.95046350583866313,0.10379889335791163,1.1772065775590326,0.18994252302880937,2.7613552393050211,{"$f":"IF(COUNT(BY68:BY72)<3,\"\",AVERAGE(BY68:BY72))","v":8.2055960375494053},3.1462118346508565,8.3487561893939386,3.3424309509222665,1.1889445797101448,0.36037712022397889,1.1858187391304349,0.1628529743083004,0.18521199736495392,5.0574433695652168,0.25922574044795782,1.3315124176548088E-2,1.4308069828722003E-4,1.2780266798418972E-3,1.4475574110671935E-2,0.28816579051383395,4.4919762845849802E-2,1.8837615283267458E-4,1.8610507246376792E-3,0.1422536528326746,0.20369368906455865,0.14841134057971012,0.17015178853754939,0.66637152173913028,0.14541702569169962,3.7588600790513835E-2,1.1372793148880108E-4,6.7828293807641635E-4,1.684486693017128E-2,8.9919367588932818E-4,1.1909358036890645E-2,4.426689723320158E-4,3.1980797101449274E-4,0.27952956851119892,8.2259288537549421E-3,1.1672022397891963E-3,2.0843973649538865E-2,4.2421607378129114E-5,1.9827009222661397E-4,3.5752970685111983E-2,0.11093252437417653,2.2051152832674569E-4,0.81385838274044797,0.28845462220026352,1.2703932806324108E-3,7.326581027667984E-4,2.7895862977602107E-3,8.00467720685112E-5,123.70946307641631,19.525064713702239,11.04354096231884,19.098563944729911,10.742998668405798,5.2313547521739139,1.7580829284057973,2.7566195191304343,0.41304218695652173,0.45107804405797103,8.5262958478260877,0.13282138347826086,3.4302184202898552E-2,5.1177173913043487E-4,3.2033678260869566E-3,2.480819782608696E-2,{"$f":"IF(COUNT(EK68:EK72)<3,\"\",AVERAGE(EK68:EK72))","v":0.78795192173913053},4.7530766666666668E-2,2.4379130434782611E-4,4.9590173913043475E-2,0.40384706811594195,0.3225667550724638,0.34345419855072468,0.42177069275362322,1.5412288884057972,7.2635421739130443E-2,1.7502789855072462E-3,2.4313376811594206E-4,1.5345815942028986E-3,3.6102486666666662E-2,2.2792826086956526E-3,1.3085261159420289E-2,1.1740828985507246E-3,7.4659913043478268E-4,1.3636882840579712,1.3850455072463769E-2,1.91793115942029E-3,4.6748053188405803E-2,6.7529999999999999E-5,1.0681669565217392E-3,9.7534384347826061E-2,0.14415859333333333,5.1252507246376806E-4,3.706186628985507,1.2690138882608692,2.6089811594202897E-3,1.7342002898550726E-3,7.523077536231884E-3,1.9606782608695645E-4,45.077098719855073]
["BRIG1","2010-14",null,null,null,null,null,null,null,12.02509297002635,null,null,{"$f":"IF(COUNT(M69:M73)<3,\"\",AVERAGE(M69:M73))","v":33.687818822134389},21.687818822134389,8.7760517075098825,2.9298861814888015,3.7453921788537543,1.5408562582345191,0.16143061100131753,3.0770613399209483,1.4571419604743083,12,null,21.866481876231884,null,null,{"$f":"IF(COUNT(AA69:AA73)<3,\"\",AVERAGE(AA69:AA73))","v":96.243454131739128},84.243454131739128,45.323946981594204,18.581595175217394,9.5311384794202887,4.167306739130435,0.37180295884057968,5.2663355260869569,1.0013282642028987,12,{"$f":"J99","v":12.02509297002635},{"$f":"M99/M99","v":1},{"$f":"O99/M99","v":0.26051112878057953},{"$f":"P99/M99","v":8.6971679495133611E-2},{"$f":"Q99/M99","v":0.11117942062763843},{"$f":"R99/M99","v":4.5739270517036509E-2},{"$f":"S99/M99","v":4.7919579434228749E-3},{"$f":"T99/M99","v":9.1340474020217152E-2},{"$f":"U99/M99","v":4.3254268498882496E-2},{"$f":"V99/M99","v":0.35621184213076651},{"$f":"X99","v":21.866481876231884},{"$f":"AA99/AA99","v":1},{"$f":"AC99/AA99","v":0.47093017795843312},{"$f":"AD99/AA99","v":0.19306866469882406},{"$f":"AE99/AA99","v":9.9031550409381178E-2},{"$f":"AF99/AA99","v":4.329963815955918E-2},{"$f":"AG99/AA99","v":3.8631506131487298E-3},{"$f":"AH99/AA99","v":5.4718895675526541E-2},{"$f":"AI99/AA99","v":1.0404118111058952E-2},{"$f":"AJ99/AA99","v":0.12468380429877615},{"$f":"J99","v":12.02509297002635},{"$f":"BE99","v":12.02509297002635},{"$f":"BE99*AM99","v":3.132670543312976},{"$f":"BE99*AN99","v":1.045842531688316},{"$f":"BE99*AO99","v":1.3369428694010175},{"$f":"BE99*AP99","v":0.55001898034854924},{"$f":"BE99*AQ99","v":5.7623739778116335E-2},{"$f":"BE99*AR99","v":1.0983776920193877},{"$f":"BE99*AS99","v":0.5201366000495441},{"$f":"BE99*AT99","v":4.2834805186468161},{"$f":"X99","v":21.866481876231884},{"$f":"BO99","v":21.866481876231884},{"$f":"BO99*AW99","v":10.297586201298733},{"$f":"BO99*AX99","v":4.2217324575051265},{"$f":"BO99*AY99","v":2.1654716022018778},{"$f":"BO99*AZ99","v":0.94681075306339924},{"$f":"BO99*BA99","v":8.4473512867570794E-2},{"$f":"BO99*BB99","v":1.1965097405763243},{"$f":"BO99*BC99","v":0.22750146011364647},{"$f":"BO99*BD99","v":2.7263961469588316},{"$f":"IF(COUNT(BY69:BY73)<3,\"\",AVERAGE(BY69:BY73))","v":8.1811502042160722},3.0534229710144927,8.3184805681818172,3.2589653372859027,1.1193185721343872,0.35503831719367585,1.2303349209486165,0.15408562582345192,0.16143061100131753,5.1284355665349137,0.23875783135704878,1.2551169631093545E-2,1.396185770750988E-4,1.2984963768115942E-3,1.3252551383399208E-2,0.27154336627140968,4.5127717391304348E-2,1.6867918313570487E-4,8.9043083003952552E-3,0.15424471343873519,0.21140111330698286,0.14621512845849799,0.16275413702239788,0.6835194005270091,0.13392429841897233,3.4153615942028988E-2,1.2369762845849806E-4,6.7715415019762844E-4,1.6023162384716735E-2,8.8217852437417663E-4,1.3881229249011856E-2,4.6326745718050061E-4,2.8278524374176546E-4,0.27522350790513828,8.1215349143610033E-3,7.4216436100131762E-4,1.9937375164690383E-2,2.9815546772068507E-5,1.9221706192358367E-4,2.8495826745718052E-2,9.3193781949934107E-2,2.0111758893280631E-4,0.7627628524374177,0.2713499252305665,1.2049993412384717E-3,5.9473386034255605E-4,2.8261620553359686E-3,1.3172859025032936E-4,127.07545740974965,19.919179148484847,11.190762771014494,19.328808605599473,10.657299656231885,4.8728575834782619,2.0378634431884057,2.7969458426086957,0.41673067391304353,0.37180295884057968,8.7772259347826065,0.16109915391304347,2.9192893768115947E-2,5.4669000000000007E-4,3.5597782608695651E-3,2.3880503913043478E-2,{"$f":"IF(COUNT(EK69:EK73)<3,\"\",AVERAGE(EK69:EK73))","v":0.78321359130434798},4.8978523188405801E-2,2.7860869565217395E-4,6.0506695652173904E-2,0.39926866811594197,0.3374171202898551,0.34092626811594207,0.41574004927536234,1.5538588014492754,8.8225960869565218E-2,3.7128876811594199E-3,2.7549202898550726E-4,1.5746859420289853E-3,3.5441871014492747E-2,2.3420860869565216E-3,1.4827327246376809E-2,1.2407194202898552E-3,7.015347826086957E-4,1.5797392057971014,1.3889168115942031E-2,2.082626811594203E-3,4.6173166231884055E-2,4.4521304347826092E-5,1.028695652173913E-3,7.1549650434782605E-2,0.12525618637681163,4.7411115942028978E-4,3.5103531681159419,1.1812987543478259,2.3447272463768118E-3,1.4605933333333332E-3,7.9148410144927531E-3,2.6106608695652169E-4,47.400418312898545]
["BRIG1","2011-15",null,null,null,null,null,null,null,11.950038292490119,null,null,{"$f":"IF(COUNT(M70:M74)<3,\"\",AVERAGE(M70:M74))","v":33.381702126482217},21.381702126482214,8.2572873596837955,2.9365711778656127,3.7039690158102765,1.3964681422924901,0.1466702885375494,3.2311165138339915,1.7096206126482216,12,null,21.132254536231883,null,null,{"$f":"IF(COUNT(AA70:AA74)<3,\"\",AVERAGE(AA70:AA74))","v":88.716630438405815},76.716630438405801,38.45912097826087,18.350571815217393,9.6144836594202907,4.0094275724637685,0.30338473550724643,4.8141741594202889,1.1654675108695653,12,11.950038292490119,1,0.24735968610579515,8.7969485999816216E-2,0.11095806324602786,4.1833341421636208E-2,4.3937330691472924E-3,9.6793042535440313E-2,5.1214303158374698E-2,0.35947837394667231,21.132254536231883,1,0.4335052040210462,0.2068447789837761,0.10837295794383708,4.5193641289695219E-2,3.4197053473292178E-3,5.4264619109521676E-2,1.3136967726459428E-2,0.13526212549665489,11.950038292490119,11.950038292490119,2.955957720982588,1.0512387262684773,1.3259531046505733,0.49991003189136568,5.250527842329028E-2,1.1566805647451366,0.61201288386577524,4.2957803339848164,21.132254536231883,21.132254536231883,9.1609423141538819,4.3710965189757838,2.2901649321135182,0.95504353115299834,7.2266083838674292E-2,1.1467337433340847,0.27761374582980414,2.8583936651070516,{"$f":"IF(COUNT(BY70:BY74)<3,\"\",AVERAGE(BY70:BY74))","v":8.4041960158102746},3.0190018260869569,8.5185945573122517,3.1909631778656129,1.0532613438735177,0.35554693675889332,1.2166759209486167,0.13964681422924902,0.1466702885375494,5.38519418972332,0.27916223715415017,1.2305296442687746E-2,1.3781422924901186E-4,1.3004782608695652E-3,1.3113486166007906E-2,0.25387204743082997,3.9922521739130433E-2,1.2180237154150197E-4,6.3967430830039517E-3,0.14637560474308303,0.22279883794466401,0.14609032411067194,0.15426955731225298,0.67593106719367579,0.15601636363636365,5.352221739130434E-2,1.1806719367588934E-4,6.558498023715414E-4,1.5285470355731226E-2,7.9557707509881421E-4,1.7417837944664026E-2,4.4029644268774704E-4,2.35901185770751E-4,0.27561792094861659,1.0196332015810277E-2,5.9636363636363641E-4,2.0024893280632412E-2,1.800395256916996E-5,1.7616996047430832E-4,2.3690877470355733E-2,9.8260209486165984E-2,1.9749802371541505E-4,0.7229307509881423,0.25533605928853753,1.1557747035573121E-3,4.7615415019762843E-4,2.713683794466403E-3,2.1156916996047434E-4,127.75693487351778,18.56658093181818,10.591766804347825,17.906873422266138,9.982774869565219,4.2433313768115948,2.0340633731884061,2.8112738659420282,0.40094275724637674,0.30338473550724643,8.0236236847826081,0.18977842391304348,2.6502630434782605E-2,5.1508333333333332E-4,3.5976449275362315E-3,2.2493173913043479E-2,{"$f":"IF(COUNT(EK70:EK74)<3,\"\",AVERAGE(EK70:EK74))","v":0.75509480797101458},4.6620456521739129E-2,1.0677536231884059E-4,6.2736362318840583E-2,0.39520193478260868,0.36619925362318839,0.33680201811594207,0.40087928260869565,1.5618188514492752,0.10667792753623191,5.1377210144927538E-3,2.7144202898550724E-4,1.5130326086956519E-3,3.4340887681159421E-2,2.2140760869565216E-3,1.5412923913043478E-2,1.1829094202898548E-3,5.8101811594202897E-4,1.5767935724637681,1.6600684782608698E-2,2.2322934782608695E-3,4.5159202898550722E-2,1.939130434782609E-5,8.8811231884057952E-4,4.855621376811594E-2,8.4718746376811593E-2,4.383478260869565E-4,3.0537230181159418,1.0286863876811594,2.2705905797101448E-3,1.0868333333333333E-3,7.7409710144927518E-3,3.0682608695652169E-4,50.524879286231879]
["BRIG1","2012-16",null,null,null,null,null,null,null,11.590648292490119,null,null,{"$f":"IF(COUNT(M71:M75)<3,\"\",AVERAGE(M71:M75))","v":32.150212735177867},20.150212735177867,7.5375395335968376,2.6497140474308307,3.6268140592885372,1.2491046640316206,0.14184611462450594,3.3536978181818178,1.5914978300395255,12,null,20.436071851449277,null,null,{"$f":"IF(COUNT(AA71:AA75)<3,\"\",AVERAGE(AA71:AA75))","v":82.744654221014486},70.744654221014486,31.814163681159425,19.651995387681161,9.2886516413043481,3.9656814130434781,0.31151505434782611,4.5957786159420291,1.1168688550724637,12,11.590648292490119,1,0.23444757879780595,8.2416687853874987E-2,0.11280840003027968,3.885214304242799E-2,4.4119805922559849E-3,0.10431339430959022,4.9501937767837935E-2,0.37324791903693794,20.436071851449277,1,0.38448603091847411,0.23750169207535568,0.11225681862775044,4.7926738595716098E-2,3.7647755891970515E-3,5.5541698242722835E-2,1.3497776570426646E-2,0.14502447454729209,11.590648292490119,11.590648292490119,2.7173994288712322,0.95526284234620729,1.3075224891895034,0.45032152541429987,5.1137715318131376E-2,1.2090598656383003,0.57375955046374294,4.326185355460975,20.436071851449277,20.436071851449277,7.8573841537284856,4.8536016440927501,2.2940884112918178,0.97943427354768142,7.6937224445413233E-2,1.1350541360397979,0.27584153182804755,2.963730582067138,{"$f":"IF(COUNT(BY71:BY75)<3,\"\",AVERAGE(BY71:BY75))","v":8.4986507114624494},2.909913304347826,8.5228585573122508,2.9988202213438742,0.96050890909090914,0.32005528458498034,1.1926475731225297,0.12491046640316203,0.14184611462450594,5.5894962766798413,0.25885215019762847,1.2315557312252963E-2,1.17901185770751E-4,1.2872608695652175E-3,1.253522529644269E-2,0.23255413438735176,3.8343913043478256E-2,1.0962845849802372E-4,6.9868300395256903E-3,0.14059056126482217,0.2304765770750988,0.13843075889328063,0.14609720948616603,0.66258193675889321,0.14414871146245059,5.1258999999999999E-2,1.0989328063241107E-4,5.8141501976284571E-4,1.4057905138339922E-2,7.3627272727272723E-4,1.7266794466403161E-2,3.9499209486166002E-4,1.7703162055335969E-4,0.24810496442687743,1.0274940711462453E-2,5.337549407114625E-4,1.9193415019762846E-2,2.7743083003952566E-5,1.6138735177865615E-4,2.3339138339920951E-2,9.6444122529644252E-2,1.8732411067193675E-4,0.65105040316205531,0.23285066798418969,1.1260355731225295E-3,3.0337154150197632E-4,2.4735098814229247E-3,1.7956916996047433E-4,132.45740713438735,17.536696783267455,9.925875144927538,16.92932930632411,9.4029076992753637,3.6100832572463775,2.1734437862318843,2.7292140688405793,0.39656814130434781,0.31151505434782611,7.6596311956521728,0.18208330434782607,2.7791351449275366E-2,5.3929347826086964E-4,3.4376920289855076E-3,2.1661471014492756E-2,{"$f":"IF(COUNT(EK71:EK75)<3,\"\",AVERAGE(EK71:EK75))","v":0.70336006159420295},4.6594967391304351E-2,6.9384057971014489E-5,6.8475286231884064E-2,0.37860860507246374,0.38355317391304344,0.33213669202898555,0.35345627173913041,1.5162300289855071,0.10240283333333336,4.9168913043478261E-3,2.6380797101449279E-4,1.5129927536231881E-3,3.4854148550724641E-2,2.1220652173913044E-3,1.4458695652173911E-2,1.1353079710144927E-3,4.4039492753623189E-4,1.6848403188405796,1.7481105072463768E-2,1.9881594202898552E-3,4.5239514492753624E-2,7.637681159420294E-6,8.1315579710144917E-4,5.0636931159420286E-2,7.7031713768115934E-2,4.2451086956521737E-4,2.5686829130434781,0.87517167753623182,2.3879456521739128E-3,6.5220652173913042E-4,7.6862934782608696E-3,3.2839492753623182E-4,54.182799702898549]
["BRIG1","2013-17",null,null,null,null,null,null,null,11.477283984189723,null,null,31.800517193675894,19.800517193675891,7.1165806877470361,2.5549422292490123,3.7827400948616599,1.2397026086956522,0.14093885770750988,3.3337970671936752,1.6318162766798416,12,null,19.863145728260868,null,null,78.624415797101449,66.624415797101449,27.561358184782609,19.790729485507249,9.22140009057971,3.8667598913043477,0.28178282246376812,4.7617627246376815,1.1406232934782607,12,{"$f":"J102","v":11.477283984189723},{"$f":"M102/M102","v":1},{"$f":"O102/M102","v":0.22378820584598216},{"$f":"P102/M102","v":8.0342788568140283E-2},{"$f":"Q102/M102","v":0.11895215640121494},{"$f":"R102/M102","v":3.8983724734583544E-2},{"$f":"S102/M102","v":4.4319674692441203E-3},{"$f":"T102/M102","v":0.10483468073458443},{"$f":"U102/M102","v":5.1314142683325847E-2},{"$f":"V102/M102","v":0.37735235332544892},{"$f":"X102","v":19.863145728260868},{"$f":"AA102/AA102","v":1},{"$f":"AC102/AA102","v":0.35054452113078444},{"$f":"AD102/AA102","v":0.25171226119605522},{"$f":"AE102/AA102","v":0.11728417943831214},{"$f":"AF102/AA102","v":4.9180141462455217E-2},{"$f":"AG102/AA102","v":3.5839099039023481E-3},{"$f":"AH102/AA102","v":6.0563409932684394E-2},{"$f":"AI102/AA102","v":1.4507240300796113E-2},{"$f":"AJ102/AA102","v":0.15262434548279835},{"$f":"J102","v":11.477283984189723},{"$f":"BE102","v":11.477283984189723},{"$f":"BE102*AM102","v":2.5684807908066443},{"$f":"BE102*AN102","v":0.92211700047825762},{"$f":"BE102*AO102","v":1.3652476795484954},{"$f":"BE102*AP102","v":0.44742727954029649},{"$f":"BE102*AQ102","v":5.0866949253205403E-2},{"$f":"BE102*AR102","v":1.2032174021826889},{"$f":"BE102*AS102","v":0.58894698798176204},{"$f":"BE102*AT102","v":4.3309801212184764},{"$f":"X102","v":19.863145728260868},{"$f":"BO102","v":19.863145728260868},{"$f":"BO102*AW102","v":6.9629169074641926},{"$f":"BO102*AX102","v":4.9997973257273083},{"$f":"BO102*AY102","v":2.329632747802691},{"$f":"BO102*AZ102","v":0.97687231680523257},{"$f":"BO102*BA102","v":7.1187724698169738E-2},{"$f":"BO102*BB102","v":1.2029798372933118},{"$f":"BO102*BC102","v":0.28815942820961221},{"$f":"BO102*BD102","v":3.031599616005257},8.4443166482213421,2.8887470988142292,8.476361691699605,2.9875108023715415,0.90633175889328066,0.30928240316205535,1.2386984150197631,0.12397026086956522,0.14093885770750988,5.5563284189723312,0.26829003162055332,1.2104094861660079E-2,1.1437549407114623E-4,1.3190355731225298E-3,1.3416335968379448E-2,0.22494497628458493,3.8237237154150207E-2,1.0441106719367589E-4,9.7351146245059274E-3,0.14522656126482217,0.24919580237154149,0.14469186561264821,0.13931636363636365,0.68816570750988126,0.149424395256917,5.7652083003952567E-2,1.021106719367589E-4,5.7440316205533597E-4,1.3409790513833994E-2,7.2759288537549405E-4,1.7285545454545453E-2,3.7928458498023707E-4,1.3174703557312256E-4,0.23975381818181818,1.0943150197628459E-2,5.6088142292490121E-4,1.944690513833992E-2,4.6375494071146241E-5,1.6032015810276681E-4,2.3209948616600789E-2,9.7149047430830013E-2,2.0798814229249012E-4,0.61013741501976293,0.21971679446640319,1.1321818181818182E-3,1.753596837944664E-4,2.3573873517786555E-3,2.2294466403162058E-4,134.19903655731227,17.259137051383398,9.3716754347826097,16.741914150527005,8.9512796847826106,3.1862535833333339,2.2036800543478261,2.7051906992753625,0.38667598913043477,0.28178282246376812,7.9362711739130436,0.18769602173913041,2.573683333333333E-2,4.644782608695652E-4,3.3234963768115945E-3,2.1188525362318841E-2,0.66564775724637681,4.7361887681159419E-2,6.9384057971014489E-5,7.2745199275362313E-2,0.36770746739130439,0.39756238405797095,0.3384654673913044,0.32640303985507246,1.5028835579710145,0.10552111594202898,6.8167862318840571E-3,2.4528985507246378E-4,1.3657572463768113E-3,3.2213025362318834E-2,1.8836521739130437E-3,1.5624384057971013E-2,1.0157572463768117E-3,3.4124275362318844E-4,1.7082793043478262,1.7524858695652176E-2,1.496663043478261E-3,4.2727489130434788E-2,1.4431159420289857E-5,7.1793840579710143E-4,4.3551583333333324E-2,7.7758097826086947E-2,3.4355797101449286E-4,2.2514052753623188,0.77242507971014496,2.1780253623188408E-3,4.0728623188405799E-4,7.4351811594202902E-3,3.7469927536231881E-4,57.743134923913047]
[{"$f":"A87","v":"BRIG1"},"2014-18",null,null,null,null,null,null,null,11.256404783232785,null,null,31.088249581235697,19.088249581235697,6.57822833368005,2.5006430330767633,3.604591262325775,1.1763682546286667,0.1384388481381319,3.4322329619305179,1.6577467742874972,12,null,19.312998597826088,null,null,74.922618405797095,62.922618405797095,23.956552293478261,19.774828502898551,9.0469250601449271,3.7667708478260868,0.28155605289855073,4.8978283942028984,1.1981574500000001,12,11.256404783232785,1,0.21159854357482222,8.0436919632365086E-2,0.11594706395117983,3.7839642645519068E-2,4.4530924063891676E-3,0.11040290168032334,5.3323902008560915E-2,0.38599793046061309,19.312998597826088,1,0.31975060139682243,0.26393669793804864,0.12075025209536626,5.0275483264939323E-2,3.7579579957227644E-3,6.5371826271142866E-2,1.5991932416330144E-2,0.16016525123301759,11.256404783232785,11.256404783232785,2.3818388580207199,0.90543052689826553,1.3051470852618583,0.42593833447084012,5.0125810663456623E-2,1.2427397505571705,0.60023542562980137,4.3449489507548016,19.312998597826088,19.312998597826088,6.1753429164308802,5.0974090771923812,2.3320494494049551,0.97097033780080211,7.2577437502083078E-2,1.2625259891119127,0.30885216833311363,3.0932712724837317,8.4697305068072009,2.7776027351778656,8.4800970856389988,2.8587953478260872,0.84245102205117539,0.30331469502808411,1.1844982044934471,0.11763682546286665,0.1384388481381319,5.7203886294986468,0.27245661535261079,1.1828980029124195E-2,1.0999750364052423E-4,1.3259350946536301E-3,1.3801934054503851E-2,0.21098279446640317,3.5370270646973165E-2,2.2592885375494074E-5,8.2526935718743484E-3,0.13690122155190348,0.24321709423757021,0.14094460245475346,0.12873883253588517,0.65805444435198657,0.15179246224256293,6.0164738506344906E-2,9.4885791553983787E-5,5.3289120033284793E-4,1.2773517786561264E-2,6.6050676097358021E-4,1.8068516746411484E-2,3.6854295818597872E-4,1.0922071978364885E-4,0.23512775119617224,1.2577523403370086E-2,4.4727376742250883E-4,1.903591470771791E-2,3.811712086540462E-5,1.4261680882047016E-4,2.2858407946744329E-2,0.10188474121073435,1.9843790305804033E-4,0.56375819970875818,0.20423048824630746,1.0765311004784688E-3,1.4577595173705012E-4,2.2487796962762639E-3,2.3119346785937175E-4,137.28110715061371,17.004578569565219,8.841529465217393,16.564957205072464,8.5083568500000002,2.7961224007246379,2.2004099195652169,2.6561214905797099,0.3766770847826087,0.28155605289855073,8.1630473652173912,0.19746934782608691,2.5952668115942028E-2,4.2251304347826088E-4,3.1846181159420292E-3,2.1586847101449275E-2,0.62934964855072462,4.4870626811594198E-2,6.9384057971014489E-5,7.5359351449275358E-2,0.35538494565217393,0.41101257536231878,0.33625342826086968,0.29761257463768115,1.4756228753623186,0.11071365507246375,8.8198036231884065E-3,2.2597681159420291E-4,1.3651355072463766E-3,3.1701364492753625E-2,1.7415304347826086E-3,1.6199114492753623E-2,9.8542246376811604E-4,2.6706014492753623E-4,1.7057443739130433,1.8247350000000002E-2,1.0306326086956521E-3,4.2143254347826092E-2,2.481811594202899E-5,6.4160797101449276E-4,4.3484361594202894E-2,8.0670280434782596E-2,3.5152318840579716E-4,1.9548092014492755,0.67784784492753625,2.2062557971014489E-3,3.0844275362318846E-4,7.2052811594202886E-3,4.0909927536231878E-4,61.435532067391307]
[{"$f":"A103","v":"BRIG1"},"2015-19",null,null,null,null,null,null,null,{"$f":"IF(J78=\"\",\"\",J78)","v":10.812446309548575},null,null,29.741484810900772,17.741484810900769,5.8464592044934474,2.482347033076763,3.2613966259621385,1.2046542833368008,0.12946780029124194,3.1635659858539626,1.6535934489286457,12,null,18.532538393478262,null,null,66.757449992753621,54.757449992753621,19.361819736956523,17.903307881159421,8.226484699275364,3.5653699782608697,0.27609681811594206,4.3459632420289855,1.0784073717391307,12,{"$f":"J104","v":10.812446309548575},{"$f":"M104/M104","v":1},{"$f":"O104/M104","v":0.19657590203265904},{"$f":"P104/M104","v":8.3464125912333056E-2},{"$f":"Q104/M104","v":0.1096581642341804},{"$f":"R104/M104","v":4.0504174253441244E-2},{"$f":"S104/M104","v":4.3531048000599402E-3},{"$f":"T104/M104","v":0.10636879785821791},{"$f":"U104/M104","v":5.5598886855930438E-2},{"$f":"V104/M104","v":0.40347682963030113},{"$f":"X104","v":18.532538393478262},{"$f":"AA104/AA104","v":1},{"$f":"AC104/AA104","v":0.29003234454069482},{"$f":"AD104/AA104","v":0.26818441811517346},{"$f":"AE104/AA104","v":0.12322946278158214},{"$f":"AF104/AA104","v":5.340782157868347E-2},{"$f":"AG104/AA104","v":4.1358203188694561E-3},{"$f":"AH104/AA104","v":6.5100797626343285E-2},{"$f":"AI104/AA104","v":1.615411271485339E-2},{"$f":"AJ104/AA104","v":0.17975521835094921},{"$f":"J104","v":10.812446309548575},{"$f":"BE104","v":10.812446309548575},{"$f":"BE104*AM104","v":2.1254663864792063},{"$f":"BE104*AN104","v":0.90245138020050308},{"$f":"BE104*AO104","v":1.1856730131857354},{"$f":"BE104*AP104","v":0.43794920942793319},{"$f":"BE104*AQ104","v":4.7067711930486283E-2},{"$f":"BE104*AR104","v":1.1501069158532067},{"$f":"BE104*AS104","v":0.60115997900041385},{"$f":"BE104*AT104","v":4.3625715575245083},{"$f":"X104","v":18.532538393478262},{"$f":"BO104","v":18.532538393478262},{"$f":"BO104*AW104","v":5.3750355605509421},{"$f":"BO104*AX104","v":4.970138025252079},{"$f":"BO104*AY104","v":2.2837547502073718},{"$f":"BO104*AZ104","v":0.98978250391898825},{"$f":"BO104*BA104","v":7.6647248847975705E-2},{"$f":"BO104*BB104","v":1.2064830314562653},{"$f":"BO104*BC104","v":0.2993767141005958},{"$f":"BO104*BD104","v":3.3313204855170344},7.8125956647019397,2.56824604618265,7.8371412770265581,2.6554135009361346,0.7544771655918453,0.30115180507593098,1.0791148647805284,0.12046542833368004,0.12946780029124194,5.272610476388599,0.27073699812773044,1.0809118785105055E-2,7.2858747659662994E-5,1.1854039941751611E-3,1.3303838360723946E-2,0.20490978011233615,3.5239342417308091E-2,8.9565217391304354E-6,5.9918161015186193E-4,0.11229365217391304,0.23246431911795301,0.13445830580403578,0.11969265071770337,0.59950810942375699,0.1508370842521323,5.895866195132099E-2,9.0565217391304337E-5,5.2438402329935509E-4,1.1941446016226336E-2,5.9247805283960879E-4,1.6629483253588519E-2,3.4288745579363433E-4,7.423028916163928E-5,0.23345089952153111,1.1640461202413148E-2,4.9978094445600159E-4,1.8603201789057628E-2,3.9968795506552939E-5,1.3767422508841274E-4,2.1362187851050551E-2,0.10260907135427502,1.9816517578531305E-4,0.5057441422924901,0.18290353609319743,9.8588995215311004E-4,9.813001872269608E-5,2.1113969211566464E-3,2.1306428125650095E-4,144.02528004535051,14.929535334782608,7.6862632565217393,14.823199544202897,7.667325502173914,2.3205009094202897,2.050719284782609,2.4841565471014491,0.35653699782608694,0.27609681811594206,7.2432720782608682,0.17931401739130431,2.4645498550724638E-2,2.8993478260869561E-4,2.6514876811594206E-3,{"$f":"IF(COUNT(EJ74:EJ78)<3,\"\",AVERAGE(EJ74:EJ78))","v":2.1463521014492754E-2},0.57414447898550725,4.4299970289855072E-2,2.4166666666666663E-5,5.9176629710144923E-2,0.32146474565217392,0.4077052101449275,0.32980855869565218,0.26193161811594201,1.3800867623188406,0.10062741594202898,7.4350949275362333E-3,2.4789855072463775E-4,1.4930311594202896E-3,3.0132260144927536E-2,1.5220869565217392E-3,1.4223088405797099E-2,9.2226594202898544E-4,2.5766449275362323E-4,1.5897049521739131,1.6729836956521742E-2,1.0041369565217391E-3,3.9229841304347826E-2,4.0026811594202901E-5,5.4389927536231881E-4,4.4076735507246376E-2,7.6307667391304332E-2,3.2299710144927546E-4,1.6227562623188407,0.5625457188405798,2.1753297101449274E-3,1.9952971014492756E-4,7.0670376811594205E-3,3.6372101449275358E-4,66.265253854347833]
[{"$f":"A104","v":"BRIG1"},"2016-20",null,null,null,null,null,null,null,10.655220713022675,null,null,29.28642938319118,17.28642938319118,5.7467369403994173,2.4436264000416061,3.1578006737570212,1.2176363324318704,0.12064442427709592,3.0756397649261498,1.5243447459434156,12,null,17.956172366847824,null,null,62.813090407608691,50.813090407608684,16.754942275362318,17.698099851449275,7.4351889990942031,3.4463614311594206,0.2500905018115942,4.2426467608695653,0.98576025634057984,12,{"$f":"J105","v":10.655220713022675},{"$f":"M105/M105","v":1},{"$f":"O105/M105","v":0.19622525044646555},{"$f":"P105/M105","v":8.3438864057771248E-2},{"$f":"Q105/M105","v":0.10782470721983703},{"$f":"R105/M105","v":4.1576810764467162E-2},{"$f":"S105/M105","v":4.1194651180774967E-3},{"$f":"T105/M105","v":0.10501928127473949},{"$f":"U105/M105","v":5.204952525958343E-2},{"$f":"V105/M105","v":0.40974609239620546},{"$f":"X105","v":17.956172366847824},{"$f":"AA105/AA105","v":1},{"$f":"AC105/AA105","v":0.26674284240172896},{"$f":"AD105/AA105","v":0.28175814526243187},{"$f":"AE105/AA105","v":0.11837005552259154},{"$f":"AF105/AA105","v":5.4866929947168387E-2},{"$f":"AG105/AA105","v":3.9815029031161978E-3},{"$f":"AH105/AA105","v":6.7543990167305057E-2},{"$f":"AI105/AA105","v":1.5693548111448637E-2},{"$f":"AJ105/AA105","v":0.19104298040630099},{"$f":"J105","v":10.655220713022675},{"$f":"BE105","v":10.655220713022675},{"$f":"BE105*AM105","v":2.0908233529752418},{"$f":"BE105*AN105","v":0.88905951257944749},{"$f":"BE105*AO105","v":1.1488960537444131},{"$f":"BE105*AP105","v":0.44301009523897467},{"$f":"BE105*AQ105","v":4.3893810052713741E-2},{"$f":"BE105*AR105","v":1.1190036211053587},{"$f":"BE105*AS105","v":0.55459917964891037},{"$f":"BE105*AT105","v":4.3659350507801511},{"$f":"X105","v":17.956172366847824},{"$f":"BO105","v":17.956172366847824},{"$f":"BO105*AW105","v":4.7896804557883694},{"$f":"BO105*AX105","v":5.0592978220955738},{"$f":"BO105*AY105","v":2.1254731200370007},{"$f":"BO105*AZ105","v":0.98520005137112032},{"$f":"BO105*BA105","v":7.1492552407459456E-2},{"$f":"BO105*BB105","v":1.2128315297888042},{"$f":"BO105*BC105","v":0.28179605493659088},{"$f":"BO105*BD105","v":3.4304006856518723},{"$f":"IF(COUNT(BY75:BY79)<3,\"\",AVERAGE(BY75:BY79))","v":7.5972102330513369},2.5064694055543995,7.6071019223701555,2.5789591587788641,0.74189330481589355,0.29687616938839195,1.0464710809756606,0.12176363324318701,0.12064442427709592,5.1260668998335754,0.2513115737466195,1.0015094133555233E-2,7.020386935718744E-5,1.1122984709798212E-3,1.2846754472644061E-2,0.19928679035781149,3.6277547586852504E-2,0,2.9584335344289571E-3,0.11002532608695653,0.22299365976700644,0.13159451268982733,0.11380070470147702,0.58137263677969631,0.13979689879342624,4.7357783960890361E-2,8.71195652173913E-5,5.096104639068027E-4,1.1085068389848138E-2,5.5864104431038069E-4,1.490109319742043E-2,3.3523975452465156E-4,6.9309600582483888E-5,0.23013623309756603,8.7966634595381746E-3,5.4374791970043682E-4,1.8158458758061165E-2,4.1808820470147697E-5,1.3600582483877679E-4,1.9703713074682754E-2,9.729601310588723E-2,1.9629342625338046E-4,0.49771822134387356,0.17985289837736634,9.191015706261702E-4,1.0255382775119618E-4,2.0485939775327644E-3,1.4611296026627833E-4,146.53924614364468,14.016895939311595,6.9458180289855074,14.124656409420288,7.1065364610507249,2.0440450951086957,2.0265412934782612,2.2781874547101451,0.34463614311594204,0.2500905018115942,7.0710779103260855,0.16303533423913041,2.1890102355072466E-2,2.6012681159420288E-4,2.3485262681159419E-3,2.0623463768115944E-2,0.52401507789855062,4.6594546195652176E-2,0,5.2948703804347831E-2,0.28436134873188401,0.38635984601449269,0.31601601086956521,0.22597348097826092,1.2656593903985507,9.0575311594202873E-2,7.5128269927536235E-3,2.4893568840579714E-4,1.5204556159420289E-3,2.7766054347826086E-2,1.4329211956521739E-3,1.3371464673913043E-2,8.7689492753623187E-4,2.4322644927536233E-4,1.5709622318840579,1.255990036231884E-2,1.0680878623188406E-3,3.7206155797101445E-2,4.5346014492753625E-5,4.9810326086956527E-4,3.9093315217391303E-2,7.225458423913042E-2,3.1635054347826089E-4,1.4480650153985508,0.49552610688405796,1.9484329710144929E-3,1.6441213768115943E-4,6.8797346014492751E-3,3.5465126811594198E-4,70.024219401268113]
["BRIG1","2017-21",null,null,null,null,null,null,null,10.40168745215311,null,null,28.527956339712922,16.527956339712919,5.5072117230081137,2.5069166174329105,3.2421389346265865,1.4013504628666529,0.1409610547118785,2.4187447649261493,1.3106315937695026,12,null,17.402131483695655,null,null,59.567663831521735,47.567663831521735,15.560245744565215,16.574236907608697,7.3787821739130441,3.4107006521739134,0.25855292934782609,3.3879311902173912,0.99721346739130456,12,{"$f":"J106","v":10.40168745215311},{"$f":"M106/M106","v":1},{"$f":"O106/M106","v":0.19304613542687205},{"$f":"P106/M106","v":8.7875787090402488E-2},{"$f":"Q106/M106","v":0.11364778100537476},{"$f":"R106/M106","v":4.9122006714370718E-2},{"$f":"S106/M106","v":4.9411550211765709E-3},{"$f":"T106/M106","v":8.47850696391836E-2},{"$f":"U106/M106","v":4.5942007838290583E-2},{"$f":"V106/M106","v":0.42064001560795844},{"$f":"X106","v":17.402131483695655},{"$f":"AA106/AA106","v":1},{"$f":"AC106/AA106","v":0.26121967429468196},{"$f":"AD106/AA106","v":0.27824218445911286},{"$f":"AE106/AA106","v":0.12387227732789438},{"$f":"AF106/AA106","v":5.7257586294143951E-2},{"$f":"AG106/AA106","v":4.3404913457594134E-3},{"$f":"AH106/AA106","v":5.6875340953434904E-2},{"$f":"AI106/AA106","v":1.6740852389507406E-2},{"$f":"AJ106/AA106","v":0.20145158007103003},{"$f":"J106","v":10.40168745215311},{"$f":"BE106","v":10.40168745215311},{"$f":"BE106*AM106","v":2.008005564556345},{"$f":"BE106*AN106","v":0.91405647192631789},{"$f":"BE106*AO106","v":1.1821286976486511},{"$f":"BE106*AP106","v":0.51095176086545069},{"$f":"BE106*AQ106","v":5.1396350182915676E-2},{"$f":"BE106*AR106","v":0.88190779499582372},{"$f":"BE106*AS106","v":0.47787440645826701},{"$f":"BE106*AT106","v":4.3753659722227898},{"$f":"X106","v":17.402131483695655},{"$f":"BO106","v":17.402131483695655},{"$f":"BO106*AW106","v":4.5457791182042095},{"$f":"BO106*AX106","v":4.8420070782681819},{"$f":"BO106*AY106","v":2.1556416572448303},{"$f":"BO106*AZ106","v":0.99640404512974323},{"$f":"BO106*BA106","v":7.5533801102748405E-2},{"$f":"BO106*BB106","v":0.98975216145169442},{"$f":"BO106*BC106","v":0.29132651443134844},{"$f":"BO106*BD106","v":3.5056868839943078},6.3633336026165548,2.3664692968587473,6.5304183354136338,2.5966962239962554,0.71718645698980654,0.30598116938839193,1.0755787983669647,0.14013504628666526,0.1409610547118785,4.0312417911379228,0.21685450852922819,1.082368109007697E-2,5.8029956313709174E-5,1.0580593405450384E-3,1.5132515342209279E-2,0.21864157296650716,4.2207547586852502E-2,0,3.7478900561680878E-3,0.11188934782608698,0.22315344237570212,0.13803896921156647,0.12071407426669439,0.59754372373621811,0.12065418140212192,3.6542240482629496E-2,8.8097826086956524E-5,5.7352350738506348E-4,1.2726807520282921E-2,6.3266278344081557E-4,1.2644027980029126E-2,3.9143540669856456E-4,7.0831339712918671E-5,0.23719438527147907,8.8475330247555651E-3,6.2505226752652379E-4,1.9081284845017685E-2,4.5939255252756399E-5,1.5057104223008115E-4,2.3974147857291447E-2,8.4191339192843759E-2,1.9564125234033697E-4,0.47935354743083003,0.17386333315997504,1.0250798314957355E-3,9.2662523403370085E-5,2.2034852818805907E-3,2.5709122113584361E-4,150.37502592625339,12.201332429347827,6.5547804293478258,12.46943427173913,6.8588075978260878,1.9230335054347827,1.9094589293478261,2.2609058967391307,0.34107006521739136,0.25855292934782609,5.6465519999999989,0.16578532065217388,2.0787570652173914E-2,1.7116847826086957E-4,2.2972717391304348E-3,2.3569940217391307E-2,0.53355340217391301,4.7339777173913043E-2,0,5.3007548913043476E-2,0.27597725000000001,0.37723777173913042,0.31001288586956521,0.23982311413043483,1.2560585706521736,9.210298369565216E-2,7.3453858695652179E-3,2.6532608695652176E-4,1.6167010869565217E-3,2.7293934782608699E-2,1.273695652173913E-3,1.3857619565217388E-2,8.9520108695652172E-4,2.7694021739130438E-4,1.4802008641304347,1.1045570652173915E-2,8.6847282608695645E-4,3.7953701086956525E-2,4.7103260869565214E-5,4.7288586956521739E-4,4.2016222826086955E-2,7.9584353260869573E-2,2.9538586956521742E-4,1.3724414510869565,0.46619003804347831,1.9225000000000002E-3,1.9084782608695656E-4,6.9393858695652177E-3,2.6399456521739132E-4,74.134847467391296]
["BRIG1","2018-22",null,null,null,null,null,null,null,""]
["BRIG1","2019-23",null,null,null,null,null,null,null,""]
["BRIG1","2020-24",null,null,null,null,null,null,null,""]
["BRIG1","2021-25",null,null,null,null,null,null,null,""]
["BRIG1","2022-26",null,null,null,null,null,null,null,""]
["BRIG1","2023-27",null,null,null,null,null,null,null,""]
["BRIG1","2024-28",null,null,null,null,null,null,null,""]
[" ",null,null,null,null,null,null,null,null,{"$f":"IF(J88=\"\",\"\",J88)","v":""}]
["DOSO1",2000,null,null,null,null,{"$f":"Tracking!AM24","v":3.6371528972},{"$f":"Tracking!AN21","v":8.9167605810000001},{"$f":"Tracking!AI24","v":12.960496315789474},null,null,null,38.72672,28.72672,14.14655315789474,4.017585263157895,6.5972689473684216,2.8846315789473684,0.21061157894736843,0.74194105263157883,0.12812894736842106,10,{"$f":"Tracking!AH24","v":27.716789499999997},null,null,null,168.50906500000002,158.50906500000002,141.51921499999997,2.1098620000000001,7.8060245000000013,4.8604500000000002,0.46004900000000004,1.7263649999999999,2.7099500000000006E-2,10,{"$f":"I115","v":12.960496315789474},{"$f":"M115/M115","v":1},{"$f":"O115/M115","v":0.36529179744359297},{"$f":"P115/M115","v":0.10374194517784865},{"$f":"Q115/M115","v":0.17035444642273917},{"$f":"R115/M115","v":7.4486855043426559E-2},{"$f":"S115/M115","v":5.43840477446498E-3},{"$f":"T115/M115","v":1.9158375732093471E-2},{"$f":"U115/M115","v":3.308541166626584E-3},{"$f":"V115/M115","v":0.25821964782971552},{"$f":"W115","v":27.716789499999997},{"$f":"AA115/AA115","v":1},{"$f":"AC115/AA115","v":0.83983146544668064},{"$f":"AD115/AA115","v":1.2520762607044315E-2},{"$f":"AE115/AA115","v":4.6324062744042882E-2},{"$f":"AF115/AA115","v":2.8843848845757938E-2},{"$f":"AG115/AA115","v":2.7301142523104022E-3},{"$f":"AH115/AA115","v":1.02449384547947E-2},{"$f":"AI115/AA115","v":1.6081924138621267E-4},{"$f":"AJ115/AA115","v":5.9343988407982676E-2},{"$f":"I115","v":12.960496315789474},{"$f":"BE115","v":12.960496315789474},{"$f":"BE115*AM115","v":4.7343629949558013},{"$f":"BE115*AN115","v":1.3445470982703411},{"$f":"BE115*AO115","v":2.2078781752402663},{"$f":"BE115*AP115","v":0.96538661036507445},{"$f":"BE115*AQ115","v":7.048442504322526E-2},{"$f":"BE115*AR115","v":0.2483020580923079},{"$f":"BE115*AS115","v":4.2880335600701647E-2},{"$f":"BE115*AT115","v":3.3466547943614833},{"$f":"W115","v":27.716789499999997},{"$f":"BO115","v":27.716789499999997},{"$f":"BO115*AW115","v":23.277431943262169},{"$f":"BO115*AX115","v":0.34703534155891846},{"$f":"BO115*AY115","v":1.2839542958614287},{"$f":"BO115*AZ115","v":0.79945888682769062},{"$f":"BO115*BA115","v":7.5670002042237297E-2},{"$f":"BO115*BB115","v":0.28395680259199996},{"$f":"BO115*BC115","v":4.4573930610513441E-3},{"$f":"BO115*BD115","v":1.6448248347944958},5.1141999999999994,3.8776315789473674,null,4.842028421052631,1.7917547368421054,0.49037684210526311,2.038575789473684,0.28846315789473681,0.21061157894736843,1.2365684210526318,2.2246315789473683E-2,1.1616842105263158E-2,1.131578947368421E-4,1.5142105263157898E-3,1.6740526315789473E-2,0.42402631578947375,0.11171578947368423,1.2173684210526316E-2,0.14599473684210526,0.16448421052631582,0.31204210526315795,0.25056842105263155,0.25945263157894738,1.1325421052631581,1.9010526315789478E-2,0,1.1578947368421052E-3,2.8842105263157897E-4,1.3788947368421053E-2,1.1178947368421053E-3,3.202105263157895E-3,1.1894736842105263E-3,3.2631578947368419E-5,0.38013684210526316,1.3815789473684212E-2,3.2947368421052634E-4,2.5155789473684208E-2,7.3684210526315789E-5,9.6631578947368405E-4,4.6040526315789469E-2,2.6755789473684212E-2,7.5263157894736837E-5,1.2476789473684213,0.43436473684210525,3.5836842105263166E-3,1.0373684210526314E-3,3.513684210526316E-3,5.4736842105263152E-5,114.52448157894737,21.582430000000002,18.705154999999998,null,15.703378499999999,12.128506999999997,0.22260800000000006,2.4021270000000006,0.486045,0.46004900000000004,2.877275,4.0435000000000002E-3,1.9568499999999996E-2,5.9400000000000002E-4,1.9009999999999999E-3,2.6950000000000002E-2,0.68918999999999986,0.14004,9.8549999999999992E-3,6.9484999999999991E-2,0.29594999999999999,0.22465000000000002,0.39139000000000002,0.35304000000000002,1.3345149999999999,-0.23847999999999994,0,1.1925000000000002E-3,8.9750000000000019E-4,3.6112999999999999E-2,2.4095000000000002E-3,6.1749999999999999E-4,1.6895E-3,2.0049999999999999E-4,0.17256499999999997,1.4244999999999999E-2,0,4.0245499999999997E-2,3.8000000000000002E-5,1.7884999999999997E-3,9.9714000000000011E-2,6.9064500000000001E-2,2.5600000000000004E-4,9.6081400000000006,2.9402439999999999,1.6913000000000001E-2,3.4049999999999998E-4,8.0315000000000004E-3,3.7499999999999997E-5,25.615153000000003]
["DOSO1",2001,null,null,null,null,{"$f":"G115","v":3.6371528972},{"$f":"H115","v":8.9167605810000001},{"$f":"Tracking!AI25","v":13.302767391304345},null,null,null,38.643145652173907,28.643145652173907,17.999064782608691,2.8830617391304343,4.6930760869565207,2.1210434782608698,0.19497913043478263,0.7378017391304349,1.4118260869565217E-2,10,{"$f":"Tracking!AH25","v":27.532631304347827},null,null,null,180.16500304347826,170.16500304347826,154.59921521739133,2.1851160869565218,7.8785847826086952,3.5032173913043478,0.71173826086956526,1.2587765217391302,2.8355652173913039E-2,10,{"$f":"I116","v":13.302767391304345},1,0.46577638747678235,7.4607325321825735E-2,0.12144653360259007,5.4887961175633444E-2,5.0456329872776255E-3,1.9092693585852763E-2,3.6534967925860303E-4,0.25877810491955744,{"$f":"W116","v":27.532631304347827},{"$f":"AA116/AA116","v":1},{"$f":"AC116/AA116","v":0.85809792471228563},{"$f":"AD116/AA116","v":1.2128415896783236E-2},{"$f":"AE116/AA116","v":4.3729829042921275E-2},{"$f":"AF116/AA116","v":1.9444494391948779E-2},{"$f":"AG116/AA116","v":3.9504801090465124E-3},{"$f":"AH116/AA116","v":6.9867982153856839E-3},{"$f":"AI116/AA116","v":1.5738712677217405E-4},{"$f":"AJ116/AA116","v":5.5504675331350305E-2},{"$f":"I116","v":13.302767391304345},{"$f":"BE116","v":13.302767391304345},{"$f":"BE116*AM116","v":6.1961149389656773},{"$f":"BE116*AN116","v":0.99248389444361829},{"$f":"BE116*AO116","v":1.6155749869954825},{"$f":"BE116*AP116","v":0.73016178010239552},{"$f":"BE116*AQ116","v":6.7120881971646326E-2},{"$f":"BE116*AR116","v":0.25398566164604774},{"$f":"BE116*AS116","v":4.8601617996648456E-3},{"$f":"BE116*AT116","v":3.4424649357074233},{"$f":"W116","v":27.532631304347827},{"$f":"BO116","v":27.532631304347827},{"$f":"BO116*AW116","v":23.625693784129382},{"$f":"BO116*AX116","v":0.33392720319192398},{"$f":"BO116*AY116","v":1.203997260040913},{"$f":"BO116*AZ116","v":0.5353580949929847},{"$f":"BO116*BA116","v":0.10876711231753743},{"$f":"BO116*BB116","v":0.19236493926208942},{"$f":"BO116*BC116","v":4.3332817334689189E-3},{"$f":"BO116*BD116","v":1.5281897615655979},5.2966695652173916,4.0686652173913043,5.4487860869565212,4.42970304347826,2.1608086956521739,0.33988826086956514,1.519661739130435,0.21210434782608695,0.19497913043478263,1.2296695652173912,2.2608695652173915E-3,4.6956521739130435E-3,2.3826086956521737E-4,1.3478260869565217E-3,1.2778260869565215E-2,0.31698695652173919,9.5726086956521753E-2,7.3347826086956527E-3,3.436521739130434E-2,0.12835217391304352,0.25844347826086961,0.21515217391304348,0.20794347826086956,0.84425652173913046,-9.4582608695652159E-2,0,5.0260869565217387E-4,2.6043478260869571E-4,1.2329130434782608E-2,1.0117391304347828E-3,3.2991304347826087E-3,1.4730434782608695E-3,4.2608695652173909E-5,0.2626347826086956,1.472608695652174E-2,0,2.3385652173913037E-2,1.9913043478260868E-4,8.6521739130434791E-4,4.9639999999999997E-2,1.601E-2,1.1695652173913044E-4,1.5458086956521739,0.52383260869565218,2.7839130434782603E-3,1.293913043478261E-3,3.0408695652173914E-3,8.2608695652173923E-6,105.93241826086957,21.123447826086959,19.025486956521739,16.503791111111113,16.556722173913041,12.833080869565219,0.24209434782608696,2.41526347826087,0.35032173913043485,0.71173826086956526,2.0979608695652177,4.2247826086956528E-3,3.1252173913043479E-3,1.7043478260869564E-4,1.6000000000000001E-3,3.2976956521739133E-2,0.56827826086956523,0.11210000000000002,5.7565217391304354E-3,8.7734782608695647E-2,0.30460000000000009,0.26335652173913049,0.35030869565217398,0.33581304347826085,1.3418130434782605,-0.42961739130434773,0,6.3782608695652182E-4,5.4695652173913055E-4,3.0693913043478266E-2,1.615217391304348E-3,0,1.74E-3,1.5260869565217393E-4,0.18637826086956522,2.0117391304347827E-2,0,3.6137826086956523E-2,1.4652173913043477E-4,2.0143478260869563E-3,0.21116999999999997,0,2.7173913043478261E-4,9.786804347826088,3.1110500000000001,2.2672608695652168E-2,4.3565217391304355E-4,4.6078260869565216E-3,0,27.797360869565221]
["DOSO1",2002,null,null,null,null,{"$f":"G115","v":3.6371528972},{"$f":"H115","v":8.9167605810000001},{"$f":"Tracking!AI26","v":11.913637272727273},null,null,null,33.675216363636373,23.675216363636363,13.199324545454546,2.9988545454545448,4.6255059090909079,1.9693181818181815,0.14429681818181816,0.73509545454545444,2.8218181818181818E-3,10,{"$f":"Tracking!AH26","v":27.958155217391301},null,null,null,178.91549260869567,168.91549260869567,150.05927347826088,2.6829204347826088,10.22653086956522,3.8449565217391308,0.76383565217391325,1.3324513043478263,5.525217391304349E-3,10,11.913637272727273,1,0.39195960622565201,8.9052272539896976E-2,0.13735638278142392,5.847974844624064E-2,4.2849559338729208E-3,2.1828974953201345E-2,8.3795101755167206E-5,0.29695429101380133,27.958155217391301,{"$f":"AA117/AA117","v":1},{"$f":"AC117/AA117","v":0.83871592834307562},{"$f":"AD117/AA117","v":1.4995461799668729E-2},{"$f":"AE117/AA117","v":5.7158442348710217E-2},{"$f":"AF117/AA117","v":2.1490349805247989E-2},{"$f":"AG117/AA117","v":4.2692538306030921E-3},{"$f":"AH117/AA117","v":7.4473780046651278E-3},{"$f":"AI117/AA117","v":3.0881715779574763E-5},{"$f":"AJ117/AA117","v":5.5892309012450375E-2},11.913637272727273,{"$f":"BE117","v":11.913637272727273},4.6696645741334324,1.0609364733523841,1.6364141215517667,0.69670651078884738,5.1049410725782333E-2,0.26006248962788964,9.9830444754233456E-4,3.5378057097183251,27.958155217391301,{"$f":"BO117","v":27.958155217391301},23.448950107914147,0.41924544855160023,1.5980446031695525,0.60083053553115817,0.11936046125844364,0.20821495021701356,8.6339580314471337E-4,1.5626458508284864,4.6767909090909097,3.4516318181818177,4.9413409090909086,3.8864777272727271,1.6910440909090907,0.35925318181818183,1.4944827272727275,0.19693181818181824,0.14429681818181816,1.225159090909091,4.6999999999999993E-4,4.1513636363636362E-3,7.1363636363636361E-5,1.4245454545454548E-3,9.9077272727272729E-3,0.28134545454545451,8.7386363636363651E-2,8.5818181818181818E-3,4.097727272727273E-2,0.11513181818181815,0.28205909090909093,0.21171818181818178,0.1803818181818182,0.83026818181818174,-6.2622727272727274E-2,0,4.5909090909090914E-5,2.4681818181818187E-4,8.2904545454545453E-3,9.581818181818182E-4,3.6700000000000001E-3,4.109090909090909E-4,4.9545454545454547E-5,0.27849090909090907,1.61E-2,0,2.1151818181818181E-2,1.0772727272727274E-4,6.209090909090908E-4,3.6637272727272734E-2,6.5794999999999992E-2,1.2181818181818183E-4,1.1883181818181818,0.40994999999999993,7.0272727272727273E-4,1.1499999999999999E-4,2.2322727272727277E-3,3.6363636363636357E-5,121.76074954545453,20.761804347826093,18.544717391304349,18.917343913043474,17.273933043478262,12.822063043478263,0.29360999999999998,3.0090834782608704,0.38449565217391307,0.76383565217391325,2.2207521739130431,8.4478260869565213E-4,4.5844347826086963E-2,1.2173913043478261E-4,2.5843478260869569E-3,2.5600000000000005E-2,0.54362173913043488,9.0382608695652178E-2,4.7869565217391304E-3,0.1617913043478261,0.3929999999999999,0.36495652173913046,0.49766956521739131,0.25429565217391309,1.6717130434782608,-0.28571304347826099,0,9.5217391304347818E-5,6.9086956521739133E-4,2.9355217391304346E-2,1.7978260869565216E-3,3.1447826086956525E-3,1.1473913043478262E-3,2.0217391304347824E-4,0.22760434782608699,2.5956521739130434E-2,0,4.3406956521739121E-2,2.3869565217391302E-4,2.0721739130434781E-3,0.2127478260869565,0.38464739130434777,3.6739130434782614E-4,9.2825652173913031,3.1083791304347828,3.1960869565217389E-3,4.269565217391304E-4,6.0273913043478273E-3,1.0434782608695653E-4,25.790781739130441]
["DOSO1",2003,null,null,null,null,{"$f":"G115","v":3.6371528972},{"$f":"H115","v":8.9167605810000001},{"$f":"Tracking!AI27","v":11.541825652173911},null,null,null,33.083803478260869,23.083803478260872,12.980956521739131,3.0857439130434785,4.4461391304347817,1.666869565217391,0.16262260869565218,0.67583217391304362,6.5637826086956522E-2,10,{"$f":"Tracking!AH27","v":29.325857826086953},null,null,null,199.61924173913042,189.61924173913042,171.05675608695654,1.6116265217391301,11.169697826086956,4.4498695652173916,0.5356695652173914,0.79110782608695651,4.5134782608695643E-3,10,11.541825652173911,1,0.39236590588107034,9.3270530852690464E-2,0.1343902049640788,5.0383250713983932E-2,4.9154749937536752E-3,2.0427886242194861E-2,1.9839867000203491E-3,0.30226270708478026,29.325857826086953,1,0.85691516808033785,8.0735028732613935E-3,5.5955015802955095E-2,2.2291786735833017E-2,2.6834565673655025E-3,3.9630840153215517E-3,2.2610436857424495E-5,5.0095371131949083E-2,11.541825652173911,11.541825652173911,4.5286188775365916,1.076512205587461,1.5511083150553144,0.58151469553056923,5.673355537552556E-2,0.23577510144985517,2.2898828587866731E-2,3.4886634663266456,29.325857826086953,29.325857826086953,25.129772388141394,0.23676239741976812,1.6409288380939098,0.65372576850449005,7.8694665777040054E-2,0.11622083838615763,6.63070456666547E-4,1.4690897315605995,4.3838217391304344,3.2689695652173922,4.7126547826086949,3.7586317391304358,1.6038617391304346,0.37129000000000006,1.4431304347826086,0.16668695652173912,0.16262260869565218,1.126386956521739,1.1039565217391306E-2,7.4517391304347834E-3,9.2173913043478253E-5,1.2391304347826085E-3,9.9599999999999984E-3,0.24036521739130437,6.1795652173913043E-2,5.7652173913043479E-3,3.1452173913043488E-2,0.12199999999999998,0.29234347826086959,0.21470434782608697,0.14123913043478259,0.80173913043478262,-2.917391304347833E-3,5.8695652173913045E-5,1.7391304347826089E-5,2.4695652173913041E-4,9.0778260869565225E-3,7.8521739130434781E-4,9.7286956521739128E-3,3.1434782608695652E-4,1.2434782608695651E-4,0.28782173913043474,1.1273913043478259E-2,0,1.9944347826086953E-2,3.3478260869565214E-5,5.8086956521739125E-4,4.0948260869565226E-2,7.1990434782608692E-2,8.7391304347826093E-5,1.0613260869565218,0.38881478260869562,6.8478260869565214E-4,2.3652173913043476E-4,2.7265217391304348E-3,5.6521739130434786E-6,130.82992391304344,21.012408695652173,19.763173913043481,19.142078260869567,18.399386956521742,14.002179130434779,0.17210217391304347,3.2437799999999997,0.44498695652173897,0.5356695652173914,1.3185130434782608,6.7043478260869576E-4,1.0837391304347826E-2,1.2869565217391303E-4,1.7160869565217391E-3,2.3107391304347826E-2,0.61963913043478258,0.20004347826086952,1.2626086956521738E-2,0.1184304347826087,0.4247521739130436,0.31675217391304344,0.55484347826086944,0.38732173913043472,1.8021000000000005,-0.28815652173913042,0,6.4347826086956516E-5,6.6130434782608709E-4,3.0519565217391301E-2,1.6586956521739129E-3,2.8695652173913043E-3,7.417391304347826E-4,1.2565217391304349E-4,0.13341304347826088,2.5213043478260869E-2,0,4.0993043478260875E-2,9.6521739130434788E-5,2.0982608695652174E-3,0.15122826086956523,0.16794913043478257,2.0086956521739131E-4,10.192717391304347,3.3944673913043473,3.32E-3,1.4000000000000001E-4,5.5099999999999993E-3,0,22.041776956521741]
["DOSO1",2004,{"$f":"J119","v":12.278002909732333},{"$f":"Tracking!AO28","v":28.288016289565213},{"$f":"Tracking!AT28","v":12.278002909732333},{"$f":"Tracking!AU28","v":28.288016289565213},{"$f":"G115","v":3.6371528972},{"$f":"H115","v":8.9167605810000001},{"$f":"Tracking!AI28","v":11.671287916666666},{"$f":"Tracking!AW28","v":12.278002909732333},null,null,32.952706666666664,22.952706666666668,13.411545000000002,2.5299037499999999,4.0153991666666675,1.6232499999999999,0.17861249999999998,0.77744000000000024,0.41655708333333336,10,{"$f":"Tracking!AH28","v":28.906647599999999},{"$f":"Tracking!AV28","v":28.288016289565213},null,null,196.108724,186.108724,169.3490252,1.5753632000000002,9.7011307999999996,3.117,1.0374404000000002,1.0405032000000001,0.28826039999999997,10,11.671287916666666,1,0.40699373000417172,7.6773776903708069E-2,0.12185339454159157,4.9259989973509513E-2,5.4202679557329228E-3,2.3592599171418604E-2,1.2641058215551743E-2,0.3034652085230834,28.906647599999999,1,0.86354661713060765,8.0331112653611488E-3,4.9468124630702305E-2,1.5894244460027185E-2,5.2901287553122839E-3,5.3057466224705032E-3,1.4699009514742443E-3,5.0992122104674957E-2,11.671287916666666,11.671287916666666,4.7501410031567843,0.89604885469311035,1.4221860513180935,0.5749275257529427,6.3261507896841193E-2,0.27535601763213796,0.14753743000504893,3.5418298213641934,28.906647599999999,28.906647599999999,24.962237747566597,0.23221031647938481,1.4299576461325916,0.4594493234742581,0.15291988768843881,0.15337134787064508,4.2489908811170679E-2,1.4740113040560092,4.4265416666666662,3.1308083333333339,4.9047183333333333,3.7114295833333344,1.6827816666666664,0.31533083333333334,1.3039800000000001,0.16232500000000002,0.17861249999999998,1.2957333333333332,6.8400416666666686E-2,1.0285416666666667E-2,2.0291666666666667E-4,1.4658333333333331E-3,1.1709166666666666E-2,0.2144041666666667,7.9258333333333333E-2,6.2250000000000005E-3,4.9962499999999993E-2,0.1172083333333333,0.23424166666666665,0.18545833333333331,0.1375625,0.72443333333333326,4.0695833333333334E-2,0,6.4583333333333336E-5,3.5833333333333333E-4,1.07425E-2,1.25125E-3,2.6010833333333334E-2,5.5749999999999994E-4,9.0833333333333337E-5,0.24444166666666667,5.6458333333333334E-3,0,1.9252500000000002E-2,4.9166666666666671E-5,6.8833333333333322E-4,4.1677916666666669E-2,3.8977083333333329E-2,1.2833333333333335E-4,1.1458083333333333,0.40794708333333335,8.2625000000000005E-4,2.2833333333333329E-4,3.7720833333333335E-3,4.7916666666666668E-5,125.41245999999997,19.702667999999996,17.968496000000002,19.266168400000002,18.227336400000002,13.780745199999997,0.16584279999999998,2.8885248000000003,0.31169999999999998,1.0374404000000002,1.7341720000000003,4.3083999999999997E-2,3.2228E-2,1.8160000000000002E-4,1.6120000000000002E-3,2.3479199999999999E-2,0.58719600000000005,0.11974400000000002,1.0952000000000002E-2,9.7655999999999993E-2,0.35809199999999997,0.29247200000000001,0.450324,0.40619199999999983,1.6047359999999999,2.4968000000000001E-2,0,7.2400000000000012E-5,6.6120000000000013E-4,3.1305599999999996E-2,1.7691999999999996E-3,4.7358000000000004E-2,9.7959999999999996E-4,1.5760000000000001E-4,0.12856000000000001,1.6319999999999998E-2,0,3.9025200000000003E-2,1.3239999999999999E-4,1.8755999999999998E-3,0.33509,0.19716079999999997,3.2000000000000003E-4,9.515308000000001,3.3407867999999996,2.696E-3,4.331999999999999E-4,6.0656000000000009E-3,0,23.567726000000008]
["DOSO1",2005,{"$f":"C119","v":12.278002909732333},{"$f":"Tracking!AO29","v":27.965162027755792},{"$f":"Tracking!AT29","v":12.069336121826819},{"$f":"Tracking!AU29","v":27.738098944166662},{"$f":"G119","v":3.6371528972},{"$f":"H119","v":8.9167605810000001},{"$f":"Tracking!AI29","v":11.912472608695653},{"$f":"Tracking!AW29","v":12.068398168313568},null,null,33.644353913043481,23.644353913043485,13.766229565217392,3.248207826086956,3.5988865217391304,1.8870869565217387,0.15877565217391307,0.86400434782608682,0.12116391304347825,10,{"$f":"Tracking!AH29","v":30.454881666666662},{"$f":"Tracking!AV29","v":28.835634722898543},null,null,217.30348916666665,207.30348916666665,190.98843124999996,1.6732120833333333,8.2384275000000002,3.9760416666666654,0.5082504166666667,1.80637,0.11275583333333333,10,11.912472608695653,1,0.40916908675961833,9.6545406533357969E-2,0.1069685133809001,5.608926125908275E-2,4.7192361780607059E-3,2.5680515371440185E-2,3.6013148998680746E-3,0.29722669146347108,30.454881666666662,1,0.87890181599208628,7.6998859509799173E-3,3.7912081078833121E-2,1.8297182810613478E-2,2.3388967136043115E-3,8.3126598975801855E-3,5.188864374232494E-4,4.6018589201438156E-2,11.912472608695653,11.912472608695653,4.8742155383489685,1.1500945108240133,1.2742594856428668,0.66816178839079754,5.6217771705113724E-2,0.30591843593946888,4.2900565099965968E-2,3.5407048206318334,30.454881666666662,30.454881666666662,26.766850802657423,0.23449911548392247,1.1546079429929348,0.5572385373306008,7.1230822643374853E-2,0.25316107351604994,1.5802625050163298E-2,1.4014906885967433,4.6299478260869549,3.1999909090909084,5.0703568181818177,3.7713417391304342,1.8129908695652175,0.41423565217391312,1.1759321739130437,0.18870869565217396,0.15877565217391307,1.4400073913043479,2.0698260869565218E-2,9.7977272727272722E-3,1.3545454545454546E-4,1.3027272727272727E-3,1.2371818181818185E-2,0.34230434782608704,8.7413043478260871E-2,3.165217391304348E-3,1.5769565217391302E-2,0.1365913043478261,0.15192608695652174,0.12671304347826087,0.24143043478260867,0.67243043478260867,1.292608695652174E-2,0,6.1363636363636362E-5,3.6272727272727276E-4,1.146818181818182E-2,9.8227272727272725E-4,9.4954545454545465E-4,5.5863636363636369E-4,1.1454545454545455E-4,0.32111304347826086,7.4608695652173904E-3,0,1.7518181818181818E-2,7.2272727272727259E-5,6.363636363636363E-4,3.3563181818181811E-2,7.3022727272727276E-3,1.3818181818181819E-4,1.188986956521739,0.44789999999999996,8.5909090909090907E-4,2.1818181818181821E-4,3.1159090909090915E-3,2.2727272727272728E-6,121.70544304347824,22.415679166666667,19.405062499999996,21.332304166666667,19.058584999999997,15.412019166666667,0.17968583333333332,2.5443374999999997,0.39760416666666676,0.5082504166666667,3.0106166666666674,1.6686666666666666E-2,2.3006249999999995E-2,2.0874999999999998E-4,1.9733333333333334E-3,2.9293333333333338E-2,0.83033333333333348,0.136575,3.5208333333333341E-3,9.1170833333333354E-2,0.4331875,0.16705,0.26239999999999997,0.55107916666666668,1.5048874999999997,1.0441666666666667E-2,0,1.5041666666666665E-4,7.7708333333333319E-4,3.2332083333333345E-2,1.8683333333333332E-3,8.1833333333333335E-4,1.1670833333333336E-3,1.6708333333333332E-4,0.13929166666666665,1.2254166666666665E-2,0,3.9844999999999998E-2,1.1875E-4,2.0512500000000001E-3,0.13020583333333333,3.6085416666666668E-2,4.2083333333333339E-4,10.535866666666667,3.7362470833333337,3.4641666666666662E-3,2.7166666666666664E-4,6.6191666666666664E-3,5.6666666666666664E-5,19.216092916666664]
["DOSO1",2006,{"$f":"C119","v":12.278002909732333},{"$f":"Tracking!AO30","v":27.64230776594637},{"$f":"Tracking!AT30","v":11.860669333921305},{"$f":"Tracking!AU30","v":27.188181598768111},{"$f":"G119","v":3.6371528972},{"$f":"H119","v":8.9167605810000001},{"$f":"Tracking!AI30","v":10.571443478260869},{"$f":"Tracking!AW30","v":11.522133385704873},null,null,29.345202173913048,19.345202173913041,12.023663043478257,1.6110660869565216,2.9422839130434779,1.5955652173913046,0.17139478260869567,0.82401391304347826,0.17721347826086956,10,{"$f":"Tracking!AH30","v":28.912212083333344},{"$f":"Tracking!AV30","v":29.111550878695653},null,null,195.00674250000006,185.00674250000006,168.71306666666666,1.7941179166666668,8.82313041666667,3.7961666666666667,0.64202333333333328,1.0890512499999998,0.1491875,10,10.571443478260869,1,0.40973181824478655,5.4900493695991918E-2,0.10026456439475734,5.437226869098593E-2,5.8406407150624505E-3,2.8080021673048839E-2,6.0389251098227808E-3,0.34077120821098594,28.912212083333344,1,0.86516529892122374,9.2002865832532237E-3,4.5245258207760007E-2,1.9466848263806395E-2,3.2923135123562874E-3,5.5846851039009562E-3,7.6503764991613023E-4,5.1280278167817696E-2,10.571443478260869,10.571443478260869,4.3314567578198169,0.58037746603579576,1.0599411753716244,0.57479336525157088,6.1744003196111841E-2,0.29684636198497599,6.3840155467941848E-2,3.6024435666211043,28.912212083333344,28.912212083333344,25.01384260955091,0.26600063692246351,1.3081405010679361,0.56282964559724002,9.5188066514069095E-2,0.16146560014261696,2.2118930786110085E-2,1.4826262780802739,4.155113043478261,2.7817565217391302,4.2465008695652173,3.0673069565217395,1.527618695652174,0.19637826086956525,0.98411478260869567,0.15955652173913046,0.17139478260869567,1.3733565217391304,2.8245652173913036E-2,1.2960869565217392E-2,6.6086956521739138E-5,1.2469565217391304E-3,1.4321739130434784E-2,0.29888695652173919,7.4878260869565241E-2,1.0304347826086957E-3,-2.1391304347826083E-3,0.1068434782608696,0.13142608695652172,0.10841304347826085,0.2148173913043479,0.55936086956521724,1.7904347826086957E-2,0,4.9130434782608705E-5,2.9130434782608693E-4,1.0473043478260868E-2,9.886956521739129E-4,3.2539130434782611E-3,4.7869565217391297E-4,6.0869565217391306E-5,0.1522304347826087,5.1000000000000004E-3,0,1.8770000000000005E-2,8.2173913043478254E-5,4.6565217391304352E-4,3.6655652173913048E-2,2.4787391304347827E-2,1.7391304347826088E-4,0.95004782608695648,0.37033173913043488,9.3608695652173913E-4,2.078260869565218E-4,2.2339130434782606E-3,8.2173913043478254E-5,138.86148173913043,18.459791304347824,17.406737500000002,17.231051739130439,17.739732499999999,13.854302500000001,0.1861733333333333,2.6556524999999995,0.37961666666666671,0.64202333333333328,1.8150854166666663,2.1963750000000001E-2,3.6909166666666667E-2,1.4208333333333334E-4,1.5708333333333329E-3,2.495416666666667E-2,0.86631249999999982,0.12493749999999998,1.7416666666666665E-3,7.2745833333333329E-2,0.4398333333333333,0.18121666666666666,0.23490416666666669,0.60377500000000006,1.5324749999999998,1.4454166666666669E-2,0,1.3166666666666668E-4,7.2958333333333339E-4,3.0672499999999995E-2,1.8500000000000003E-3,7.5520833333333334E-3,1.0029166666666667E-3,1.3791666666666664E-4,0.14432083333333334,1.7383333333333337E-2,0,3.579541666666667E-2,7.4583333333333335E-5,1.5533333333333334E-3,0.17576000000000003,7.5317499999999996E-2,2.9041666666666674E-4,8.7939083333333343,3.3586187500000002,2.9820833333333335E-3,1.2458333333333334E-4,6.1437499999999999E-3,1.7916666666666667E-5,23.405507916666664]
["DOSO1",2007,{"$f":"C119","v":12.278002909732333},{"$f":"Tracking!AO31","v":27.319453504136948},{"$f":"Tracking!AT31","v":11.65200254601579},{"$f":"Tracking!AU31","v":26.638264253369559},{"$f":"G119","v":3.6371528972},{"$f":"H119","v":8.9167605810000001},{"$f":"Tracking!AI31","v":10.202237500000001},{"$f":"Tracking!AW31","v":11.179853431159419},null,null,28.628478750000003,18.628478750000006,10.941812083333334,1.7498199999999999,3.2277999999999998,1.4795,0.18888666666666667,0.83064583333333319,0.21001249999999996,10,{"$f":"Tracking!AH31","v":28.148977199999994},{"$f":"Tracking!AV31","v":29.149715275217392},null,null,181.98121520000001,171.98121520000001,151.82440640000002,2.2808220000000001,11.457513199999999,3.5240000000000005,0.83195600000000003,1.9955351999999997,6.6981600000000002E-2,10,10.202237500000001,1,0.38220026215445807,6.1121654953461321E-2,0.11274786998593138,5.167930901672517E-2,6.5978590171043112E-3,2.9014668945108832E-2,7.335789716035818E-3,0.34930252799408695,28.148977199999994,1,0.83428614449652283,1.2533282611028526E-2,6.2959867519337229E-2,1.9364636048435403E-2,4.5716586686470259E-3,1.0965610916527167E-2,3.680687587803293E-4,5.4950726584663448E-2,10.202237500000001,10.202237500000001,3.8992978470620434,0.6235776402282639,1.1502805472155937,0.52724458442452171,6.7312924684014744E-2,0.29601454356187479,7.4841468933054975E-2,3.563667349946074,28.148977199999994,28.148977199999994,23.484301659708521,0.35279908645899838,1.7722558753168438,0.54509469861370607,0.12868751562992745,0.30867073167339426,1.0360759098939788E-2,1.546806749755125,4.1665791666666649,2.7996909090909088,4.2792227272727255,2.9922754166666663,1.3478920833333332,0.20715083333333331,1.0671225000000002,0.14795000000000003,0.18888666666666667,1.3844091666666667,3.3272083333333334E-2,9.7743478260869567E-3,5.913043478260869E-5,1.2943478260869564E-3,1.5141304347826085E-2,0.30790833333333334,5.9924999999999999E-2,5.9166666666666666E-4,7.5500000000000012E-3,0.12129583333333334,0.17412083333333336,0.11977083333333334,0.21670833333333331,0.63944583333333338,2.0233333333333336E-2,0,6.2173913043478269E-5,5.8434782608695658E-4,1.0953043478260869E-2,1.6160869565217389E-3,3.7343478260869561E-3,4.7739130434782605E-4,4.6521739130434792E-5,0.16092083333333337,-3.2916666666666679E-4,0,1.8250434782608693E-2,7.7391304347826094E-5,5.0304347826086971E-4,4.3219999999999995E-2,2.105782608695652E-2,1.634782608695652E-4,0.90332083333333335,0.33116956521739127,8.7999999999999992E-4,1.4521739130434784E-4,3.1039130434782612E-3,1.0652173913043477E-4,146.05793291666666,21.419232000000001,18.088847999999999,20.5162108,17.379641599999996,12.624123999999997,0.23567160000000004,3.3255288000000003,0.3524000000000001,0.83195600000000003,3.3258920000000001,9.9607999999999988E-3,3.0413200000000001E-2,1.7359999999999996E-4,2.1955999999999998E-3,3.8773999999999996E-2,1.0142519999999999,0.11700800000000001,1.6239999999999998E-3,0.11094799999999999,0.53118399999999999,0.22636399999999998,0.30506000000000005,0.76652399999999998,1.94008,4.8439999999999993E-3,0,1.228E-4,8.9919999999999974E-4,4.3643999999999995E-2,2.0224000000000002E-3,5.1919999999999996E-3,1.6028000000000004E-3,2.1920000000000004E-4,0.18294800000000003,1.2736000000000001E-2,0,4.2000800000000005E-2,1.8240000000000002E-4,1.7044000000000004E-3,0.23561759999999998,6.9354799999999994E-2,4.1160000000000003E-4,8.9084520000000005,3.0661932000000003,4.3851999999999997E-3,2.1159999999999999E-4,6.6591999999999988E-3,5.7599999999999997E-5,25.503120399999997]
["DOSO1",2008,{"$f":"C119","v":12.278002909732333},{"$f":"Tracking!AO32","v":26.996599242327527},{"$f":"Tracking!AT32","v":11.443335758110276},{"$f":"Tracking!AU32","v":26.088346907971008},{"$f":"G119","v":3.6371528972},{"$f":"H119","v":8.9167605810000001},{"$f":"Tracking!AI32","v":9.4356112500000027},{"$f":"Tracking!AW32","v":10.758610550724638},null,null,26.438105000000004,16.438105,9.7195608333333325,2.0431529166666667,2.3643695833333331,1.0493333333333335,0.15878833333333331,0.79621708333333341,0.30668250000000002,10,{"$f":"Tracking!AH32","v":24.369120799999997},{"$f":"Tracking!AV32","v":28.158367869999999},null,null,120.93745560000001,110.93745560000001,94.418928000000008,2.8866672000000007,8.3018560000000008,2.6323999999999996,0.74320279999999994,1.8718848000000003,8.2516400000000031E-2,10,9.4356112500000027,1,0.36763454995482209,7.7280611324702222E-2,8.9430372688713233E-2,3.9690187074048359E-2,6.0060406497868622E-3,3.0116269049288266E-2,1.1600018231261279E-2,0.37824193526729688,24.369120799999997,1,0.78072527267557301,2.3869091553799817E-2,6.8645862928176246E-2,2.1766622978299201E-2,6.145348406023517E-3,1.5478122891813181E-2,6.8230640036716654E-4,8.2687368858453139E-2,9.4356112500000027,9.4356112500000027,3.4688566954424074,0.7291898056222379,0.84383023063331553,0.3745011756704954,5.6670664723086239E-2,0.28416540704949123,0.10945326252309406,3.5689438596298793,24.369120799999997,24.369120799999997,19.025588481443975,0.58166877546080742,1.6728393261169685,0.53043346476622899,0.14975673766447453,0.37718824650784072,1.6627207093160644E-2,2.0150184803458022,3.6969739130434776,2.3860291666666669,3.8537308695652164,2.5922441666666671,1.23844,0.24722833333333336,0.79345499999999991,0.10493333333333336,0.15878833333333331,1.3270287500000002,4.9399583333333337E-2,1.2294166666666669E-2,3.0416666666666666E-5,1.1233333333333336E-3,1.2664999999999997E-2,0.2199875,4.6266666666666671E-2,0,-6.8541666666666673E-3,0.10212916666666667,0.10279166666666666,9.2858333333333307E-2,0.1606916666666667,0.45161666666666661,3.6358333333333333E-2,0,3.7083333333333338E-5,2.3208333333333335E-4,8.331666666666666E-3,7.5083333333333328E-4,3.2208333333333329E-3,4.3708333333333332E-4,7.6666666666666669E-5,0.19230416666666669,4.4291666666666663E-3,0,1.5865000000000001E-2,9.208333333333334E-5,4.6458333333333334E-4,3.5882500000000005E-2,2.9235416666666666E-2,1.9083333333333336E-4,0.83605833333333324,0.30120000000000008,8.3249999999999991E-4,1.1708333333333334E-4,2.252916666666667E-3,7.7083333333333314E-5,157.03962625,15.417268000000002,12.288792000000001,14.961158000000001,12.517856,8.6311599999999995,0.32657159999999996,2.5417800000000002,0.26324000000000003,0.74320279999999994,3.1198079999999999,1.1901200000000001E-2,2.5037199999999996E-2,2.944E-4,2.0295999999999999E-3,3.2786799999999998E-2,0.758548,9.2924000000000007E-2,6.2799999999999998E-4,2.5680000000000001E-2,0.43702799999999997,0.17632400000000004,0.22809600000000002,0.58421600000000007,1.451344,9.5919999999999964E-3,0,1.2040000000000004E-4,6.9600000000000011E-4,3.3408E-2,1.7444000000000003E-3,1.1160800000000002E-2,1.3139999999999998E-3,1.2759999999999996E-4,0.25398399999999999,5.2880000000000002E-3,0,3.2893599999999995E-2,1.0919999999999997E-4,1.3867999999999999E-3,0.21990799999999999,2.6119600000000003E-2,3.3119999999999997E-4,5.7179840000000004,2.0981588000000002,2.6979999999999999E-3,1.9440000000000004E-4,6.3183999999999983E-3,1.36E-5,35.776575199999996]
["DOSO1",2009,{"$f":"C119","v":12.278002909732333},{"$f":"Tracking!AO33","v":26.673744980518105},{"$f":"Tracking!AT33","v":11.234668970204762},{"$f":"Tracking!AU33","v":25.538429562572457},{"$f":"G119","v":3.6371528972},{"$f":"H119","v":8.9167605810000001},{"$f":"Tracking!AI33","v":8.7023541666666677},{"$f":"Tracking!AW33","v":10.164823800724637},null,null,24.512824166666665,14.51282416666667,8.3080737500000019,1.5506937500000006,2.4941095833333331,1.0434166666666667,0.25952833333333336,0.72854749999999979,0.12845458333333334,10,{"$f":"Tracking!AH33","v":21.889012499999996},{"$f":"Tracking!AV33","v":26.754840850000001},null,null,91.051026666666658,81.051026666666658,68.921830000000014,1.3985837499999996,6.3392004166666647,2.207708333333334,0.6529012500000001,1.5236550000000004,7.1483333333333329E-3,10,8.7023541666666677,1,0.33892764430210331,6.3260509660436615E-2,0.10174713310777567,4.2566154743015637E-2,1.0587451350719859E-2,2.9721075590739249E-2,5.2403012586371041E-3,0.4079497299865727,21.889012499999996,1,0.75695829605875231,1.5360439098837908E-2,6.96225034328736E-2,2.4246935088559143E-2,7.1707181555485319E-3,1.6734078195274248E-2,7.8509090946366042E-5,0.10982852545539667,8.7023541666666677,8.7023541666666677,2.9494683975909273,0.55051535982895761,0.88543958774683962,0.37042575408686029,9.2135751376317604E-2,0.25864332600488471,4.5602957492689188E-2,3.5501230325391928,21.889012499999996,21.889012499999996,16.569069604408728,0.33622484343995163,1.5239678479234628,0.53074146524015964,0.15695993934077873,0.36629244679233536,1.7184864730886429E-3,2.4040379665497458,3.6400874999999995,2.4317000000000006,3.6461654166666668,2.4379262499999999,1.0292612499999998,0.1852554166666667,0.83879999999999988,0.10434166666666668,0.25952833333333336,1.2142458333333335,2.0739583333333332E-2,2.1332083333333335E-2,2.4166666666666667E-5,8.5375000000000002E-4,2.0487916666666661E-2,0.20854166666666671,5.0229166666666658E-2,4.708333333333333E-4,1.9083333333333331E-3,0.10893749999999998,0.13045416666666665,0.10462500000000001,0.15443333333333334,0.50035833333333335,1.5904166666666664E-2,2.833333333333333E-4,4.8333333333333334E-5,1.9875000000000001E-4,1.2345833333333334E-2,6.7249999999999992E-4,1.8512500000000002E-3,3.808333333333335E-4,3.4166666666666666E-5,0.14417916666666669,5.3499999999999997E-3,0,1.8104583333333334E-2,9.7083333333333353E-5,2.8791666666666674E-4,5.9248333333333326E-2,2.7673333333333331E-2,1.9374999999999999E-4,0.69611250000000002,0.25045125000000001,1.1854166666666666E-3,1.2E-4,1.3929166666666671E-3,3.2500000000000004E-5,168.66805000000002,12.5167375,9.9702500000000001,11.945681666666665,9.8511520833333339,6.8282604166666685,0.15248291666666666,1.9954575000000003,0.22077083333333333,0.6529012500000001,2.539425,1.2779166666666666E-3,4.7320416666666663E-2,2.6416666666666662E-4,1.4741666666666668E-3,2.4295416666666677E-2,0.57384166666666681,0.1096125,9.8749999999999988E-4,3.6216666666666668E-2,0.34292916666666667,0.14368333333333336,0.19327083333333328,0.45731666666666665,1.1734166666666666,-4.0416666666666665E-3,0,1.4916666666666664E-4,5.4750000000000003E-4,2.9490833333333331E-2,1.357916666666667E-3,6.2554166666666687E-3,9.2999999999999984E-4,7.7083333333333341E-5,0.1185375,2.255833333333333E-2,0,2.9390833333333338E-2,1.0750000000000001E-4,8.354166666666666E-4,0.17426125000000001,3.8452083333333338E-2,3.4375000000000003E-4,4.5524083333333341,1.6599058333333334,2.4175000000000004E-3,2.2875000000000003E-4,4.1974999999999998E-3,8.8750000000000002E-5,44.606224583333329]
["DOSO1",2010,{"$f":"C119","v":12.278002909732333},{"$f":"Tracking!AO34","v":26.350890718708683},{"$f":"Tracking!AT34","v":11.026002182299248},{"$f":"Tracking!AU34","v":24.988512217173906},{"$f":"G119","v":3.6371528972},{"$f":"H119","v":8.9167605810000001},{"$f":"Tracking!AI34","v":9.7433895652173899},{"$f":"Tracking!AW34","v":9.7310071920289865},null,null,27.955872173913043,17.955872173913043,10.001564347826088,2.1692204347826087,3.4042791304347837,1.3170869565217389,0.20513956521739135,0.79439478260869567,6.418913043478261E-2,10,{"$f":"Tracking!AH34","v":22.679809583333334},{"$f":"Tracking!AV34","v":25.199826433333332},null,null,102.72229666666665,92.722296666666679,77.842231666666663,2.2409041666666671,8.1698920833333339,2.4250000000000003,0.73049041666666648,1.3043549999999999,9.4204166666666655E-3,10,9.7433895652173899,1,0.35776255827779269,7.759444675122E-2,0.12177331149809301,4.711306978112368E-2,7.3379776506782308E-3,2.8416025716056295E-2,2.2960875638385753E-3,0.35770660052350206,22.679809583333334,1,0.75779294459570279,2.181516807337739E-2,7.9533775513651081E-2,2.3607338218586696E-2,7.1113131264685823E-3,1.269787614107408E-2,9.1707613364952993E-5,9.734984832406883E-2,9.7433895652173899,9.7433895652173899,3.4858199771493235,0.75603292279465339,1.1864848125724863,0.45904099249075919,7.1496774871416688E-2,0.27686840844677191,2.2371675610330193E-2,3.4852747589500752,22.679809583333334,22.679809583333334,17.186599687024007,0.49476385793261191,1.8038108840931859,0.53540993556689387,0.1612832275957663,0.28798541299231162,2.0799112084590892E-3,2.2078760229562628,4.117826086956522,2.8056347826086956,4.1642039130434769,2.986830869565217,1.2524152173913046,0.26316608695652177,1.1245930434782607,0.13170869565217391,0.20513956521739135,1.3239913043478264,9.8078260869565222E-3,1.2855652173913044E-2,5.9565217391304356E-5,1.0995652173913044E-3,1.627E-2,0.27016956521739127,6.0891304347826102E-2,2.4782608695652177E-4,3.6521739130434779E-3,0.12430869565217392,0.1687913043478261,0.12842173913043481,0.1996,0.6247739130434784,8.2869565217391309E-3,2.3043478260869563E-5,9.3478260869565236E-5,3.2826086956521744E-4,1.1836086956521738E-2,9.7869565217391309E-4,2.9017391304347827E-3,5.5826086956521745E-4,8.0434782608695659E-5,0.20400434782608695,6.313043478260871E-3,0,1.843869565217391E-2,5.4347826086956524E-5,4.3347826086956515E-4,4.7814347826086949E-2,3.3927391304347826E-2,1.3478260869565219E-4,0.80908260869565207,0.30361565217391301,8.9304347826086965E-4,1.4173913043478262E-4,2.0239130434782609E-3,4.2608695652173909E-5,157.04181739130436,13.521770833333335,11.368170833333336,12.655526250000001,11.178130416666667,7.4529295833333329,0.26048291666666668,2.4903074999999997,0.24249999999999997,0.73049041666666648,2.1739249999999997,1.4187499999999999E-3,5.3419583333333326E-2,1.9041666666666667E-4,1.5525000000000001E-3,3.7871249999999995E-2,0.66019583333333343,8.94625E-2,2.6666666666666668E-4,3.8875E-2,0.40574166666666667,0.19589999999999999,0.23556249999999998,0.5074249999999999,1.3835041666666665,-1.9E-2,0,1.5166666666666665E-4,7.0041666666666657E-4,3.1317083333333336E-2,1.3245833333333332E-3,6.483333333333334E-3,1.7275000000000001E-3,1.1666666666666665E-4,0.20192499999999999,2.7937500000000004E-2,0,3.3736249999999995E-2,1.1000000000000002E-4,1.0958333333333334E-3,0.18841166666666664,4.4177916666666671E-2,3.6791666666666673E-4,4.9544333333333332,1.8067708333333332,2.7458333333333341E-3,2.5916666666666661E-4,4.2179166666666667E-3,7.1666666666666669E-5,42.557735416666667]
["DOSO1",2011,{"$f":"C119","v":12.278002909732333},{"$f":"Tracking!AO35","v":26.028036456899262},{"$f":"Tracking!AT35","v":10.817335394393734},{"$f":"Tracking!AU35","v":24.438594871775354},{"$f":"G119","v":3.6371528972},{"$f":"H119","v":8.9167605810000001},{"$f":"Tracking!AI35","v":8.7500239130434796},{"$f":"Tracking!AW35","v":9.3667232789855071},null,null,24.621935652173914,14.621935652173912,7.777418260869565,1.5901313043478258,2.8768952173913043,1.0764347826086953,0.10474565217391305,0.85102173913043455,0.34528956521739135,10,{"$f":"Tracking!AH35","v":23.752517916666672},{"$f":"Tracking!AV35","v":24.1678876},null,null,115.27319666666666,105.27319666666666,88.649285833333309,3.1409816666666672,8.2431762499999994,2.8790416666666663,0.3625154166666667,1.7492929166666669,0.24890291666666667,10,8.7500239130434796,1,0.3158735515655075,6.4581896679899345E-2,0.11684277215375219,4.3718527975019503E-2,4.2541599350116432E-3,3.4563559549198007E-2,1.4023656388968962E-2,0.40614191106933067,23.752517916666672,1,0.76903641433384362,2.7248152714541132E-2,7.1509912871043538E-2,2.4975811809851485E-2,3.1448370232582839E-3,1.5175192215108465E-2,2.1592436391472212E-3,8.6750435393206038E-2,8.7500239130434796,8.7500239130434796,2.7639011296961633,0.56509314029882252,1.0223770504116225,0.38253816522448097,3.722400116126337E-2,0.3024319725753849,0.12270732875178339,3.5537514339458216,23.752517916666672,23.752517916666672,18.266551210033715,0.64721223554820784,1.6985404866887344,0.59323841749679251,7.4697797739939079E-2,0.3604490249782244,5.1287473225292916E-2,2.0605412709557611,3.7981000000000007,2.4203652173913044,3.723193181818182,2.4598552173913046,1.0258404347826087,0.20066304347826086,0.96192782608695671,0.10764347826086959,0.10474565217391305,1.4183695652173913,5.9035217391304344E-2,9.8486956521739132E-3,9.4782608695652179E-5,8.7652173913043481E-4,1.0394347826086957E-2,0.20878260869565218,5.8786956521739146E-2,1.1391304347826087E-3,-4.4000000000000003E-3,9.5713043478260873E-2,0.1592695652173913,0.12275652173913043,0.16106521739130433,0.53440434782608714,3.4804347826086955E-2,1.2700000000000001E-3,6.7826086956521733E-5,1.1565217391304352E-4,8.169565217391303E-3,6.9739130434782613E-4,5.0469565217391302E-3,3.5739130434782616E-4,5.9565217391304343E-5,0.15555217391304349,2.352173913043478E-3,4.0086956521739132E-4,1.4563043478260871E-2,7.9565217391304354E-5,2.1391304347826088E-4,1.8146086956521739E-2,1.8100869565217392E-2,1.052173913043478E-4,0.6598173913043478,0.24868869565217394,6.0913043478260872E-4,1.0478260869565216E-4,1.4917391304347823E-3,-1.3608695652173917E-4,167.95873652173913,16.214229166666666,13.605482608695651,14.761810434782614,11.797006666666666,8.2396616666666684,0.35941041666666668,2.5099950000000004,0.28790416666666663,0.3625154166666667,2.9154883333333337,3.7520416666666667E-2,3.8144347826086951E-2,2.2260869565217392E-4,1.8395652173913044E-3,2.759E-2,0.66048749999999989,0.1007,9.7500000000000006E-4,8.2791666666666673E-3,0.40440416666666668,0.22912916666666669,0.27837083333333346,0.47425833333333328,1.3944416666666664,1.8866666666666664E-2,6.2086956521739125E-4,1.7347826086956523E-4,6.0826086956521747E-4,2.9374782608695651E-2,1.5965217391304342E-3,8.9726086956521747E-3,1.5930434782608699E-3,1.582608695652174E-4,0.27861249999999999,8.6583333333333339E-3,4.7386956521739123E-3,3.5257826086956524E-2,1.1304347826086956E-5,1.1630434782608696E-3,6.5284782608695649E-2,2.4201304347826091E-2,4.48695652173913E-4,5.862683333333333,2.0251456521739128,2.4365217391304345E-3,3.2260869565217399E-4,5.2173913043478274E-3,3.2521739130434791E-4,38.597180000000002]
["DOSO1",2012,{"$f":"C119","v":12.278002909732333},{"$f":"Tracking!AO36","v":25.70518219508984},{"$f":"Tracking!AT36","v":10.608668606488219},{"$f":"Tracking!AU36","v":23.888677526376803},{"$f":"G119","v":3.6371528972},{"$f":"H119","v":8.9167605810000001},{"$f":"Tracking!AI36","v":9.5936413043478268},{"$f":"Tracking!AW36","v":9.2450040398550719},null,null,26.53283913043478,16.53283913043478,9.3726773913043466,1.9137130434782612,2.7926678260869564,1.225086956521739,0.18340782608695655,0.96764869565217393,7.7636086956521744E-2,10,{"$f":"Tracking!AH36","v":20.878775833333332},{"$f":"Tracking!AV36","v":22.71384732666667},null,null,82.510175833333349,72.510175833333349,57.924070833333339,2.57579,7.0945062499999993,2.3102500000000004,0.4910108333333334,1.9000575000000002,0.21449166666666672,10,9.5936413043478268,1,0.35324818973305105,7.2126206851460387E-2,0.10525326039773845,4.6172478960854579E-2,6.9124840046452703E-3,3.6469851224561263E-2,2.9260376763626636E-3,0.37689144199157304,20.878775833333332,1,0.7020233595227966,3.1217846453302608E-2,8.5983409662470797E-2,2.7999576739075143E-2,5.950912458666335E-3,2.3028159627704908E-2,2.5995783489775825E-3,0.12119717233665248,9.5936413043478268,9.5936413043478268,3.3889364237090964,0.69195295717610561,1.009762026369021,0.44296220128298552,6.6315892062608545E-2,0.34987867107137111,2.807135591003079E-2,3.6157613051455679,20.878775833333332,20.878775833333332,14.657388353240043,0.65179041809792515,1.7952283357283949,0.58459688616336425,0.12424776722828491,0.48079978272106755,5.4276013609489714E-2,2.5304485928508349,4.2685173913043482,2.6557695652173909,4.1766500000000013,2.6637913043478259,1.1808908695652176,0.22902043478260867,0.93571043478260862,0.12250869565217391,0.18340782608695655,1.6127478260869565,1.2253913043478259E-2,1.696782608695652E-2,9.0434782608695644E-5,1.0030434782608698E-3,1.6114782608695651E-2,0.24289130434782605,5.4743478260869553E-2,1.434782608695652E-4,-7.23913043478261E-3,8.9421739130434788E-2,0.14548695652173912,0.11689999999999998,0.17526956521739132,0.51983913043478258,8.1434782608695647E-3,1.2695652173913042E-4,9.9130434782608687E-5,1.5673913043478262E-3,1.4176956521739132E-2,6.552173913043478E-4,4.9247826086956529E-3,6.6695652173913054E-4,8.3913043478260876E-5,0.17753478260869562,8.4521739130434797E-3,7.2000000000000005E-4,1.8996086956521739E-2,1.695652173913044E-5,1.9956521739130436E-4,3.3455652173913039E-2,7.0495652173913062E-3,1.0217391304347825E-4,0.78443478260869559,0.28627652173913043,1.1330434782608695E-3,1.0739130434782605E-4,3.3191304347826084E-3,-2.9130434782608744E-5,152.50126391304343,13.235974999999998,10.069212499999999,11.691917916666668,8.9562512499999993,5.7238449999999998,0.27250125000000003,2.2064850000000003,0.23102500000000001,0.4910108333333334,3.1667624999999995,3.1385833333333328E-2,4.6881250000000013E-2,1.8999999999999998E-4,1.6912499999999998E-3,2.8229583333333336E-2,0.5551083333333332,0.11045833333333334,3.9583333333333332E-4,1.06E-2,0.35696666666666671,0.22998750000000001,0.19333333333333336,0.43493750000000003,1.2258250000000002,1.7449999999999997E-2,4.6375000000000002E-4,1.9583333333333326E-4,6.8166666666666647E-4,3.6073750000000002E-2,1.3033333333333336E-3,6.0008333333333328E-3,1.6212500000000003E-3,1.6333333333333334E-4,0.21124166666666666,1.5483333333333333E-2,3.6279166666666664E-3,3.6169166666666655E-2,3.0833333333333342E-5,7.4166666666666684E-4,9.971791666666667E-2,2.5854166666666668E-2,4.7708333333333343E-4,3.8492541666666669,1.3875987499999998,3.2270833333333335E-3,2.2833333333333334E-4,4.2041666666666668E-3,2.1916666666666664E-4,49.581442916666667]
["DOSO1",2013,{"$f":"C119","v":12.278002909732333},{"$f":"Tracking!AO37","v":25.382327933280418},{"$f":"Tracking!AT37","v":10.400001818582705},{"$f":"Tracking!AU37","v":23.338760180978252},{"$f":"G119","v":3.6371528972},{"$f":"H119","v":8.9167605810000001},{"$f":"Tracking!AI37","v":8.3429178260869552},{"$f":"Tracking!AW37","v":9.0264653550724638},null,null,23.751648260869562,13.751648260869565,8.0717682608695664,1.5873695652173914,2.2203539130434784,0.93673913043478241,9.5875217391304363E-2,0.75607304347826099,8.3470434782608696E-2,10,{"$f":"Tracking!AH37","v":18.827012083333337},{"$f":"Tracking!AV37","v":21.605425583333336},null,null,69.545282916666665,59.545282916666672,44.640872500000008,5.517220833333333,5.6007020833333341,2.1221666666666668,0.24064333333333335,1.26806,0.15561833333333333,10,8.3429178260869552,1,0.33984034169820826,6.6831975102652388E-2,9.3482098111964465E-2,3.9438910518814152E-2,4.0365711186981981E-3,3.1832445275971795E-2,3.5143007283467069E-3,0.42102341236144147,18.827012083333337,1,0.64189648280662515,7.9332782928561787E-2,8.0533169877882754E-2,3.05148901214418E-2,3.4602394762228037E-3,1.823358748169111E-2,2.2376547597024597E-3,0.14379120453047262,8.3429178260869552,8.3429178260869552,2.8352600447774639,0.55757367643651823,0.77991346275831808,0.32903558960886292,3.367678114245496E-2,0.26557547514084257,2.9319522192754112E-2,3.512563732190229,18.827012083333337,18.827012083333337,12.084992838049502,1.4935992628004935,1.5161989624000349,0.57450420503797384,6.5145970430073738E-2,0.34328397184031401,4.2128353199246564E-2,2.7071587451722632,3.4816260869565214,2.2215043478260874,3.3816782608695646,2.153383913043478,1.0136095652173913,0.18767782608695655,0.74943391304347851,9.367391304347826E-2,9.5875217391304363E-2,1.2601217391304349,1.3114347826086958E-2,9.2747826086956517E-3,4.1739130434782612E-5,7.3260869565217382E-4,7.6547826086956518E-3,0.17468260869565216,5.1852173913043462E-2,8.6956521739130441E-5,-2.2304347826086961E-3,7.9673913043478276E-2,0.1162826086956522,8.9678260869565207E-2,0.13294782608695652,0.41635217391304341,9.1304347826086946E-3,4.3521739130434782E-4,6.6086956521739152E-5,2.1173913043478262E-4,8.011304347826086E-3,4.7086956521739145E-4,3.2143478260869564E-3,3.6130434782608695E-4,4.3478260869565227E-5,0.14548695652173918,5.1434782608695655E-3,6.6217391304347823E-4,1.4149130434782609E-2,-4.7826086956521735E-6,2.5739130434782606E-4,1.7039565217391306E-2,1.300391304347826E-2,6.6956521739130456E-5,0.71160869565217377,0.24572347826086954,6.0695652173913038E-4,7.7826086956521732E-5,1.7656521739130432E-3,3.5043478260869573E-4,176.16508652173911,10.318866666666667,8.2106291666666653,9.4838554166666693,7.4680070833333341,4.5846275000000007,0.63510458333333342,1.7718075000000002,0.21221666666666664,0.24064333333333335,2.1134333333333335,2.3608749999999998E-2,2.5411249999999993E-2,1.3125000000000002E-4,1.530833333333333E-3,1.8850000000000002E-2,0.4661499999999999,0.10052083333333334,9.3333333333333332E-4,2.4166666666666659E-2,0.27660000000000007,0.160525,0.16765833333333333,0.35538749999999997,0.98433749999999998,1.4312499999999999E-2,4.7875000000000001E-4,1.7791666666666669E-4,4.9124999999999993E-4,2.3009583333333333E-2,1.3558333333333332E-3,6.2320833333333334E-3,9.8625000000000015E-4,1.0250000000000001E-4,0.49232916666666665,1.1912500000000005E-2,1.4175000000000001E-3,2.6548750000000006E-2,3.9583333333333331E-5,7.2000000000000005E-4,3.8301666666666671E-2,1.4536250000000001E-2,1.5375E-4,3.2655166666666662,1.1114245833333334,1.5250000000000003E-3,1.5249999999999999E-4,4.3470833333333339E-3,5.8958333333333313E-4,62.009990833333347]
["DOSO1",2014,{"$f":"C119","v":12.278002909732333},{"$f":"Tracking!AO38","v":25.059473671470997},{"$f":"Tracking!AT38","v":10.191335030677191},{"$f":"Tracking!AU38","v":22.7888428355797},{"$f":"G119","v":3.6371528972},{"$f":"H119","v":8.9167605810000001},{"$f":"Tracking!AI38","v":8.5168186956521748},{"$f":"Tracking!AW38","v":8.9893582608695652},null,null,23.810733913043478,13.810733913043482,7.493131739130436,1.8611239130434782,2.3603069565217396,0.97000000000000008,0.11922130434782609,0.86530695652173895,0.14164347826086959,10,{"$f":"Tracking!AH38","v":19.412743750000001},{"$f":"Tracking!AV38","v":21.110171833333332},null,null,72.155411249999986,62.155411250000007,45.469249999999995,7.2938737500000004,5.3740966666666665,2.1243749999999997,0.23551750000000005,1.4914824999999998,0.16681500000000002,10,8.5168186956521748,1,0.31469553884795259,7.8163231752548287E-2,9.9127854065378787E-2,4.0737929521300301E-2,5.0070403030507546E-3,3.6341045163993259E-2,5.9487237469516866E-3,0.41997865485876595,19.412743750000001,1,0.63015717341642907,0.10108560984745274,7.4479468324929923E-2,2.9441658819455485E-2,3.2640310119499195E-3,2.0670417840630076E-2,2.3118848206966605E-3,0.13858974436931093,8.5168186956521748,8.5168186956521748,2.6802048486985779,0.66570207350269694,0.84425396076389847,0.34695755976917103,4.2644054462906596E-2,0.30951009287223785,5.0664201623308182E-2,3.5768820594759898,19.412743750000001,19.412743750000001,12.233079729757449,1.9623490407810766,1.4458508332281064,0.57154337823701684,6.3363797627036977E-2,0.40126952474558003,4.4880027603698969E-2,2.6904071938194387,3.6285565217391298,2.1863782608695654,3.5762760869565207,2.2043056521739128,0.94336869565217396,0.22499782608695648,0.79674260869565205,9.7000000000000017E-2,0.11922130434782609,1.442178260869565,2.2975217391304346E-2,1.1050869565217392E-2,2.9130434782608693E-5,9.5956521739130451E-4,1.044086956521739E-2,0.17735652173913041,5.4091304347826087E-2,3.6086956521739133E-4,-3.7304347826086952E-3,8.9513043478260876E-2,0.12273043478260867,9.9313043478260879E-2,0.1348086956521739,0.44263478260869582,1.4895652173913042E-2,1.6078260869565218E-3,7.2173913043478268E-5,2.0869565217391311E-4,9.6995652173913031E-3,5.317391304347827E-4,5.496956521739131E-3,4.717391304347827E-4,5.5217391304347828E-5,0.1744173913043478,1.9634782608695649E-2,1.9086956521739129E-4,1.6367826086956524E-2,5.4782608695652169E-5,1.6000000000000001E-4,2.1346956521739128E-2,1.8673478260869566E-2,7.9130434782608702E-5,0.63223478260869559,0.22869521739130433,6.5173913043478258E-4,7.7391304347826067E-5,1.688695652173913E-3,4.3434782608695662E-4,170.42771869565215,11.284145833333334,8.7983416666666674,9.9102820833333318,7.9106137499999987,4.8563183333333333,0.86783166666666656,1.7124300000000001,0.21243749999999997,0.23551750000000005,2.4858041666666666,2.6080000000000002E-2,2.7713333333333336E-2,2.475E-4,2.2354166666666668E-3,1.8032083333333331E-2,0.47999166666666659,9.1991666666666652E-2,1.3333333333333334E-4,3.5041666666666658E-2,0.25816666666666666,0.139325,0.15913750000000002,0.35967916666666672,0.95135000000000014,1.6679166666666665E-2,1.0816666666666668E-3,2.0791666666666666E-4,5.4666666666666665E-4,2.1764999999999993E-2,1.2020833333333334E-3,7.1108333333333327E-3,1.2845833333333333E-3,1.2791666666666664E-4,0.6727375000000001,2.6766666666666671E-2,1.3083333333333332E-3,3.008708333333333E-2,4.1666666666666679E-5,6.5833333333333336E-4,3.5881666666666659E-2,1.9459583333333336E-2,2.8125000000000009E-4,3.1754500000000001,1.1772891666666667,1.6179166666666662E-3,1.5208333333333333E-4,4.4112500000000002E-3,4.2500000000000003E-4,58.01849416666667]
["DOSO1",2015,{"$f":"C119","v":12.278002909732333},{"$f":"Tracking!AO39","v":24.736619409661575},{"$f":"Tracking!AT39","v":9.9826682427716769},{"$f":"Tracking!AU39","v":22.238925490181149},{"$f":"G119","v":3.6371528972},{"$f":"H119","v":8.9167605810000001},{"$f":"Tracking!AI39","v":5.8836143478260867},{"$f":"Tracking!AW39","v":8.2174032173913041},null,null,18.381054347826087,8.381054347826085,4.1303904347826093,0.81868956521739134,1.8949099999999999,0.5657695652173913,8.838260869565219E-2,0.77540130434782617,0.10750956521739127,10,{"$f":"Tracking!AH39","v":18.819640416666662},{"$f":"Tracking!AV39","v":20.338138000000001},null,null,67.979405416666665,57.979405416666673,41.818208749999997,4.7027270833333326,7.0138841666666671,2.1831958333333334,0.31189541666666659,1.8248033333333329,0.12469041666666668,10,5.8836143478260867,1,0.22470911388557574,4.4539858798372856E-2,0.10309038666348916,3.0780038756824873E-2,4.808353591865917E-3,4.2184811038303266E-2,5.8489335368352444E-3,0.54403843276719832,18.819640416666662,1,0.61515996637045212,6.9178702792542429E-2,0.10317660361511573,3.2115547641993265E-2,4.5880868588797407E-3,2.6843472992276889E-2,1.8342381181830115E-3,0.14710337548124947,5.8836143478260867,5.8836143478260867,1.3221017665444597,0.26205535227625448,0.60654407809624389,0.18109787765629784,2.829049818252341E-2,0.24819915948529336,3.4412869276805022E-2,3.200912328797906,18.819640416666662,18.819640416666662,11.577089365820665,1.3019183110471024,1.9417465794494275,0.60440305840664021,8.6346144884550363E-2,0.50518450924915415,3.4519701822747606E-2,2.7684326306350142,2.7063977272727273,1.4781052173913043,2.6062854545454548,1.4362734782608695,0.53125565217391302,9.74330434782609E-2,0.64638086956521723,5.6576956521739129E-2,8.838260869565219E-2,1.2923352173913043,1.6244347826086959E-2,8.9765217391304334E-3,6.3913043478260878E-5,7.5260869565217387E-4,7.9782608695652159E-3,0.11901565217391304,3.2964782608695661E-2,0,-8.2995652173913047E-3,4.3000434782608697E-2,0.14758695652173914,8.0168260869565217E-2,9.540347826086959E-2,0.35785956521739121,1.1527391304347828E-2,2.6478260869565217E-3,4.0434782608695642E-5,1.6695652173913045E-4,6.3930434782608694E-3,2.1999999999999998E-4,3.8743478260869564E-3,2.8391304347826082E-4,3.3913043478260867E-5,7.5529130434782599E-2,1.0078260869565217E-2,2.8043478260869565E-4,1.0951739130434785E-2,3.6521739130434786E-5,8.1304347826086936E-5,1.5672173913043479E-2,1.4837391304347821E-2,6.7391304347826081E-5,0.32570956521739136,0.1287891304347826,5.847826086956522E-4,2.9565217391304349E-5,1.016086956521739E-3,3.2782608695652171E-4,222.12632043478263,11.651889583333334,8.2766265217391286,10.121330434782607,7.6928550000000007,4.4382770833333334,0.53700208333333332,2.1675654166666662,0.21831958333333334,0.31189541666666659,3.04133875,1.9797500000000003E-2,3.2174782608695648E-2,1.9739130434782612E-4,2.1091304347826091E-3,2.6120434782608701E-2,0.52349958333333346,7.241125000000001E-2,0,1.6862083333333337E-2,0.29188208333333338,0.29832083333333342,0.21954666666666664,0.37759125000000004,1.2042029166666663,1.2905416666666664E-2,1.3930434782608696E-3,3.0478260869565212E-4,5.591304347826087E-4,2.6414782608695651E-2,1.3256521739130433E-3,9.3773913043478253E-3,1.4826086956521739E-3,1.4608695652173914E-4,0.41628000000000004,1.7710416666666669E-2,9.4565217391304342E-4,3.269260869565218E-2,1.0521739130434782E-4,6.4304347826086964E-4,5.1340000000000011E-2,2.480695652173914E-2,2.4652173913043479E-4,2.8495970833333328,1.072501739130435,2.0426086956521739E-3,1.5608695652173912E-4,4.4617391304347821E-3,3.8608695652173915E-4,61.444945833333321]
["DOSO1",2016,{"$f":"C119","v":12.278002909732333},{"$f":"Tracking!AO40","v":24.413765147852153},{"$f":"Tracking!AT40","v":9.7740014548661627},{"$f":"Tracking!AU40","v":21.689008144782598},{"$f":"G119","v":3.6371528972},{"$f":"H119","v":8.9167605810000001},{"$f":"Tracking!AI40","v":6.995272916666667},{"$f":"Tracking!AW40","v":7.8664530181159424},null,null,20.65545791666667,10.655457916666666,5.5702983333333336,1.3965408333333331,2.0647495833333331,0.66520000000000001,9.4657499999999992E-2,0.77946749999999987,8.4543750000000015E-2,10,{"$f":"Tracking!AH40","v":16.756800416666668},{"$f":"Tracking!AV40","v":18.9389945},null,null,55.746271666666679,45.746271666666665,30.130916666666668,6.3747195833333334,5.2022991666666671,1.7298458333333333,0.24160249999999997,1.9187120833333335,0.14817458333333333,10,6.995272916666667,1,0.26967682613507776,6.7611225999810884E-2,9.9961452883952223E-2,3.2204563204733271E-2,4.5826870738906187E-3,3.7736636154217421E-2,4.0930465129888289E-3,0.48413354186309787,16.756800416666668,1,0.54050101945532192,0.11435239331252135,9.3321024189270879E-2,3.1030700020207622E-2,4.333966968134758E-3,3.4418662019340421E-2,2.6580178172154584E-3,0.17938419379496318,6.995272916666667,6.995272916666667,1.8864629981153351,0.47295897809910625,0.6992576440697621,0.22527970877915052,3.2057146773545458E-2,0.2639780688557013,2.8631977418967697E-2,3.3866462534448365,16.756800416666668,16.756800416666668,9.057067708017696,1.9161802319060885,1.5637617770185344,0.51997524702807341,7.2623419497460082E-2,0.57674665006679282,4.4539874067023422E-2,3.0059051333268534,3.085281818181818,1.8118499999999997,3.0285886363636361,1.7809983333333335,0.73423583333333309,0.17213583333333329,0.69974791666666658,6.652000000000001E-2,9.4657499999999992E-2,1.2991124999999999,1.3701666666666662E-2,9.3570833333333318E-3,4.125E-5,6.6666666666666664E-4,8.7149999999999988E-3,0.14298458333333333,4.2926250000000006E-2,0,-9.9458333333333365E-4,6.0808749999999988E-2,0.12714249999999996,8.2401250000000009E-2,0.11939083333333333,0.38874874999999998,8.6008333333333319E-3,6.3458333333333324E-4,6.6249999999999984E-5,1.8166666666666667E-4,7.1208333333333323E-3,2.4875E-4,3.1404166666666664E-3,3.5625000000000001E-4,3.3333333333333328E-5,0.13343875000000002,8.5187500000000003E-3,3.445833333333333E-4,1.281583333333333E-2,4.7499999999999996E-5,1.2583333333333335E-4,1.6630416666666665E-2,8.0483333333333327E-3,7.5416666666666679E-5,0.50692083333333338,0.17799666666666669,6.3124999999999998E-4,5.1249999999999992E-5,1.2137499999999998E-3,3.4333333333333335E-4,200.13307875000001,9.6023630434782614,6.3140429166666676,9.2441745454545483,6.0327616666666666,3.2188629166666658,0.72066000000000008,1.6563904166666665,0.17298458333333333,0.24160249999999997,3.1978545833333327,2.2258333333333338E-2,2.7632500000000004E-2,1.5041666666666667E-4,1.4529166666666666E-3,1.9696249999999995E-2,0.3597920833333334,6.9768333333333321E-2,0,9.4649999999999995E-3,0.24414833333333338,0.20526000000000003,0.20476791666666669,0.25657583333333328,0.92021708333333307,1.4127500000000001E-2,8.4624999999999989E-4,1.7124999999999999E-4,4.4708333333333335E-4,1.9528333333333328E-2,1.0395833333333331E-3,7.5320833333333325E-3,9.6291666666666672E-4,9.0833333333333337E-5,0.55865249999999989,7.9320833333333344E-3,2.4920833333333336E-3,2.5609166666666665E-2,6.541666666666668E-5,4.5999999999999996E-4,3.9547083333333337E-2,2.3567083333333336E-2,1.7583333333333332E-4,2.1038337500000002,0.78033041666666669,1.5337499999999995E-3,1.4416666666666668E-4,4.2141666666666655E-3,-2.8499999999999993E-4,76.219192500000005]
["DOSO1",2017,{"$f":"C119","v":12.278002909732333},{"$f":"Tracking!AO41","v":24.090910886042732},{"$f":"Tracking!AT41","v":9.5653346669606485},{"$f":"Tracking!AU41","v":21.139090799384046},{"$f":"G119","v":3.6371528972},{"$f":"H119","v":8.9167605810000001},{"$f":"Tracking!AI41","v":6.4663708695652176},{"$f":"Tracking!AW41","v":7.2409989311594201},null,null,19.436083478260866,9.4360834782608691,4.1533569565217396,1.3632365217391305,2.1915878260869563,0.77623478260869572,8.1740869565217394E-2,0.80806173913043489,6.1867826086956519E-2,10,{"$f":"Tracking!AH41","v":16.150939583333336},{"$f":"Tracking!AV41","v":17.99342725},null,null,51.710458333333321,41.710458333333328,22.072182499999997,8.4504008333333331,6.7182720833333329,2.4042250000000007,0.21374833333333335,1.7919375000000002,5.9692916666666658E-2,10,{"$f":"I132","v":6.4663708695652176},{"$f":"M132/M132","v":1},{"$f":"O132/M132","v":0.21369310134766825},{"$f":"P132/M132","v":7.0139466280019935E-2},{"$f":"Q132/M132","v":0.11275871646354232},{"$f":"R132/M132","v":3.9937818927198443E-2},{"$f":"S132/M132","v":4.2056245362726511E-3},{"$f":"T132/M132","v":4.1575337955007591E-2},{"$f":"U132/M132","v":3.1831426406536733E-3},{"$f":"V132/M132","v":0.51450694843870859},{"$f":"W132","v":16.150939583333336},{"$f":"AA132/AA132","v":1},{"$f":"AC132/AA132","v":0.42684174945268166},{"$f":"AD132/AA132","v":0.16341763553633173},{"$f":"AE132/AA132","v":0.12992095409455376},{"$f":"AF132/AA132","v":4.6493979699464429E-2},{"$f":"AG132/AA132","v":4.1335609898384531E-3},{"$f":"AH132/AA132","v":3.4653289832569344E-2},{"$f":"AI132/AA132","v":1.1543683539193797E-3},{"$f":"AJ132/AA132","v":0.19338447815601459},{"$f":"I132","v":6.4663708695652176},{"$f":"BE132","v":6.4663708695652176},{"$f":"BE132*AM132","v":1.3818188455816096},{"$f":"BE132*AN132","v":0.45354780155997276},{"$f":"BE132*AO132","v":0.72913967942941404},{"$f":"BE132*AP132","v":0.25825274890480637},{"$f":"BE132*AQ132","v":2.7195127989682197E-2},{"$f":"BE132*AR132","v":0.26884155424459022},{"$f":"BE132*AS132","v":2.0583380845193816E-2},{"$f":"BE132*AT132","v":3.3269927435729585},{"$f":"W132","v":16.150939583333336},{"$f":"BO132","v":16.150939583333336},{"$f":"BO132*AW132","v":6.8938953070545663},{"$f":"BO132*AX132","v":2.6393483583984807},{"$f":"BO132*AY132","v":2.0983454801901615},{"$f":"BO132*AZ132","v":0.75092145711477665},{"$f":"BO132*BA132","v":6.6760893810904401E-2},{"$f":"BO132*BB132","v":0.55968319044956683},{"$f":"BO132*BC132","v":1.8644133541063857E-2},{"$f":"BO132*BD132","v":3.1233410230522369},2.6294852173913044,1.4820242857142858,2.8351361904761903,1.6154882608695649,0.53809782608695655,0.16532130434782608,0.74276434782608702,7.7623478260869586E-2,8.1740869565217394E-2,1.3467686956521738,9.9417391304347808E-3,5.624545454545455E-3,5.272727272727273E-5,4.6136363636363644E-4,6.8186363636363627E-3,0.12929217391304346,4.6192608695652171E-2,0,-7.2673913043478254E-3,6.3557826086956523E-2,0.16469173913043481,9.3803043478260864E-2,9.786130434782607E-2,0.41264652173913047,7.7500000000000017E-3,3.5363636363636364E-4,2.5000000000000008E-5,9.5000000000000019E-5,4.5972727272727268E-3,1.7136363636363638E-4,2.2177272727272723E-3,2.1272727272727274E-4,2.2272727272727277E-5,0.12815565217391306,2.8726086956521739E-3,1.7090909090909092E-4,1.1323636363636366E-2,-2.4090909090909086E-5,3.1363636363636371E-5,1.2091818181818183E-2,6.0549999999999996E-3,8.0909090909090904E-5,0.37243304347826089,0.13064863636363636,3.3863636363636371E-4,4.1818181818181813E-5,8.4000000000000003E-4,1.2227272727272727E-4,208.90440478260865,8.9265845833333337,5.94002125,8.7621366666666667,5.9841445833333333,2.4730899999999996,0.94648333333333357,2.1011379166666662,0.24042249999999996,0.21374833333333335,2.9865633333333328,9.2620833333333322E-3,1.9384583333333334E-2,1.7791666666666664E-4,1.5895833333333333E-3,2.1479166666666664E-2,0.46802541666666669,8.0417916666666686E-2,0,2.2174583333333331E-2,0.2798195833333334,0.29895125,0.25833250000000002,0.3080208333333333,1.1672987499999998,8.6041666666666645E-3,1.2274999999999999E-3,1.5666666666666666E-4,4.7416666666666663E-4,1.8887916666666667E-2,8.5749999999999986E-4,8.2983333333333329E-3,9.3583333333333366E-4,8.1249999999999996E-5,0.73370875000000024,4.1554166666666666E-3,1.1695833333333332E-3,2.954791666666667E-2,3.749999999999999E-5,3.8874999999999999E-4,3.5290833333333334E-2,1.6424166666666667E-2,1.4291666666666665E-4,1.6423916666666665,0.59953708333333333,1.2929166666666668E-3,1.1208333333333332E-4,3.8866666666666663E-3,9.3749999999999975E-5,79.880560416666668]
[{"$f":"A132","v":"DOSO1"},{"$f":"B132+1","v":2018},{"$f":"C119","v":12.278002909732333},{"$f":"Tracking!AO42","v":23.76805662423331},{"$f":"Tracking!AT42","v":9.3566678790551343},{"$f":"Tracking!AU42","v":20.589173453985495},{"$f":"G119","v":3.6371528972},{"$f":"H119","v":8.9167605810000001},{"$f":"Tracking!AI42","v":5.5163000000000002},{"$f":"Tracking!AW42","v":6.6756753659420296},null,null,17.578764347826084,7.5787643478260867,3.3867121739130428,1.1409134782608696,1.5782239130434781,0.64398695652173921,5.0292608695652177E-2,0.67775869565217384,0.10087826086956521,10,{"$f":"Tracking!AH42","v":17.102339583333329},{"$f":"Tracking!AV42","v":17.648492749999999},null,null,56.401112916666655,46.401112916666669,26.264938749999999,8.9697787499999979,6.2840708333333319,2.6593124999999995,0.29735000000000006,1.7891883333333334,0.13647249999999997,10,5.5163000000000002,1,0.19265928519781697,6.4902939460700096E-2,8.9780139366772538E-2,3.6634369957941851E-2,2.8609865688239756E-3,3.8555536796645799E-2,5.7386434491933178E-3,0.56886819813570522,17.102339583333329,1,0.46568121428395876,0.15903549214096108,0.11141749707347308,4.7150000460614433E-2,5.2720590893186522E-3,3.1722571431824075E-2,2.4196774308627524E-3,0.17730146592630405,5.5163000000000002,5.5163000000000002,1.0627664149367178,0.35802408494705995,0.49525418278892736,0.20208617499899464,1.5782060209603696E-2,0.21268390763133724,3.1656078858785103E-2,3.1380476413759908,17.102339583333329,17.102339583333329,7.9642382642632779,2.7198789923972551,1.9054998704755839,0.80637531923175088,9.016454484892665E-2,0.54253018908360395,4.1382145104742349E-2,3.0322698788944553,2.4052778260869565,1.2756799999999999,2.3271713043478264,1.2354717391304351,0.42667869565217392,0.13604608695652171,0.54193913043478259,6.4398695652173918E-2,5.0292608695652177E-2,1.1295978260869564,1.6116521739130436E-2,4.6204347826086954E-3,4.7391304347826076E-5,4.8347826086956512E-4,4.779565217391305E-3,0.10373869565217389,4.9931304347826076E-2,0,-1.0063478260869568E-2,4.6438695652173914E-2,0.11149869565217392,6.3931739130434762E-2,8.9271304347826069E-2,0.3010769565217391,1.0874782608695652E-2,1.3265217391304346E-3,7.1739130434782616E-5,1.4608695652173914E-4,4.0426086956521735E-3,1.4304347826086955E-4,1.1869565217391305E-3,2.0695652173913042E-4,3.4347826086956532E-5,0.10546260869565217,8.7639130434782626E-3,4.3695652173913042E-4,9.7760869565217401E-3,2.4782608695652172E-5,3.9130434782608692E-5,8.8400000000000024E-3,9.7121739130434787E-3,6.5217391304347834E-5,0.28023391304347828,0.10343739130434783,2.7913043478260873E-4,2.91304347826087E-5,8.5913043478260873E-4,6.8695652173913051E-5,228.09849826086963,9.5897783333333333,6.6077958333333333,9.2022474999999986,6.4557975000000019,2.8837479166666671,1.0145275,1.973155833333333,0.26593124999999995,0.29735000000000006,2.9819825000000004,2.1084166666666668E-2,3.0617500000000002E-2,1.0416666666666667E-4,1.7833333333333336E-3,2.154E-2,0.52124166666666671,8.9923750000000011E-2,1.7416666666666665E-4,3.6654583333333331E-2,0.26157541666666667,0.24607541666666666,0.20648374999999999,0.34540833333333337,1.0961974999999999,1.2267916666666668E-2,1.2408333333333334E-3,1.9958333333333338E-4,5.1416666666666657E-4,2.3715416666666669E-2,1.0220833333333334E-3,7.8558333333333345E-3,1.06875E-3,8.6666666666666655E-5,0.78645583333333346,4.5670833333333336E-3,1.4783333333333335E-3,3.4902499999999996E-2,8.2916666666666672E-5,4.3583333333333327E-4,5.3651666666666674E-2,1.8830416666666665E-2,2.5041666666666664E-4,1.9252495833333334,0.6990904166666666,2.0087499999999997E-3,1.0708333333333337E-4,3.7762499999999997E-3,3.3583333333333338E-4,72.043392083333345]
[{"$f":"A133","v":"DOSO1"},{"$f":"B133+1","v":2019},{"$f":"C119","v":12.278002909732333},{"$f":"Tracking!AO43","v":23.445202362423888},{"$f":"Tracking!AT43","v":9.1480010911496201},{"$f":"Tracking!AU43","v":20.039256108586944},{"$f":"G119","v":3.6371528972},{"$f":"H119","v":8.9167605810000001},{"$f":"Tracking!AI43","v":6.0377533333333337},{"$f":"Tracking!AW43","v":6.1798622934782612},null,null,18.560944285714285,8.5609442857142852,4.0729999999999995,1.2365057142857143,1.7521552380952381,0.90728095238095197,4.9948095238095236E-2,0.45159428571428573,9.0459999999999999E-2,10,{"$f":"Tracking!AH43","v":16.340090454545454},{"$f":"Tracking!AV43","v":17.033962090909093},null,null,52.75374636363636,42.753746363636374,26.99758090909091,5.464412272727273,6.1638531818181832,2.1831590909090908,0.24495409090909084,1.5735377272727271,0.12624772727272729,10,{"$f":"I134","v":6.0377533333333337},{"$f":"M134/M134","v":1},{"$f":"O134/M134","v":0.21943926652130766},{"$f":"P134/M134","v":6.6618685733430591E-2},{"$f":"Q134/M134","v":9.4400113007386766E-2},{"$f":"R134/M134","v":4.8881185052597489E-2},{"$f":"S134/M134","v":2.6910320115845912E-3},{"$f":"T134/M134","v":2.4330350803426642E-2},{"$f":"U134/M134","v":4.873674453601152E-3},{"$f":"V134/M134","v":0.53876569241666505},{"$f":"W134","v":16.340090454545454},{"$f":"AA134/AA134","v":1},{"$f":"AC134/AA134","v":0.51176613548911076},{"$f":"AD134/AA134","v":0.10358339737732716},{"$f":"AE134/AA134","v":0.11684199903700078},{"$f":"AF134/AA134","v":4.138396306227006E-2},{"$f":"AG134/AA134","v":4.6433496726583185E-3},{"$f":"AH134/AA134","v":2.9827980678873284E-2},{"$f":"AI134/AA134","v":2.3931518797260434E-3},{"$f":"AJ134/AA134","v":0.18955999695394318},{"$f":"I134","v":6.0377533333333337},{"$f":"BE134","v":6.0377533333333337},{"$f":"BE134*AM134","v":1.3249201629032472},{"$f":"BE134*AN134","v":0.40222719184930633},{"$f":"BE134*AO134","v":0.56996459697739288},{"$f":"BE134*AP134","v":0.295132537988604},{"$f":"BE134*AQ134","v":1.6247787498051572E-2},{"$f":"BE134*AR134","v":0.14690065666455857},{"$f":"BE134*AS134","v":2.9426044177811871E-2},{"$f":"BE134*AT134","v":3.2529343552743613},{"$f":"W134","v":16.340090454545454},{"$f":"BO134","v":16.340090454545454},{"$f":"BO134*AW134","v":8.362304945465235},{"$f":"BO134*AX134","v":1.6925620827346521},{"$f":"BO134*AY134","v":1.9092088331545056},{"$f":"BO134*AZ134","v":0.67621769980506063},{"$f":"BO134*BA134","v":7.5872753663320955E-2},{"$f":"BO134*BB134","v":0.48739190236922358},{"$f":"BO134*BC134","v":3.9104318186189028E-2},{"$f":"BO134*BD134","v":3.0974274967907922},2.0768066666666667,1.3241499999999999,2.1488033333333334,1.4573961904761905,0.54581190476190478,0.15544666666666668,0.60054571428571435,9.0728095238095233E-2,4.9948095238095236E-2,0.75265666666666664,1.4915238095238093E-2,3.8714285714285708E-3,0,5.2428571428571433E-4,5.3042857142857128E-3,0.13546095238095235,5.4468095238095232E-2,0,-6.9333333333333313E-4,5.4376190476190474E-2,0.10616238095238095,7.4590476190476179E-2,9.9200952380952376E-2,0.33363666666666664,1.0026190476190475E-2,1.1509523809523808E-3,6.8095238095238096E-5,1.6333333333333334E-4,4.1728571428571431E-3,3.3380952380952377E-4,1.5499999999999997E-3,2.7761904761904759E-4,3.0476190476190479E-5,0.12050190476190477,1.7995238095238095E-3,8.4761904761904757E-5,1.086142857142857E-2,1.7142857142857142E-5,9.1904761904761917E-5,8.5571428571428552E-3,1.4498571428571427E-2,6.5714285714285728E-5,0.35072428571428571,0.13231809523809521,2.904761904761905E-4,3.0000000000000001E-5,9.7428571428571421E-4,4.0952380952380979E-5,217.39903999999999,8.6495986363636366,6.027034545454546,8.1822213636363639,5.9154581818181811,2.8787268181818182,0.62150500000000009,1.9327668181818183,0.21831590909090906,0.24495409090909084,2.6225640909090915,1.9189090909090909E-2,2.0863181818181819E-2,9.8181818181818182E-5,1.5368181818181817E-3,2.1578181818181816E-2,0.45283454545454549,0.10553318181818182,4.109090909090909E-4,5.9444545454545451E-2,0.2838009090909091,0.21068045454545462,0.17937136363636361,0.34046272727272719,1.0737600000000003,1.229090909090909E-2,9.6727272727272732E-4,1.9272727272727269E-4,5.3363636363636384E-4,2.102E-2,9.4227272727272747E-4,6.0727272727272722E-3,1.035909090909091E-3,1.0363636363636364E-4,0.48178636363636362,1.4133636363636364E-2,1.1904545454545451E-3,2.6785909090909096E-2,7.6818181818181816E-5,4.3727272727272728E-4,4.4089545454545458E-2,2.6197727272727258E-2,3.0409090909090902E-4,1.8327172727272725,0.69787318181818181,1.6659090909090907E-3,9.5000000000000019E-5,3.9668181818181816E-3,4.1318181818181829E-4,78.409821363636354]
["DOSO1",2020,{"$f":"C119","v":12.278002909732333},{"$f":"Tracking!AO44","v":23.122348100614467},{"$f":"Tracking!AT44","v":8.9393343032441059},{"$f":"Tracking!AU44","v":19.489338763188393},{"$f":"G119","v":3.6371528972},{"$f":"H119","v":8.9167605810000001},{"$f":"Tracking!AI44","v":5.8150758333333314},{"$f":"Tracking!AW44","v":6.1661545905797102},null,null,18.179999166666672,8.1799991666666667,3.693132916666666,1.0862516666666666,1.6937216666666668,0.78841666666666665,9.9713750000000032E-2,0.66810958333333315,0.15065333333333333,10,{"$f":"Tracking!AH44","v":13.767987600000003},{"$f":"Tracking!AV44","v":16.023631527575759},null,null,40.3567368,30.356736800000004,15.593063200000003,7.7880300000000027,4.0417772000000003,1.6247400000000001,0.28757880000000002,0.91285959999999999,0.10868760000000002,10,{"$f":"I135","v":5.8150758333333314},{"$f":"M135/M135","v":1},{"$f":"O135/M135","v":0.20314263399076971},{"$f":"P135/M135","v":5.9749819387138747E-2},{"$f":"Q135/M135","v":9.316401233791767E-2},{"$f":"R135/M135","v":4.336725537987051E-2},{"$f":"S135/M135","v":5.4848049818850839E-3},{"$f":"T135/M135","v":3.6749703738068538E-2},{"$f":"U135/M135","v":8.2867623893822118E-3},{"$f":"V135/M135","v":0.55005503071392681},{"$f":"W135","v":13.767987600000003},{"$f":"AA135/AA135","v":1},{"$f":"AC135/AA135","v":0.38638067486169997},{"$f":"AD135/AA135","v":0.1929796761962182},{"$f":"AE135/AA135","v":0.10015123918542394},{"$f":"AF135/AA135","v":4.0259449321977885E-2},{"$f":"AG135/AA135","v":7.1259180697682183E-3},{"$f":"AH135/AA135","v":2.2619757502296368E-2},{"$f":"AI135/AA135","v":2.693171168388422E-3},{"$f":"AJ135/AA135","v":0.24779010378262298},{"$f":"I135","v":5.8150758333333314},{"$f":"BE135","v":5.8150758333333314},{"$f":"BE135*AM135","v":1.181289821639403},{"$f":"BE135*AN135","v":0.3474497307641819},{"$f":"BE135*AO135","v":0.54175579668259333},{"$f":"BE135*AP135","v":0.25218387871747994},{"$f":"BE135*AQ135","v":3.1894556900706215E-2},{"$f":"BE135*AR135","v":0.21370231408940196},{"$f":"BE135*AS135","v":4.8188151707072073E-2},{"$f":"BE135*AT135","v":3.1986117161079792},{"$f":"W135","v":13.767987600000003},{"$f":"BO135","v":13.767987600000003},{"$f":"BO135*AW135","v":5.3196843403755185},{"$f":"BO135*AX135","v":2.6569417889215479},{"$f":"BO135*AY135","v":1.3788810192295513},{"$f":"BO135*AZ135","v":0.5542915990478201},{"$f":"BO135*BA135","v":9.8109551623184785E-2},{"$f":"BO135*BB135","v":0.31142854080662347},{"$f":"BO135*BC135","v":3.7079547251049318E-2},{"$f":"BO135*BD135","v":3.411571076281867},2.3393156521739131,1.3410254166666666,2.3406515000000003,1.4011816666666663,0.48592708333333334,0.13446916666666667,0.57844708333333339,7.8841666666666657E-2,9.9713750000000032E-2,1.1135170833333332,2.3783333333333337E-2,8.7308333333333335E-3,1.3333333333333332E-5,4.5375E-4,9.4245833333333334E-3,0.12138666666666664,5.0217083333333336E-2,0,-8.6433333333333345E-3,5.3553333333333335E-2,0.11052083333333335,7.2930416666666664E-2,9.299833333333335E-2,0.32135958333333331,9.0876190476190475E-3,4.2658333333333341E-3,7.8333333333333331E-5,1.7833333333333332E-4,6.559999999999999E-3,3.6625000000000004E-4,1.5108333333333334E-3,2.8166666666666666E-4,5.5416666666666695E-5,0.11053428571428572,7.5571428571428567E-4,2.2374999999999996E-4,1.1239999999999998E-2,2.541666666666667E-5,6.4166666666666677E-5,1.9374166666666668E-2,2.1212083333333329E-2,4.3750000000000006E-5,0.32689047619047618,0.11780041666666669,5.2875000000000003E-4,3.0000000000000008E-5,1.1300000000000001E-3,8.4583333333333334E-5,222.50624375000004,5.333957916666666,3.9303644000000006,4.9586373333333338,4.5733999999999995,1.8707123999999995,0.91859199999999996,1.3169575999999998,0.16247400000000004,0.28757880000000002,1.5214347999999998,1.7083999999999998E-2,2.8995199999999999E-2,8.6399999999999999E-5,1.1083999999999998E-3,1.5540400000000003E-2,0.32428759999999995,7.5633199999999998E-2,0,8.4087999999999993E-3,0.15719359999999999,0.17096800000000001,0.1576264,0.23744679999999999,0.73164360000000017,1.0009999999999998E-2,4.9479999999999988E-4,1.2599999999999997E-4,3.4319999999999994E-4,2.0180000000000003E-2,8.5880000000000017E-4,6.2544000000000002E-3,8.0400000000000014E-4,6.9200000000000002E-5,0.96651687499999994,2.905E-3,2.5399999999999989E-4,2.6269200000000003E-2,7.6799999999999997E-5,3.0600000000000001E-4,5.8698E-2,3.4325599999999998E-2,1.5360000000000002E-4,1.041285625,0.45350600000000002,1.7863999999999998E-3,8.3999999999999995E-5,3.0423999999999994E-3,2.396E-4,100.50397240000001]
["DOSO1",2021,{"$f":"C119","v":12.278002909732333},{"$f":"Tracking!AO45","v":22.799493838805045},{"$f":"Tracking!AT45","v":8.7306675153385918},{"$f":"Tracking!AU45","v":18.939421417789841},{"$f":"G119","v":3.6371528972},{"$f":"H119","v":8.9167605810000001},{"$f":"Tracking!AI45","v":6.668120869565219},{"$f":"Tracking!AW45","v":6.1007241811594204},null,null,19.672856521739128,9.6728565217391314,4.6158039130434778,1.6112926086956525,1.7260704347826086,0.80099130434782606,0.13344826086956521,0.69075391304347822,9.4496521739130437E-2,10,{"$f":"Tracking!AH45","v":15.492252083333332},{"$f":"Tracking!AV45","v":15.770721860909092},null,null,49.046404999999993,39.046405,22.266204583333334,6.290084583333333,6.4256504166666666,2.0953958333333325,0.39277833333333328,1.4589429166666665,0.11734833333333337,10,{"$f":"I136","v":6.668120869565219},{"$f":"M136/M136","v":1},{"$f":"O136/M136","v":0.23462804742884535},{"$f":"P136/M136","v":8.1904354200678653E-2},{"$f":"Q136/M136","v":8.7738678563290803E-2},{"$f":"R136/M136","v":4.0715556658622774E-2},{"$f":"S136/M136","v":6.7833698030634578E-3},{"$f":"T136/M136","v":3.5112029220574721E-2},{"$f":"U136/M136","v":4.8033960718774516E-3},{"$f":"V136/M136","v":0.5083145901536813},{"$f":"W136","v":15.492252083333332},{"$f":"AA136/AA136","v":1},{"$f":"AC136/AA136","v":0.45398239857403078},{"$f":"AD136/AA136","v":0.12824761740097637},{"$f":"AE136/AA136","v":0.13101164940971041},{"$f":"AF136/AA136","v":4.2722720112377918E-2},{"$f":"AG136/AA136","v":8.008300166614319E-3},{"$f":"AH136/AA136","v":2.9746174396811893E-2},{"$f":"AI136/AA136","v":2.3925980575606591E-3},{"$f":"AJ136/AA136","v":0.20388854188191777},{"$f":"I136","v":6.668120869565219},{"$f":"BE136","v":6.668120869565219},{"$f":"BE136*AM136","v":1.5645281796456216},{"$f":"BE136*AN136","v":0.54614813355380698},{"$f":"BE136*AO136","v":0.58505211359595388},{"$f":"BE136*AP136","v":0.27149625307132763},{"$f":"BE136*AQ136","v":4.523232974978595E-2},{"$f":"BE136*AR136","v":0.23413125481849809},{"$f":"BE136*AS136","v":3.2029625591673633E-2},{"$f":"BE136*AT136","v":3.3895031269082532},{"$f":"W136","v":15.492252083333332},{"$f":"BO136","v":15.492252083333332},{"$f":"BO136*AW136","v":7.0332097601051915},{"$f":"BO136*AX136","v":1.9868444178628122},{"$f":"BO136*AY136","v":2.0296654985085221},{"$f":"BO136*AZ136","v":0.66187114966665361},{"$f":"BO136*BA136","v":0.12406660494018935},{"$f":"BO136*BB136","v":0.46083523227020567},{"$f":"BO136*BC136","v":3.7066732241823407E-2},{"$f":"BO136*BD136","v":3.1586926877379358},2.6966891304347826,1.5507108695652172,2.6820847826086958,1.6126856521739132,0.60025521739130439,0.19260043478260866,0.59138521739130423,8.0099130434782603E-2,0.13344826086956521,1.1512552173913047,1.489652173913043E-2,1.0857391304347826E-2,0,5.2739130434782612E-4,9.5956521739130416E-3,0.13377608695652177,5.2210869565217401E-2,0,-6.9095652173913049E-3,5.4589130434782605E-2,0.10176347826086957,7.3216956521739138E-2,0.10588782608695654,0.32854782608695648,9.5069565217391298E-3,4.3130434782608697E-4,4.5652173913043488E-5,4.4434782608695654E-4,8.6117391304347847E-3,4.0000000000000007E-4,2.1447826086956521E-3,3.9391304347826089E-4,3.739130434782609E-5,0.14930304347826087,7.0086956521739113E-4,5.3478260869565218E-4,1.3693478260869562E-2,2.6521739130434787E-5,6.7391304347826095E-5,2.8762173913043476E-2,1.2595217391304351E-2,1.1739130434782609E-4,0.37924304347826088,0.14551652173913043,7.543478260869567E-4,1.6956521739130433E-5,1.6821739130434786E-3,4.9130434782608691E-5,202.96394608695647,8.1339545833333347,5.7023829166666671,7.9938345833333351,5.843671249999999,2.4902929166666667,0.75184749999999989,1.98067875,0.20953958333333333,0.39277833333333328,2.4315716666666671,1.8533333333333332E-2,3.3827500000000003E-2,7.5000000000000002E-6,1.5341666666666665E-3,2.6017083333333333E-2,0.48090000000000005,9.5040000000000013E-2,0,3.3111249999999995E-2,0.23791666666666669,0.2517658333333333,0.21118291666666664,0.36640041666666673,1.1003770833333333,1.115625E-2,9.1041666666666669E-4,1.0791666666666664E-4,4.2749999999999998E-4,2.6978749999999996E-2,9.2375000000000009E-4,6.3862500000000004E-3,1.0429166666666668E-3,6.5000000000000021E-5,0.58282749999999994,2.4783333333333337E-3,7.3916666666666651E-4,3.5322916666666669E-2,1.5291666666666668E-4,3.8999999999999999E-4,8.2676666666666662E-2,4.3429166666666658E-2,2.8416666666666673E-4,1.6053370833333334,0.60370749999999995,2.4724999999999999E-3,6.2083333333333329E-5,3.5516666666666665E-3,5.1458333333333336E-4,86.163751250000004]
["DOSO1",2022,{"$f":"C119","v":12.278002909732333},{"$f":"Tracking!AO46","v":22.476639576995623},{"$f":"Tracking!AT46","v":8.5220007274330776},{"$f":"Tracking!AU46","v":18.38950407239129},{"$f":"G119","v":3.6371528972},{"$f":"H119","v":8.9167605810000001}]
["DOSO1",2023,{"$f":"C119","v":12.278002909732333},{"$f":"Tracking!AO47","v":22.153785315186202},{"$f":"Tracking!AT47","v":8.3133339395275634},{"$f":"Tracking!AU47","v":17.839586726992739},{"$f":"G119","v":3.6371528972},{"$f":"H119","v":8.9167605810000001}]
["DOSO1",2024,{"$f":"C119","v":12.278002909732333},{"$f":"Tracking!AO48","v":21.83093105337678},{"$f":"Tracking!AT48","v":8.1046671516220492},{"$f":"Tracking!AU48","v":17.289669381594187},{"$f":"G119","v":3.6371528972},{"$f":"H119","v":8.9167605810000001}]
["DOSO1",2025,{"$f":"C119","v":12.278002909732333},{"$f":"Tracking!AO49","v":21.508076791567358},{"$f":"Tracking!AT49","v":7.896000363716535},{"$f":"Tracking!AU49","v":16.739752036195636},{"$f":"G119","v":3.6371528972},{"$f":"H119","v":8.9167605810000001}]
["DOSO1",2026,{"$f":"C119","v":12.278002909732333},{"$f":"Tracking!AO50","v":21.185222529757937},{"$f":"Tracking!AT50","v":7.6873335758110208},{"$f":"Tracking!AU50","v":16.189834690797085},{"$f":"G119","v":3.6371528972},{"$f":"H119","v":8.9167605810000001}]
["DOSO1",2027,{"$f":"C119","v":12.278002909732333},{"$f":"Tracking!AO51","v":20.862368267948515},{"$f":"Tracking!AT51","v":7.4786667879055067},{"$f":"Tracking!AU51","v":15.639917345398533},{"$f":"G119","v":3.6371528972},{"$f":"H119","v":8.9167605810000001}]
[{"$f":"A142","v":"DOSO1"},2028,{"$f":"C119","v":12.278002909732333},{"$f":"Tracking!AO52","v":20.539514006139093},{"$f":"Tracking!AT52","v":7.27},{"$f":"Tracking!AU52","v":15.09},{"$f":"G119","v":3.6371528972},{"$f":"H119","v":8.9167605810000001},null,null,7.33,{"$f":"E143","v":7.27},null,{"$f":"IF(M143=\"\",\"\",M143-V143)","v":""},null,null,null,null,null,null,null,null,null,null,15.3,{"$f":"F143","v":15.09},null,{"$f":"IF(AA143=\"\",\"\",AA143-AJ143)","v":""}]
[null,"5-yr period"]
[{"$f":"A119","v":"DOSO1"},"2000-04",null,null,null,null,null,null,null,{"$f":"IF(J119=\"\",\"\",J119)","v":12.278002909732333},null,null,{"$f":"IF(COUNT(M115:M119)<3,\"\",AVERAGE(M115:M119))","v":35.416318432147563},{"$f":"IF(COUNT(N115:N119)<3,\"\",AVERAGE(N115:N119))","v":25.416318432147563},14.347488801539422,3.1030298421572704,4.8754778481034604,2.0530225608487624,0.17822452725192425,0.73362208404410245,0.12545278716801886,10,null,{"$f":"IF(X119=\"\",\"\",X119)","v":28.288016289565213},null,null,{"$f":"IF(COUNT(AA115:AA119)<3,\"\",AVERAGE(AA115:AA119))","v":184.66350527826089},{"$f":"IF(COUNT(AB115:AB119)<3,\"\",AVERAGE(AB115:AB119))","v":174.66350527826089},157.31669699652176,2.0329776486956521,9.3563937556521743,3.9550986956521741,0.70174657565217413,1.2298407704347825,7.0750849565217391E-2,10,{"$f":"J145","v":12.278002909732333},{"$f":"M145/M145","v":1},{"$f":"O145/M145","v":0.4051095494024059},{"$f":"P145/M145","v":8.7615821732070137E-2},{"$f":"Q145/M145","v":0.13766190456651095},{"$f":"R145/M145","v":5.7968265808939191E-2},{"$f":"S145/M145","v":5.0322714257659542E-3},{"$f":"T145/M145","v":2.0714238987025544E-2},{"$f":"U145/M145","v":3.5422311725700085E-3},{"$f":"V145/M145","v":0.28235571744021115},{"$f":"X145","v":28.288016289565213},{"$f":"AA145/AA145","v":1},{"$f":"AC145/AA145","v":0.8519100553163903},{"$f":"AD145/AA145","v":1.1009092704225733E-2},{"$f":"AE145/AA145","v":5.0667259573316657E-2},{"$f":"AF145/AA145","v":2.1417868623756595E-2},{"$f":"AG145/AA145","v":3.8001367654899908E-3},{"$f":"AH145/AA145","v":6.6599015792621957E-3},{"$f":"AI145/AA145","v":3.831339032507057E-4},{"$f":"AJ145/AA145","v":5.4152551609650552E-2},{"$f":"J145","v":12.278002909732333},{"$f":"BE145","v":12.278002909732333},{"$f":"BE145*AM145","v":4.9739362263230937},{"$f":"BE145*AN145","v":1.0757473141649465},{"$f":"BE145*AO145","v":1.6902132648269161},{"$f":"BE145*AP145","v":0.71173453627429273},{"$f":"BE145*AQ145","v":6.1786243208117264E-2},{"$f":"BE145*AR145","v":0.25432948655559057},{"$f":"BE145*AS145","v":4.349152464375914E-2},{"$f":"BE145*AT145","v":3.4667643203104728},{"$f":"X145","v":28.288016289565213},{"$f":"BO145","v":28.288016289565213},{"$f":"BO145*AW145","v":24.098845522034452},{"$f":"BO145*AX145","v":0.31142539375047107},{"$f":"BO145*AY145","v":1.4332762641576107},{"$f":"BO145*AZ145","v":0.60586901651659419},{"$f":"BO145*BA145","v":0.10749833072475652},{"$f":"BO145*BB145","v":0.18839540436107008},{"$f":"BO145*BC145","v":1.0838098096240666E-2},{"$f":"BO145*BD145","v":1.5318682620553157},{"$f":"IF(COUNT(BY115:BY119)<3,\"\",AVERAGE(BY115:BY119))","v":4.7796047760210794},{"$f":"IF(COUNT(BZ115:BZ119)<3,\"\",AVERAGE(BZ115:BZ119))","v":3.5595413026142433},5.0018750279973645,4.1256541028534777,1.7860501858400941,0.37522782362526874,1.5599661381318908,0.20530225608487623,0.17822452725192425,1.2227034734068372,2.0883433447749813E-2,7.6402027425282572E-3,1.4357459607516817E-4,1.3983091671867416E-3,1.2219136224949724E-2,0.29542562218292773,8.717644511476319E-2,8.0161004784688999E-3,6.0550380174745164E-2,0.12943530719090215,0.27582596387213093,0.21552029158865543,0.18531591169128356,0.8666478545177172,-2.0083273524720894E-2,1.1739130434782609E-5,3.5767743221690586E-4,2.8019277442618406E-4,1.0845771687122946E-2,1.0248566153526107E-3,9.1821529366895496E-3,7.890548158934887E-4,6.7993377713057349E-5,0.29070518792039385,1.231232456140351E-2,6.5894736842105265E-5,2.1778021531100478E-2,9.2637369114485817E-5,7.4432903404756941E-4,4.2988795315858822E-2,4.3905661517925243E-2,1.0595249982664171E-4,1.2377880490257265,0.43298184229595726,1.7162714270855003E-3,5.822273073989321E-4,3.0570863150960409E-3,3.058603772276541E-5,119.69200665966298,20.836551773913044,18.801405852173914,18.45734542125604,17.23215141478261,13.11331504869565,0.21925146434782611,2.7917557513043483,0.39550986956521739,0.70174657565217413,2.0497346173913042,1.05735E-2,2.2320691304347828E-2,2.3929391304347829E-4,1.8826869565217394E-3,2.6422709565217396E-2,0.60158502608695652,{"$f":"IF(COUNT(EL115:EL119)<3,\"\",AVERAGE(EL115:EL119))","v":0.13246201739130434},8.7953130434782617E-3,0.10701950434782607,0.35527883478260874,0.29243744347826089,0.44890714782608698,0.34733248695652169,1.5509754173913044,-0.2433997913043478,0,4.1245826086956519E-4,6.9156608695652186E-4,3.1597459130434782E-2,1.8500878260869565E-3,1.0797969565217393E-2,1.2596460869565217E-3,1.6770695652173914E-4,0.16970413043478261,2.0370391304347826E-2,0,3.9961705217391306E-2,1.3042782608695651E-4,1.9697765217391301E-3,0.20199001739130434,0.16376436434782607,2.8320000000000005E-4,9.6771069913043473,3.1789854643478259,9.7595391304347821E-3,3.5526173913043475E-4,6.0484634782608706E-3,2.8369565217391305E-5,24.962559713043483]
["DOSO1","2001-05",null,null,null,null,null,null,null,12.068398168313568,null,null,{"$f":"IF(COUNT(M116:M120)<3,\"\",AVERAGE(M116:M120))","v":34.399845214756262},24.399845214756262,14.271424083003954,2.9491543547430825,4.2758013629776013,1.8535136363636362,0.1678573418972332,0.758034743083004,0.1240597803030303,10,null,28.835634722898543,null,null,{"$f":"IF(COUNT(AA116:AA120)<3,\"\",AVERAGE(AA116:AA120))","v":194.42239011159418},184.42239011159418,167.21054024652173,1.9456476653623187,9.4428743556521741,3.7782170289855075,0.71138685898550735,1.2458417704347826,8.788211623188405E-2,10,{"$f":"J146","v":12.068398168313568},{"$f":"M146/M146","v":1},{"$f":"O146/M146","v":0.41486884588893558},{"$f":"P146/M146","v":8.5731616998032431E-2},{"$f":"Q146/M146","v":0.12429711053302765},{"$f":"R146/M146","v":5.3881452802832595E-2},{"$f":"S146/M146","v":4.8795958484495914E-3},{"$f":"T146/M146","v":2.2035992846788598E-2},{"$f":"U146/M146","v":3.6064051895737382E-3},{"$f":"V146/M146","v":0.29069898243932707},{"$f":"X146","v":28.835634722898543},{"$f":"AA146/AA146","v":1},{"$f":"AC146/AA146","v":0.86003746868118713},{"$f":"AD146/AA146","v":1.0007323046720903E-2},{"$f":"AE146/AA146","v":4.8568862620360607E-2},{"$f":"AF146/AA146","v":1.9433034573934072E-2},{"$f":"AG146/AA146","v":3.6589759984803545E-3},{"$f":"AH146/AA146","v":6.4079130480789621E-3},{"$f":"AI146/AA146","v":4.5201643792899392E-4},{"$f":"AJ146/AA146","v":5.1434405236249897E-2},{"$f":"J146","v":12.068398168313568},{"$f":"BE146","v":12.068398168313568},{"$f":"BE146*AM146","v":5.0068024198163936},{"$f":"BE146*AN146","v":1.034643289545615},{"$f":"BE146*AO146","v":1.5000670210834599},{"$f":"BE146*AP146","v":0.6502628263117789},{"$f":"BE146*AQ146","v":5.8888905599539541E-2},{"$f":"BE146*AR146","v":0.2659391357091544},{"$f":"BE146*AS146","v":4.3523533784048246E-2},{"$f":"BE146*AT146","v":3.5082710672013926},{"$f":"X146","v":28.835634722898543},{"$f":"BO146","v":28.835634722898543},{"$f":"BO146*AW146","v":24.79972629489701},{"$f":"BO146*AX146","v":0.28856751192928815},{"$f":"BO146*AY146","v":1.4005139814273595},{"$f":"BO146*AZ146","v":0.56036388653142122},{"$f":"BO146*BA146","v":0.10550889535203248},{"$f":"BO146*BB146","v":0.18477623999050036},{"$f":"BO146*BC146","v":1.3034180892866211E-2},{"$f":"BO146*BD146","v":1.4831437215820422},{"$f":"IF(COUNT(BY116:BY120)<3,\"\",AVERAGE(BY116:BY120))","v":4.6827543412384713},3.4240131686429516,5.0155713860342548,3.9115167664690382,1.7902974123847166,0.3599995856389987,1.387437415019763,0.18535136363636368,0.1678573418972332,1.2633912674571806,2.057382246376812E-2,7.2763797760210802E-3,1.4803392621870882E-4,1.3560125164690383E-3,1.1345394598155468E-2,0.27908122859025031,8.2315895915678519E-2,6.2144071146245069E-3,3.4505345849802374E-2,0.12385672595520421,0.24380276021080372,0.19074921607378126,0.18171147233201582,0.77462552042160726,-2.1300161396574441E-2,1.1739130434782609E-5,1.3837121212121212E-4,2.9505401844532285E-4,1.03816185770751E-2,9.9773221343873531E-4,8.7316409749670608E-3,6.6288735177865603E-4,8.4376152832674555E-5,0.27890042819499339,1.1041340579710145E-2,0,2.0250499999999998E-2,9.2355072463768106E-5,6.7833860342555985E-4,4.0493326416337294E-2,4.001495816864295E-2,1.1853623188405799E-4,1.2260496508563901,0.43568889492753621,1.1713527667984189E-3,4.1838998682476949E-4,2.9775312911725959E-3,2.0093214756258233E-5,121.12819895256914,21.003201607246378,18.941387352173912,19.032337170338167,17.903192714782609,13.770017482028985,0.21066703101449277,2.8201978513043477,0.37782170289855077,0.71138685898550735,2.0764029507246375,1.3102133333333332E-2,2.3008241304347827E-2,1.6224391304347826E-4,1.8971536231884062E-3,2.6891376231884062E-2,{"$f":"IF(COUNT(EK116:EK120)<3,\"\",AVERAGE(EK116:EK120))","v":0.6298136927536232},0.13176901739130437,7.5284797101449284E-3,0.11135667101449273,0.3827263347826087,0.28091744347826086,0.42310914782608694,0.38694032028985503,1.5850499173913044,-0.19361545797101451,0,2.0404159420289855E-4,6.6748275362318843E-4,3.0841275797101452E-2,1.741854492753623E-3,1.0838136231884059E-2,1.1551627536231883E-3,1.6102362318840579E-4,0.16304946376811597,1.9972224637681158E-2,0,3.98816052173913E-2,1.4657782608695652E-4,2.0223265217391303E-3,0.20808838405797098,0.15716854768115937,3.1616666666666669E-4,9.8626523246376827,3.3381860810144928,7.0697724637681135E-3,3.414950724637681E-4,5.7659968115942022E-3,3.2202898550724638E-5,23.682747696376815]
["DOSO1","2002-06",null,null,null,null,null,null,null,11.522133385704873,null,null,{"$f":"IF(COUNT(M117:M121)<3,\"\",AVERAGE(M117:M121))","v":32.540256519104091},22.540256519104084,13.076343735177867,2.6947552243083002,3.9256429281949927,1.7484179841897229,0.16314047233201581,0.77527717786561268,0.15667882378129117,10,null,29.111550878695653,null,null,{"$f":"IF(COUNT(AA117:AA121)<3,\"\",AVERAGE(AA117:AA121))","v":197.39073800289856},187.39073800289856,170.03331053637683,1.8674480313043478,9.6317834824637707,3.836806884057971,0.69744387347826098,1.2118967160869567,0.11204848579710144,10,11.522133385704873,1,0.40185128004448467,8.2812968076211496E-2,0.12063958149470282,5.373092197854195E-2,5.0134968123634032E-3,2.3825171058822307E-2,4.8149228230363345E-3,0.30731165238753083,29.111550878695653,1,0.86140470549271664,9.4606669502240049E-3,4.8795518877498369E-2,1.9437623684256299E-2,3.5333161045682875E-3,6.1395824766061757E-3,5.6764814261678321E-4,5.0660938305287437E-2,11.522133385704873,11.522133385704873,4.6301840498887952,0.95418206424022833,1.3900253495775792,0.61909484997366193,5.7766179000857329E-2,0.27451679887698599,5.5478183008899305E-2,3.5408858497904996,29.111550878695653,29.111550878695653,25.076826911099065,0.27541468726784057,1.4205132304546479,0.56585937084516691,0.10286031154865442,0.17873276764166895,1.6525117784985572E-2,1.4748184830368367,{"$f":"IF(COUNT(BY117:BY121)<3,\"\",AVERAGE(BY117:BY121))","v":4.4544430368906447},3.1666314295125164,4.7751143425559945,3.6390375490777345,1.6636594123847164,0.33129758563899869,1.2803280237154151,0.17484179841897235,0.16314047233201581,1.2921286587615284,2.5770778985507246E-2,8.9294232542819502E-3,1.1359914361001317E-4,1.33583860342556E-3,1.1654090250329383E-2,0.27546122859025035,7.814633069828722E-2,4.9535375494071153E-3,2.7204476284584982E-2,0.11955498682476942,0.21839928194993416,0.16940138998682475,0.18308625494071146,0.71764638998682462,1.1972299077733853E-3,1.1739130434782609E-5,4.7675559947299079E-5,3.0122793148880107E-4,1.0010401185770752E-2,9.9312351778656108E-4,8.7225974967061921E-3,4.640177865612648E-4,8.8028326745718052E-5,0.25681955862977601,9.1161231884057965E-3,0,1.9327369565217394E-2,6.8963768115942023E-5,5.9842555994729901E-4,3.7896456851119899E-2,4.1770436429512517E-2,1.2992753623188407E-4,1.1068974769433466,0.40498872101449274,8.0178754940711473E-4,2.0117259552042164E-4,2.8161399868247691E-3,3.4875823451910406E-5,127.71401164822132,20.470470302898555,18.617637460869567,19.177789295942027,18.139794779999999,13.974261808115941,0.19948282811594201,2.868275655652174,0.38368068840579711,0.69744387347826098,2.0198278601449275,1.6649926811594204E-2,2.976503115942029E-2,1.5657362318840579E-4,1.8913202898550724E-3,2.5286818260869565E-2,{"$f":"IF(COUNT(EK117:EK121)<3,\"\",AVERAGE(EK117:EK121))","v":0.68942054057971014},0.13433651739130434,6.7255086956521746E-3,0.1083588811594203,0.40977300144927542,0.26448947246376808,0.40002824202898546,0.44053271159420293,1.6231823086956525,-0.10480114637681162,0,1.0280971014492753E-4,7.0400811594202909E-4,3.0836993188405798E-2,1.7888110144927533E-3,1.2348552898550726E-2,1.0077460869565217E-3,1.5808521739130434E-4,0.15463797826086959,1.9425413043478258E-2,0,3.9813123333333332E-2,1.3219014492753622E-4,1.930123623188406E-3,0.20100638405797105,0.17223204768115938,3.1990217391304353E-4,9.6640731217391309,3.3876998310144928,3.1316673913043477E-3,2.7928130434782606E-4,6.0731815942028982E-3,3.5786231884057975E-5,22.804377105797105]
["DOSO1","2003-07",null,null,null,null,null,null,null,11.179853431159419,null,null,{"$f":"IF(COUNT(M118:M122)<3,\"\",AVERAGE(M118:M122))","v":31.530908996376809},21.530908996376816,12.624841242753623,2.444948315217391,3.6461017463768108,1.6504543478260871,0.17205844202898551,0.79438725362318841,0.19811696014492752,10,null,29.149715275217392,null,null,{"$f":"IF(COUNT(AA118:AA122)<3,\"\",AVERAGE(AA118:AA122))","v":198.00388252115945},188.00388252115945,170.38633712072465,1.7870283443478261,9.8779799485507258,3.7726155797101448,0.71106794304347831,1.3445134952173912,0.12433976231884056,10,11.179853431159419,1,0.40039572738623974,7.7541320343740741E-2,0.11563579555526869,5.2344014186706117E-2,5.4568183254328825E-3,2.5193921739283531E-2,6.2832619309418887E-3,0.31714911869965728,29.149715275217392,1,0.86052018248943429,9.0252187057840005E-3,4.9887809384218149E-2,1.905324042980313E-2,3.5911818192125139E-3,6.7903390483957365E-3,6.2796628397199803E-4,5.0504060186452968E-2,11.179853431159419,11.179853431159419,4.4763655466406238,0.86690059630160154,1.2927912457034199,0.58519840660590372,6.1006429078804408E-2,0.28166435240129084,7.024594745751403E-2,3.5456806628835493,29.149715275217392,29.149715275217392,25.083918308145122,0.26308255557016963,1.4542154392542774,0.55539653359902186,0.10468192753158201,0.19793644988292633,1.8305038380220053E-2,1.4721789746775467,{"$f":"IF(COUNT(BY118:BY122)<3,\"\",AVERAGE(BY118:BY122))","v":4.3524006884057966},3.0362432476943346,4.642690706192357,3.460197086956522,1.5950290108695651,0.30087711594202904,1.1948559782608696,0.16504543478260872,0.17205844202898551,1.3239786739130435,3.2331195652173919E-2,1.0054020092226616E-2,1.1115250329380764E-4,1.3097990777338603E-3,1.2700805665349143E-2,0.28077380434782617,7.2654057971014499E-2,3.3555072463768119E-3,2.0519021739130436E-2,0.12078778985507248,0.19681163043478261,0.15101192028985508,0.1903515579710145,0.67948192028985499,1.7768442028985507E-2,1.1739130434782609E-5,5.0928524374176551E-5,3.6873386034255604E-4,1.0542918972332017E-2,1.1247045454545453E-3,8.7354670619235828E-3,4.7731422924901181E-4,8.74235836627141E-5,0.23330554347826088,5.830289855072464E-3,0,1.8747092885375495E-2,6.2896574440052697E-5,5.7485243741765477E-4,3.9213002305665344E-2,3.282300164690382E-2,1.3825955204216074E-4,1.0498980072463771,0.38923263405797098,8.3724209486166006E-4,2.0721607378129119E-4,2.9904680500658764E-3,4.8907444005270082E-5,132.57344832246375,20.601955833333328,18.526463582608695,19.497562673333334,18.160936491304348,13.934673999420289,0.18789514811594202,2.9315647199999999,0.37726155797101446,0.71106794304347831,2.2408558253623192,1.8473130289855071E-2,2.6678801594202901E-2,1.6694579710144929E-4,1.8135707246376813E-3,2.7921618260869564E-2,{"$f":"IF(COUNT(EK118:EK122)<3,\"\",AVERAGE(EK118:EK122))","v":0.78354659275362315},0.1396615956521739,6.0929173913043481E-3,9.8190220289855079E-2,0.43740980144927538,0.23677096811594206,0.36150632898550727,0.54297838115942032,1.6768557000000002,-4.6689737681159423E-2,0,1.0832623188405795E-4,7.4567420289855071E-4,3.3694749710144925E-2,1.8337257971014491E-3,1.2757996376811595E-2,1.0988278260869566E-3,1.6149043478260868E-4,0.14570670869565217,1.6781308695652173E-2,0,3.9531892028985507E-2,1.2093101449275362E-4,1.8565688405797105E-3,0.20558033884057975,0.10917352942028984,3.2874391304347827E-4,9.589250478260869,3.379262644927536,3.3694900000000002E-3,2.3620999999999999E-4,6.1995433333333332E-3,2.6436666666666667E-5,22.746844837971018]
["DOSO1","2004-08",null,null,null,null,null,null,null,10.758610550724638,null,null,{"$f":"IF(COUNT(M119:M123)<3,\"\",AVERAGE(M119:M123))","v":30.201769300724642},20.201769300724642,11.972562105072463,2.2364301159420288,3.229747836956522,1.5269471014492753,0.17129158695652175,0.81846423550724623,0.2463258949275362,10,null,28.158367869999999,null,null,{"$f":"IF(COUNT(AA119:AA123)<3,\"\",AVERAGE(AA119:AA123))","v":182.26752529333334},172.26752529333334,155.05877150333336,2.0420364800000002,9.3044115833333354,3.4091216666666666,0.75257459000000004,1.5606688900000001,0.13994034666666666,10,10.758610550724638,1,0.39641922914712152,7.4049639068277009E-2,0.10693902747211004,5.0558200291021982E-2,5.6715745773348409E-3,2.7099877075334407E-2,8.1560087581235181E-3,0.33110642957464304,28.158367869999999,1,0.85072078119121108,1.1203512401420037E-2,5.1048103979901109E-2,1.8703944441996325E-2,4.128955988121524E-3,8.5625175822644662E-3,7.6777443728087507E-4,5.4864408697635196E-2,10.758610550724638,10.758610550724638,4.2649201012123497,0.79667122815731639,1.150515349245675,0.54393598707663859,6.1018262086936254E-2,0.29155702342603351,8.7747321876950238E-2,3.5622451266345192,28.158367869999999,28.158367869999999,23.954908711435898,0.31547262363529249,1.4374312909320666,0.52667254821777443,0.11626466163256521,0.24110651997474583,2.1619275046137122E-2,1.5448922030780394,{"$f":"IF(COUNT(BY119:BY123)<3,\"\",AVERAGE(BY119:BY123))","v":4.215031123188405},2.8596551679841897,4.4709059235836621,3.2269195724637685,1.5219446630434781,0.27606478260869566,1.064920891304348,0.15269471014492758,0.17129158695652175,1.3641070326086957,4.0003199275362319E-2,1.102250559947299E-2,9.8801054018445321E-5,1.2866396574440053E-3,1.3241805665349143E-2,0.27669826086956523,6.9548260869565226E-2,2.2024637681159424E-3,1.2857753623188407E-2,0.1168136231884058,0.15890126811594202,0.12664271739130434,0.19424206521739129,0.60945742753623189,2.5623586956521744E-2,0,5.4866930171278007E-5,3.657592226613966E-4,1.0393687088274045E-2,1.1178277338603426E-3,7.4338945981554678E-3,5.0186133069828726E-4,7.788735177865614E-5,0.21420202898550725,4.4613405797101447E-3,0,1.7931223320158104E-2,7.4617588932806325E-5,5.5159519104084329E-4,3.8199850131752304E-2,2.4271998023715415E-2,1.5894795783926219E-4,1.0048444565217389,0.37170967753623191,8.6678557312252959E-4,1.833283926218709E-4,2.8957470355731223E-3,6.3193675889328056E-5,137.81538878985504,19.4829276942029,17.031587200000001,18.661378621159422,16.984630299999999,12.860470173333331,0.21878903333333327,2.7911647199999998,0.34091216666666668,0.75257459000000004,2.6011148166666667,2.0719283333333331E-2,2.951876333333333E-2,2.0008666666666668E-4,1.8762733333333333E-3,2.9857500000000002E-2,{"$f":"IF(COUNT(EK119:EK123)<3,\"\",AVERAGE(EK119:EK123))","v":0.81132836666666663},0.1182377,3.6933000000000009E-3,7.9640133333333335E-2,0.43986496666666658,0.20868533333333333,0.29615683333333337,0.58235723333333334,1.6067045,1.2859966666666667E-2,0,1.1953666666666667E-4,7.5261333333333333E-4,3.4272436666666663E-2,1.8508666666666666E-3,1.4416243333333334E-2,1.2132800000000002E-3,1.6187999999999999E-4,0.1698209,1.27963E-2,0,3.7912003333333333E-2,1.2346666666666667E-4,1.714276666666667E-3,0.21931628666666664,8.0807623333333328E-2,3.5481E-4,8.6943038000000001,3.1200009266666671,3.24509E-3,2.4708999999999994E-4,6.3612233333333323E-3,2.9156666666666668E-5,25.493804486666669]
["DOSO1","2005-09",null,null,null,null,null,null,null,10.164823800724637,null,null,{"$f":"IF(COUNT(M120:M124)<3,\"\",AVERAGE(M120:M124))","v":28.513792800724637},18.513792800724641,10.951867855072464,2.0405881159420289,2.9254899202898548,1.4109804347826087,0.18747475362318841,0.80868573550724621,0.18870539492753624,10,null,26.754840850000001,null,null,{"$f":"IF(COUNT(AA120:AA124)<3,\"\",AVERAGE(AA120:AA124))","v":161.25598582666669},151.25598582666669,134.97333246333335,2.0066805900000002,8.6320255066666682,3.2272633333333332,0.67566676000000003,1.6572992500000001,8.3717933333333328E-2,10,10.164823800724637,1,0.3840901816048175,7.1564948591832739E-2,0.10259911547843988,4.9484137190852796E-2,6.5748795655983022E-3,2.8361212454580738E-2,6.618039074855751E-3,0.35070746532695096,26.754840850000001,1,0.83701285115961876,1.2444068849369548E-2,5.3529954019475544E-2,2.0013293254132616E-2,4.1900259177124199E-3,1.0277443293059666E-2,5.1916170989969542E-4,6.2013201858744975E-2,10.164823800724637,10.164823800724637,3.9042090196012973,0.72744509274389657,1.0429019309485412,0.50299753547590365,6.6832492295291687E-2,0.2882867273757303,6.7271201102219388E-2,3.5648795906472017,26.754840850000001,26.754840850000001,22.394145622180339,0.3329390815913249,1.4321854004988861,0.53545247589869671,0.11210347658577099,0.27497135965071129,1.3890088923780221E-2,1.659153346329646,{"$f":"IF(COUNT(BY120:BY124)<3,\"\",AVERAGE(BY120:BY124))","v":4.0577402898550714},2.719833501317523,4.2191953402503284,2.9722189057971016,1.391240579710145,0.25004969927536236,0.97188489130434785,0.14109804347826088,0.18747475362318841,1.3478095326086958,3.0471032608695652E-2,1.3231838932806324E-2,6.3051054018445333E-5,1.1642229907773386E-3,1.4997555665349143E-2,0.27552576086956526,6.3742427536231897E-2,1.0516304347826088E-3,3.2469202898550722E-3,0.11515945652173913,0.13814376811594203,0.11047605072463766,0.19761623188405797,0.56464242753623184,2.0665253623188405E-2,5.6666666666666657E-5,5.1616930171278003E-5,3.338425559947299E-4,1.0714353754940712E-2,1.0020777338603424E-3,2.6019779314888011E-3,4.6652799736495392E-4,6.6554018445322797E-5,0.19414952898550725,4.4021739130434782E-3,0,1.7701639986824769E-2,8.4200922266139665E-5,4.7151185770750992E-4,4.1713933465085631E-2,2.2011248023715412E-2,1.7203129117259554E-4,0.91490528985507247,0.34021051086956527,9.3861890645586285E-4,1.6166172595520422E-4,2.4199137022397894E-3,6.0110342555994725E-5,146.46650678985506,18.045741594202902,15.431937999999997,17.197281274492752,15.309393436666664,11.469973216666666,0.21611705666666667,2.61255126,0.32272633333333339,0.67566676000000003,2.7621654166666669,1.2358066666666665E-2,3.2537246666666665E-2,2.1660000000000001E-4,1.8487066666666666E-3,3.0020743333333339E-2,{"$f":"IF(COUNT(EK120:EK124)<3,\"\",AVERAGE(EK120:EK124))","v":0.80865750000000003},0.11621139999999999,1.7004000000000001E-3,6.735226666666666E-2,0.43683240000000001,0.17892760000000002,0.24474620000000002,0.59258216666666663,1.5204406333333331,7.0580333333333332E-3,0,1.3489E-4,7.2987333333333329E-4,3.390948333333333E-2,1.7686100000000003E-3,6.1957266666666675E-3,1.2033600000000001E-3,1.4577666666666664E-4,0.1678164,1.4043966666666668E-2,0,3.5985130000000004E-2,1.1848666666666664E-4,1.5062400000000003E-3,0.18715053666666667,4.9065879999999992E-2,3.5956000000000003E-4,7.7017238666666668,2.7838247333333337,3.1893899999999994E-3,2.0620000000000005E-4,5.9876033333333325E-3,4.6906666666666669E-5,29.701504203333332]
["DOSO1","2006-10",null,null,null,null,null,null,null,9.7310071920289865,null,null,{"$f":"IF(COUNT(M121:M125)<3,\"\",AVERAGE(M121:M125))","v":27.376096452898555},17.376096452898555,10.198934811594203,1.8247906376811596,2.8865684420289854,1.2969804347826086,0.19674753623188407,0.79476382246376809,0.17731043840579711,10,null,25.199826433333332,null,null,{"$f":"IF(COUNT(AA121:AA125)<3,\"\",AVERAGE(AA121:AA125))","v":138.33974732666667},128.33974732666667,112.34409254666666,2.1202190066666668,8.618318423333335,2.9170550000000004,0.72011475999999996,1.5568962500000001,6.3050850000000006E-2,10,9.7310071920289865,1,0.37254890700512377,6.6656348936407719E-2,0.10544119929572203,4.7376383152875894E-2,7.1868367563065272E-3,2.9031305607473461E-2,6.4768342232745038E-3,0.3652821729790921,25.199826433333332,1,0.81208831675385729,1.5326173768845455E-2,6.2298208503898646E-2,2.1086166892526213E-2,5.2054075124162748E-3,1.1254149874393254E-2,4.5576814486378774E-4,7.2285805007194615E-2,9.7310071920289865,9.7310071920289865,3.6252760934493975,0.64863341089457716,1.0260490686828327,0.4610199251929562,6.9935160163557095E-2,0.28250384366031567,6.3026120408263664E-2,3.5545634523795213,25.199826433333332,25.199826433333332,20.464484630735026,0.38621691886201159,1.5699040414058565,0.53136774583596025,0.13117536582765954,0.28360262348943011,1.1485278144409774E-2,1.8215897397750818,{"$f":"IF(COUNT(BY121:BY125)<3,\"\",AVERAGE(BY121:BY125))","v":3.9553159420289852},2.6409622760210807,4.0379647592226604,2.815316731884058,1.2791254492753623,0.2198357862318841,0.96161706521739132,0.12969804347826092,0.19674753623188407,1.3246063152173915,2.8292945652173912E-2,1.3843423913043478E-2,4.7873188405797095E-5,1.1235905797101452E-3,1.5777192028985504E-2,0.26109880434782606,5.8438079710144933E-2,4.6815217391304358E-4,8.2344202898550732E-4,0.11270293478260869,0.1415168115942029,0.11081778985507247,0.18925014492753625,0.55511112318840583,1.9737427536231884E-2,6.1275362318840578E-5,5.8039855072463774E-5,3.2694927536231882E-4,1.0787934782608696E-2,1.0013623188405796E-3,2.9924166666666667E-3,4.6645289855072462E-4,5.9731884057971022E-5,0.17072778985507248,4.1726086956521743E-3,0,1.7885742753623184E-2,8.0615942028985525E-5,4.3093478260869574E-4,4.4564166666666669E-2,2.7336271739130436E-2,1.7135144927536234E-4,0.83892442028985492,0.31135364130434789,9.4540942028985503E-4,1.4637318840579714E-4,2.2015144927536234E-3,6.8177536231884059E-5,153.5337816594203,16.266959927536231,13.824559666666667,15.461925691159422,13.733302519999999,9.8781552999999995,0.23227647333333329,2.6017452599999999,0.29170550000000001,0.72011475999999996,2.5948270833333331,9.304483333333332E-3,3.8619913333333325E-2,2.1293333333333332E-4,1.7645399999999998E-3,3.1736326666666669E-2,{"$f":"IF(COUNT(EK121:EK125)<3,\"\",AVERAGE(EK121:EK125))","v":0.77462999999999993},0.10678890000000001,1.0495666666666666E-3,5.6893100000000009E-2,0.4313432333333333,0.18469760000000002,0.2393787,0.58385133333333339,1.4961639666666664,1.1696999999999999E-3,0,1.3514000000000001E-4,7.1453999999999984E-4,3.3706483333333329E-2,1.6598600000000002E-3,7.3287266666666687E-3,1.3154433333333333E-3,1.3569333333333331E-4,0.18034306666666666,1.7180633333333334E-2,0,3.4763379999999997E-2,1.1673666666666667E-4,1.3151566666666666E-3,0.19879170333333335,5.0684379999999994E-2,3.4897666666666672E-4,6.5854372000000012,2.3979294833333333,3.0457233333333338E-3,2.0370000000000002E-4,5.5073533333333327E-3,4.9906666666666668E-5,34.36983270333333]
["DOSO1","2007-11",null,null,null,null,null,null,null,9.3667232789855071,null,null,{"$f":"IF(COUNT(M122:M126)<3,\"\",AVERAGE(M122:M126))","v":26.43144314855072},16.431443148550727,9.3496858550724635,1.8206036811594206,2.8734907028985508,1.1931543478260869,0.18341771014492753,0.8001653876811593,0.21092565579710146,10,null,24.1678876,null,null,{"$f":"IF(COUNT(AA122:AA126)<3,\"\",AVERAGE(AA122:AA126))","v":122.39303815999999},112.39303816000002,96.33133638000001,2.3895917566666669,8.5023275900000002,2.7336300000000002,0.66421317666666668,1.6889445833333336,8.2993933333333339E-2,10,9.3667232789855071,1,0.35373346065612471,6.888022235211351E-2,0.10871486232321405,4.5141475670484134E-2,6.9393755427608807E-3,3.0273238702255033E-2,7.9801036444227171E-3,0.37833726837379733,24.1678876,1,0.78706548859478054,1.9523918946622112E-2,6.9467411854628652E-2,2.2334848787938615E-2,5.4268869100084337E-3,1.3799351733759868E-2,6.7809357934916505E-4,8.1703993546817275E-2,9.3667232789855071,9.3667232789855071,3.3133234404838272,0.64518198216723943,1.0183020316945535,0.42282771101048161,6.4999210438001026E-2,0.28356104968269724,7.4747422574931346E-2,3.5437804989846349,24.1678876,24.1678876,19.02171026219774,0.47185187861347361,1.6788806015655728,0.53978611506989671,0.13115639285899514,0.33350118165437365,1.6388089407992301E-2,1.9746129325106052,{"$f":"IF(COUNT(BY122:BY126)<3,\"\",AVERAGE(BY122:BY126))","v":3.8839133333333331},2.5686840151515158,3.9333032216732535,2.6938263840579713,1.1787697971014492,0.22069274275362322,0.95717967391304337,0.11931543478260871,0.18341771014492753,1.3336089239130438,3.4450858695652176E-2,1.3220989130434785E-2,5.3612318840579712E-5,1.0495036231884059E-3,1.4991713768115941E-2,0.2430779347826087,5.5219818840579714E-2,4.8989130434782613E-4,3.7126811594202899E-4,0.11047684782608695,0.14708550724637681,0.11368648550724639,0.17849971014492755,0.55011981884057981,2.3117427536231881E-2,3.1527536231884057E-4,6.1778985507246383E-5,2.9181884057971022E-4,1.0327239130434783E-2,9.4310144927536226E-4,3.3510253623188408E-3,4.4219202898550735E-4,5.9471014492753637E-5,0.17139213768115943,3.62304347826087E-3,8.0173913043478259E-5,1.7044351449275363E-2,8.009420289855074E-5,3.8058695652173918E-4,4.0862253623188398E-2,2.5998967391304351E-2,1.5761231884057971E-4,0.78087833333333334,0.28702503260869566,8.8001811594202897E-4,1.2576449275362319E-4,2.0530797101449274E-3,2.4525362318840562E-5,159.35323261594203,15.817847499999999,13.064308688405797,14.968077430289856,12.544757353333333,8.7552271333333334,0.26692389,2.5726137600000003,0.27336300000000002,0.66421317666666668,2.814907666666667,1.2415816666666666E-2,3.8866949565217385E-2,2.2903840579710142E-4,1.8182863768115942E-3,3.2263493333333337E-2,{"$f":"IF(COUNT(EK122:EK126)<3,\"\",AVERAGE(EK122:EK126))","v":0.73346500000000003},0.1019414,8.9623333333333324E-4,4.3999766666666669E-2,0.42425739999999995,0.19428010000000001,0.24807203333333336,0.55794799999999989,1.4685572999999998,2.0521999999999984E-3,1.2417391304347824E-4,1.4350231884057972E-4,6.9027550724637681E-4,3.3446939855072466E-2,1.6091643478260871E-3,7.6128317391304353E-3,1.4334686956521739E-3,1.3976217391304348E-4,0.20720139999999998,1.5435633333333334E-2,9.4773913043478251E-4,3.4655861884057969E-2,1.0408086956521738E-4,1.2370986956521742E-3,0.17669665985507246,4.0461140869565218E-2,3.8063246376811598E-4,5.9991922000000013,2.1312348637681162,2.9366110144927538E-3,2.4330507246376809E-4,5.3220815942028989E-3,1.1136681159420291E-4,37.408167120000002]
["DOSO1","2008-12",null,null,null,null,null,null,null,9.2450040398550719,null,null,{"$f":"IF(COUNT(M123:M127)<3,\"\",AVERAGE(M123:M127))","v":26.012315224637678},16.012315224637682,9.0358589166666654,1.8533822898550725,2.7864642681159419,1.1422717391304347,0.18232194202898552,0.82756596014492734,0.18445037318840582,10,null,22.71384732666667,null,null,{"$f":"IF(COUNT(AA123:AA127)<3,\"\",AVERAGE(AA123:AA127))","v":102.49883028666666},92.498830286666674,77.551269266666665,2.4485853566666664,7.6297262000000003,2.4908799999999998,0.59602414333333331,1.6698490433333337,0.11249594666666669,10,9.2450040398550719,1,0.34736849982920059,7.125018568511092E-2,0.10712096343799225,4.3912728615887561E-2,7.0090624557824248E-3,3.1814390722172035E-2,7.0908864357334418E-3,0.38443329298610285,22.71384732666667,1,0.75660638321210927,2.388891024237557E-2,7.4437202635984592E-2,2.4301545617970047E-2,5.8149360501615968E-3,1.6291396093625007E-2,1.0975339557733517E-3,9.7562088972451708E-2,9.2450040398550719,9.2450040398550719,3.2114231842393552,0.6587082544992745,0.99033373973740579,0.4059733534549399,6.4798810719305031E-2,0.2941241707520082,6.5555273744509202E-2,3.5540873467113094,22.71384732666667,22.71384732666667,17.185441874661308,0.54260906004576237,1.6907552560979038,0.55198159696859705,0.13207956965770062,0.37004028360885222,2.4929218707268438E-2,2.2160103937909379,{"$f":"IF(COUNT(BY123:BY127)<3,\"\",AVERAGE(BY123:BY127))","v":3.9043009782608693},2.539899746376812,3.912788676218709,2.6281295615942026,1.1453695543478262,0.22506666304347825,0.93089726086956526,0.11422717391304349,0.18232194202898552,1.3792766557971015,3.0247224637681158E-2,1.4659684782608696E-2,5.9873188405797109E-5,9.9124275362318841E-4,1.5186409420289853E-2,0.23007452898550723,5.4183514492753625E-2,4.0025362318840582E-4,-2.5865579710144934E-3,0.10410202898550724,0.14135873188405798,0.11311231884057971,0.17021195652173915,0.52619847826086974,2.0699456521739129E-2,3.4066666666666664E-4,6.917028985507247E-5,4.8842753623188414E-4,1.0972021739130436E-2,7.5092753623188407E-4,3.5891123188405796E-3,4.8010507246376815E-4,6.6949275362318856E-5,0.17471492753623188,5.3793115942028982E-3,2.2417391304347826E-4,1.7193481884057969E-2,6.80072463768116E-5,3.1989130434782612E-4,3.8909384057971008E-2,2.3197315217391302E-2,1.4535144927536233E-4,0.75710112318840583,0.27804642391304346,9.3062681159420302E-4,1.1819927536231884E-4,2.0961231884057971E-3,-2.6050724637681352E-6,160.64189881521739,14.181196099999999,11.460381588405799,13.20321885362319,10.860079283333334,7.3751713333333324,0.27428982000000002,2.348805,0.24908800000000003,0.59602414333333331,2.7830817666666663,1.670082333333333E-2,4.2160559565217387E-2,2.3231840579710145E-4,1.7174163768115941E-3,3.0154610000000005E-2,{"$f":"IF(COUNT(EK123:EK127)<3,\"\",AVERAGE(EK123:EK127))","v":0.64163626666666662},0.10063146666666667,6.5059999999999998E-4,2.3930166666666669E-2,0.38941393333333335,0.19500480000000003,0.2257267,0.49163069999999998,1.3257063,4.5733999999999983E-3,2.1692391304347828E-4,1.5810898550724638E-4,6.4676884057971004E-4,3.1932889855072463E-2,1.4653510144927535E-3,7.7745984057971023E-3,1.4371586956521739E-3,1.2858884057971015E-4,0.21286013333333331,1.5985100000000002E-2,1.6733224637681156E-3,3.34895352173913E-2,7.3767536231884051E-5,1.0445520289855069E-3,0.14951672318840578,3.1761014202898549E-2,3.9372913043478266E-4,4.9873526333333338,1.7955159737681161,2.7049876811594204E-3,2.4665173913043478E-4,4.8310749275362313E-3,1.4368014492753626E-4,42.223831623333339]
["DOSO1","2009-13",null,null,null,null,null,null,null,9.0264653550724638,null,null,{"$f":"IF(COUNT(M124:M128)<3,\"\",AVERAGE(M124:M128))","v":25.475023876811594},15.475023876811594,8.7063004021739125,1.7622256195652177,2.7576611340579715,1.1197528985507244,0.16973931884057974,0.81953715217391299,0.13980796014492758,10,null,21.605425583333336,null,null,{"$f":"IF(COUNT(AA124:AA128)<3,\"\",AVERAGE(AA124:AA128))","v":92.220395749999994},82.220395749999994,67.595658166666666,2.9746960833333334,7.0894954166666668,2.3888333333333334,0.49551224999999999,1.5490840833333335,0.12711633333333333,10,9.0264653550724638,1,0.34175828231897132,6.9174640545450763E-2,0.10824959958401088,4.3954930286442991E-2,6.6629699607498073E-3,3.2170221160023688E-2,5.4880403967819827E-3,0.39254133964138921,21.605425583333336,1,0.73297948481929687,3.2256379504132994E-2,7.6875569216657447E-2,2.5903525070627702E-2,5.37313081309348E-3,1.679762996824196E-2,1.3783971788402713E-3,0.10843588252547702,9.0264653550724638,9.0264653550724638,3.0848692951612686,0.6244024963331023,0.97711126034554086,0.39675765541520303,6.0143067512596668E-2,0.29038338676597292,4.9537606508790702E-2,3.5432608027067327,21.605425583333336,21.605425583333336,15.836333713373325,0.69691280696430402,1.6609293898868835,0.55965668325945617,0.11608877793180652,0.36291994425522156,2.9780857671710095E-2,2.3428033904672696,{"$f":"IF(COUNT(BY124:BY128)<3,\"\",AVERAGE(BY124:BY128))","v":3.8612314130434782},2.5069947826086958,3.8183781544795776,2.5403575108695646,1.1004034673913043,0.2131565615942029,0.92209304347826093,0.11197528985507248,0.16973931884057974,1.3658952536231885,2.2990177536231886E-2,1.4055807971014495E-2,6.2137681159420296E-5,9.1309782608695652E-4,1.4184365942028982E-2,0.22101355072463766,5.5300615942028987E-2,4.1764492753623196E-4,-1.6618115942028991E-3,9.9610978260869565E-2,0.14405692028985509,0.1124763043478261,0.16466318840579711,0.51914557971014497,1.5253876811594203E-2,4.2771014492753621E-4,7.4971014492753634E-5,4.8435869565217399E-4,1.090794927536232E-2,6.9493478260869576E-4,3.587815217391304E-3,4.6494927536231898E-4,6.0311594202898554E-5,0.16535148550724638,5.5221739130434785E-3,3.566086956521739E-4,1.6850307971014493E-2,4.86340579710145E-5,2.784528985507246E-4,3.5140797101449274E-2,1.9951014492753622E-2,1.2057608695652175E-4,0.73221119565217385,0.26695111956521733,8.8551811594202894E-4,1.1034782608695651E-4,1.9986702898550724E-3,5.2065217391304336E-5,164.46699086956522,13.161515833333331,10.644749021739131,12.107758336956525,9.8501095000000003,6.5658648333333343,0.33599641666666669,2.1948105,0.23888333333333334,0.49551224999999999,2.5818068333333333,1.9042333333333331E-2,4.2235369565217389E-2,1.9968840579710144E-4,1.617663043478261E-3,2.7367250000000003E-2,{"$f":"IF(COUNT(EK124:EK128)<3,\"\",AVERAGE(EK124:EK128))","v":0.58315666666666666},0.10215083333333333,7.1166666666666665E-4,2.3627499999999999E-2,0.35732833333333336,0.19184500000000002,0.21363916666666669,0.44586499999999996,1.2323049999999998,5.517499999999999E-3,3.1267391304347825E-4,1.696123188405797E-4,6.0581884057971005E-4,2.9853206521739135E-2,1.38763768115942E-3,6.7888550724637692E-3,1.3716086956521742E-3,1.2356884057971017E-4,0.26052916666666665,1.7310000000000002E-2,1.9568224637681155E-3,3.2220565217391306E-2,5.9844202898550729E-5,9.1119202898550726E-4,0.11319545652173912,2.9444344202898553E-2,3.5823913043478265E-4,4.4968591666666669,1.5981691304347825,2.4703876811594206E-3,2.3827173913043483E-4,4.4368115942028993E-3,2.5887681159420287E-4,47.470514750000007]
["DOSO1","2010-14",null,null,null,null,null,null,null,8.9893582608695652,null,null,{"$f":"IF(COUNT(M125:M129)<3,\"\",AVERAGE(M125:M129))","v":25.334605826086953},15.334605826086957,8.5433120000000002,1.8243116521739133,2.7309006086956527,1.105069565217391,0.14167791304347827,0.84688904347826066,0.14244573913043479,10,null,21.110171833333332,null,null,{"$f":"IF(COUNT(AA125:AA129)<3,\"\",AVERAGE(AA125:AA129))","v":88.441272666666663},78.441272666666663,62.905142166666664,4.1537540833333342,6.8964746666666672,2.3721666666666663,0.4120355,1.5426495833333334,0.1590496666666667,10,{"$f":"J155","v":8.9893582608695652},{"$f":"M155/M155","v":1},{"$f":"O155/M155","v":0.3372190614942579},{"$f":"P155/M155","v":7.2008685064893579E-2},{"$f":"Q155/M155","v":0.10779329378330624},{"$f":"R155/M155","v":4.3618976067885167E-2},{"$f":"S155/M155","v":5.5922682995759509E-3},{"$f":"T155/M155","v":3.3428151568327229E-2},{"$f":"U155/M155","v":5.6225757017209603E-3},{"$f":"V155/M155","v":0.39471701547860816},{"$f":"X155","v":21.110171833333332},{"$f":"AA155/AA155","v":1},{"$f":"AC155/AA155","v":0.71126455183152837},{"$f":"AD155/AA155","v":4.696624051294182E-2},{"$f":"AE155/AA155","v":7.7978012512996492E-2},{"$f":"AF155/AA155","v":2.6821941782851924E-2},{"$f":"AG155/AA155","v":4.6588599143405967E-3},{"$f":"AH155/AA155","v":1.7442643426757866E-2},{"$f":"AI155/AA155","v":1.7983647438693201E-3},{"$f":"AJ155/AA155","v":0.11306938150573426},{"$f":"J155","v":8.9893582608695652},{"$f":"BE155","v":8.9893582608695652},{"$f":"BE155*AM155","v":3.0313829561660892},{"$f":"BE155*AN155","v":0.64731186794245599},{"$f":"BE155*AO155","v":0.96899253593730383},{"$f":"BE155*AP155","v":0.39210660284651538},{"$f":"BE155*AQ155","v":5.0270903235792072E-2},{"$f":"BE155*AR155","v":0.30049763044634231},{"$f":"BE155*AS155","v":5.0543347331629809E-2},{"$f":"BE155*AT155","v":3.5482526637984062},{"$f":"X155","v":21.110171833333332},{"$f":"BO155","v":21.110171833333332},{"$f":"BO155*AW155","v":15.014916908122386},{"$f":"BO155*AX155","v":0.99146540759386326},{"$f":"BO155*AY155","v":1.6461292433711727},{"$f":"BO155*AZ155","v":0.56621579993966709},{"$f":"BO155*BA155","v":9.8349333339158601E-2},{"$f":"BO155*BB155","v":0.36821719996642072},{"$f":"BO155*BC155","v":3.7963788762089834E-2},{"$f":"BO155*BD155","v":2.386914072674772},{"$f":"IF(COUNT(BY125:BY129)<3,\"\",AVERAGE(BY125:BY129))","v":3.8589252173913038},2.4579304347826088,3.8044002885375492,2.4936333913043471,1.0832249565217391,0.22110504347826088,0.91368156521739119,0.11050695652173914,0.14167791304347827,1.4114817391304348,2.3437304347826086E-2,1.1999565217391305E-2,6.3130434782608706E-5,9.3426086956521748E-4,1.217495652173913E-2,0.21477652173913042,5.6073043478260878E-2,3.956521739130435E-4,-2.789565217391305E-3,9.5726086956521753E-2,0.14251217391304349,0.11141391304347825,0.16073826086956522,0.50760086956521744,1.5052173913043476E-2,6.9260869565217404E-4,7.9739130434782607E-5,4.8634782608695658E-4,1.0378695652173914E-2,6.6678260869565225E-4,4.3169565217391305E-3,4.831304347826087E-4,6.4521739130434782E-5,0.17139913043478261,8.3791304347826077E-3,3.9478260869565214E-4,1.650295652173913E-2,4.0173913043478263E-5,2.528695652173913E-4,2.7560521739130435E-2,1.8151043478260871E-2,9.7652173913043491E-5,0.71943565217391292,0.26259991304347829,7.7878260869565215E-4,1.0182608695652172E-4,2.0578260869565214E-3,1.3243478260869566E-4,164.81892460869565,12.914997499999998,10.410367355072463,11.700678420289856,9.462001833333332,6.1714764166666667,0.47906616666666668,2.1382050000000001,0.23721666666666663,0.4120355,2.5710826666666664,2.400275E-2,3.8313952898550725E-2,1.9635507246376811E-4,1.7699130434782606E-3,2.6114583333333337E-2,{"$f":"IF(COUNT(EK125:EK129)<3,\"\",AVERAGE(EK125:EK129))","v":0.56438666666666659},9.8626666666666668E-2,5.4083333333333338E-4,2.3392499999999993E-2,0.34037583333333338,0.19097333333333336,0.20681250000000001,0.42633749999999998,1.1878916666666666,9.6616666666666656E-3,5.290072463768116E-4,1.8136231884057971E-4,6.056521739130434E-4,2.8308039855072464E-2,1.3564710144927535E-3,6.9599384057971014E-3,1.4425253623188406E-3,1.3373550724637683E-4,0.37136916666666664,1.815166666666667E-2,2.2184891304347825E-3,3.23598152173913E-2,4.6677536231884065E-5,8.757753623188407E-4,8.5519539855072463E-2,2.564584420289855E-2,3.4573913043478268E-4,4.2214675000000002,1.5016457971014492,2.3104710144927539E-3,2.2293840579710143E-4,4.4795615942028995E-3,3.2612681159420291E-4,50.152968666666666]
["DOSO1","2011-15",null,null,null,null,null,null,null,8.2174032173913041,null,null,{"$f":"IF(COUNT(M126:M130)<3,\"\",AVERAGE(M126:M130))","v":23.419642260869562},13.419642260869562,7.3690772173913048,1.5542054782608696,2.4290267826086955,0.95480608695652158,0.11832652173913043,0.84309034782608694,0.15110982608695653,10,null,20.338138000000001,null,null,{"$f":"IF(COUNT(AA126:AA130)<3,\"\",AVERAGE(AA126:AA130))","v":81.492694416666666},71.49269441666668,55.700337583333329,4.6461186666666663,6.665273083333334,2.3238058333333336,0.32831650000000001,1.64673925,0.18210366666666669,10,8.2174032173913041,1,0.31465370543698878,6.6363331298945408E-2,0.10371750155497493,4.0769456523759469E-2,5.0524478735029582E-3,3.5999283782176067E-2,6.4522687581542023E-3,0.42699200477149835,20.338138000000001,1,0.68350099333495162,5.701270156698187E-2,8.178982338286965E-2,2.8515511113816786E-2,4.028784449331615E-3,2.0207200925034249E-2,2.2346011255387249E-3,0.12271038614664859,8.2174032173913041,8.2174032173913041,2.5856363714220074,0.54533425213275899,0.85228853097763857,0.33501906320963593,4.151800141142506E-2,0.29582063037543621,5.3020894052729736E-2,3.5087654738096736,20.338138000000001,20.338138000000001,13.901137525583326,1.1595321922220936,1.6634527149564298,0.57995240017333949,8.1937974102760394E-2,0.41097684100707421,4.5447626066161914E-2,2.4957007674838274,{"$f":"IF(COUNT(BY126:BY130)<3,\"\",AVERAGE(BY126:BY130))","v":3.5766395454545452},2.1924245217391305,3.4928165968379448,2.183521913043478,0.93899304347826096,0.18795843478260871,0.81803913043478249,9.5480608695652183E-2,0.11832652173913043,1.4051505217391305,2.4724608695652173E-2,1.1223739130434781E-2,6.3999999999999997E-5,8.6486956521739133E-4,1.0516608695652175E-2,0.18454573913043479,5.0487739130434785E-2,3.460869565217391E-4,-5.1799130434782613E-3,7.9464434782608701E-2,0.13827130434782609,0.10176321739130434,0.13989895652173914,0.45421800000000001,1.5700260869565216E-2,1.2175652173913045E-3,6.913043478260869E-5,4.5408695652173912E-4,9.290086956521738E-3,5.1504347826086968E-4,4.5114782608695657E-3,4.2826086956521744E-4,5.5217391304347828E-5,0.14570408695652176,9.132173913043478E-3,4.5086956521739129E-4,1.5005565217391307E-2,3.6608695652173913E-5,1.8243478260869566E-4,2.1132086956521738E-2,1.4333043478260869E-2,8.4173913043478248E-5,0.62276104347826089,0.22763460869565216,7.1713043478260864E-4,7.9391304347826075E-5,1.8562608695652173E-3,1.8947826086956524E-4,177.83582521739129,12.54102125,9.7920584927536218,11.193839257246378,8.76494675,5.5685459166666664,0.53437000000000001,2.0736565833333338,0.23238058333333331,0.32831650000000001,2.7445654166666662,2.7678500000000002E-2,3.4064992753623194E-2,1.9775000000000001E-4,1.8812391304347826E-3,2.3764420289855075E-2,{"$f":"IF(COUNT(EK126:EK130)<3,\"\",AVERAGE(EK126:EK130))","v":0.53704741666666655},9.5216416666666664E-2,4.8749999999999998E-4,1.8989916666666662E-2,0.31760391666666671,0.21145750000000002,0.20360933333333336,0.40037075000000011,1.1520314166666668,1.6042750000000001E-2,8.0761594202898544E-4,2.119855072463768E-4,5.773949275362318E-4,2.7327579710144927E-2,1.3566847826086957E-3,7.5387499999999994E-3,1.3935471014492754E-3,1.3961956521739129E-4,0.41424016666666674,1.6106250000000003E-2,2.4076195652173909E-3,3.2151086956521739E-2,4.5721014492753628E-5,7.8521739130434803E-4,5.8105206521739131E-2,2.1771652173913046E-2,3.2146014492753626E-4,3.8005002499999998,1.3547919782608697,2.169826086956522E-3,2.0232246376811598E-4,4.5283260869565219E-3,3.8901086956521738E-4,53.93041075]
["DOSO1","2012-16",null,null,null,null,null,null,null,7.8664530181159424,null,null,{"$f":"IF(COUNT(M127:M131)<3,\"\",AVERAGE(M127:M131))","v":22.626346713768118},12.626346713768118,6.927653231884058,1.515487384057971,2.2665976557971015,0.87255913043478261,0.11630889130434782,0.82877949999999989,9.8960663043478253E-2,10,null,18.9389945,null,null,{"$f":"IF(COUNT(AA127:AA131)<3,\"\",AVERAGE(AA127:AA131))","v":69.58730941666667},59.587309416666677,43.996663750000003,5.2928662500000003,6.0570976666666665,2.0939666666666668,0.30413391666666667,1.6806230833333333,0.16195800000000002,10,7.8664530181159424,1,0.30617639336661384,6.6978881002287383E-2,0.10017514910694258,3.8563853965157838E-2,5.140418503070756E-3,3.6628957846548335E-2,4.3736916213372064E-3,0.44196264321871309,18.9389945,1,0.63225125556388417,7.6060797498405941E-2,8.7043136420158054E-2,3.0091214680088584E-2,4.3705370881004972E-3,2.4151287029511328E-2,2.3274071286511029E-3,0.14370436339366394,7.8664530181159424,7.8664530181159424,2.4085222136746536,0.52688622061047219,0.78802310403252307,0.30336074541439834,4.0436860647859986E-2,0.2881399760024218,3.4405439654976479E-2,3.4766783686423453,18.9389945,18.9389945,11.974203051742496,1.4405150254879238,1.6485094819241231,0.56989734932451697,8.2773577873581333E-2,0.45740109221983638,4.4078750808784033E-2,2.7216161479386027,{"$f":"IF(COUNT(BY127:BY131)<3,\"\",AVERAGE(BY127:BY131))","v":3.4340759090909088},2.0707214782608694,3.3538956877470354,2.0477505362318835,0.88067212318840582,0.18225299275362317,0.76560314855072464,8.7255913043478267E-2,0.11630889130434782,1.3812991086956523,1.5657898550724636E-2,1.1125416666666665E-2,5.329347826086956E-5,8.2289855072463784E-4,1.0180739130434782E-2,0.17138613405797101,4.731559782608695E-2,1.1826086956521738E-4,-4.4988297101449274E-3,7.2483576086956519E-2,0.13184589130434782,9.3692163043478244E-2,0.13156407971014494,0.4250868804347826,1.0459557971014491E-2,1.0904818840579711E-3,6.8815217391304351E-5,4.6728985507246386E-4,9.0803405797101437E-3,4.253152173913044E-4,4.1301702898550721E-3,4.2803260869565227E-4,4.9971014492753622E-5,0.14128140217391305,1.0365489130434783E-2,4.3961231884057973E-4,1.4656123188405795E-2,3.019565217391304E-5,1.6481884057971015E-4,2.0828952898550721E-2,1.2322536231884057E-2,7.8213768115942031E-5,0.59218173188405798,0.2134962028985507,7.2155434782608685E-4,6.8684782608695631E-5,1.8006630434782608E-3,2.8536231884057969E-4,184.27069366304346,11.21864802536232,8.3337705543478258,10.090312079380764,7.6120977499999993,4.564386166666667,0.60661991666666659,1.9029356666666666,0.20939666666666668,0.30413391666666667,2.8010386666666665,2.4626083333333333E-2,3.19626231884058E-2,1.8331159420289855E-4,1.803909420289855E-3,2.2185670289855075E-2,{"$f":"IF(COUNT(EK127:EK131)<3,\"\",AVERAGE(EK127:EK131))","v":0.47690833333333327},8.9030083333333329E-2,2.9250000000000001E-4,1.9227083333333332E-2,0.28555275000000002,0.20668366666666671,0.18888875000000002,0.35683425000000002,1.0571864999999998,1.5094916666666663E-2,8.526920289855073E-4,2.1153985507246374E-4,5.4515942028985492E-4,2.5358289855072456E-2,1.2452971014492754E-3,7.2506449275362315E-3,1.267521739130435E-3,1.2613405797101451E-4,0.47024816666666663,1.5961000000000003E-2,1.9582971014492755E-3,3.0221355072463769E-2,5.6543478260869571E-5,6.4460869565217396E-4,5.2957666666666667E-2,2.1644807971014497E-2,2.6688768115942037E-4,3.0487303333333329,1.1058289311594203,1.9892717391304347E-3,1.6663405797101449E-4,4.3276811594202894E-3,2.6696739130434782E-4,61.454813250000008]
["DOSO1","2013-17",null,null,null,null,null,null,null,7.2409989311594201,null,null,21.206995583333335,11.206995583333333,5.8837891449275368,1.4053920797101449,2.1463816557971014,0.7827886956521739,9.5975500000000019E-2,0.79686210869565222,9.5807010869565223E-2,10,null,17.99342725,null,null,63.427365916666666,53.427365916666666,36.826286083333329,6.467788416666667,5.9818508333333336,2.1127616666666666,0.24868141666666665,1.6589990833333332,0.13099825000000001,10,{"$f":"J158","v":7.2409989311594201},{"$f":"M158/M158","v":1},{"$f":"O158/M158","v":0.27744567219845279},{"$f":"P158/M158","v":6.6270211364340942E-2},{"$f":"Q158/M158","v":0.10121102007886264},{"$f":"R158/M158","v":3.691181490448231E-2},{"$f":"S158/M158","v":4.5256528499222001E-3},{"$f":"T158/M158","v":3.7575436160410647E-2},{"$f":"U158/M158","v":4.5177078711168472E-3},{"$f":"V158/M158","v":0.47154251344584808},{"$f":"X158","v":17.99342725},{"$f":"AA158/AA158","v":1},{"$f":"AC158/AA158","v":0.58060563529813192},{"$f":"AD158/AA158","v":0.1019715752529326},{"$f":"AE158/AA158","v":9.4310251527590178E-2},{"$f":"AF158/AA158","v":3.3309938638197506E-2},{"$f":"AG158/AA158","v":3.9207274820996655E-3},{"$f":"AH158/AA158","v":2.6155888067510017E-2},{"$f":"AI158/AA158","v":2.0653269784545458E-3},{"$f":"AJ158/AA158","v":0.15766065412740596},{"$f":"J158","v":7.2409989311594201},{"$f":"BE158","v":7.2409989311594201},{"$f":"BE158*AM158","v":2.0089838158438034},{"$f":"BE158*AN158","v":0.47986252965690163},{"$f":"BE158*AO158","v":0.73286888821259899},{"$f":"BE158*AP158","v":0.26727841227051075},{"$f":"BE158*AQ158","v":3.2770247449085237E-2},{"$f":"BE158*AR158","v":0.27208369307538249},{"$f":"BE158*AS158","v":3.271271786604759E-2},{"$f":"BE158*AT158","v":3.4144388358576125},{"$f":"X158","v":17.99342725},{"$f":"BO158","v":17.99342725},{"$f":"BO158*AW158","v":10.447085259676969},{"$f":"BO158*AX158","v":1.8348181208815431},{"$f":"BO158*AY158","v":1.6969646497908952},{"$f":"BO158*AZ158","v":0.59935995758837091},{"$f":"BO158*BA158","v":7.054732471623601E-2},{"$f":"BO158*BB158","v":0.4706340691018846},{"$f":"BO158*BC158","v":3.7162310734284186E-2},{"$f":"BO158*BD158","v":2.8368555102288915},3.1062694743082999,1.8359724223602485,3.0855929258422732,1.8380899275362317,0.75211351449275354,0.16951316666666666,0.72701393115942037,7.8278869565217402E-2,9.5975500000000019E-2,1.3281032826086956,1.5195463768115942E-2,8.8567605401844527E-3,4.5751976284584977E-5,7.1456258234519113E-4,8.321509881422922E-3,0.14866630797101449,4.5605423913043473E-2,8.9565217391304354E-5,-4.5044818840579712E-3,6.7310793478260883E-2,0.13568684782608695,8.9072771739130419E-2,0.11608242753623188,0.40364835869565219,1.038086231884058E-2,1.1358178524374176E-3,5.3989130434782618E-5,1.7281159420289856E-4,7.1644038208168639E-3,3.2854446640316214E-4,3.5887592226613958E-3,3.3718675889328058E-4,3.7642951251646907E-5,0.13140557608695652,9.2495760869565208E-3,3.2979413702239788E-4,1.3121633069828723E-2,2.1986166007905135E-5,1.3117852437417654E-4,1.6556186100131754E-2,1.2123623188405794E-2,7.3960803689064575E-5,0.50978138405797102,0.1823706258234519,5.6267292490118576E-4,5.5570158102766784E-5,1.3048369565217392E-3,3.1564295125164688E-4,195.5513218369565,10.356769942028986,7.5079323043478254,9.5043558293807653,7.0176764166666672,3.9142351666666664,0.74141633333333334,1.8818662499999999,0.21127616666666663,0.24868141666666665,2.7649988333333333,2.0201333333333335E-2,2.6463289855072465E-2,1.8089492753623187E-4,1.7835760869565217E-3,2.0835586956521737E-2,0.45949175000000003,8.3022000000000012E-2,2.1333333333333333E-4,2.1541999999999999E-2,0.27012333333333338,0.2204764166666667,0.20188858333333334,0.33145091666666665,1.0454812499999999,1.3325750000000001E-2,1.0054420289855072E-3,2.0370652173913045E-4,5.0365942028985505E-4,2.1921123188405795E-2,1.1561304347826086E-3,7.7101449275362322E-3,1.1304384057971015E-3,1.0971739130434782E-4,0.57474158333333336,1.3695416666666668E-2,1.4666304347826088E-3,2.889710507246377E-2,5.7876811594202901E-5,5.7402536231884065E-4,4.0072249999999997E-2,1.9758807971014498E-2,2.0005434782608696E-4,2.6073578333333329,0.94821659782608703,1.6024384057971013E-3,1.433840579710145E-4,4.26418115942029E-3,2.4188405797101448E-4,67.514636749999994]
[{"$f":"A143","v":"DOSO1"},"2014-18",null,null,null,null,null,null,null,6.6756753659420296,null,null,19.972418800724636,9.9724188007246379,4.9467779275362327,1.3161008623188404,2.0179556557971017,0.72423826086956522,8.6858978260869552E-2,0.78119923913043476,9.9288576086956515E-2,10,null,17.648492749999999,null,null,60.798531916666661,50.798531916666668,33.151099333333335,7.1582999999999997,6.1185245833333326,2.2201908333333336,0.26002274999999997,1.7632247499999998,0.12716908333333332,10,6.6756753659420296,1,0.24768046258657236,6.5895917537593884E-2,0.10103711903557153,3.626192040611969E-2,4.3489463708681168E-3,3.9113902373311513E-2,4.9712845037754834E-3,0.50069048219823942,17.648492749999999,1,0.54526151024126368,0.11773804028379342,0.10063605798442093,3.6517178348589599E-2,4.2767932350142833E-3,2.9001107336222506E-2,2.0916472704906306E-3,0.16447765570567513,6.6756753659420296,6.6756753659420296,1.6534343627143075,0.43989975342186288,0.67449100659151739,0.24207280877688381,2.9032154155807278E-2,0.26111171453937715,3.3186681498943341E-2,3.3424471179724233,17.648492749999999,17.648492749999999,9.6230438103469922,2.0778989503477359,1.7760747397266323,0.64447315733554045,7.5478954401398624E-2,0.51182583256529468,3.6914421688811185E-2,2.9027827142586036,2.8909998221343871,1.6468075527950312,2.8746915345379258,1.654507492753623,0.63472734057971014,0.1591868188405797,0.68551497463768107,7.2423826086956536E-2,8.6858978260869552E-2,1.3019985000000001,1.5795898550724635E-2,7.9258909749670599E-3,4.6882411067193674E-5,6.6473649538866929E-4,7.7464664031620546E-3,0.13447752536231883,4.5221250000000004E-2,7.2173913043478268E-5,-6.0710905797101448E-3,6.0663749999999995E-2,0.13473006521739131,8.3923467391304352E-2,0.10734712318840581,0.38059331521739131,1.0729731884057972E-2,1.314078722002635E-3,5.5119565217391308E-5,1.5968115942028988E-4,6.3706646903820812E-3,2.6297924901185773E-4,3.1832809617918316E-3,3.0631719367588936E-4,3.5816864295125165E-5,0.12340070652173914,9.9736630434782599E-3,2.8475065876152836E-4,1.224702437417655E-2,2.7899209486166002E-5,8.7526350461133084E-5,1.4916273056653492E-2,1.1465275362318839E-2,7.3612977602108043E-5,0.42350642753623191,0.15391340843214757,4.9710770750988141E-4,4.5831027667984185E-5,1.1235326086956523E-3,2.5929512516469045E-4,205.93800418478259,10.21095227536232,7.1873656376811592,9.4480342460474311,6.8152344999999999,3.5740592499999999,0.81730091666666671,1.9221359166666665,0.22201908333333331,0.26002274999999997,2.9387086666666664,1.9696416666666668E-2,2.7504539855072462E-2,1.7547826086956522E-4,1.8340760869565219E-3,2.137358695652174E-2,0.47051008333333338,8.0902583333333347E-2,6.1500000000000004E-5,2.4039583333333329E-2,0.26711841666666669,0.23758650000000001,0.20965366666666668,0.32945508333333329,1.0678532499999998,1.2916833333333332E-2,1.1578586956521738E-3,2.0803985507246377E-4,5.0824275362318838E-4,2.2062289855072463E-2,1.0893804347826086E-3,8.0348949275362309E-3,1.1469384057971016E-3,1.0655072463768116E-4,0.63356691666666687,1.2226333333333336E-2,1.4787971014492754E-3,3.0567855072463769E-2,6.6543478260869577E-5,5.1719202898550722E-4,4.3142250000000007E-2,2.0617641304347831E-2,2.193876811594203E-4,2.3393044166666668,0.86574976449275365,1.6991884057971011E-3,1.3430072463768114E-4,4.1500144927536222E-3,1.9113405797101452E-4,69.52131700000001]
[{"$f":"A159","v":"DOSO1"},"2015-19",null,null,null,null,null,null,null,{"$f":"IF(J134=\"\",\"\",J134)","v":6.1798622934782612},null,null,18.9224608752588,8.9224608752587979,4.2627515797101454,1.1911772225672876,1.8963253121118011,0.7116944513457556,7.3004336438923387E-2,0.69845670496894408,8.9051880434782599E-2,10,null,17.033962090909093,null,null,56.918198939393939,46.918198939393946,29.45676551515151,6.7924077045454538,6.2764758863636363,2.2319476515151515,0.26191006818181817,1.7796357954545452,0.11905562878787879,10,{"$f":"J160","v":6.1798622934782612},{"$f":"M160/M160","v":1},{"$f":"O160/M160","v":0.22527469380495385},{"$f":"P160/M160","v":6.2950439185463294E-2},{"$f":"Q160/M160","v":0.10021557579708117},{"$f":"R160/M160","v":3.7611093823229892E-2},{"$f":"S160/M160","v":3.8580783398197891E-3},{"$f":"T160/M160","v":3.6911515345352322E-2},{"$f":"U160/M160","v":4.7061468918780181E-3},{"$f":"V160/M160","v":0.52847248917158784},{"$f":"X160","v":17.033962090909093},{"$f":"AA160/AA160","v":1},{"$f":"AC160/AA160","v":0.51752806771902338},{"$f":"AD160/AA160","v":0.11933630773837306},{"$f":"AE160/AA160","v":0.11027186389096358},{"$f":"AF160/AA160","v":3.9213251527718089E-2},{"$f":"AG160/AA160","v":4.6015171432374031E-3},{"$f":"AH160/AA160","v":3.1266551447797705E-2},{"$f":"AI160/AA160","v":2.0916970495613945E-3},{"$f":"AJ160/AA160","v":0.17569073137131277},{"$f":"J160","v":6.1798622934782612},{"$f":"BE160","v":6.1798622934782612},{"$f":"BE160*AM160","v":1.3921665859200951},{"$f":"BE160*AN160","v":0.389025045480141},{"$f":"BE160*AO160","v":0.61931845808759456},{"$f":"BE160*AP160","v":0.23243138053465154},{"$f":"BE160*AQ160","v":2.3842392857537524E-2},{"$f":"BE160*AR160","v":0.22810808187788703},{"$f":"BE160*AS160","v":2.908333972468688E-2},{"$f":"BE160*AT160","v":3.2658872089720945},{"$f":"X160","v":17.033962090909093},{"$f":"BO160","v":17.033962090909093},{"$f":"BO160*AW160","v":8.8155534865072784},{"$f":"BO160*AX160","v":2.0327701420845079},{"$f":"BO160*AY160","v":1.8783667492125609},{"$f":"BO160*AZ160","v":0.66795703998443301},{"$f":"BO160*BA160","v":7.8382068578574229E-2},{"$f":"BO160*BB160","v":0.53259325207524488},{"$f":"BO160*BC160","v":3.5629888247895189E-2},{"$f":"BO160*BD160","v":2.9927092579030345},2.5806498511198948,1.4743619006211179,2.5891969838132884,1.5051256004140785,0.55521598240165626,0.14527658695652174,0.6462755957556936,7.1169445134575571E-2,7.3004336438923387E-2,1.1640941811594203,1.4183902691511385E-2,6.4900027762092973E-3,4.1056324110671937E-5,5.7768059476755119E-4,6.7191496329757185E-3,0.12609841149068321,4.5296608178053831E-2,0,-5.4636702898550734E-3,5.3636379399585918E-2,0.13141645445134575,7.8978953933747403E-2,0.1002255745341615,0.35879369202898548,9.7558395445134574E-3,1.2227039808018069E-3,5.4303830227743269E-5,1.5060869565217393E-4,5.265323075475249E-3,2.2339332768680592E-4,2.3938896574440048E-3,2.6749317711274227E-4,3.0868624129493689E-5,0.11261760921325052,6.4066112836438909E-3,2.6352912667043101E-4,1.1145744871070958E-2,2.0371259175607003E-5,7.3907302842085443E-5,1.2358310323734236E-2,1.063029399585921E-2,7.0929747788443456E-5,0.36720432815734994,0.13463798400150573,4.2485511951816302E-4,3.6352766798418971E-5,9.8065062111801229E-4,1.8061603613777529E-4,215.33226844565215,9.6840428359683806,6.6331042134387364,9.1024221021080383,6.4162033863636365,3.1785409469696968,0.76803558333333333,1.96620328030303,0.22319476515151515,0.26191006818181817,2.9660606515151513,1.8318234848484848E-2,2.6134509552042162E-2,1.4561462450592887E-4,1.6943563899868251E-3,{"$f":"IF(COUNT(EJ130:EJ134)<3,\"\",AVERAGE(EJ130:EJ134))","v":2.2082806653491435E-2},0.46507865909090906,8.3610886363636366E-2,1.1701515151515152E-4,2.8920159090909087E-2,0.27224526515151515,0.25185759090909093,0.21370043939393937,0.32561179545454544,1.0923352499999999,1.2039181818181817E-2,1.1349799077733859E-3,2.0500197628458495E-4,5.056366930171278E-4,2.1913289855072463E-2,1.0374183135704873E-3,7.8272737154150181E-3,1.0972035573122529E-3,1.0169466403162053E-4,0.59537668939393951,9.6997272727272731E-3,1.4552213438735176E-3,2.9907620223978925E-2,7.3573781291172595E-5,4.7297990777338597E-4,4.4783825757575765E-2,2.1965270092226617E-2,2.2395586297760208E-4,2.0707578712121211,0.76986656752305671,1.708786890645586E-3,1.2288405797101452E-4,4.0611281291172592E-3,1.8877042160737818E-4,73.599582439393942]
[{"$f":"A160","v":"DOSO1"},"2016-20",null,null,null,null,null,null,null,6.1661545905797102,null,null,18.882249839026915,8.8822498390269153,4.1753000760869572,1.2446896428571428,1.8560876454451347,0.75622387163561067,7.5270564699792958E-2,0.67699836076604547,9.7680634057971005E-2,10,null,16.023631527575759,null,null,51.393665216060604,41.393665216060604,24.211736405151516,7.4094682878787896,5.6820544930303027,2.1202564848484848,0.25704674484848483,1.5972470487878789,0.11585506545454545,10,{"$f":"J161","v":6.1661545905797102},{"$f":"M161/M161","v":1},{"$f":"O161/M161","v":0.2211230182675164},{"$f":"P161/M161","v":6.5918503010406471E-2},{"$f":"Q161/M161","v":9.8298013280645538E-2},{"$f":"R161/M161","v":4.0049457987395329E-2},{"$f":"S161/M161","v":3.9863133546840079E-3},{"$f":"T161/M161","v":3.5853691511208929E-2},{"$f":"U161/M161","v":5.1731459381539942E-3},{"$f":"V161/M161","v":0.52959790730718048},{"$f":"X161","v":16.023631527575759},{"$f":"AA161/AA161","v":1},{"$f":"AC161/AA161","v":0.47110351642297948},{"$f":"AD161/AA161","v":0.14417084784144407},{"$f":"AE161/AA161","v":0.11055943313524663},{"$f":"AF161/AA161","v":4.125521065553233E-2},{"$f":"AG161/AA161","v":5.0015258450210182E-3},{"$f":"AH161/AA161","v":3.1078675593052208E-2},{"$f":"AI161/AA161","v":2.2542674270746611E-3},{"$f":"AJ161/AA161","v":0.19457650973052187},{"$f":"J161","v":6.1661545905797102},{"$f":"BE161","v":6.1661545905797102},{"$f":"BE161*AM161","v":1.3634787141730873},{"$f":"BE161*AN161","v":0.4064636799417603},{"$f":"BE161*AO161","v":0.60612074583531783},{"$f":"BE161*AP161","v":0.24695114921920694},{"$f":"BE161*AQ161","v":2.4580224391474E-2},{"$f":"BE161*AR161","v":0.22107940450106972},{"$f":"BE161*AS161","v":3.1898417574287033E-2},{"$f":"BE161*AT161","v":3.2655825673035785},{"$f":"X161","v":16.023631527575759},{"$f":"BO161","v":16.023631527575759},{"$f":"BO161*AW161","v":7.5487891585070583},{"$f":"BO161*AX161","v":2.3101405428294908},{"$f":"BO161*AY161","v":1.771563618456842},{"$f":"BO161*AZ161","v":0.6610582941367672},{"$f":"BO161*BA161","v":8.0142607216263775E-2},{"$f":"BO161*BB161","v":0.49799324606813061},{"$f":"BO161*BC161","v":3.6121550616060628E-2},{"$f":"BO161*BD161","v":3.1178222958436419},{"$f":"IF(COUNT(BY131:BY135)<3,\"\",AVERAGE(BY131:BY135))","v":2.5072334361001318},1.4469459404761904,2.5360701929041971,1.498107238095238,0.54615026863354044,0.15268381159420288,0.63268883850931679,7.5622387163561081E-2,7.5270564699792958E-2,1.1283305543478259,1.5691699792960662E-2,6.4408650950498773E-3,3.0940382081686424E-5,5.1790885563711658E-4,7.0084141257293429E-3,0.12657261438923392,4.8747068322981361E-2,0,-5.5324239130434784E-3,5.5746959109730841E-2,0.12400322981366459,7.7531385093167704E-2,9.9744545548654251E-2,0.35149369565217387,9.2678850931677027E-3,1.5463054300771692E-3,6.1883540372670794E-5,1.5288405797101449E-4,5.2987143798230753E-3,2.5264332768680595E-4,1.9211867588932803E-3,2.6704390175042348E-4,3.5169348767174864E-5,0.11961864026915114,4.5421019668737067E-3,2.5219217014869189E-4,1.1203397044984001E-2,1.8150244682853379E-5,7.04797666102014E-5,1.3098708874458876E-2,1.1905232401656312E-2,6.6201486918878236E-5,0.36744051035196684,0.13244024124788253,4.1364859777903257E-4,3.6439723320158104E-5,1.0034332298136646E-3,1.3196748541313759E-4,215.40825310869567,8.4204565026350444,5.7638517890909098,8.0698834818181826,5.7923123863636361,2.6650280103030299,0.84435356666666672,1.7960817169696965,0.21202564848484848,0.25704674484848483,2.662079861515152,1.7775534848484851E-2,2.5498593030303031E-2,1.2341636363636364E-4,1.494210303030303E-3,1.9966799696969694E-2,0.42523626242424245,8.4255276363636375E-2,1.1701515151515152E-4,2.7229502424242418E-2,0.24530756848484853,0.22638702424242424,0.20131638606060606,0.29758290545454547,0.99782338666666648,1.1460098484848484E-2,9.5533121212121211E-4,1.6924545454545455E-4,4.6245060606060604E-4,2.0666333333333335E-2,9.4404787878787867E-4,7.2026754545454538E-3,9.6148181818181823E-4,8.6317272727272725E-5,0.70542406439393945,6.7386439393939384E-3,1.3168909090909091E-3,2.8622938484848488E-2,6.7890303030303028E-5,4.0557121212121206E-4,4.6255425757575762E-2,2.3868998787878785E-2,2.0537151515151512E-4,1.7090955795454543,0.64606741969696968,1.6575451515151516E-3,1.084666666666667E-4,3.7772603030303024E-3,1.5947303030303036E-4,81.411387752727279]
["DOSO1","2017-21",null,null,null,null,null,null,null,6.1007241811594204,null,null,18.685729560041409,8.6857295600414091,3.9844011920289852,1.2876399979296067,1.7883518157349898,0.78338213250517585,8.3028716873706013E-2,0.65925564337474118,9.9671188405797112E-2,10,null,15.770721860909092,null,null,50.053691882727264,40.053691882727271,22.638793988484849,7.3925412878787879,5.9267247430303023,2.1933664848484851,0.28728191151515148,1.5052932154545453,0.10968981545454545,10,6.1007241811594204,1,0.21323230539253055,6.8910341113100917E-2,9.5706823219752657E-2,4.1924085970954178E-2,4.443429228006124E-3,3.5281236478158694E-2,5.334080646170726E-3,0.53516775825464957,15.770721860909092,1,0.45229019352910388,0.14769222828156331,0.11840734459540478,4.382027383689116E-2,5.7394749659672537E-3,3.0073570177028202E-2,2.191443055020636E-3,0.19978546284716395,6.1007241811594204,6.1007241811594204,1.3008714817125815,0.42040298436063894,0.58388093071869496,0.2557672850560066,2.7108136138567496E-2,0.21524109252350657,3.2541754782348213E-2,3.2649108837610195,15.770721860909092,15.770721860909092,7.1329428425642423,2.3292130532464266,1.8673692979029461,0.69107735055048214,9.0515663315920231E-2,0.47428191062644237,3.4560638894751347E-2,3.1507609664156098,2.4295148985507242,1.394718114389234,2.466769422153209,1.464444701863354,0.51935414544513459,0.15677673188405797,0.61101629865424434,7.8338213250517597E-2,8.3028716873706013E-2,1.0987590978260871,1.5930670807453414E-2,6.7409266892527768E-3,2.2690382081686431E-5,4.9005378317334839E-4,7.1845445605119504E-3,0.12473091511387162,5.0603992236024839E-2,0,-6.7154202898550728E-3,5.4503035196687366E-2,0.11892742546583852,7.5694526397515519E-2,9.7043944099378887E-2,0.33945351086956521,9.4491097308488613E-3,1.50564963297572E-3,5.7763975155279506E-5,2.054202898550725E-4,5.5968955392433654E-3,2.8289332768680596E-4,1.7220599472990775E-3,2.7457651044607566E-4,3.5980942970073415E-5,0.12279149896480331,2.9785258799171844E-3,2.9023202522115564E-4,1.1378926030491248E-2,1.3954592508940339E-5,5.8791360813099958E-5,1.5525060323734236E-2,1.2814609213250516E-2,7.4596414455110099E-5,0.34190495238095231,0.12594421226237529,4.3826816299642399E-4,2.9581027667984189E-5,1.0971180124223605E-3,7.312690570299267E-5,215.97442657608696,8.1267748106060598,5.6415197890909097,7.8198154893939407,5.7544943030303033,2.51931401030303,0.85059106666666673,1.8609393836363637,0.21933664848484846,0.28728191151515148,2.5088232781818181,1.7030534848484848E-2,2.6737593030303031E-2,9.4833030303030299E-5,1.510460303030303E-3,2.1230966363636361E-2,0.44945784575757575,8.9309609696969702E-2,1.1701515151515152E-4,3.1958752424242419E-2,0.24406123515151518,0.23568819090909093,0.20259938606060604,0.31954782212121213,1.0338553866666667,1.0865848484848483E-2,9.6816454545454545E-4,1.5657878787878786E-4,4.5853393939393938E-4,2.2156416666666668E-2,9.2088121212121222E-4,6.973508787878788E-3,9.774818181818184E-4,8.1150606060606059E-5,0.71025906439393949,5.6478939393939396E-3,9.6630757575757553E-4,3.0565688484848485E-2,8.5390303030303033E-5,3.915712121212121E-4,5.4881342424242432E-2,2.7841415454545448E-2,2.2703818181818184E-4,1.6093962462121212,0.61074283636363635,1.8452951515151514E-3,9.2050000000000001E-5,3.6447603030303026E-3,3.1938969696969702E-4,83.400299502727279]
["DOSO1","2018-22",null,null,null,null,null,null,null,""]
["DOSO1","2019-23",null,null,null,null,null,null,null,""]
["DOSO1","2020-24",null,null,null,null,null,null,null,""]
["DOSO1","2021-25",null,null,null,null,null,null,null,""]
["DOSO1","2022-26",null,null,null,null,null,null,null,""]
["DOSO1","2023-27",null,null,null,null,null,null,null,""]
["DOSO1","2024-28",null,null,null,null,null,null,null,""]
[" ",null,null,null,null,null,null,null,null,{"$f":"IF(J144=\"\",\"\",J144)","v":""}]
["GRGU1",2000,null,null,null,null,{"$f":"Tracking!BC24","v":3.7306103697999999},{"$f":"Tracking!BD21","v":9.7754815340000007}]
["GRGU1",2001,null,null,null,null,{"$f":"G171","v":3.7306103697999999},{"$f":"H171","v":9.7754815340000007},{"$f":"Tracking!AY25","v":8.2614304545454544},null,null,null,22.930351363636365,11.930351363636362,6.4642527272727284,1.1260695454545455,2.1295340909090905,0.86890909090909085,0.16172999999999996,1.1306009090909088,4.925545454545454E-2,11,{"$f":"Tracking!AX25","v":22.465265217391305},null,null,null,108.16726260869565,97.167262608695651,78.294413478260878,3.0569991304347828,9.186655217391305,3.7370869565217393,0.45233434782608684,2.4170404347826091,2.2734782608695648E-2,11,{"$f":"I172","v":8.2614304545454544},{"$f":"M172/M172","v":1},{"$f":"O172/M172","v":0.28190814108169021},{"$f":"P172/M172","v":4.9108255150433509E-2},{"$f":"Q172/M172","v":9.2869666807032417E-2},{"$f":"R172/M172","v":3.7893404995399803E-2},{"$f":"S172/M172","v":7.0530973309234244E-3},{"$f":"T172/M172","v":4.9305869376421743E-2},{"$f":"U172/M172","v":2.1480462189325763E-3},{"$f":"V172/M172","v":0.47971353886203977},{"$f":"W172","v":22.465265217391305},{"$f":"AA172/AA172","v":1},{"$f":"AC172/AA172","v":0.7238272615023793},{"$f":"AD172/AA172","v":2.8261777701574453E-2},{"$f":"AE172/AA172","v":8.4930088788738395E-2},{"$f":"AF172/AA172","v":3.4549149774095435E-2},{"$f":"AG172/AA172","v":4.1818045212297286E-3},{"$f":"AH172/AA172","v":2.2345397086791962E-2},{"$f":"AI172/AA172","v":2.1018173207304575E-4},{"$f":"AJ172/AA172","v":0.10169435497127668},{"$f":"I172","v":8.2614304545454544},{"$f":"BE172","v":8.2614304545454544},{"$f":"BE172*AM172","v":2.3289645021165719},{"$f":"BE172*AN172","v":0.40570443466938005},{"$f":"BE172*AO172","v":0.76723629366310675},{"$f":"BE172*AP172","v":0.31305373005542081},{"$f":"BE172*AQ172","v":5.8268673088564038E-2},{"$f":"BE172*AR172","v":0.4073370108542107},{"$f":"BE172*AS172","v":1.7745934450860798E-2},{"$f":"BE172*AT172","v":3.9631200394126296},{"$f":"W172","v":22.465265217391305},{"$f":"BO172","v":22.465265217391305},{"$f":"BO172*AW172","v":16.260971401229003},{"$f":"BO172*AX172","v":0.63490833158082571},{"$f":"BO172*AY172","v":1.9079769695755999},{"$f":"BO172*AZ172","v":0.77615581271042888},{"$f":"BO172*BA172","v":9.3945347656711919E-2},{"$f":"BO172*BB172","v":0.50199527194270444},{"$f":"BO172*BC172","v":4.7217883548716531E-3},{"$f":"BO172*BD172","v":2.2845906555412667},2.9358277777777779,1.8051500000000003,2.9299255555555552,1.9440150000000003,0.8270050000000001,0.13679318181818184,0.72380454545454542,8.6890909090909102E-2,0.16172999999999996,1.8843336363636356,7.7931818181818206E-3,4.5199999999999997E-3,1.468181818181818E-4,8.8045454545454549E-4,8.7554545454545454E-3,0.12863181818181818,4.5772727272727291E-2,2.190909090909091E-3,2.5050000000000003E-2,5.6722727272727272E-2,0.12508636363636363,0.10554999999999999,8.9704545454545453E-2,0.40211363636363634,-2.3236363636363631E-2,2.3499999999999999E-4,1.0204545454545455E-3,2.6272727272727277E-4,1.0574090909090908E-2,7.8363636363636374E-4,3.849545454545454E-3,7.3136363636363622E-4,3.6590909090909089E-4,0.10604090909090909,4.9136363636363639E-3,0,2.0193181818181815E-2,1.6090909090909092E-4,1.1272727272727275E-4,4.1363181818181813E-2,1.9000909090909093E-2,7.4545454545454538E-5,0.52890000000000015,0.20048590909090908,2.4650000000000002E-3,1.5013636363636362E-3,2.0440909090909086E-3,2.090909090909091E-5,179.82089227272729,13.712666666666667,12.346765217391306,13.181673333333336,11.412666521739128,7.5028669565217401,0.35015565217391298,2.7300756521739129,0.37370869565217396,0.45233434782608684,4.0283995652173914,3.5247826086956522E-3,6.7556521739130428E-3,2.8869565217391307E-4,1.9691304347826087E-3,2.5117391304347831E-2,0.54028695652173919,8.287391304347827E-2,2.0782608695652173E-3,0.10012173913043478,0.30632608695652169,0.40701739130434783,0.45171304347826086,0.25153043478260873,1.516708695652174,-0.2679086956521739,0,8.713043478260871E-4,6.6086956521739135E-4,2.555739130434782E-2,1.9660869565217391E-3,6.0539130434782611E-3,1.2278260869565216E-3,1.3443478260869567E-3,0.27143913043478263,1.7443478260869564E-2,0,4.2832608695652176E-2,2.4304347826086957E-4,8.7391304347826074E-4,0.12233130434782608,3.9751739130434782E-2,1.926086956521739E-4,5.8038000000000007,1.8188769565217389,1.2443043478260868E-2,3.902608695652174E-3,6.3404347826086947E-3,2.4347826086956523E-5,47.324003478260863]
["GRGU1",2002,null,null,null,null,{"$f":"G171","v":3.7306103697999999},{"$f":"H171","v":9.7754815340000007},{"$f":"Tracking!AY26","v":7.7704700000000013},null,null,null,21.977677391304347,10.977677391304347,5.96299347826087,1.031421304347826,2.0080521739130428,0.83556521739130429,6.0718695652173915E-2,0.68542956521739129,0.39349521739130433,11,{"$f":"Tracking!AX26","v":23.428953750000005},null,null,null,130.87189499999997,119.87189499999998,100.17928208333332,2.4723324999999998,10.727685833333332,3.7306250000000003,0.60033250000000005,2.0905475,7.109041666666667E-2,11,7.7704700000000013,1,0.27132045721174242,4.6930405155365347E-2,9.1367806441073049E-2,3.8018813476709906E-2,2.7627439683957588E-3,3.1187534197248123E-2,1.7904313107580422E-2,0.50050784731020947,23.428953750000005,{"$f":"AA173/AA173","v":1},{"$f":"AC173/AA173","v":0.76547590361806361},{"$f":"AD173/AA173","v":1.8891240934503169E-2},{"$f":"AE173/AA173","v":8.1970890948995082E-2},{"$f":"AF173/AA173","v":2.850592940524015E-2},{"$f":"AG173/AA173","v":4.5871766432357399E-3},{"$f":"AH173/AA173","v":1.5973998848263032E-2},{"$f":"AI173/AA173","v":5.4320613808386202E-4},{"$f":"AJ173/AA173","v":8.4051659831165457E-2},7.7704700000000013,{"$f":"BE173","v":7.7704700000000013},2.1082874731501287,0.36467130534761183,0.70997079891616499,0.29542404955637008,2.1467819124100194E-2,0.24234179885369067,0.13912492787306047,3.8891812122885643,23.428953750000005,{"$f":"BO173","v":23.428953750000005},17.934299542607075,0.44260201013458161,1.9204922128902997,0.66786410163613663,0.10747274941745043,0.37425408021850792,1.272675148588292E-2,1.9692424507951087,2.7160826086956522,1.5737000000000001,2.9161773913043478,1.7864939130434783,0.76380565217391305,0.12617869565217391,0.68515043478260884,8.3556521739130432E-2,6.0718695652173915E-2,1.1423826086956523,6.7081304347826096E-2,2.0513043478260873E-3,8.9999999999999992E-5,6.3608695652173921E-4,4.8460869565217389E-3,0.1100304347826087,5.0930434782608704E-2,1.9869565217391304E-3,2.6760869565217397E-2,5.3482608695652176E-2,0.11196521739130434,0.1090391304347826,7.9391304347826097E-2,0.38063913043478265,4.5995652173913049E-2,2.8260869565217389E-4,4.0869565217391301E-5,2.3608695652173914E-4,4.7213043478260882E-3,7.2173913043478265E-4,8.3917391304347815E-3,2.7217391304347824E-4,7.7391304347826094E-5,9.7813043478260864E-2,5.5043478260869564E-3,3.9739130434782611E-4,1.2701739130434781E-2,1.0652173913043477E-4,8.0434782608695659E-5,1.2322173913043478E-2,3.9499130434782613E-2,7.3478260869565211E-5,0.53483478260869577,0.18516521739130434,3.3782608695652174E-4,2.1521739130434781E-4,1.5017391304347823E-3,3.6086956521739127E-5,190.97900434782608,16.745345833333328,13.261100000000001,16.060927500000005,13.228040000000002,8.9639591666666689,0.28943250000000004,2.9886000000000013,0.37306250000000002,0.60033250000000005,3.4842458333333326,1.2652916666666666E-2,3.8129166666666665E-2,2.9833333333333334E-4,2.5962499999999996E-3,2.0070000000000001E-2,0.54761249999999995,0.10627083333333331,6.0083333333333334E-3,0.15941666666666665,0.3732625,0.35078749999999997,0.49003749999999996,0.28682916666666664,1.660333333333333,-0.1727208333333333,4.0416666666666669E-5,7.5833333333333338E-5,6.1749999999999988E-4,2.5528750000000003E-2,1.8666666666666664E-3,3.7614166666666664E-2,9.6041666666666682E-4,4.3375000000000011E-4,0.22436666666666669,2.4379166666666671E-2,0,3.6620416666666669E-2,2.0250000000000002E-4,9.0625000000000005E-4,0.16402291666666666,0.21674958333333336,2.8958333333333332E-4,6.2808416666666673,2.1730808333333336,2.3258333333333334E-3,9.0541666666666667E-4,5.0916666666666671E-3,1.3916666666666667E-4,46.789789166666672]
["GRGU1",2003,null,null,null,null,{"$f":"G171","v":3.7306103697999999},{"$f":"H171","v":9.7754815340000007},{"$f":"Tracking!AY27","v":6.9446634782608694},null,null,null,20.255588695652172,9.2555886956521736,4.8104904347826087,0.69380086956521747,1.8575808695652176,0.81660869565217409,6.9111304347826086E-2,0.96180956521739136,4.6189130434782615E-2,11,{"$f":"Tracking!AX27","v":20.651976666666666},null,null,null,88.943347916666667,77.943347916666667,58.134488333333337,2.5495550000000002,10.547783333333333,3.6372500000000003,0.39450583333333333,2.6762774999999999,3.4858333333333325E-3,11,6.9446634782608694,1,0.23748953965555059,3.4252318211523552E-2,9.1707078845056939E-2,4.0315228943578314E-2,3.4119622681053311E-3,4.7483663875137937E-2,2.2803153800559266E-3,0.54306000014510225,20.651976666666666,1,0.65361254883053255,2.8664931776446561E-2,0.11858990672597376,4.0894008210797667E-2,4.4354731699885654E-3,3.0089687005120089E-2,3.9191613706730493E-5,0.12367422924428464,6.9446634782608694,6.9446634782608694,1.6492849325148886,0.23787082332933729,0.6368748011532569,0.27997569806219386,2.3694929752515213E-2,0.3297580663276854,1.5836022938790946E-2,3.7713689495120342,20.651976666666666,20.651976666666666,13.498391107488684,0.59198750219876628,2.4491159866069863,0.84454210337586844,9.1601288412229878E-2,0.6214115139370433,8.0938429180041165E-4,2.5541172966209507,3.0003571428571432,1.3562739130434784,3.1770180952380955,1.4952917391304346,0.61898173913043475,8.4152608695652165E-2,0.63408521739130441,8.1660869565217398E-2,6.9111304347826086E-2,1.6030165217391303,7.2995652173913038E-3,3.0534782608695652E-3,9.1739130434782628E-5,6.3608695652173921E-4,4.7843478260869562E-3,9.9095652173913043E-2,4.7252173913043469E-2,5.2565217391304349E-3,1.0330434782608694E-2,5.2873913043478257E-2,0.12564782608695652,9.306956521739132E-2,7.0347826086956528E-2,0.35226956521739128,3.664782608695652E-2,1.3682608695652174E-3,4.4782608695652177E-5,1.7391304347826088E-4,5.4360869565217391E-3,4.4913043478260863E-4,1.2926956521739131E-2,1.1695652173913044E-4,1.2434782608695654E-4,6.5178260869565213E-2,7.4086956521739137E-3,4.9130434782608697E-4,1.2165652173913041E-2,4.0434782608695649E-5,6.1739130434782617E-5,1.459652173913043E-2,6.1273043478260875E-2,5.6956521739130443E-5,0.43167391304347824,0.15004521739130436,4.4478260869565222E-4,3.2347826086956524E-4,1.4256521739130438E-3,2.1739130434782611E-6,208.92157434782609,14.304579166666668,9.8441166666666682,14.334415833333331,10.115422916666667,5.9713241666666663,0.31410958333333339,3.071190000000001,0.36372500000000008,0.39450583333333333,4.4604625000000002,5.666666666666666E-4,1.1502500000000001E-2,3.0208333333333335E-4,2.3354166666666666E-3,2.0489166666666666E-2,0.49717916666666667,8.7062500000000001E-2,7.0374999999999995E-3,0.12621666666666667,0.34935833333333338,0.52946249999999995,0.47362500000000002,0.22755416666666672,1.7062166666666663,-0.11109166666666666,4.0000000000000003E-5,7.1250000000000011E-5,4.9833333333333338E-4,2.2755416666666667E-2,1.70875E-3,2.1175416666666669E-2,7.7291666666666654E-4,4.2375000000000003E-4,0.24349583333333333,1.4783333333333334E-2,0,4.359958333333333E-2,1.5249999999999999E-4,6.4874999999999991E-4,0.10785041666666666,0.14507375,1.8708333333333329E-4,4.3130083333333342,1.44759375,1.8266666666666672E-3,1.1145833333333335E-3,5.6258333333333325E-3,4.1666666666666665E-5,55.350658750000001]
["GRGU1",2004,{"$f":"J175","v":7.6474146788537558},{"$f":"Tracking!BE28","v":21.880122762681161},{"$f":"Tracking!BJ28","v":7.6474146788537558},{"$f":"Tracking!BK28","v":21.880122762681161},{"$f":"G171","v":3.7306103697999999},{"$f":"H171","v":9.7754815340000007},{"$f":"Tracking!AY28","v":7.6130947826086945},{"$f":"Tracking!BM28","v":7.6474146788537558},null,null,21.61461565217391,10.614615652173914,5.8230613043478243,0.88624391304347816,2.0355691304347827,0.78256521739130425,0.1226673913043478,0.78483695652173913,0.17967434782608696,11,{"$f":"Tracking!AX28","v":20.974295416666667},{"$f":"Tracking!BL28","v":21.880122762681161},null,null,95.72971625000001,84.729716249999996,65.794810416666664,2.8332199999999994,9.8118354166666659,3.3510416666666667,0.52308624999999986,2.1133225000000002,0.30239749999999999,11,7.6130947826086945,1,0.26940387921087849,4.1002066717496469E-2,9.4175587629755211E-2,3.6205372789619647E-2,5.6752057625419957E-3,3.6310474780188999E-2,8.3126320966070959E-3,0.50891490170419318,20.974295416666667,1,0.68729766465453879,2.9596034658673703E-2,0.10249518959236092,3.5005239730527944E-2,5.4641993154346136E-3,2.2075929844824961E-2,3.158867610244274E-3,0.11490684847820176,7.6130947826086945,7.6130947826086945,2.050997267234882,0.31215262020314599,0.71696767483319734,0.27563493468705613,4.3205879381039265E-2,0.27643508610310147,6.3284856044425061E-2,3.8744173829560098,20.974295416666667,20.974295416666667,14.415584257649396,0.62075597409292771,2.1497643852974369,0.73421023923933015,0.11460773065747336,0.46302707416296707,6.6255022439403261E-2,2.4100901853799583,2.7696000000000001,1.5482409090909093,2.9845331818181822,1.7741069565217393,0.74085999999999985,0.10908826086956522,0.69332086956521732,7.8256521739130419E-2,0.1226673913043478,1.308061304347826,2.9912608695652175E-2,1.2529545454545455E-2,6.9545454545454552E-5,8.731818181818182E-4,6.5354545454545448E-3,0.1025434782608696,3.5604347826086964E-2,8.0869565217391297E-4,1.0278260869565216E-2,6.4982608695652172E-2,0.14259130434782605,0.10662608695652173,6.0700000000000018E-2,0.3851782608695653,1.8973913043478261E-2,0,1.490909090909091E-4,2.8318181818181822E-4,6.9454545454545455E-3,8.2318181818181828E-4,4.9079545454545452E-2,3.263636363636363E-4,2.7454545454545456E-4,8.4565217391304362E-2,7.8913043478260874E-3,3.2227272727272725E-4,1.6808636363636362E-2,1.1318181818181818E-4,1.404545454545455E-4,2.4086818181818181E-2,2.6373636363636366E-2,1.3000000000000002E-4,0.54753913043478275,0.18292681818181819,6.8954545454545462E-4,5.6181818181818199E-4,2.2459090909090909E-3,3.0909090909090909E-5,194.07171391304345,14.13071666666667,10.608512500000002,14.879288749999999,10.616976666666666,6.4736674999999986,0.34094750000000001,2.8931925000000001,0.3351041666666667,0.52308624999999986,3.5222041666666666,5.0979166666666666E-2,1.4758333333333333E-2,3.3166666666666658E-4,2.3029166666666667E-3,1.6696666666666669E-2,0.48912916666666656,6.9533333333333336E-2,2.1208333333333335E-3,7.2675000000000003E-2,0.32478750000000006,0.48891666666666672,0.49527083333333333,0.22567916666666663,1.6073291666666669,3.0454166666666668E-2,0,1.1458333333333334E-4,7.1958333333333325E-4,2.2581666666666663E-2,2.0966666666666664E-3,1.4673333333333335E-2,8.1249999999999996E-4,6.2083333333333337E-4,0.26429999999999992,1.8370833333333333E-2,0,4.1204999999999999E-2,2.6499999999999999E-4,8.0749999999999973E-4,0.15939583333333332,6.5877083333333322E-2,2.5791666666666666E-4,5.2435916666666671,1.5693737499999998,1.7208333333333331E-3,1.3845833333333332E-3,6.1712500000000005E-3,2.2916666666666667E-5,54.287216666666666]
["GRGU1",2005,{"$f":"C175","v":7.6474146788537558},{"$f":"Tracking!BE29","v":21.67837874220314},{"$f":"Tracking!BJ29","v":7.5396057339015163},{"$f":"Tracking!BK29","v":21.46845098090278},{"$f":"G175","v":3.7306103697999999},{"$f":"H175","v":9.7754815340000007},{"$f":"Tracking!AY29","v":6.6863486363636353},{"$f":"Tracking!BM29","v":7.4552014703557319},null,null,19.854329090909093,8.8543290909090917,4.9605677272727284,0.79579727272727285,1.5667718181818182,0.74950000000000017,5.0527272727272726E-2,0.60816636363636356,0.12299727272727271,11,{"$f":"Tracking!AX29","v":20.506604347826087},{"$f":"Tracking!BL29","v":21.605419079710146},null,null,84.261342173913022,73.261342173913022,59.098099999999988,1.348344347826087,7.357862608695652,3.2399130434782615,0.22309391304347823,1.8590660869565216,0.13496391304347827,11,6.6863486363636353,1,0.24984816684357644,4.0081801257724328E-2,7.8913359953281539E-2,3.7749953502240551E-2,2.5448995277512635E-3,3.0631423547564294E-2,6.1949850918705043E-3,0.55403534159392387,20.506604347826087,1,0.70136670595660799,1.6001932950974629E-2,8.7321925082907315E-2,3.8450764726618916E-2,2.6476425284446422E-3,2.2063096065090701E-2,1.6017299221856279E-3,0.1305462234068894,6.6863486363636353,6.6863486363636353,1.6705719496725013,0.2680008971825833,0.52764223671449673,0.25240935012249677,1.701608548706212E-2,0.20481237706713346,4.1421830121321397E-2,3.7044734507637935,20.506604347826087,20.506604347826087,14.382649541790238,0.32814530782607787,1.7906761685656911,0.78849461912012142,5.4294157785292153E-2,0.45243918169489361,3.2846041786334934E-2,2.677059752507994,2.2994619047619045,1.2401045454545456,2.512905714285715,1.4234977272727274,0.64316000000000006,9.7320909090909083E-2,0.53746363636363637,7.4949999999999989E-2,5.0527272727272726E-2,1.0136104545454547,2.0075454545454542E-2,3.4840909090909093E-3,3.0909090909090909E-5,5.4000000000000012E-4,4.6736363636363651E-3,0.1342818181818182,4.4545454545454548E-2,1.0681818181818182E-3,-3.2000000000000015E-3,6.4840909090909088E-2,0.10873181818181817,7.5436363636363635E-2,9.7600000000000006E-2,0.34340909090909094,1.4376190476190476E-2,1.5454545454545454E-5,6.1363636363636362E-5,1.8545454545454548E-4,3.9668181818181816E-3,5.0772727272727265E-4,2.1204545454545452E-3,2.2636363636363636E-4,1.8772727272727276E-4,7.2342857142857153E-2,4.2190476190476179E-3,2.8363636363636362E-4,1.1826818181818181E-2,7.2727272727272715E-5,5.9545454545454546E-5,9.4063636363636363E-3,9.632727272727272E-3,9.4999999999999992E-5,0.43779047619047617,0.15591772727272726,4.3363636363636353E-4,4.2136363636363638E-4,1.9781818181818177E-3,1.909090909090909E-5,215.93584136363634,12.194291304347827,9.0958478260869544,11.800339047619048,9.0182147826086982,6.0759126086956528,0.15550478260869563,2.2184139130434781,0.32399130434782614,0.22309391304347823,3.0984434782608692,2.1299565217391306E-2,7.0756521739130445E-3,2.1434782608695653E-4,1.5021739130434782E-3,1.3243478260869567E-2,0.69857826086956532,0.1208608695652174,3.5999999999999999E-3,6.4473913043478243E-2,0.3332347826086956,0.21438260869565215,0.19378260869565217,0.4862260869565217,1.2921,1.552380952380952E-2,0,9.8260869565217383E-5,5.0913043478260868E-4,1.9598695652173918E-2,1.4430434782608695E-3,2.5430434782608697E-3,6.021739130434784E-4,6.0826086956521747E-4,0.11864285714285716,1.2657142857142858E-2,0,3.5236956521739131E-2,1.721739130434783E-4,5.5000000000000003E-4,5.372304347826088E-2,3.021217391304348E-2,1.8217391304347827E-4,4.1555857142857135,1.472948695652174,1.3191304347826087E-3,1.3952173913043475E-3,4.8756521739130431E-3,3.1739130434782606E-5,54.644259565217382]
["GRGU1",2006,{"$f":"C175","v":7.6474146788537558},{"$f":"Tracking!BE30","v":21.476634721725119},{"$f":"Tracking!BJ30","v":7.4317967889492769},{"$f":"Tracking!BK30","v":21.056779199124399},{"$f":"G175","v":3.7306103697999999},{"$f":"H175","v":9.7754815340000007},{"$f":"Tracking!AY30","v":6.4274883333333337},{"$f":"Tracking!BM30","v":7.088413046113307},null,null,19.315538333333333,8.3155383333333344,4.736077083333333,0.41883874999999998,1.5972699999999997,0.66825000000000012,8.1790833333333327E-2,0.74032749999999992,7.2983333333333344E-2,11,{"$f":"Tracking!AX30","v":19.735500833333337},{"$f":"Tracking!BL30","v":21.059466202898552},null,null,84.91829833333334,73.91829833333334,60.001978750000013,1.9603575,6.4616291666666674,2.8348749999999998,0.33735333333333334,2.2354824999999994,8.6621666666666666E-2,11,6.4274883333333337,1,0.24519518957233308,2.1684031931804817E-2,8.2693527482148865E-2,3.4596498863652354E-2,4.2344578712665091E-3,3.8328080078534353E-2,3.7784778282562328E-3,0.56948969322884524,19.735500833333337,1,0.70658479889071424,2.3085218833577267E-2,7.6092306293074369E-2,3.3383558733974472E-2,3.9726812707563475E-3,2.6325097698318995E-2,1.0200589079946824E-3,0.12953627446491262,6.4274883333333337,6.4274883333333337,1.5759892203656258,0.13937386226130294,0.53151168313369124,0.22236859282030544,2.7216928565556991E-2,0.24635328754384531,2.4286122158875607E-2,3.6603883591819821,19.735500833333337,19.735500833333337,13.94480488732836,0.45559835552774658,1.5017197742572248,0.65884125121398562,7.8402854529579638E-2,0.51953898756275607,2.0131373428778146E-2,2.5564632526491788,2.5659624999999999,1.3320833333333333,2.5161370833333341,1.3493612500000001,0.59178875000000009,4.9766666666666674E-2,0.54735750000000005,6.6824999999999996E-2,8.1790833333333327E-2,1.2338791666666666,1.183E-2,6.1158333333333342E-3,2.3333333333333332E-5,6.0083333333333343E-4,5.467500000000001E-3,0.12687916666666668,4.564583333333333E-2,7.8333333333333336E-4,-1.1283333333333334E-2,6.1533333333333329E-2,0.10844583333333334,6.4695833333333327E-2,0.1037375,0.32712916666666669,8.7875000000000019E-3,0,2.3750000000000005E-5,1.5583333333333337E-4,5.3204166666666669E-3,4.6708333333333346E-4,4.1462500000000006E-3,2.2000000000000001E-4,1.3958333333333333E-4,3.8579166666666671E-2,-3.6666666666666666E-3,2.7500000000000002E-4,1.0309166666666664E-2,3.9583333333333331E-5,4.0416666666666669E-5,1.7865416666666665E-2,1.3546250000000001E-2,1.1041666666666665E-4,0.34652916666666661,0.1434641666666667,5.1999999999999995E-4,2.9291666666666664E-4,1.2574999999999999E-3,2.0416666666666667E-5,221.41291666666669,12.689879166666666,8.9640749999999976,11.864172083333337,8.9699487499999986,6.0862775000000013,0.24387375,2.0049750000000004,0.28348749999999995,0.33735333333333334,3.7258041666666664,1.3980833333333333E-2,2.1657916666666666E-2,1.595833333333333E-4,1.7787499999999999E-3,1.5608749999999998E-2,0.63678333333333337,9.3516666666666692E-2,1.575E-3,3.5720833333333334E-2,0.29498750000000001,0.17912916666666664,0.18922499999999995,0.44210416666666669,1.1411666666666667,9.8625000000000015E-3,0,1.3958333333333333E-4,5.9624999999999999E-4,2.0583333333333332E-2,1.633333333333333E-3,2.1520833333333335E-3,7.2916666666666659E-4,3.6791666666666673E-4,0.18904999999999997,6.5708333333333339E-3,0,3.3736250000000002E-2,1.1291666666666667E-4,5.9500000000000004E-4,8.4284166666666674E-2,2.3134166666666667E-2,2.5791666666666666E-4,3.7785500000000005,1.475460833333333,1.7733333333333331E-3,6.4625000000000001E-4,5.2204166666666657E-3,7.1249999999999997E-5,62.36130541666666]
["GRGU1",2007,{"$f":"C175","v":7.6474146788537558},{"$f":"Tracking!BE31","v":21.274890701247099},{"$f":"Tracking!BJ31","v":7.3239878439970374},{"$f":"Tracking!BK31","v":20.645107417346019},{"$f":"G175","v":3.7306103697999999},{"$f":"H175","v":9.7754815340000007},{"$f":"Tracking!AY31","v":6.862025},{"$f":"Tracking!BM31","v":6.9067240461133066},null,null,19.970447272727274,8.9704472727272719,5.2079386363636386,0.64495409090909084,1.4721895454545453,0.68590909090909102,9.80440909090909E-2,0.70000636363636359,0.16140409090909091,11,{"$f":"Tracking!AX31","v":21.062840869565218},{"$f":"Tracking!BL31","v":20.586243626811594},null,null,88.630130434782615,77.630130434782615,58.939062608695643,1.6375952173913044,10.512607826086953,3.44895652173913,0.43354999999999999,2.4657104347826091,0.19264782608695649,11,6.862025,1,0.26078227318803632,3.229542544046448E-2,7.3718406270501871E-2,3.4346205748020761E-2,4.9094589405108231E-3,3.5052112457808107E-2,8.0821470197872374E-3,0.55081390265215524,21.062840869565218,1,0.66500029188228738,1.8476732566655857E-2,0.11861212179781824,3.8914040911594977E-2,4.891677332225325E-3,2.7820227982141711E-2,2.1736155091040287E-3,0.12411129201817224,6.862025,6.862025,1.789494478173135,0.22161201675810327,0.50585754678834061,0.23568452249806215,3.368882998625878E-2,0.24052847198829067,5.5459894903455521E-2,3.7796987703466556,21.062840869565218,21.062840869565218,14.006795326131041,0.38917247784098563,2.4983082466289335,0.81964025131267559,0.10303262123392133,0.58597303494287634,4.5782517579877141E-2,2.6141363938949018,2.7548954545454545,1.5862772727272727,2.675575909090909,1.452472272727273,0.67306409090909092,7.9011818181818169E-2,0.50625818181818183,6.8590909090909091E-2,9.80440909090909E-2,1.1666772727272727,2.7503181818181819E-2,7.5786363636363629E-3,6.7727272727272729E-5,7.7227272727272724E-4,6.1159090909090911E-3,0.13793181818181821,3.9449999999999992E-2,5.5000000000000003E-4,8.8636363636363635E-3,5.4127272727272718E-2,0.10271818181818183,6.2299999999999994E-2,0.10398181818181819,0.33199090909090906,1.7036363636363634E-2,0,1.2E-4,2.1590909090909091E-4,6.7690909090909078E-3,6.5545454545454544E-4,4.1318181818181818E-3,2.7500000000000002E-4,2.2818181818181816E-4,6.1349999999999995E-2,-2.9045454545454539E-3,0,1.0939090909090909E-2,6.9545454545454538E-5,8.2727272727272727E-5,2.1282727272727273E-2,2.0422727272727273E-2,1.1636363636363636E-4,0.45632272727272716,0.16343181818181818,6.6272727272727295E-4,3.8727272727272726E-4,1.8831818181818184E-3,9.3181818181818196E-5,208.75361863636365,14.771182608695655,10.65342608695652,14.307150000000004,10.19507695652174,6.0897547826086962,0.20042652173913045,3.0946852173913046,0.34489565217391299,0.43354999999999999,4.1095173913043483,3.1763478260869567E-2,1.8510434782608696E-2,2.6652173913043484E-4,2.5552173913043472E-3,2.2316086956521739E-2,0.91663913043478262,9.4056521739130441E-2,3.643478260869565E-3,9.6239130434782619E-2,0.43409130434782606,0.30873913043478263,0.29542608695652178,0.6591782608695651,1.7936739130434787,1.8660869565217394E-2,0,9.3043478260869584E-5,6.7869565217391296E-4,2.7765217391304352E-2,1.7834782608695655E-3,6.0826086956521747E-4,9.6260869565217388E-4,4.7304347826086947E-4,0.15556086956521736,1.3095652173913041E-2,0,3.9320000000000001E-2,1.626086956521739E-4,6.3304347826086962E-4,0.11406999999999999,3.6466086956521739E-2,2.5695652173913039E-4,4.3177999999999992,1.4794056521739127,2.1521739130434779E-3,6.778260869565216E-4,5.4682608695652167E-3,4.7826086956521742E-5,52.226827826086968]
["GRGU1",2008,{"$f":"C175","v":7.6474146788537558},{"$f":"Tracking!BE32","v":21.073146680769078},{"$f":"Tracking!BJ32","v":7.2161788990447979},{"$f":"Tracking!BK32","v":20.233435635567638},{"$f":"G175","v":3.7306103697999999},{"$f":"H175","v":9.7754815340000007},{"$f":"Tracking!AY32","v":6.2600099999999994},{"$f":"Tracking!BM32","v":6.769793350461133},null,null,18.786082272727274,7.7860822727272732,4.1777340909090901,0.57287999999999994,1.4414172727272729,0.47090909090909089,8.6800000000000002E-2,0.76009727272727268,0.27624090909090904,11,{"$f":"Tracking!AX32","v":16.095663181818178},{"$f":"Tracking!BL32","v":19.674980929841901},null,null,51.379449999999999,40.379449999999999,30.204443181818181,1.1744463636363638,5.4478018181818184,1.8137727272727275,0.29603909090909092,1.4153072727272729,2.7639545454545458E-2,11,6.2600099999999994,1,0.22238453075307366,3.0494915953374665E-2,7.6727933573454685E-2,2.5066913051516544E-2,4.6204418111173741E-3,4.0460659209969774E-2,1.4704551224708637E-2,0.58553986085588838,16.095663181818178,1,0.58787011503272579,2.2858289912335843E-2,0.10603075389444259,3.530152088573793E-2,5.7618189939575241E-3,2.7546174058446966E-2,5.3794942247426664E-4,0.21409337779987914,6.2600099999999994,6.2600099999999994,1.3921293863595485,0.19089847881728492,0.48031763144916201,0.15691912637162406,2.892401194201287E-2,0.25328413126100285,9.2050637712188299E-2,3.6654853843564696,16.095663181818178,16.095663181818178,9.462159366223462,0.36791933534130988,1.7066353015992042,0.56820138998275749,9.2740297841342773E-2,0.44337393959249988,8.6586527129994054E-3,3.4459748985246041,2.6487714285714286,1.3405818181818181,2.5832471428571431,1.2728886363636365,0.53078000000000014,7.0141363636363641E-2,0.49347000000000008,4.7090909090909093E-2,8.6800000000000002E-2,1.2668290909090909,4.4607272727272725E-2,5.0422727272727277E-3,3.5909090909090908E-5,7.1772727272727277E-4,6.3559090909090918E-3,0.1155409090909091,2.9177272727272722E-2,4.4999999999999993E-4,-7.7227272727272726E-3,5.1818181818181826E-2,9.8409090909090891E-2,5.6754545454545439E-2,9.6804545454545463E-2,0.29606363636363631,2.6895454545454542E-2,1.0777727272727274E-2,3.5454545454545453E-5,1.5909090909090907E-4,5.0854545454545458E-3,6.5863636363636363E-4,1.270909090909091E-3,1.7954545454545453E-4,1.2681818181818183E-4,5.4559090909090918E-2,2.9090909090909059E-4,8.3318181818181809E-4,1.1610909090909094E-2,5.7727272727272723E-5,4.6818181818181812E-5,2.0700909090909089E-2,2.7397727272727272E-2,1.0545454545454546E-4,0.36167272727272726,0.12917181818181819,4.8181818181818189E-4,1.4636363636363634E-4,1.7849999999999999E-3,3.1363636363636365E-5,222.14819909090909,8.3048545454545462,5.9381909090909089,8.0911209090909075,5.8730254545454548,3.5089440909090914,0.14621090909090911,1.7355599999999998,0.18137727272727269,0.29603909090909092,2.3588454545454547,4.8954545454545466E-3,1.4179545454545457E-2,1.7590909090909094E-4,1.7386363636363639E-3,1.4669545454545458E-2,0.50370000000000004,6.3986363636363619E-2,3.7727272727272729E-4,1.1200000000000003E-2,0.23717727272727274,0.19984090909090912,0.15581818181818183,0.38392727272727273,0.98796363636363627,6.5136363636363629E-3,0,5.9545454545454546E-5,4.3363636363636364E-4,1.7346818181818182E-2,1.239545454545455E-3,5.670909090909091E-3,5.390909090909091E-4,5.2090909090909087E-4,0.11380454545454545,6.3636363636363763E-5,0,2.7156363636363635E-2,1.3727272727272728E-4,3.5636363636363638E-4,7.8499545454545461E-2,4.233863636363637E-2,2.1590909090909091E-4,2.4046090909090911,0.85379318181818176,1.5004545454545457E-3,5.7909090909090898E-4,3.6886363636363644E-3,5.3636363636363642E-5,81.836879545454551]
["GRGU1",2009,{"$f":"C175","v":7.6474146788537558},{"$f":"Tracking!BE33","v":20.871402660291057},{"$f":"Tracking!BJ33","v":7.1083699540925585},{"$f":"Tracking!BK33","v":19.821763853789257},{"$f":"G175","v":3.7306103697999999},{"$f":"H175","v":9.7754815340000007},null,{"$f":"Tracking!BM33","v":6.5589679924242414},null,null,null,null,null,null,null,null,null,null,null,null,null,{"$f":"Tracking!BL33","v":19.350152308135705}]
["GRGU1",2010,{"$f":"C175","v":7.6474146788537558},{"$f":"Tracking!BE34","v":20.669658639813036},{"$f":"Tracking!BJ34","v":7.000561009140319},{"$f":"Tracking!BK34","v":19.410092072010876},{"$f":"G175","v":3.7306103697999999},{"$f":"H175","v":9.7754815340000007},null,{"$f":"Tracking!BM34","v":6.516507777777778},null,null,null,null,null,null,null,null,null,null,null,null,null,{"$f":"Tracking!BL34","v":18.964668294905579}]
["GRGU1",2011,{"$f":"C175","v":7.6474146788537558},{"$f":"Tracking!BE35","v":20.467914619335016},{"$f":"Tracking!BJ35","v":6.8927520641880795},{"$f":"Tracking!BK35","v":18.998420290232495},{"$f":"G175","v":3.7306103697999999},{"$f":"H175","v":9.7754815340000007},{"$f":"Tracking!AY35","v":6.3926314285714287},{"$f":"Tracking!BM35","v":6.50488880952381},null,null,19.054405714285718,8.0544057142857159,3.9854928571428565,0.68283809523809524,1.636424761904762,0.53676190476190477,4.7248095238095242E-2,0.85268190476190475,0.31295761904761904,11,{"$f":"Tracking!AX35","v":17.475696363636366},{"$f":"Tracking!BL35","v":18.211400138339922},null,null,60.880812727272726,49.880812727272726,34.710073181818181,2.2661099999999998,8.1632004545454571,2.4865454545454546,0.1652790909090909,1.8617900000000001,0.22781772727272728,11,6.3926314285714287,1,0.20916384992027334,3.5836231550698483E-2,8.5881700350165222E-2,2.816996304216807E-2,2.4796415037322199E-3,4.4749855626440294E-2,1.6424422978092903E-2,0.57729431003733356,17.475696363636366,1,0.57013156735125414,3.722207208618377E-2,0.13408494546736882,4.0842842648707925E-2,2.714797708918412E-3,3.0580899245551227E-2,3.7420283512521503E-3,0.18068089940383367,6.3926314285714287,6.3926314285714287,1.3371074007213368,0.22908782009255815,0.54901005679762005,0.18008019108505921,1.5851434208348707E-2,0.28606933350161623,0.10499528252590744,3.6904297498801171,17.475696363636366,17.475696363636366,9.9634461583546141,0.65048162980353241,2.3432277939224777,0.71375711675659737,4.7442980449753834E-2,0.53442250974220973,6.5394551250601396E-2,3.1575245366901243,2.8289999999999997,1.3881349999999999,2.6987844999999999,1.3158171428571426,0.51631142857142853,8.3463333333333334E-2,0.56179714285714288,5.3676190476190475E-2,4.7248095238095242E-2,1.4211361904761906,5.331857142857143E-2,3.8425E-3,7.9499999999999994E-5,5.5500000000000005E-4,3.967E-3,0.11926666666666666,2.7166666666666662E-2,2.8571428571428567E-5,-5.2190476190476197E-3,4.3261904761904765E-2,0.10320952380952379,7.8071428571428556E-2,9.2785714285714277E-2,0.31210952380952384,3.1161904761904766E-2,4.5055000000000008E-3,4.7999999999999994E-5,1.8249999999999999E-4,4.396999999999999E-3,3.2200000000000007E-4,5.4574999999999997E-3,1.83E-4,4.4999999999999996E-5,6.4700000000000008E-2,9.9571428571428588E-3,6.1000000000000008E-4,1.1425500000000002E-2,9.1500000000000001E-5,2.9500000000000002E-5,6.4219999999999998E-3,2.2474999999999998E-2,7.400000000000001E-5,0.3467904761904762,0.12589500000000001,5.4650000000000011E-4,1.35E-4,1.4419999999999999E-3,-2.3500000000000022E-5,219.3992280952381,10.891870000000001,7.6159454545454564,9.9204635000000003,7.0220163636363644,3.8343763636363635,0.26920500000000003,2.4670145454545458,0.24865454545454543,0.1652790909090909,3.1029831818181823,3.7485909090909084E-2,1.7563636363636365E-2,2.0045454545454544E-4,1.9263636363636366E-3,1.2324090909090911E-2,0.6245954545454544,7.5422727272727266E-2,3.909090909090909E-4,8.1590909090909092E-3,0.32950454545454549,0.30880454545454544,0.27234090909090908,0.45175454545454535,1.3705636363636364,2.1922727272727271E-2,8.5409090909090916E-4,1.8045454545454547E-4,3.6999999999999999E-4,1.7300909090909092E-2,1.4922727272727275E-3,6.4627272727272719E-3,7.9772727272727254E-4,1.8909090909090907E-4,0.20868636363636364,7.9045454545454558E-3,1.2954545454545456E-3,3.2085909090909089E-2,9.090909090909091E-6,3.4363636363636367E-4,2.5059545454545459E-2,2.1155E-2,2.3181818181818183E-4,2.5176909090909088,0.92954590909090884,1.1772727272727273E-3,3.2363636363636356E-4,5.5577272727272715E-3,-1.6272727272727275E-4,73.196521363636379]
["GRGU1",2012,{"$f":"C175","v":7.6474146788537558},{"$f":"Tracking!BE36","v":20.266170598856995},{"$f":"Tracking!BJ36","v":6.78494311923584},{"$f":"Tracking!BK36","v":18.586748508454114},{"$f":"G175","v":3.7306103697999999},{"$f":"H175","v":9.7754815340000007},{"$f":"Tracking!AY36","v":5.8144063636363637},{"$f":"Tracking!BM36","v":6.1556825974025982},null,null,17.960593636363637,6.9605936363636349,3.5132954545454549,0.67475045454545457,1.4011836363636361,0.49490909090909091,6.5595000000000014E-2,0.61345636363636358,0.19740727272727276,11,{"$f":"Tracking!AX36","v":14.858669999999995},{"$f":"Tracking!BL36","v":16.143343181818178},null,null,46.437976521739124,35.437976521739124,22.56501347826087,1.5173969565217396,6.835774782608695,1.9919999999999995,0.23167130434782607,2.1838391304347833,0.11228000000000002,11,5.8144063636363637,1,0.19561132141157717,3.7568382660767487E-2,7.8014327629280109E-2,2.7555274671271494E-2,3.6521621349527179E-3,3.4155684163709302E-2,1.0991132961640821E-2,0.61245191683024447,14.858669999999995,1,0.48591724205936176,3.2675776814077954E-2,0.14720225329819545,4.2895925903823129E-2,4.9888328842100432E-3,4.702700879769077E-2,2.4178486749403929E-3,0.23687509284239686,5.8144063636363637,5.8144063636363637,1.1373637120147924,0.21843784321429249,0.45360700302249846,0.1602175644003889,2.1235154758500852E-2,0.19859502735582513,6.3906913435737789E-2,3.5610443226390625,14.858669999999995,14.858669999999995,7.2200839470701741,0.48551858467403552,2.187229705014297,0.63737640734935941,7.4127421511625213E-2,0.69875880481198371,3.5926015570876553E-2,3.5196488357645355,2.315336363636364,1.2929090909090912,2.1527640909090908,1.1636454545454546,0.45142545454545452,8.1586363636363624E-2,0.48375818181818181,4.9490909090909099E-2,6.5595000000000014E-2,1.0224272727272727,3.1791363636363638E-2,6.949545454545453E-3,3.5454545454545453E-5,5.1727272727272733E-4,5.437727272727272E-3,9.2181818181818184E-2,2.8140909090909091E-2,1.8181818181818182E-5,-1.3168181818181817E-2,4.0363636363636365E-2,9.90272727272727E-2,7.168181818181818E-2,7.0849999999999996E-2,0.26875454545454541,1.8904545454545455E-2,1.4551818181818181E-2,8.8181818181818183E-5,1.15E-4,5.7990909090909091E-3,4.113636363636363E-4,4.4599999999999996E-3,2.8409090909090913E-4,3.7727272727272731E-5,6.3245454545454535E-2,3.9409090909090913E-3,6.2772727272727275E-4,1.210909090909091E-2,2.6818181818181821E-5,3.4090909090909085E-5,1.0575454545454546E-2,2.3235000000000002E-2,9.4999999999999992E-5,0.30249545454545451,0.10943636363636361,5.2681818181818168E-4,1.8636363636363634E-5,1.2263636363636365E-3,1.6545454545454548E-4,232.71930863636365,10.238261904761904,6.177873913043479,9.0690233333333339,5.3324686956521745,2.6209595652173912,0.17704347826086952,2.0863956521739131,0.19919999999999999,0.23167130434782607,3.639732173913043,1.719695652173913E-2,2.1482173913043478E-2,1.2000000000000002E-4,1.6313043478260872E-3,1.5206956521739128E-2,0.49175652173913048,8.4260869565217403E-2,8.6956521739130438E-4,2.0517391304347824E-2,0.26054782608695648,0.30368260869565217,0.19667391304347828,0.37768695652173923,1.1591086956521739,1.0826086956521741E-2,3.804347826086957E-4,1.7043478260869572E-4,5.3652173913043468E-4,2.099869565217391E-2,1.1578260869565219E-3,5.5726086956521753E-3,8.7173913043478272E-4,1.6173913043478262E-4,0.13724347826086955,9.839130434782609E-3,2.2226086956521739E-3,3.1310000000000004E-2,4.1304347826086953E-5,2.5521739130434778E-4,4.247913043478261E-2,1.7748695652173914E-2,1.9478260869565218E-4,1.6708478260869564,0.63538434782608699,1.5634782608695652E-3,2.1782608695652177E-4,3.9873913043478263E-3,2.4565217391304348E-4,95.586738695652201]
["GRGU1",2013,{"$f":"C175","v":7.6474146788537558},{"$f":"Tracking!BE37","v":20.064426578378974},{"$f":"Tracking!BJ37","v":6.6771341742836006},{"$f":"Tracking!BK37","v":18.175076726675734},{"$f":"G175","v":3.7306103697999999},{"$f":"H175","v":9.7754815340000007},{"$f":"Tracking!AY37","v":5.4116481818181823},{"$f":"Tracking!BM37","v":5.8728953246753255},null,null,17.316838636363638,6.3168386363636335,3.5432945454545459,0.50985681818181827,0.95237454545454525,0.30527272727272731,4.3072272727272723E-2,0.66138272727272718,0.30158454545454538,11,{"$f":"Tracking!AX37","v":13.873528695652176},{"$f":"Tracking!BL37","v":15.402631686429514},null,null,42.495973043478259,31.495973043478255,19.886761304347825,2.9072756521739138,4.9679339130434785,1.6316086956521743,0.22039478260869566,1.7136921739130435,0.16830782608695652,11,5.4116481818181823,1,0.20461555482846505,2.9442834739544763E-2,5.4997021422527638E-2,1.7628663850437744E-2,2.4873057739780075E-3,3.8193040956326134E-2,1.7415681452459104E-2,0.63521987072750652,13.873528695652176,1,0.46796813627496858,6.8412968193467108E-2,0.11690363950392928,3.839443078483816E-2,5.1862509980229541E-3,4.0325989762835641E-2,3.9605594138239471E-3,0.25884805576155973,5.4116481818181823,5.4116481818181823,1.1073073952591814,0.15933426308583062,0.29762453098663733,9.5400126674105329E-2,1.3460423769373951E-2,0.20668730064940968,9.4247540867324953E-2,3.4375864584772913,13.873528695652176,13.873528695652176,6.4923693672616443,0.94912927738680553,1.6218659972839402,0.53266623724668349,7.1951602043926186E-2,0.5594637761552762,5.4946934678521894E-2,3.5911359294217733,2.2131954545454549,1.1108909090909089,2.0838572727272724,0.99052272727272728,0.47429318181818175,6.3334090909090895E-2,0.33061090909090912,3.0527272727272726E-2,4.3072272727272723E-2,1.1023045454545457,4.8685909090909085E-2,4.5618181818181816E-3,5.5000000000000009E-5,5.7499999999999999E-4,4.1022727272727278E-3,6.3859090909090907E-2,1.8713636363636359E-2,3.6363636363636364E-5,-5.3090909090909091E-3,2.7468181818181815E-2,6.5054545454545462E-2,4.437727272727273E-2,5.2081818181818187E-2,0.18367272727272727,2.8218181818181823E-2,1.0644545454545455E-2,6.3636363636363641E-5,6.8636363636363613E-5,3.6577272727272734E-3,4.1318181818181824E-4,4.6504545454545444E-3,1.8681818181818182E-4,2.5000000000000008E-5,4.9036363636363635E-2,1.3727272727272726E-3,1.9227272727272729E-4,9.6240909090909103E-3,4.9999999999999996E-6,7.0909090909090905E-5,6.8127272727272732E-3,2.4209090909090906E-2,4.5454545454545472E-5,0.33694090909090907,0.11498045454545455,2.7499999999999996E-4,4.6818181818181826E-5,1.1572727272727275E-3,-1.4045454545454547E-4,244.18998863636369,8.2345909090909082,5.4645999999999999,7.4148131818181806,4.6912291304347828,2.3608826086956518,0.34822130434782611,1.5708521739130437,0.16316086956521741,0.22039478260869566,2.8561534782608695,2.771869565217391E-2,2.3379130434782607E-2,1.2391304347826089E-4,1.6847826086956519E-3,1.2831739130434783E-2,0.40139130434782605,6.162608695652174E-2,4.0434782608695654E-4,-7.9565217391304249E-4,0.19536086956521737,0.21013913043478255,0.16773043478260868,0.30026086956521747,0.87269565217391298,1.7700000000000004E-2,8.6956521739130449E-4,1.417391304347826E-4,3.6565217391304342E-4,1.9082173913043475E-2,9.3130434782608715E-4,8.8252173913043498E-3,6.2478260869565209E-4,1.039130434782609E-4,0.26993913043478268,1.0234782608695652E-2,6.8347826086956527E-4,3.1865217391304351E-2,8.2173913043478294E-5,2.3739130434782607E-4,3.9384347826086963E-2,2.4063913043478265E-2,1.3043478260869559E-4,1.6438347826086956,0.57233521739130422,1.9578260869565216E-3,1.2608695652173915E-4,3.3904347826086961E-3,4.6608695652173914E-4,105.80506652173911]
["GRGU1",2014,{"$f":"C175","v":7.6474146788537558},{"$f":"Tracking!BE38","v":19.862682557900953},{"$f":"Tracking!BJ38","v":6.5693252293313611},{"$f":"Tracking!BK38","v":17.763404944897353},{"$f":"G175","v":3.7306103697999999},{"$f":"H175","v":9.7754815340000007},{"$f":"Tracking!AY38","v":5.7541091304347836},{"$f":"Tracking!BM38","v":5.84319877611519},null,null,18.067643913043479,7.0676439130434785,3.9498534782608705,0.61053999999999997,1.3963221739130434,0.48152173913043483,4.593826086956522E-2,0.48968086956521734,9.3790434782608692E-2,11,{"$f":"Tracking!AX38","v":15.185584782608695},{"$f":"Tracking!BL38","v":15.348369960474308},null,null,47.787706521739139,36.787706521739139,25.391799130434787,2.4168952173913043,5.0875513043478264,1.7146521739130434,0.1899313043478261,1.7690243478260872,0.21785217391304348,11,5.7541091304347836,1,0.21861475116904278,3.3791899095334504E-2,7.7283024872158559E-2,2.6651053200290955E-2,2.5425706356987285E-3,2.7102641159078001E-2,5.1910716878197415E-3,0.60882315662967146,15.185584782608695,1,0.53134584140136099,5.0575668792387701E-2,0.10646150808751294,3.5880612373247703E-2,3.9744804296356915E-3,3.701839817362524E-2,4.5587493054084988E-3,0.23018472324040037,5.7541091304347836,5.7541091304347836,1.2579331357495174,0.19444227511919518,0.44469495904450601,0.15335306855549735,1.4630228909649426E-2,0.1559515549523483,2.9869992995625077E-2,3.5032348843829189,15.185584782608695,15.185584782608695,8.0687973234869208,0.76802110638394017,1.6166802571473089,0.5448680812458716,6.0354809531051823E-2,0.5621460239819529,6.9227274079939255E-2,3.495489630428418,2.0763391304347825,1.2602043478260867,1.937495217391304,1.1817673913043476,0.51788086956521728,7.4977391304347829E-2,0.47901130434782607,4.8152173913043474E-2,4.593826086956522E-2,0.81613478260869599,1.580826086956522E-2,4.5795652173913062E-3,4.6521739130434785E-5,4.7260869565217395E-4,3.6130434782608691E-3,8.7291304347826101E-2,3.0543478260869564E-2,5.6521739130434778E-5,-5.4086956521739128E-3,4.4091304347826099E-2,9.6956521739130427E-2,6.0739130434782622E-2,6.9739130434782609E-2,0.26611739130434775,1.0126086956521738E-2,1.0495652173913045E-3,3.4782608695652178E-5,1.0826086956521737E-4,4.2726086956521745E-3,2.6521739130434786E-4,2.7773913043478262E-3,2.4434782608695645E-4,5.0869565217391307E-5,5.795652173913042E-2,1.2352173913043479E-2,2.4173913043478261E-4,1.0226086956521739E-2,5.8260869565217393E-5,2.6521739130434787E-5,7.577826086956522E-3,9.213043478260869E-3,6.434782608695653E-5,0.33110434782608694,0.12554695652173911,3.9391304347826084E-4,2.4782608695652172E-5,9.8217391304347831E-4,4.347826086956522E-5,238.18497739130433,9.149291304347825,6.2009173913043485,7.8647621739130429,5.172892608695653,2.8484178260869566,0.30318869565217388,1.6241165217391305,0.17146521739130433,0.1899313043478261,2.9483739130434783,3.577043478260869E-2,2.0918695652173913E-2,1.6695652173913042E-4,1.7178260869565216E-3,1.1827391304347826E-2,0.41488260869565213,7.3378260869565212E-2,2.9565217391304345E-4,2.5360869565217388E-2,0.22216956521739128,0.18723478260869561,0.15043043478260867,0.31709130434782606,0.90228695652173929,2.1369565217391303E-2,1.1952173913043478E-3,1.0260869565217392E-4,4.9782608695652178E-4,1.7409130434782608E-2,8.2043478260869572E-4,7.9204347826086954E-3,6.0086956521739131E-4,1.1130434782608695E-4,0.23503043478260868,1.2599999999999998E-2,8.2652173913043479E-4,2.7824347826086955E-2,1.826086956521739E-5,2.0869565217391311E-4,3.2124347826086953E-2,3.2839565217391307E-2,1.8173913043478262E-4,1.8830695652173917,0.69052565217391293,1.2952173913043476E-3,1.4869565217391306E-4,3.3560869565217389E-3,4.0869565217391306E-4,91.599313913043474]
["GRGU1",2015,{"$f":"C175","v":7.6474146788537558},{"$f":"Tracking!BE39","v":19.660938537422933},{"$f":"Tracking!BJ39","v":6.4615162843791216},{"$f":"Tracking!BK39","v":17.351733163118972},{"$f":"G175","v":3.7306103697999999},{"$f":"H175","v":9.7754815340000007},{"$f":"Tracking!AY39","v":4.9166009523809535},{"$f":"Tracking!BM39","v":5.6578792113683427},null,null,16.442946190476192,5.4429461904761895,2.6692819047619047,0.51477714285714282,1.4270442857142855,0.26174761904761901,2.6399523809523807E-2,0.50169142857142845,4.2000476190476185E-2,11,{"$f":"Tracking!AX39","v":14.43662},{"$f":"Tracking!BL39","v":15.166019968379448},null,null,44.786123636363634,33.786123636363634,20.160181363636365,3.4500213636363628,6.4735131818181806,1.8759954545454542,0.1865640909090909,1.4265945454545452,0.21325318181818184,11,4.9166009523809535,1,0.16233598734927207,3.1306867813950728E-2,8.6787627301294357E-2,1.5918535280448953E-2,1.6055227271141042E-3,3.0511042410514593E-2,2.5543157353882843E-3,0.66897986970067658,14.43662,1,0.45014347585258557,7.7033265742051257E-2,0.14454283282873978,4.1887872899592921E-2,4.1656673040935408E-3,3.1853494556430786E-2,4.761590521869437E-3,0.2456117901453892,4.9166009523809535,4.9166009523809535,0.79814127000713353,0.15392337611013476,0.42670013104442706,7.8265085720365127E-2,7.8937145691984709E-3,0.1500106201736717,1.2558551177291695E-2,3.2891070644940328,14.43662,14.43662,6.4985503063629535,1.1120999848770119,2.0867099512720411,0.60471930365972115,6.0138155915622889E-2,0.45985679658325979,6.8741272959830749E-2,3.5458040818487286,1.724968571428571,0.88881666666666681,1.6898250000000001,0.9478780952380953,0.33689190476190473,5.9312857142857146E-2,0.49216285714285718,2.6174761904761909E-2,2.6399523809523807E-2,0.83615190476190449,6.935238095238095E-3,2.5004761904761897E-3,5.3809523809523804E-5,4.4857142857142855E-4,2.4352380952380953E-3,6.6346190476190489E-2,2.1042857142857137E-2,1.3047619047619049E-4,-6.3242857142857137E-3,2.8550952380952371E-2,0.11401952380952379,7.5832857142857146E-2,6.1344761904761909E-2,0.27342380952380951,5.7562499999999992E-3,1.162857142857143E-3,3.3333333333333335E-5,1.057142857142857E-4,2.7714285714285714E-3,3.4190476190476191E-4,2.1247619047619049E-3,1.4285714285714284E-4,3.0000000000000001E-5,4.0042499999999995E-2,1.1222500000000002E-2,2.8428571428571424E-4,7.5204761904761903E-3,2.3809523809523829E-6,4.3809523809523798E-5,3.9500000000000004E-3,6.1323809523809525E-3,4.428571428571429E-5,0.23238375000000003,8.1670952380952386E-2,1.9952380952380954E-4,3.1428571428571431E-5,8.4476190476190469E-4,1.8380952380952383E-4,256.52188476190474,8.2587661904761891,5.7170681818181812,7.448837142857144,5.1756181818181819,2.3606909090909087,0.43157590909090904,1.9736022727272731,0.18759954545454544,0.1865640909090909,2.3776581818181821,3.5584090909090912E-2,1.9133181818181817E-2,1.990909090909091E-4,2.4472727272727268E-3,1.3365E-2,0.46688227272727278,4.8660909090909095E-2,2.409090909090909E-5,1.6521363636363636E-2,0.22937772727272723,0.3026709090909091,0.21990818181818186,0.32796772727272727,1.0964459090909089,2.2169545454545452E-2,2.840909090909091E-3,9.4545454545454563E-5,5.2772727272727281E-4,1.8108181818181822E-2,1.0840909090909089E-3,1.1048181818181818E-2,7.0454545454545444E-4,9.727272727272727E-5,0.33455499999999999,2.1008181818181818E-2,6.9545454545454554E-4,3.1458181818181823E-2,6.7727272727272715E-5,2.6136363636363634E-4,3.0713181818181813E-2,4.8304090909090915E-2,2.1863636363636367E-4,1.5299759090909086,0.57228863636363625,1.2309090909090907E-3,9.727272727272727E-5,3.7754545454545454E-3,1.3090909090909093E-4,99.250005909090902]
["GRGU1",2016,{"$f":"C175","v":7.6474146788537558},{"$f":"Tracking!BE40","v":19.459194516944912},{"$f":"Tracking!BJ40","v":6.3537073394268822},{"$f":"Tracking!BK40","v":16.940061381340591},{"$f":"G175","v":3.7306103697999999},{"$f":"H175","v":9.7754815340000007},{"$f":"Tracking!AY40","v":4.6891278260869571},{"$f":"Tracking!BM40","v":5.3171784908714477},null,null,16.057907391304351,5.0579073913043473,2.3029808695652174,0.63820999999999983,1.1407034782608694,0.29840869565217387,3.2658260869565213E-2,0.51882782608695666,0.12611956521739132,11,{"$f":"Tracking!AX40","v":11.233157916666665},{"$f":"Tracking!BL40","v":13.917512278985507},null,null,31.473005000000004,20.473004999999997,11.388559583333333,2.1853679166666669,3.9048958333333332,1.1996624999999999,0.16302791666666666,1.4883091666666663,0.14318125000000001,11,4.6891278260869571,1,0.14341724693295488,3.9744282019312314E-2,7.1036869902399671E-2,1.8583286625115773E-2,2.0337806212066124E-3,3.2309803104725303E-2,7.8540473639602225E-3,0.6850207646580837,11.233157916666665,1,0.36185167521605677,6.9436265036232375E-2,0.12407127420255336,3.8117189636007104E-2,5.1799285345224154E-3,4.7288435491516179E-2,4.5493352160049542E-3,0.34950587018938922,4.6891278260869571,4.6891278260869571,0.67250180333410303,0.1863660187446049,0.33310096333746136,8.713940641397995E-2,9.5366573030563444E-3,0.15150479679375817,3.6828632041750797E-2,3.212149929005585,11.233157916666665,11.233157916666665,4.064737010112343,0.7799885302955184,1.3937122160393327,0.42817641052079775,5.8186955225338025E-2,0.5311984635083058,5.1103400897236501E-2,3.926054632639409,1.8092352173913044,0.94452347826086935,1.7375627272727276,0.86418260869565222,0.3058547826086957,7.9335217391304336E-2,0.39546739130434794,2.98408695652174E-2,3.2658260869565213E-2,0.86471173913043475,2.102652173913044E-2,3.3482608695652176E-3,5.3043478260869574E-5,4.4260869565217393E-4,2.7073913043478256E-3,5.9270000000000003E-2,2.5389130434782609E-2,0,-7.5513043478260874E-3,2.7029565217391305E-2,9.715521739130438E-2,4.7821304347826089E-2,5.4818260869565219E-2,0.21927304347826085,1.2543636363636363E-2,4.8695652173913048E-3,4.9130434782608691E-5,1.4652173913043477E-4,3.0365217391304352E-3,1.317391304347826E-4,3.6608695652173913E-3,1.4695652173913042E-4,-4.7826086956521735E-6,5.5197727272727273E-2,5.8068181818181821E-3,1.9086956521739134E-4,7.5873913043478262E-3,-2.1739130434782607E-6,-6.5652173913043486E-5,5.222608695652174E-3,1.3398260869565219E-2,7.1739130434782616E-5,0.22594045454545456,7.414652173913043E-2,2.7173913043478261E-4,3.6086956521739134E-5,9.4826086956521717E-4,9.7826086956521717E-5,262.59514217391308,6.1365045833333314,3.655990416666667,5.61844375,3.2558174999999996,1.4139095833333337,0.26728833333333335,1.2674604166666665,0.11996624999999995,0.16302791666666666,2.4805141666666661,2.4164583333333333E-2,1.6567500000000002E-2,1.2625000000000001E-4,1.5358333333333335E-3,1.1084999999999999E-2,0.26571458333333342,4.0261249999999998E-2,0,1.1319583333333334E-2,0.12661624999999996,0.23058999999999996,0.14960875000000001,0.18600958333333337,0.70414416666666668,1.3990000000000001E-2,1.5845833333333335E-3,7.7916666666666672E-5,3.8916666666666657E-4,1.4557083333333333E-2,7.3125000000000002E-4,7.6374999999999993E-3,5.2666666666666649E-4,8.2083333333333327E-5,0.20719999999999997,1.4067083333333334E-2,8.8708333333333315E-4,2.3450833333333337E-2,6.0833333333333346E-5,1.6833333333333335E-4,2.8516666666666666E-2,2.8106249999999996E-2,1.5291666666666668E-4,0.94182041666666672,0.34276583333333327,1.1737500000000001E-3,5.2916666666666688E-5,3.0504166666666666E-3,1.5749999999999998E-4,134.6534695833333]
["GRGU1",2017,{"$f":"C175","v":7.6474146788537558},{"$f":"Tracking!BE41","v":19.257450496466891},{"$f":"Tracking!BJ41","v":6.2458983944746427},{"$f":"Tracking!BK41","v":16.52838959956221},{"$f":"G175","v":3.7306103697999999},{"$f":"H175","v":9.7754815340000007},{"$f":"Tracking!AY41","v":5.2213431818181819},{"$f":"Tracking!BM41","v":5.1985658545078106},null,null,16.986637272727272,5.9866372727272728,3.0618672727272727,0.61711318181818176,1.3254768181818184,0.44181363636363624,3.8572272727272733E-2,0.40004409090909104,0.10175045454545453,11,{"$f":"Tracking!AX41","v":11.813347391304349},{"$f":"Tracking!BL41","v":13.308447757246375},null,null,34.578441739130433,23.578441739130437,12.141578260869569,2.3727834782608701,5.7003782608695639,1.5519565217391307,0.14537565217391304,1.4882443478260867,0.17812347826086955,11,{"$f":"I188","v":5.2213431818181819},{"$f":"M188/M188","v":1},{"$f":"O188/M188","v":0.18025152498212366},{"$f":"P188/M188","v":3.6329331810068241E-2},{"$f":"Q188/M188","v":7.8030559957262685E-2},{"$f":"R188/M188","v":2.6009481998711174E-2},{"$f":"S188/M188","v":2.2707421197014706E-3},{"$f":"T188/M188","v":2.3550517061512691E-2},{"$f":"U188/M188","v":5.990029274882968E-3},{"$f":"V188/M188","v":0.64756783955473884},{"$f":"W188","v":11.813347391304349},{"$f":"AA188/AA188","v":1},{"$f":"AC188/AA188","v":0.35113144636386673},{"$f":"AD188/AA188","v":6.8620312510373413E-2},{"$f":"AE188/AA188","v":0.16485353226368132},{"$f":"AF188/AA188","v":4.4882199534829553E-2},{"$f":"AG188/AA188","v":4.2042279773816353E-3},{"$f":"AH188/AA188","v":4.3039659191522396E-2},{"$f":"AI188/AA188","v":5.1512870245768614E-3},{"$f":"AJ188/AA188","v":0.31811728483854529},{"$f":"I188","v":5.2213431818181819},{"$f":"BE188","v":5.2213431818181819},{"$f":"BE188*AM188","v":0.94115507097774109},{"$f":"BE188*AN188","v":0.18968790894651019},{"$f":"BE188*AO188","v":0.40742433220630836},{"$f":"BE188*AP188","v":0.13580443149659333},{"$f":"BE188*AQ188","v":1.1856323884370639E-2},{"$f":"BE188*AR188","v":0.12296533168742205},{"$f":"BE188*AS188","v":3.1275998513301491E-2},{"$f":"BE188*AT188","v":3.3811739238238658},{"$f":"W188","v":11.813347391304349},{"$f":"BO188","v":11.813347391304349},{"$f":"BO188*AW188","v":4.1480377559075077},{"$f":"BO188*AX188","v":0.81063558978490891},{"$f":"BO188*AY188","v":1.9474720453144672},{"$f":"BO188*AZ188","v":0.53020901479077998},{"$f":"BO188*BA188","v":4.9666005609050101E-2},{"$f":"BO188*BB188","v":0.50844244563279939},{"$f":"BO188*BC188","v":6.0853943133645012E-2},{"$f":"BO188*BD188","v":3.7580299969762514},1.6746004545454551,1.0084886363636365,1.6968054545454547,1.0497990909090906,0.41522636363636373,7.8163636363636366E-2,0.45654045454545461,4.4181363636363637E-2,3.8572272727272733E-2,0.666740909090909,1.7116363636363638E-2,4.1581818181818178E-3,6.863636363636364E-5,5.2409090909090906E-4,3.0200000000000001E-3,7.3194545454545457E-2,3.2422727272727277E-2,0,-1.235E-3,3.4746363636363624E-2,0.10411863636363637,5.391727272727271E-2,6.1435909090909083E-2,0.2529831818181818,1.2233636363636368E-2,1.8745454545454553E-3,4.4545454545454547E-5,1.1409090909090909E-4,3.4263636363636371E-3,3.4727272727272726E-4,1.8622727272727272E-3,1.3636363636363637E-4,2.1818181818181814E-5,6.0591363636363631E-2,1.1199999999999999E-3,1.5727272727272728E-4,8.7195454545454538E-3,4.8636363636363628E-5,1.1818181818181817E-5,6.1399999999999988E-3,1.0465909090909092E-2,5.5909090909090907E-5,0.28537136363636362,0.10066090909090909,4.7500000000000005E-4,2.1363636363636369E-5,8.9999999999999987E-4,1.227272727272729E-5,248.95529136363632,6.6099226086956522,4.1295152173913054,6.2354091304347827,3.8707334782608691,1.4926582608695653,0.29569826086956519,1.7514247826086953,0.15519565217391304,0.14537565217391304,2.4804073913043476,3.0380869565217395E-2,1.426304347826087E-2,5.1304347826086959E-5,1.8004347826086958E-3,1.2167391304347828E-2,0.34058913043478262,4.8714782608695655E-2,0,4.1060434782608693E-2,0.19061086956521739,0.30013826086956519,0.20709652173913043,0.23410826086956521,0.97301434782608709,1.9533043478260872E-2,1.6708695652173913E-3,8.1304347826086963E-5,3.8043478260869559E-4,1.291782608695652E-2,7.8260869565217384E-4,7.3469565217391302E-3,4.5347826086956504E-4,7.6086956521739137E-5,0.22922304347826086,5.4000000000000012E-3,9.869565217391304E-4,2.8462173913043474E-2,4.739130434782609E-5,1.8304347826086955E-4,2.4449130434782612E-2,3.1383913043478262E-2,1.1E-4,0.99792608695652174,0.36185652173913041,1.043913043478261E-3,1.1521739130434783E-4,3.1804347826086955E-3,2.1478260869565218E-4,130.46584782608699]
[{"$f":"A188","v":"GRGU1"},{"$f":"B188+1","v":2018},{"$f":"C175","v":7.6474146788537558},{"$f":"Tracking!BE42","v":19.05570647598887},{"$f":"Tracking!BJ42","v":6.1380894495224032},{"$f":"Tracking!BK42","v":16.11671781778383},{"$f":"G175","v":3.7306103697999999},{"$f":"H175","v":9.7754815340000007},{"$f":"Tracking!AY42","v":4.3650121739130441},{"$f":"Tracking!BM42","v":4.989238652926784},null,null,15.53431391304348,4.5343139130434791,1.907439565217391,0.35472478260869561,1.1808078260869566,0.39113043478260862,2.5228260869565214E-2,0.55446304347826081,0.12052,11,{"$f":"Tracking!AX42","v":12.701202173913044},{"$f":"Tracking!BL42","v":13.073982452898552},null,null,37.518575217391302,26.518575217391309,12.18423260869565,4.5895539130434786,5.837644347826088,1.892208695652174,0.17502217391304351,1.6028099999999996,0.23710391304347825,11,4.3650121739130441,1,0.12278878719038876,2.2834917885291916E-2,7.6012872708558069E-2,2.5178481455443848E-2,1.6240344447000104E-3,3.5692792522539575E-2,7.7583085210351423E-3,0.70810980527204259,12.701202173913044,1,0.32475200718836972,0.12232751074502542,0.15559344442056838,5.0433916658302699E-2,4.6649472401050556E-3,4.2720438894945978E-2,6.3196406491889245E-3,0.29318810579195653,4.3650121739130441,4.3650121739130441,0.53597455090606494,9.9674694559603913E-2,0.33179711474695855,0.10990437807365622,7.088930121969656E-3,0.15579947388183771,3.3865111143291701E-2,3.090907920479661,12.701202173913044,12.701202173913044,4.1247408996835464,1.5537064454040881,1.9762237945211416,0.64057137189938351,5.9250438027211992E-2,0.54260093136300724,8.0267033551827613E-2,3.7238414066502461,1.7526704347826085,0.84192782608695649,1.6827269565217391,0.78682347826086951,0.25045347826086956,4.2989999999999993E-2,0.40897043478260875,3.9113043478260869E-2,2.5228260869565214E-2,0.92410652173913033,2.0068260869565219E-2,1.9860869565217392E-3,9.1304347826086965E-6,3.2304347826086951E-4,2.1126086956521736E-3,6.5892173913043472E-2,2.9005652173913044E-2,0,-7.7939130434782596E-3,2.9601739130434786E-2,9.7948260869565207E-2,5.1664782608695649E-2,5.5784782608695641E-2,0.22720565217391303,1.2961304347826086E-2,4.3734782608695665E-3,3.3478260869565214E-5,7.7826086956521746E-5,2.1491304347826083E-3,3.0217391304347826E-4,1.9539130434782616E-3,1.1391304347826087E-4,2.2173913043478262E-5,3.3325652173913048E-2,1.8047826086956514E-3,5.9782608695652171E-4,7.7930434782608722E-3,1.4782608695652174E-5,2.3478260869565222E-5,4.7413043478260865E-3,1.100608695652174E-2,6.4782608695652168E-5,0.16898478260869568,6.0716086956521746E-2,2.1000000000000001E-4,9.565217391304347E-6,7.1913043478260869E-4,8.9130434782608729E-5,271.49464608695655,7.4263434782608675,4.7549934782608689,6.849469130434783,4.3167213043478263,1.5336278260869565,0.57416565217391313,1.8052326086956523,0.18922086956521741,0.17502217391304351,2.6713500000000003,3.9450434782608693E-2,1.7242173913043477E-2,1.3347826086956526E-4,1.8430434782608692E-3,1.3710000000000002E-2,0.40405652173913043,5.8963478260869576E-2,0,5.8350434782608679E-2,0.19596956521739134,0.27734913043478271,0.1974386956521739,0.2737991304347826,1.002906956521739,2.2474782608695648E-2,1.887391304347826E-3,1.1217391304347831E-4,4.6782608695652175E-4,1.5513913043478262E-2,8.0173913043478265E-4,7.4930434782608671E-3,5.4695652173913044E-4,7.8695652173913037E-5,0.44508956521739135,2.5926086956521745E-3,9.4304347826086946E-4,3.3540434782608701E-2,8.8260869565217438E-5,2.0913043478260873E-4,2.9893913043478264E-2,2.8644782608695657E-2,1.834782608695652E-4,1.0138386956521739,0.37178869565217398,1.4243478260869561E-3,6.6956521739130442E-5,4.1895652173913047E-3,7.4347826086956475E-5,119.08488652173912]
[{"$f":"A189","v":"GRGU1"},{"$f":"B189+1","v":2019},{"$f":"C175","v":7.6474146788537558},{"$f":"Tracking!BE43","v":18.85396245551085},{"$f":"Tracking!BJ43","v":6.0302805045701637},{"$f":"Tracking!BK43","v":15.705046036005449},{"$f":"G175","v":3.7306103697999999},{"$f":"H175","v":9.7754815340000007},{"$f":"Tracking!AY43","v":4.2994709090909105},{"$f":"Tracking!BM43","v":4.6983110086580089},null,null,15.459390000000001,4.45939,1.996345454545454,0.61208409090909077,0.79602727272727269,0.41944999999999999,3.9104090909090915E-2,0.40739090909090908,0.18898590909090912,11,{"$f":"Tracking!AX43","v":11.466021304347825},{"$f":"Tracking!BL43","v":12.330069757246378},null,null,32.358461739130433,21.358461739130433,10.177533043478261,3.1768973913043479,4.5949773913043472,1.7119565217391302,0.13360913043478262,1.3763943478260869,0.18709565217391305,11,{"$f":"I190","v":4.2994709090909105},{"$f":"M190/M190","v":1},{"$f":"O190/M190","v":0.1291348141514933},{"$f":"P190/M190","v":3.959302992608963E-2},{"$f":"Q190/M190","v":5.1491505986152923E-2},{"$f":"R190/M190","v":2.7132377150715519E-2},{"$f":"S190/M190","v":2.529471790872144E-3},{"$f":"T190/M190","v":2.635232755567387E-2},{"$f":"U190/M190","v":1.2224667926154209E-2},{"$f":"V190/M190","v":0.71154165850010898},{"$f":"W190","v":11.466021304347825},{"$f":"AA190/AA190","v":1},{"$f":"AC190/AA190","v":0.31452462498150141},{"$f":"AD190/AA190","v":9.8178257573430641E-2},{"$f":"AE190/AA190","v":0.14200234326181624},{"$f":"AF190/AA190","v":5.2905992118559078E-2},{"$f":"AG190/AA190","v":4.1290321991175431E-3},{"$f":"AH190/AA190","v":4.2535839896296467E-2},{"$f":"AI190/AA190","v":5.7819699119894211E-3},{"$f":"AJ190/AA190","v":0.33994199380305901},{"$f":"I190","v":4.2994709090909105},{"$f":"BE190","v":4.2994709090909105},{"$f":"BE190*AM190","v":0.55521137679520671},{"$f":"BE190*AN190","v":0.17022908036998821},{"$f":"BE190*AO190","v":0.22138623205274496},{"$f":"BE190*AP190","v":0.1166548662539843},{"$f":"BE190*AQ190","v":1.0875390380220871E-2},{"$f":"BE190*AR190","v":0.11330106571245459},{"$f":"BE190*AS190","v":5.2559604121796728E-2},{"$f":"BE190*AT190","v":3.0592526613275175},{"$f":"W190","v":11.466021304347825},{"$f":"BO190","v":11.466021304347825},{"$f":"BO190*AW190","v":3.6063460507799054},{"$f":"BO190*AX190","v":1.1257139929607038},{"$f":"BO190*AY190","v":1.6282018931072977},{"$f":"BO190*AZ190","v":0.60662123275905655},{"$f":"BO190*BA190","v":4.7343571161419899E-2},{"$f":"BO190*BB190","v":0.48771684644926344},{"$f":"BO190*BC190","v":6.6296190191968821E-2},{"$f":"BO190*BD190","v":3.8977821431883508},1.4993777272727273,0.82039181818181806,1.3928668181818182,0.73731499999999994,0.26954272727272727,7.6838181818181792E-2,0.27841818181818184,4.1944999999999989E-2,3.9104090909090915E-2,0.67898590909090906,3.1467727272727279E-2,2.8759090909090904E-3,0,3.2409090909090907E-4,3.7927272727272723E-3,5.4795909090909097E-2,2.8141818181818188E-2,0,-5.2436363636363635E-3,2.180909090909091E-2,5.7087272727272723E-2,4.0031363636363636E-2,4.0992727272727278E-2,0.15467681818181814,1.8286818181818185E-2,7.1422727272727271E-3,1.9090909090909087E-5,1.1863636363636365E-4,3.0299999999999993E-3,1.6454545454545457E-4,2.3854545454545456E-3,1.009090909090909E-4,1.2727272727272727E-5,5.9563636363636353E-2,6.8954545454545451E-4,1.2090909090909091E-4,7.2981818181818174E-3,8.1818181818181796E-6,2.727272727272727E-5,7.4186363636363634E-3,2.2850454545454538E-2,3.5909090909090908E-5,0.17793545454545454,6.5343636363636368E-2,4.0727272727272726E-4,2.9545454545454555E-5,8.34090909090909E-4,3.8636363636363636E-5,274.10915318181816,5.7965804347826086,3.5025908695652173,5.6290343478260869,3.4519882608695651,1.2588739130434781,0.38163869565217395,1.4754234782608695,0.17119565217391305,0.13360913043478262,2.2939895652173909,3.1244782608695652E-2,1.0633478260869566E-2,3.9999999999999996E-5,1.332608695652174E-3,1.1125217391304345E-2,0.33009869565217381,6.553826086956524E-2,3.5217391304347823E-5,2.7182173913043485E-2,0.17852260869565217,0.23167739130434786,0.1578208695652174,0.22447652173913044,0.81967956521739116,1.851434782608696E-2,1.7856521739130437E-3,9.1304347826086949E-5,4.1347826086956521E-4,1.2785652173913043E-2,8.5956521739130457E-4,5.1486956521739138E-3,4.9434782608695656E-4,7.3043478260869572E-5,0.29584434782608698,1.7569565217391309E-3,9.8304347826086956E-4,2.3916521739130427E-2,6.7391304347826095E-5,1.8956521739130436E-4,2.3696956521739133E-2,3.3496956521739132E-2,1.0826086956521741E-4,0.82898260869565221,0.30518173913043478,1.1004347826086953E-3,6.8695652173913051E-5,3.0830434782608694E-3,4.6956521739130424E-5,131.98703347826086]
["GRGU1",2020,{"$f":"C175","v":7.6474146788537558},{"$f":"Tracking!BE44","v":18.652218435032829},{"$f":"Tracking!BJ44","v":5.9224715596179243},{"$f":"Tracking!BK44","v":15.293374254227068},{"$f":"G175","v":3.7306103697999999},{"$f":"H175","v":9.7754815340000007},{"$f":"Tracking!AY44","v":4.9246117391304338},{"$f":"Tracking!BM44","v":4.6999131660079057},null,null,16.408783043478262,5.4087830434782607,2.5470404347826086,0.56567173913043478,1.116788695652174,0.37661739130434785,4.3201739130434784E-2,0.44189217391304347,0.31757043478260877,11,{"$f":"Tracking!AX44","v":11.043224166666667},{"$f":"Tracking!BL44","v":11.651390590579711},null,null,30.950569999999999,19.950570000000003,10.196291666666665,1.6107766666666665,4.5984675000000008,1.7512541666666668,0.20499333333333333,1.4199729166666668,0.16881416666666668,11,{"$f":"I191","v":4.9246117391304338},{"$f":"M191/M191","v":1},{"$f":"O191/M191","v":0.15522421303479542},{"$f":"P191/M191","v":3.4473716766903278E-2},{"$f":"Q191/M191","v":6.8060421829761852E-2},{"$f":"R191/M191","v":2.2952183005066667E-2},{"$f":"S191/M191","v":2.632842363505165E-3},{"$f":"T191/M191","v":2.6930222231725792E-2},{"$f":"U191/M191","v":1.9353686007130701E-2},{"$f":"V191/M191","v":0.67037268826416685},{"$f":"W191","v":11.043224166666667},{"$f":"AA191/AA191","v":1},{"$f":"AC191/AA191","v":0.32943792849910891},{"$f":"AD191/AA191","v":5.2043521869441063E-2},{"$f":"AE191/AA191","v":0.14857456583190556},{"$f":"AF191/AA191","v":5.6582291268518374E-2},{"$f":"AG191/AA191","v":6.6232490494790028E-3},{"$f":"AH191/AA191","v":4.5878732335678046E-2},{"$f":"AI191/AA191","v":5.4543152732459107E-3},{"$f":"AJ191/AA191","v":0.35540540933494924},{"$f":"I191","v":4.9246117391304338},{"$f":"BE191","v":4.9246117391304338},{"$f":"BE191*AM191","v":0.76441898170843681},{"$f":"BE191*AN191","v":0.16976967028174955},{"$f":"BE191*AO191","v":0.33517115231301448},{"$f":"BE191*AP191","v":0.11303058986542135},{"$f":"BE191*AQ191","v":1.2965726410597452E-2},{"$f":"BE191*AR191","v":0.13262088853974821},{"$f":"BE191*AS191","v":9.5309389306160258E-2},{"$f":"BE191*AT191","v":3.3013252102181427},{"$f":"W191","v":11.043224166666667},{"$f":"BO191","v":11.043224166666667},{"$f":"BO191*AW191","v":3.6380568934179651},{"$f":"BO191*AX191","v":0.57472827842705676},{"$f":"BO191*AY191","v":1.640742235946907},{"$f":"BO191*AZ191","v":0.62485092634187445},{"$f":"BO191*BA191","v":7.3142023965058547E-2},{"$f":"BO191*BB191","v":0.50664912566539122},{"$f":"BO191*BC191","v":6.0233226238128344E-2},{"$f":"BO191*BD191","v":3.9248216053317702},1.6676826086956524,0.93315956521739141,1.6293143478260872,0.92767304347826096,0.33646652173913044,6.9849565217391316E-2,0.38784173913043479,3.7661739130434788E-2,4.3201739130434784E-2,0.73648739130434782,5.2651739130434784E-2,4.604782608695652E-3,2.6086956521739132E-6,3.5304347826086959E-4,3.1256521739130437E-3,7.8420869565217405E-2,2.2405652173913042E-2,0,-8.6730434782608702E-3,3.7312608695652172E-2,7.2779565217391304E-2,5.0555652173913029E-2,6.3492608695652181E-2,0.21546739130434781,3.0364347826086956E-2,1.2923913043478261E-2,1.6521739130434778E-5,9.7826086956521744E-5,3.8082608695652175E-3,2.0130434782608694E-4,2.2356521739130431E-3,1.7782608695652172E-4,2.0434782608695654E-5,5.4147391304347835E-2,3.2643478260869561E-3,1.1478260869565218E-4,9.1830434782608703E-3,-1.347826086956522E-5,4.8695652173913046E-5,7.1813043478260877E-3,2.5867391304347825E-2,7.5652173913043472E-5,0.21961043478260872,8.1567391304347814E-2,4.2434782608695648E-4,1.7391304347826089E-5,1.1956521739130434E-3,1.9608695652173909E-4,255.42308608695649,5.7756395833333336,3.4090179166666661,5.5485299999999995,3.3308670833333331,1.2594620833333334,0.19492083333333332,1.4691062500000001,0.17512541666666667,0.20499333333333333,2.3666216666666666,2.7259166666666671E-2,1.7457083333333338E-2,1.6249999999999999E-5,1.3154166666666668E-3,1.4392083333333335E-2,0.31143833333333343,6.7456249999999982E-2,4.1250000000000005E-4,8.4891666666666692E-3,0.1703025,0.25215791666666659,0.18103916666666667,0.20418166666666668,0.8161704166666669,1.6788333333333332E-2,7.9000000000000001E-4,5.6666666666666671E-5,4.0208333333333329E-4,1.6017916666666663E-2,9.2166666666666688E-4,5.5562499999999996E-3,5.745833333333332E-4,5.2083333333333343E-5,0.15110166666666666,6.5191666666666662E-3,8.2708333333333321E-4,2.5460833333333332E-2,9.1666666666666654E-5,1.4166666666666668E-4,4.0836249999999998E-2,4.0940833333333336E-2,1.5750000000000003E-4,0.80548458333333339,0.30532416666666667,1.3829166666666666E-3,6.9583333333333335E-5,2.7829166666666666E-3,4.6250000000000007E-4,137.55258125]
["GRGU1",2021,{"$f":"C175","v":7.6474146788537558},{"$f":"Tracking!BE45","v":18.450474414554808},{"$f":"Tracking!BJ45","v":5.8146626146656848},{"$f":"Tracking!BK45","v":14.881702472448687},{"$f":"G175","v":3.7306103697999999},{"$f":"H175","v":9.7754815340000007},{"$f":"Tracking!AY45","v":4.5446621739130446},{"$f":"Tracking!BM45","v":4.6710200355731235},null,null,15.82702608695652,4.8270260869565211,2.2404678260869573,0.47624000000000005,0.97870434782608695,0.41610434782608702,6.1413913043478249E-2,0.42495695652173909,0.22913608695652177,11,{"$f":"Tracking!AX45","v":12.490022173913044},{"$f":"Tracking!BL45","v":11.902763442028988},null,null,36.546036956521746,25.546036956521736,12.408697391304345,2.356788695652174,6.4295947826086959,2.1336695652173918,0.27832217391304342,1.799019565217391,0.13994521739130436,11,4.5446621739130446,1,0.14155962173673217,3.0090302333707675E-2,6.1837539310854089E-2,2.6290747582011623E-2,3.8803191898502724E-3,2.6850082522575584E-2,1.4477520015295798E-2,0.69501370248358896,12.490022173913044,1,0.33953605984875407,6.4488215191595435E-2,0.17593138184197332,5.8383062649331456E-2,7.6156595103364835E-3,4.9226119027834858E-2,3.8292857186620539E-3,0.30099022810835901,4.5446621739130446,4.5446621739130446,0.64334065826036546,0.13675025881760869,0.28103072583389949,0.11948256605986406,1.7634739844821442E-2,0.122024554406793,6.5795437585583816E-2,3.1586024840284215,12.490022173913044,12.490022173913044,4.2408129163540043,0.80545923769910299,2.1973868602934092,0.7292057470711043,9.5119756153074428E-2,0.61483531819334014,4.7827863536337598E-2,3.7593746232045491,1.5934565217391303,0.8851934782608698,1.4936795652173913,0.83034086956521758,0.29203260869565217,5.7243043478260876E-2,0.34060086956521735,4.1610434782608695E-2,6.1413913043478249E-2,0.70826304347826086,3.7441304347826089E-2,5.4104347826086944E-3,0,2.9043478260869568E-4,3.9126086956521736E-3,6.9316086956521736E-2,2.9187391304347825E-2,0,-6.8413043478260877E-3,2.2128260869565219E-2,6.9144782608695637E-2,4.7897391304347836E-2,5.6893043478260859E-2,0.1892221739130435,2.152608695652174E-2,7.7726086956521759E-3,-4.3478260869565239E-6,9.3913043478260888E-5,4.2430434782608703E-3,1.8434782608695656E-4,2.2347826086956519E-3,2.0608695652173919E-4,3.4782608695652171E-6,4.4363043478260866E-2,2.634782608695653E-4,3.7826086956521736E-4,8.7630434782608683E-3,3.5217391304347816E-5,3.521739130434783E-5,1.2833478260869564E-2,1.9388695652173913E-2,5.7391304347826089E-5,0.1788913043478261,7.0795652173913051E-2,3.8782608695652176E-4,1.6956521739130433E-5,6.9608695652173915E-4,-2.0000000000000002E-5,266.61620478260869,7.6354072727272717,4.4170073913043471,7.263182727272727,4.2872404347826087,1.5147121739130436,0.28293173913043479,1.975387391304348,0.21336695652173915,0.27832217391304342,2.9983656521739128,2.2521739130434787E-2,2.4009999999999997E-2,3.4782608695652175E-6,1.3195652173913044E-3,1.7710869565217394E-2,0.43152913043478253,7.9712608695652151E-2,0,2.675434782608696E-2,0.21280173913043485,0.33952130434782613,0.22048521739130431,0.29787478260869565,1.0974373913043476,1.3008695652173915E-2,1.547391304347826E-3,9.0434782608695658E-5,4.4565217391304352E-4,2.1701304347826088E-2,8.7000000000000011E-4,4.9147826086956533E-3,8.0652173913043452E-4,6.2173913043478242E-5,0.21932695652173914,1.1395652173913039E-3,1.855217391304348E-3,3.360565217391305E-2,8.4782608695652166E-5,1.6956521739130436E-4,5.6188695652173916E-2,2.1728260869565218E-2,1.7826086956521738E-4,0.94028434782608694,0.36720304347826077,2.16695652173913E-3,7.0869565217391298E-5,3.7026086956521739E-3,2.8478260869565212E-4,121.0011843478261]
["GRGU1",2022,{"$f":"C175","v":7.6474146788537558},{"$f":"Tracking!BE46","v":18.248730394076787},{"$f":"Tracking!BJ46","v":5.7068536697134453},{"$f":"Tracking!BK46","v":14.470030690670306},{"$f":"G175","v":3.7306103697999999},{"$f":"H175","v":9.7754815340000007}]
["GRGU1",2023,{"$f":"C175","v":7.6474146788537558},{"$f":"Tracking!BE47","v":18.046986373598767},{"$f":"Tracking!BJ47","v":5.5990447247612058},{"$f":"Tracking!BK47","v":14.058358908891925},{"$f":"G175","v":3.7306103697999999},{"$f":"H175","v":9.7754815340000007}]
["GRGU1",2024,{"$f":"C175","v":7.6474146788537558},{"$f":"Tracking!BE48","v":17.845242353120746},{"$f":"Tracking!BJ48","v":5.4912357798089664},{"$f":"Tracking!BK48","v":13.646687127113545},{"$f":"G175","v":3.7306103697999999},{"$f":"H175","v":9.7754815340000007}]
["GRGU1",2025,{"$f":"C175","v":7.6474146788537558},{"$f":"Tracking!BE49","v":17.643498332642725},{"$f":"Tracking!BJ49","v":5.3834268348567269},{"$f":"Tracking!BK49","v":13.235015345335164},{"$f":"G175","v":3.7306103697999999},{"$f":"H175","v":9.7754815340000007}]
["GRGU1",2026,{"$f":"C175","v":7.6474146788537558},{"$f":"Tracking!BE50","v":17.441754312164704},{"$f":"Tracking!BJ50","v":5.2756178899044874},{"$f":"Tracking!BK50","v":12.823343563556783},{"$f":"G175","v":3.7306103697999999},{"$f":"H175","v":9.7754815340000007}]
["GRGU1",2027,{"$f":"C175","v":7.6474146788537558},{"$f":"Tracking!BE51","v":17.240010291686684},{"$f":"Tracking!BJ51","v":5.167808944952248},{"$f":"Tracking!BK51","v":12.411671781778402},{"$f":"G175","v":3.7306103697999999},{"$f":"H175","v":9.7754815340000007}]
[{"$f":"A198","v":"GRGU1"},2028,{"$f":"C175","v":7.6474146788537558},{"$f":"Tracking!BE52","v":17.038266271208663},{"$f":"Tracking!BJ52","v":5.0599999999999996},{"$f":"Tracking!BK52","v":12},{"$f":"G175","v":3.7306103697999999},{"$f":"H175","v":9.7754815340000007},null,null,5.1100000000000003,{"$f":"E199","v":5.0599999999999996},null,{"$f":"IF(M199=\"\",\"\",M199-V199)","v":""},null,null,null,null,null,null,null,null,null,null,12.13,{"$f":"F199","v":12},null,{"$f":"IF(AA199=\"\",\"\",AA199-AJ199)","v":""}]
[null,"5-yr period"]
[{"$f":"A175","v":"GRGU1"},"2000-04",null,null,null,null,null,null,null,{"$f":"IF(J175=\"\",\"\",J175)","v":7.6474146788537558},null,null,{"$f":"IF(COUNT(M171:M175)<3,\"\",AVERAGE(M171:M175))","v":21.694558275691698},{"$f":"IF(COUNT(N171:N175)<3,\"\",AVERAGE(N171:N175))","v":10.694558275691698},5.7651994861660079,0.93438390810276684,2.0076840662055333,0.82591205533596845,0.10355684782608693,0.89066924901185762,0.16715353754940712,11,null,{"$f":"IF(X175=\"\",\"\",X175)","v":21.880122762681161},null,null,{"$f":"IF(COUNT(AA171:AA175)<3,\"\",AVERAGE(AA171:AA175))","v":105.92805544384058},{"$f":"IF(COUNT(AB171:AB175)<3,\"\",AVERAGE(AB171:AB175))","v":94.928055443840577},75.600748577898543,2.7280266576086953,10.06848995018116,3.6140009057971016,0.49256473278985502,2.3242969836956524,9.9927133152173914E-2,11,{"$f":"J201","v":7.6474146788537558},{"$f":"M201/M201","v":1},{"$f":"O201/M201","v":0.26574403649535444},{"$f":"P201/M201","v":4.3069966958014745E-2},{"$f":"Q201/M201","v":9.25432101770471E-2},{"$f":"R201/M201","v":3.8070010222857859E-2},{"$f":"S201/M201","v":4.7734019983306239E-3},{"$f":"T201/M201","v":4.1054961234672109E-2},{"$f":"U201/M201","v":7.7048601508839746E-3},{"$f":"V201/M201","v":0.50703959307276014},{"$f":"X201","v":21.880122762681161},{"$f":"AA201/AA201","v":1},{"$f":"AC201/AA201","v":0.71369901260935986},{"$f":"AD201/AA201","v":2.575358007072075E-2},{"$f":"AE201/AA201","v":9.5050266975958295E-2},{"$f":"AF201/AA201","v":3.4117504476546545E-2},{"$f":"AG201/AA201","v":4.6499931555053983E-3},{"$f":"AH201/AA201","v":2.1942222709147294E-2},{"$f":"AI201/AA201","v":9.4334907530849415E-4},{"$f":"AJ201/AA201","v":0.10384406618161535},{"$f":"J201","v":7.6474146788537558},{"$f":"BE201","v":7.6474146788537558},{"$f":"BE201*AM201","v":2.0322548455124219},{"$f":"BE201*AN201","v":0.32937389753246821},{"$f":"BE201*AO201","v":0.70771630393619822},{"$f":"BE201*AP201","v":0.29113715500239573},{"$f":"BE201*AQ201","v":3.6504184510103461E-2},{"$f":"BE201*AR201","v":0.31396431318580342},{"$f":"BE201*AS201","v":5.8922260616385475E-2},{"$f":"BE201*AT201","v":3.8775420268246612},{"$f":"X201","v":21.880122762681161},{"$f":"BO201","v":21.880122762681161},{"$f":"BO201*AW201","v":15.615822011497123},{"$f":"BO201*AX201","v":0.56349149352590899},{"$f":"BO201*AY201","v":2.0797115100595867},{"$f":"BO201*AZ201","v":0.74649518630316247},{"$f":"BO201*BA201","v":0.10174242108808526},{"$f":"BO201*BB201","v":0.48009852656223317},{"$f":"BO201*BC201","v":2.0640593575811609E-2},{"$f":"BO201*BD201","v":2.2721209162297309},{"$f":"IF(COUNT(BY171:BY175)<3,\"\",AVERAGE(BY171:BY175))","v":2.8554668823326432},{"$f":"IF(COUNT(BZ171:BZ175)<3,\"\",AVERAGE(BZ171:BZ175))","v":1.570841205533597},3.0019135559790451,1.7499769021739131,0.73766309782608697,0.11405318675889328,0.684090266798419,8.2591205533596834E-2,0.10355684782608693,1.4844485177865612,2.8021665019762852E-2,5.5385820158102769E-3,9.9525691699604745E-5,7.5645256916996053E-4,6.230335968379447E-3,0.11007534584980239,4.4889920948616602E-2,2.5607707509881427E-3,1.8104891304347826E-2,5.7015464426877473E-2,0.12632267786561263,0.1035711956521739,7.5035918972332027E-2,0.38005014822134386,1.959525691699605E-2,4.714673913043478E-4,3.1379940711462453E-4,2.3897727272727276E-4,6.9192341897233202E-3,6.944219367588933E-4,1.8561946640316206E-2,3.6171442687747034E-4,2.10548418972332E-4,8.8399357707509882E-2,6.4294960474308299E-3,3.0274209486166008E-4,1.5467302371541501E-2,1.0526185770750988E-4,9.8838932806324131E-5,2.3092173913043475E-2,3.6536679841897235E-2,8.3745059288537559E-5,0.51073695652173923,0.17965579051383401,9.8428853754940716E-4,6.504693675889328E-4,1.8043478260869564E-3,2.2519762845849802E-5,193.44829622035573,14.723327083333334,11.515123596014494,14.614076354166668,11.343276526268115,7.2279544474637678,0.3236613088768116,2.9207645380434788,0.36140009057971018,0.49256473278985502,3.8738280163043477,1.6930883152173913E-2,1.778641304347826E-2,3.051947463768116E-4,2.3009284420289853E-3,2.0593306159420292E-2,0.51855194746376809,{"$f":"IF(COUNT(EL171:EL175)<3,\"\",AVERAGE(EL171:EL175))","v":8.6435144927536234E-2},4.3112318840579705E-3,0.11460751811594201,0.33843360507246378,0.4440460144927536,0.47766159420289855,0.24789823369565217,1.6226469655797102,-0.13031675724637681,2.010416666666667E-5,2.8324275362318844E-4,6.2407155797101447E-4,2.410580615942029E-2,1.909542572463768E-3,1.9879207427536232E-2,9.4341485507246374E-4,7.056702898550726E-4,0.25090040760869564,1.8744202898550725E-2,0,4.1064402173913044E-2,2.1576086956521737E-4,8.0910326086956513E-4,0.13840011775362318,0.11686303894927536,2.317980072463768E-4,5.4103104166666673,1.752231322463768,4.579094202898551E-3,1.8267980072463768E-3,5.8072961956521733E-3,5.7024456521739128E-5,50.937917015398554]
["GRGU1","2001-05",null,null,null,null,null,null,null,7.4552014703557319,null,null,{"$f":"IF(COUNT(M172:M176)<3,\"\",AVERAGE(M172:M176))","v":21.326512438735175},10.326512438735175,5.604273134387352,0.90666658102766795,1.9195016166007903,0.81062964426877482,9.2950932806324091E-2,0.83416867193675892,0.15832228458498024,11,null,21.605419079710146,null,null,{"$f":"IF(COUNT(AA172:AA176)<3,\"\",AVERAGE(AA172:AA176))","v":101.59471278985507},90.594712789855066,72.300218862318829,2.4520901956521737,9.5263644818840589,3.5391833333333338,0.43867056884057964,2.2312508043478263,0.10693448913043477,11,{"$f":"J202","v":7.4552014703557319},{"$f":"M202/M202","v":1},{"$f":"O202/M202","v":0.26278432305735816},{"$f":"P202/M202","v":4.2513588831378575E-2},{"$f":"Q202/M202","v":9.0005415658793553E-2},{"$f":"R202/M202","v":3.8010417624422949E-2},{"$f":"S202/M202","v":4.3584685059662193E-3},{"$f":"T202/M202","v":3.9114162446067129E-2},{"$f":"U202/M202","v":7.4237306751300195E-3},{"$f":"V202/M202","v":0.51578991321716472},{"$f":"X202","v":21.605419079710146},{"$f":"AA202/AA202","v":1},{"$f":"AC202/AA202","v":0.71165336144873181},{"$f":"AD202/AA202","v":2.413600204495122E-2},{"$f":"AE202/AA202","v":9.3768309592931226E-2},{"$f":"AF202/AA202","v":3.4836294489596173E-2},{"$f":"AG202/AA202","v":4.3178484076031951E-3},{"$f":"AH202/AA202","v":2.1962272869091984E-2},{"$f":"AI202/AA202","v":1.0525595889190103E-3},{"$f":"AJ202/AA202","v":0.10827335102322791},{"$f":"J202","v":7.4552014703557319},{"$f":"BE202","v":7.4552014703557319},{"$f":"BE202*AM202","v":1.9591100716436523},{"$f":"BE202*AN202","v":0.31694736996579259},{"$f":"BE202*AO202","v":0.67100850715941651},{"$f":"BE202*AP202","v":0.28337532136243337},{"$f":"BE202*AQ202","v":3.2493260814178505E-2},{"$f":"BE202*AR202","v":0.29160396137965261},{"$f":"BE202*AS202","v":5.5345407844754273E-2},{"$f":"BE202*AT202","v":3.8453177194112618},{"$f":"X202","v":21.605419079710146},{"$f":"BO202","v":21.605419079710146},{"$f":"BO202*AW202","v":15.375569113584291},{"$f":"BO202*AX202","v":0.52146843908991214},{"$f":"BO202*AY202","v":2.0259036251512841},{"$f":"BO202*AZ202","v":0.75265274163192253},{"$f":"BO202*BA202","v":9.3288924368926135E-2},{"$f":"BO202*BB202","v":0.47450410927968045},{"$f":"BO202*BC202","v":2.2740991024962652E-2},{"$f":"BO202*BD202","v":2.3392911240214023},{"$f":"IF(COUNT(BY172:BY176)<3,\"\",AVERAGE(BY172:BY176))","v":2.7442658868184955},1.5046938735177868,2.9041119876403791,1.6846810671936758,0.71876247826086959,0.11070673122529644,0.65476494071146241,8.1062964426877465E-2,9.2950932806324091E-2,1.3902809051383398,2.6432422924901187E-2,5.1276837944664033E-3,8.5802371541501981E-5,7.1316205533596849E-4,5.9189960474308311E-3,0.11491664031620555,4.4821027667984195E-2,2.262252964426878E-3,1.3843913043478262E-2,5.8580553359683797E-2,0.12280450592885375,9.7944229249011847E-2,7.954873517786562E-2,0.37272193675889331,1.8551443628834936E-2,3.8026482213438732E-4,2.6331225296442689E-4,2.282727272727273E-4,6.328750988142293E-3,6.570830039525691E-4,1.5273648221343875E-2,3.3464426877470355E-4,2.0598418972332016E-4,8.5188057594579342E-2,5.987406361754188E-3,2.9892094861660079E-4,1.4739205533596839E-2,9.8754940711462446E-5,9.0980237154150213E-5,2.0355011857707505E-2,3.1155889328063242E-2,8.5996047430830037E-5,0.49614766045548658,0.17490817786561266,8.7415810276679842E-4,6.0464822134387352E-4,1.8391146245059285E-3,2.1833992094861659E-5,197.94580524901184,14.217519927536234,11.031268442028985,14.051328892857146,10.878264177536233,6.997546079710145,0.29003000362318843,2.780294413043479,0.35391833333333339,0.43867056884057964,3.7187511086956517,1.7804619565217391E-2,1.5644260869565215E-2,2.8702536231884062E-4,2.1411775362318837E-3,1.9123340579710147E-2,{"$f":"IF(COUNT(EK172:EK176)<3,\"\",AVERAGE(EK172:EK176))","v":0.55455721014492754},9.3320289855072472E-2,4.168985507246376E-3,0.10458079710144925,0.33739384057971017,0.39811333333333332,0.4208857971014493,0.29556380434782603,1.5565375724637682,-0.10114864389233955,1.6083333333333336E-5,2.4624637681159423E-4,6.0108333333333335E-4,2.3204384057971018E-2,1.8162427536231884E-3,1.6411974637681161E-2,8.7516666666666667E-4,6.8618840579710155E-4,0.22444889751552796,1.752679089026915E-2,0,3.9898913043478264E-2,2.0704347826086956E-4,7.5728260869565211E-4,0.12146470289855071,9.9532865942028981E-2,2.2187318840579708E-4,5.1593654761904766,1.6963747971014491,3.9271014492753623E-3,1.7404818840579708E-3,5.6209673913043476E-3,5.196739130434783E-5,51.679185525362321]
["GRGU1","2002-06",null,null,null,null,null,null,null,7.088413046113307,null,null,{"$f":"IF(COUNT(M173:M177)<3,\"\",AVERAGE(M173:M177))","v":20.60354983267457},9.6035498326745721,5.2586380055994724,0.76522042193675888,1.8130487984189725,0.77049782608695661,7.6963099472990765E-2,0.75611399011857705,0.16306786034255599,11,null,21.059466202898552,null,null,{"$f":"IF(COUNT(AA173:AA177)<3,\"\",AVERAGE(AA173:AA177))","v":96.944919934782604},85.944919934782604,68.641731916666672,2.2327618695652172,8.981359271739132,3.358740942028986,0.41567436594202894,2.1949392173913043,0.11971186594202898,11,7.088413046113307,1,0.25522970790499178,3.7140222347666424E-2,8.7996913791220155E-2,3.7396362876510075E-2,3.7354290934340463E-3,3.6698238714159725E-2,7.9145516994334354E-3,0.53388858178969822,21.059466202898552,1,0.70804877617975004,2.3031241565491568E-2,9.2643939236642089E-2,3.4645868440435039E-2,4.2877374721817709E-3,2.2641095777560058E-2,1.2348441364700936E-3,0.1134664921833964,7.088413046113307,7.088413046113307,1.8091735912694324,0.26326523662474766,0.62375847173539289,0.2650808664910414,2.6478264318729097E-2,0.26013227407083023,5.610161152040221E-2,3.7844227883290285,21.059466202898552,21.059466202898552,14.911129271961126,0.48502565335926201,1.9510319072574511,0.72962349549141126,9.0297462382313676E-2,0.47680939132411515,2.6005158357839384E-2,2.3895437572976892,{"$f":"IF(COUNT(BY173:BY177)<3,\"\",AVERAGE(BY173:BY177))","v":2.6702928312629401},1.4100805401844532,2.821354293195935,1.565750317193676,0.67171922826086949,9.3301428194993402E-2,0.61947553162055335,7.7049782608695633E-2,7.6963099472990765E-2,1.2601900111989461,2.7239786561264821E-2,5.4468504611330706E-3,6.1105401844532278E-5,6.5723781291172608E-4,5.2614051383399214E-3,0.11456611001317522,4.4795648880105406E-2,1.9807378129117264E-3,6.5772463768115951E-3,5.9542674571804996E-2,0.11947639986824768,8.9773395915678539E-2,8.2355326086956532E-2,0.35772504281949941,2.4956216356107661E-2,3.3326482213438737E-4,6.3971343873517783E-5,2.0689393939393941E-4,5.2780161396574444E-3,5.937723978919632E-4,1.5332989130434783E-2,2.3237154150197625E-4,1.6071903820816868E-4,7.169570910973086E-2,4.2713457556935817E-3,3.5392094861660083E-4,1.2762402503293807E-2,7.4489789196310934E-5,7.6518115942028996E-5,1.5655458827404479E-2,3.0064957509881429E-2,9.3170289855072457E-5,0.45967349378881989,0.16350382938076419,4.851581027667984E-4,3.629588274044796E-4,1.6817964426877469E-3,2.173550724637681E-5,206.26421012779974,14.012962427536232,10.354730398550725,13.787828642857145,10.389720623188406,6.7142281884057979,0.26877362318840581,2.6352742826086963,0.3358740942028986,0.41567436594202894,3.6582320289855068,1.9895829710144926E-2,1.862471376811594E-2,2.6120289855072459E-4,2.1031014492753622E-3,1.722161231884058E-2,{"$f":"IF(COUNT(EK173:EK177)<3,\"\",AVERAGE(EK173:EK177))","v":0.57385648550724633},9.5448840579710148E-2,4.0683333333333335E-3,9.1700615942028968E-2,0.33512612318840584,0.35253568840579708,0.36838818840579712,0.3336785507246377,1.4814291666666666,-4.5594404761904753E-2,1.6083333333333336E-5,9.9902173913043465E-5,5.881594202898551E-4,2.2209572463768115E-2,1.7496920289855069E-3,1.5631608695652173E-2,7.7543478260869571E-4,4.9090217391304356E-4,0.20797107142857141,1.5352261904761905E-2,0,3.8079641304347829E-2,1.8101811594202897E-4,7.0149999999999998E-4,0.11385527536231883,9.6209351449275365E-2,2.3493478260869561E-4,4.7543154761904765,1.6276915724637682,1.7931594202898551E-3,1.0892101449275361E-3,5.3969637681159418E-3,6.1347826086956524E-5,54.686645913043478]
["GRGU1","2003-07",null,null,null,null,null,null,null,6.9067240461133066,null,null,{"$f":"IF(COUNT(M174:M178)<3,\"\",AVERAGE(M174:M178))","v":20.202103808959158},9.2021038089591567,5.1076270372200261,0.68792697924901181,1.7058762727272729,0.74056660079051384,8.4428178524374162E-2,0.75902934980237158,0.1166496350461133,11,null,20.586243626811594,null,null,{"$f":"IF(COUNT(AA174:AA178)<3,\"\",AVERAGE(AA174:AA178))","v":88.496567021739139},77.496567021739139,60.393688021739123,2.0658144130434781,8.9383436702898535,3.3024072463768119,0.38231786594202893,2.2699718043478261,0.14402334782608697,11,6.9067240461133066,1,0.25282649200896162,3.4052244546131497E-2,8.4440526039211664E-2,3.6657895028838032E-2,4.1791775412485625E-3,3.7571797322700613E-2,5.774133038281979E-3,0.54449774657240191,20.586243626811594,1,0.68244102629318315,2.3343441249376509E-2,0.10100215150825177,3.7316783661964843E-2,4.3201434678038159E-3,2.5650393916299696E-2,1.6274455910895132E-3,0.12429860694254789,6.9067240461133066,6.9067240461133066,1.746202811852769,0.2351894562308971,0.58320741166148005,0.25318596507557306,2.8864426017118132E-2,0.25949803602439186,3.9880343500959432E-2,3.7606956793061177,20.586243626811594,20.586243626811594,14.048897228202804,0.48055376864782801,2.079254897781007,0.76821239983423073,8.8935525930988038E-2,0.52804525828463156,3.3502991427549117E-2,2.5588414049925858,{"$f":"IF(COUNT(BY174:BY178)<3,\"\",AVERAGE(BY174:BY178))","v":2.6780554004329002},1.412595994729908,2.7732339967532473,1.4989459891304349,0.65357091600790507,8.3868052700922263E-2,0.58369708102766793,7.4056660079051373E-2,8.4428178524374162E-2,1.2650489440052701,1.9324162055335967E-2,6.5523168642951258E-3,5.6650856389986827E-5,6.8447496706192362E-4,5.5153695652173911E-3,0.12014638669301714,4.2499561923583659E-2,1.6933465085638998E-3,2.997799736495387E-3,5.9671607378129113E-2,0.11762699275362318,8.0425569828721996E-2,8.7273428853754942E-2,0.34799539855072464,1.9164358648597779E-2,2.7674308300395259E-4,7.9797430830039526E-5,2.0285836627140976E-4,5.687573451910408E-3,5.8051548089591573E-4,1.4481004940711464E-2,2.3293675889328062E-4,1.9087714097496707E-4,6.4403100414078679E-2,2.5895670995670999E-3,2.744426877470356E-4,1.2409872859025031E-2,6.7094532279314881E-5,7.6976613965744405E-5,1.7447569499341238E-2,2.6249676877470356E-2,1.017473649538867E-4,0.44397108272162616,0.15915714953886695,5.5013833992094874E-4,3.9736989459815549E-4,1.7580849802371543E-3,3.3154479578392625E-5,209.81913298550725,13.618129782608696,9.833195615942028,13.437073142857145,9.7831280144927533,6.1393873115942039,0.25097242753623189,2.6564913260869569,0.33024072463768117,0.38231786594202893,3.7832863405797097,2.3717942028985507E-2,1.4700967391304349E-2,2.548405797101449E-4,2.0948949275362313E-3,1.7670829710144925E-2,{"$f":"IF(COUNT(EK174:EK178)<3,\"\",AVERAGE(EK174:EK178))","v":0.64766181159420289},9.3005978260869565E-2,3.5953623188405793E-3,7.906510869565217E-2,0.34729188405797101,0.3441260144927536,0.32946590579710144,0.40814836956521738,1.508097282608696,-7.3180641821946144E-3,8.0000000000000013E-6,1.0334420289855075E-4,6.0039855072463769E-4,2.2656865942028988E-2,1.7330543478260869E-3,8.2304275362318855E-3,7.758731884057971E-4,4.9876086956521736E-4,0.19420991200828155,1.3095559006211181E-2,0,3.861955797101449E-2,1.7303985507246376E-4,6.4685869565217382E-4,0.10386469202898549,6.0152652173913045E-2,2.2840942028985508E-4,4.361707142857143,1.488956536231884,1.7584275362318841E-3,1.0436920289855071E-3,5.4722826086956522E-3,4.3079710144927535E-5,55.774053644927527]
["GRGU1","2004-08",null,null,null,null,null,null,null,6.769793350461133,null,null,{"$f":"IF(COUNT(M175:M179)<3,\"\",AVERAGE(M175:M179))","v":19.908202524374175},8.9082025243741771,4.9810757684453231,0.66374280533596841,1.6226435533596839,0.67142667984189719,8.7965917654808948E-2,0.71868689130434782,0.16265999077733859,11,null,19.674980929841901,null,null,{"$f":"IF(COUNT(AA175:AA179)<3,\"\",AVERAGE(AA175:AA179))","v":80.983787438405813},69.983787438405813,54.807678991436106,1.7907926857707508,7.9183473672595515,2.9377117918313571,0.3626245174571805,2.0177777588932804,0.14885409025032939,11,6.769793350461133,1,0.25020218487062562,3.3340167427136094E-2,8.1506281211125686E-2,3.3726132684246631E-2,4.4185765915888079E-3,3.6100039188592697E-2,8.1705011076810864E-3,0.55253607082469591,19.674980929841901,1,0.67677347188931392,2.211297770103407E-2,9.7776945456916828E-2,3.6275307499858599E-2,4.4777421373751302E-3,2.4915823558239361E-2,1.8380727174997092E-3,0.13582965613168335,6.769793350461133,6.769793350461133,1.6938170874080085,0.22570604375148678,0.55178068056389384,0.22831894878258271,2.9912850428241128E-2,0.24438980525032117,5.5312604068714737E-2,3.7405550181589482,19.674980929841901,19.674980929841901,13.315505153245144,0.43507241456986451,1.9237595372430303,0.71371598328386876,8.8099491161605203E-2,0.49021835335966502,3.6164045664469457E-2,2.6724458940978528,{"$f":"IF(COUNT(BY175:BY179)<3,\"\",AVERAGE(BY175:BY179))","v":2.6077382575757575},1.4094575757575758,2.6544798062770569,1.4544653685770752,0.63593056818181826,8.1065803689064561E-2,0.55557403754940715,6.7142667984189705E-2,8.7965917654808948E-2,1.1978114578392625,2.6785703557312253E-2,6.9500757575757573E-3,4.5484848484848483E-5,7.0080303030303033E-4,5.8296818181818189E-3,0.12343543807641635,3.8884581686429512E-2,7.3204216073781295E-4,-6.1283267457180586E-4,5.9460461133069832E-2,0.11217924571805007,7.316256587615283E-2,9.2564772727272732E-2,0.33675421277997364,1.7213884340297383E-2,2.1586363636363639E-3,7.7931818181818178E-5,1.9989393939393941E-4,5.6174469696969693E-3,6.2241666666666673E-4,1.2149795454545455E-2,2.4545454545454545E-4,1.9137121212121211E-4,6.2279266421983823E-2,1.1660097873141349E-3,3.4281818181818182E-4,1.2298924242424243E-2,7.0553030303030295E-5,7.399242424242425E-5,1.866844696969697E-2,1.9474613636363637E-2,1.1144696969696968E-4,0.429970845567476,0.15498246969696972,5.5754545454545456E-4,3.6194696969696967E-4,1.8299545454545454E-3,3.8992424242424247E-5,212.46445793412386,12.418184858366272,9.0520104644268748,12.188414158008658,8.9346485220685103,5.6469112964426884,0.21739269268774705,2.3893653260869567,0.29377117918313572,0.3626245174571805,3.3629629314888012,2.4583699604743083E-2,1.523637648221344E-2,2.2960573122529645E-4,1.9755388669301715E-3,1.6506905467720687E-2,{"$f":"IF(COUNT(EK175:EK179)<3,\"\",AVERAGE(EK175:EK179))","v":0.64896597826086955},8.8390750988142294E-2,2.2633168642951255E-3,5.6061775362318843E-2,0.32485567193675891,0.27820169631093544,0.26590454216073783,0.43942299077733854,1.3644466765480896,1.6202996423865988E-2,0,1.0100329380764166E-4,5.8745915678524367E-4,2.1575146245059289E-2,1.6392134387351778E-3,5.1295260210803689E-3,7.2910803689064561E-4,5.1819268774703554E-4,0.16827165443252398,1.0151619612271786E-2,0,3.5330914031620551E-2,1.6999440052700924E-4,5.8838142292490117E-4,9.7994517786561264E-2,3.9605629446640311E-2,2.3417457180500658E-4,3.9800272943722943,1.3701964225955201,1.6931851119894599E-3,9.3659354413702222E-4,5.0848432147562583E-3,4.547364953886693E-5,61.071297804018442]
["GRGU1","2005-09",null,null,null,null,null,null,null,6.5589679924242414,null,null,{"$f":"IF(COUNT(M176:M180)<3,\"\",AVERAGE(M176:M180))","v":19.481599242424242},8.4815992424242417,4.7705793844696975,0.60811752840909095,1.5194121590909091,0.64364204545454551,7.9290549242424235E-2,0.70214937499999996,0.15840640151515151,11,null,19.350152308135705,null,null,{"$f":"IF(COUNT(AA176:AA180)<3,\"\",AVERAGE(AA176:AA180))","v":77.297305235507253},66.297305235507238,52.060896135128459,1.5301858572134388,7.4449753549077728,2.8343793231225298,0.32250908432147563,1.9938915736166007,0.11046823781291172,11,6.5589679924242414,1,0.24487616879424415,3.1214969615267495E-2,7.7992167900782519E-2,3.3038460418224488E-2,4.0700226021361027E-3,3.6041670206979695E-2,8.131077923530872E-3,0.56463537018284271,19.350152308135705,1,0.67351502069199942,1.9796108707170471E-2,9.6316104839937577E-2,3.6668539924992506E-2,4.1723198931562233E-3,2.5795098128475087E-2,1.4291343983640853E-3,0.1423076776931034,6.5589679924242414,6.5589679924242414,1.6061349532289233,0.20473798659103473,0.51154813292100987,0.21669820440210963,2.6695147975853921E-2,0.2363961612810902,5.3331479844346351E-2,3.7034253204198784,19.350152308135705,19.350152308135705,13.03261823220736,0.38305771859216003,1.8637312983791587,0.70954183246556002,8.0735025410837408E-2,0.49913907758929921,2.7653968277140936E-2,2.7536752379786367,{"$f":"IF(COUNT(BY176:BY180)<3,\"\",AVERAGE(BY176:BY180))","v":2.5672728219696972},1.3747617424242424,2.5719664623917753,1.3745549715909091,0.60969821022727277,7.4060189393939393E-2,0.52113732954545466,6.4364204545454537E-2,7.9290549242424235E-2,1.1702489962121212,2.6003977272727269E-2,5.5552083333333339E-3,3.9469696969696974E-5,6.5770833333333339E-4,5.6532386363636377E-3,0.12865842803030306,3.9704640151515147E-2,7.1287878787878783E-4,-3.3356060606060615E-3,5.8079924242424238E-2,0.10457623106060605,6.4796685606060597E-2,0.10053096590909091,0.32464820075757572,1.6773877164502161E-2,2.698295454545455E-3,6.014204545454545E-5,1.7907196969696971E-4,5.2854450757575753E-3,5.7222537878787887E-4,2.917357954545455E-3,2.2522727272727272E-4,1.7057765151515152E-4,5.6707778679653681E-2,-5.1531385281385306E-4,3.4795454545454539E-4,1.1171496212121212E-2,5.9895833333333323E-5,5.7376893939393939E-5,1.7313854166666667E-2,1.7749857954545454E-2,1.0680871212121211E-4,0.40057877435064937,0.14799638257575759,5.2454545454545462E-4,3.1197916666666662E-4,1.725965909090909E-3,4.1013257575757579E-5,217.06264393939395,11.990051906291173,8.6628849555335954,11.515695510010822,8.5140664859189723,5.4402222455533611,0.18650399085968378,2.2634085326086959,0.28343793231225295,0.32250908432147563,3.3231526226943342,1.798483283926219E-2,1.5355887269433467E-2,2.0409049736495389E-4,1.8936944169960475E-3,1.6459465167984192E-2,{"$f":"IF(COUNT(EK176:EK180)<3,\"\",AVERAGE(EK176:EK180))","v":0.68892518115942036},9.3105105401844537E-2,2.2989377470355732E-3,5.1908469202898551E-2,0.3248727149209486,0.22552295372200262,0.20856296936758895,0.49285894680500653,1.3037260540184454,1.2640203863165819E-2,0,9.7608283926218709E-5,5.544281126482213E-4,2.1323516139657446E-2,1.5248501317523058E-3,2.7435741930171278E-3,7.0826004611330702E-4,4.9253252635046111E-4,0.14426456804065499,8.0968161820063993E-3,0,3.3862392539525693E-2,1.4624300065876154E-4,5.3360177865612653E-4,8.2644188899868257E-2,3.3037765974967062E-2,2.2823904808959156E-4,3.6641362012987013,1.3204020907444003,1.6862730566534912E-3,8.2459609683794449E-4,4.8132415184453225E-3,5.1112895256916995E-5,62.76731808835639]
["GRGU1","2006-10",null,null,null,null,null,null,null,6.516507777777778,null,null,{"$f":"IF(COUNT(M177:M181)<3,\"\",AVERAGE(M177:M181))","v":19.35735595959596},8.3573559595959601,4.7072499368686875,0.54555761363636357,1.5036256060606059,0.60835606060606062,8.8878308080808086E-2,0.73347704545454551,0.17020944444444441,11,null,18.964668294905579,null,null,{"$f":"IF(COUNT(AA177:AA181)<3,\"\",AVERAGE(AA177:AA181))","v":74.975959589371982},63.975959589371989,49.715161513504619,1.5907996936758895,7.4740129369784798,2.6992014163372855,0.35564747474747471,2.0388334025032937,0.1023030127360562,11,6.516507777777778,1,0.24317628640471312,2.8183477886912341E-2,7.7677220442661662E-2,3.1427642384417809E-2,4.5914487632671098E-3,3.7891385940595948E-2,8.79301102897098E-3,0.56825942669856233,18.964668294905579,1,0.66308136349016944,2.1217463602845158E-2,9.9685458884582773E-2,3.6000891900820751E-2,4.7434868015732417E-3,2.7193161830399607E-2,1.3644775378181073E-3,0.14671369409934534,6.516507777777778,6.516507777777778,1.5846601617274296,0.18365785285489228,0.50618421117076373,0.2047984760352772,2.9920211577098281E-2,0.24691951119267305,5.7299724760375176E-2,3.7030669738767226,18.964668294905579,18.964668294905579,12.575118111124779,0.40238215928719068,1.8905016615715606,0.68274497321981831,8.9958653753099124E-2,0.51570929400321597,2.5876863900569889E-2,2.7823765429143301,{"$f":"IF(COUNT(BY177:BY181)<3,\"\",AVERAGE(BY177:BY181))","v":2.6565431277056279},1.4196474747474745,2.5916533784271287,1.3582407196969699,0.59854428030303042,6.6306616161616164E-2,0.51569522727272732,6.0835606060606062E-2,8.8878308080808086E-2,1.2224618434343435,2.7980151515151513E-2,6.2455808080808086E-3,4.2323232323232322E-5,6.9694444444444448E-4,5.9797727272727285E-3,0.12678396464646466,3.8091035353535342E-2,5.9444444444444443E-4,-3.3808080808080815E-3,5.582626262626262E-2,0.10319103535353535,6.1250126262626249E-2,0.10150795454545454,0.31839457070707067,1.757310606060606E-2,3.592575757575758E-3,5.9734848484848477E-5,1.7694444444444444E-4,5.7249873737373726E-3,5.9372474747474747E-4,3.1829924242424245E-3,2.2484848484848486E-4,1.6486111111111109E-4,5.1496085858585859E-2,-2.093434343434343E-3,3.6939393939393935E-4,1.0953055555555556E-2,5.5618686868686862E-5,5.6654040404040407E-5,1.9949684343434342E-2,2.0455568181818182E-2,1.1074494949494948E-4,0.38817487373737364,0.14535593434343438,5.5484848484848486E-4,2.7551767676767676E-4,1.6418939393939395E-3,4.8320707070707077E-5,217.43824479797982,11.921972106938957,8.5185639986824757,11.420814330808083,8.3460170536890654,5.2283254578392633,0.19683706027667988,2.278406739130435,0.26992014163372852,0.35564747474747471,3.3980556708388234,1.6879922046552479E-2,1.8115965634606938E-2,2.0067138779095303E-4,2.024201251646904E-3,1.7531460803689065E-2,{"$f":"IF(COUNT(EK177:EK181)<3,\"\",AVERAGE(EK177:EK181))","v":0.68570748792270531},8.3853184014053575E-2,1.8652503293807639E-3,4.771998792270532E-2,0.32208535902503294,0.22923640206411947,0.21348975625823452,0.49506990008783486,1.307601405357927,1.1679001976284584E-2,0,9.7390755379885813E-5,5.6952733860342558E-4,2.1898456302151956E-2,1.552119016249451E-3,2.810417764602547E-3,7.4362209046991649E-4,4.5395641194554234E-4,0.15280513833992093,6.5767072902942455E-3,0,3.3404204545454542E-2,1.3759936319718928E-4,5.2813570487483536E-4,9.2284570707070704E-2,3.397962999560826E-2,2.4359409310496265E-4,3.5003196969696968,1.2695532224418093,1.8086539306104525E-3,6.3438899868247694E-4,4.7924379666227489E-3,5.7570816864295125E-5,65.47500426273605]
["GRGU1","2007-11",null,null,null,null,null,null,null,6.50488880952381,null,null,{"$f":"IF(COUNT(M178:M182)<3,\"\",AVERAGE(M178:M182))","v":19.270311753246755},8.2703117532467534,4.4570551948051955,0.63355739538239531,1.5166771933621934,0.56452669552669554,7.7364062049062043E-2,0.77092851370851356,0.25020087301587296,11,null,18.211400138339922,null,null,{"$f":"IF(COUNT(AA178:AA182)<3,\"\",AVERAGE(AA178:AA182))","v":66.963464387351777},55.96346438735177,41.284526324110665,1.6927171936758896,8.0412033662714091,2.5830915678524371,0.29828939393939397,1.9142692358366273,0.14936836627140973,11,6.50488880952381,1,0.2312912864035139,3.2877381720389162E-2,7.8705379175127058E-2,2.9295151150400114E-2,4.0146762045002917E-3,4.0006021883824676E-2,1.2983748069032557E-2,0.57082626066735365,18.211400138339922,1,0.61652315485500164,2.5278220133359976E-2,0.12008344311096084,3.8574640536972245E-2,4.4545095847181946E-3,2.8586771209498523E-2,2.2305949615656802E-3,0.16426868144650095,6.50488880952381,6.50488880952381,1.5045241006665842,0.21386371243940214,0.51196974024561226,0.19056170089154628,2.6115022316515472E-2,0.26023472406565579,8.4457837519926263E-2,3.7131613551973901,18.211400138339922,18.211400138339922,11.227749867616142,0.46035178163365886,2.1868876324832862,0.70249821401142909,8.1122856467373439E-2,0.52060512915935309,4.0622257391637565E-2,2.9915626880197239,{"$f":"IF(COUNT(BY178:BY182)<3,\"\",AVERAGE(BY178:BY182))","v":2.7442222943722943},1.4383313636363635,2.6525358506493508,1.3470593506493505,0.57338517316017323,7.753883838383839E-2,0.52050844155844167,5.6452669552669553E-2,7.7364062049062043E-2,1.2848808513708514,4.1809675324675326E-2,5.4878030303030303E-3,6.1045454545454535E-5,6.8166666666666668E-4,5.4796060606060607E-3,0.12424646464646465,3.1931313131313123E-2,3.4285714285714285E-4,-1.3593795093795097E-3,4.9735786435786432E-2,0.10144559884559884,6.5708658008657994E-2,9.7857359307359323E-2,0.3133880230880231,2.5031240981240977E-2,5.0944090909090913E-3,6.7818181818181814E-5,1.8583333333333334E-4,5.4171818181818175E-3,5.4536363636363636E-4,3.6200757575757573E-3,2.1251515151515151E-4,1.3333333333333331E-4,6.0203030303030307E-2,2.4478354978354987E-3,4.8106060606060611E-4,1.1325166666666669E-2,7.2924242424242419E-5,5.3015151515151513E-5,1.613521212121212E-2,2.3431818181818179E-2,9.86060606060606E-5,0.38826197691197689,0.13949954545454546,5.6368181818181832E-4,2.2287878787878788E-4,1.7033939393939395E-3,3.3681818181818173E-5,216.76701527417026,11.322635718050066,8.0691874835309623,10.77291146969697,7.6967062582345198,4.4776917457180501,0.20528081027667988,2.4324199209486168,0.25830915678524374,0.29828939393939397,3.1904486758893285,2.4714947299077732E-2,1.6751205533596839E-2,2.1429512516469041E-4,2.073405797101449E-3,1.6436574440052702E-2,{"$f":"IF(COUNT(EK178:EK182)<3,\"\",AVERAGE(EK178:EK182))","v":0.68164486166007909},7.7821870882740438E-2,1.4705533596837943E-3,3.853274044795784E-2,0.33359104084321478,0.27246152832674575,0.24119505928853754,0.49828669301712769,1.3840670619235838,1.5699077733860343E-2,2.8469696969696972E-4,1.110144927536232E-4,4.9411067193675881E-4,2.0804314888010541E-2,1.5050988142292492E-3,4.2472990777338605E-3,7.6647562582345173E-4,3.9434782608695646E-4,0.15935059288537548,7.0212779973649539E-3,4.3181818181818187E-4,3.2854090909090909E-2,1.0299077733860343E-4,4.4434782608695654E-4,7.2543030303030318E-2,3.3319907773386039E-2,2.3489459815546768E-4,3.0800333333333332,1.0875815810276677,1.6099670619235836E-3,5.268511198945981E-4,4.9048748353096175E-3,-2.0421607378129125E-5,69.086742911725963]
["GRGU1","2008-12",null,null,null,null,null,null,null,6.1556825974025982,null,null,{"$f":"IF(COUNT(M179:M183)<3,\"\",AVERAGE(M179:M183))","v":18.600360541125543},7.6003605411255419,3.8921741341991338,0.64348951659451659,1.4930085569985572,0.50086002886002889,6.6547698412698419E-2,0.74207851370851363,0.26220193362193361,11,null,16.143343181818178,null,null,{"$f":"IF(COUNT(AA179:AA183)<3,\"\",AVERAGE(AA179:AA183))","v":52.899413083003957},41.899413083003957,29.159843280632412,1.6526511067193679,6.8155923517786574,2.097439393939394,0.23099649538866932,1.8203121343873523,0.12257909090909092,11,6.1556825974025982,1,0.20925261774326934,3.4595539972021305E-2,8.0267721353976099E-2,2.6927436581276123E-2,3.5777638968643075E-3,3.9895920945605984E-2,1.4096604904093289E-2,0.59138638606917937,16.143343181818178,1,0.55123188672959345,3.1241388333103224E-2,0.12884060435763961,3.964957778734373E-2,4.3667118768636421E-3,3.4410819105518582E-2,2.3172107924288926E-3,0.20794181558763244,6.1556825974025982,6.1556825974025982,1.2880926975031812,0.21295916335351753,0.4941026154718316,0.16575675275602356,2.2023578957542922E-2,0.24558662627221656,8.6774225490587178E-2,3.6403868850668619,16.143343181818178,16.143343181818178,8.8987255202369528,0.50434045333773592,2.079918091898235,0.64007674123528491,7.0493328404331132E-2,0.55550566198785212,3.7407529046792461E-2,3.356876090881499,{"$f":"IF(COUNT(BY179:BY183)<3,\"\",AVERAGE(BY179:BY183))","v":2.5977025974025971},1.3405419696969698,2.4782652445887448,1.2507837445887446,0.49950562770562773,7.8397020202020204E-2,0.51300844155844161,5.008600288600288E-2,6.6547698412698419E-2,1.2367975180375181,4.3239069264069264E-2,5.2781060606060595E-3,5.0287878787878792E-5,5.9666666666666668E-4,5.2535454545454543E-3,0.10899646464646466,2.8161616161616155E-2,1.6558441558441557E-4,-8.7033189033189021E-3,4.5147907647907659E-2,0.1002152958152958,6.8835930735930723E-2,8.6813419913419912E-2,0.29230923520923519,2.5653968253968252E-2,9.9450151515151509E-3,5.7212121212121205E-5,1.521969696969697E-4,5.0938484848484849E-3,4.64E-4,3.7294696969696964E-3,2.1554545454545456E-4,6.9848484848484846E-5,6.0834848484848492E-2,4.72965367965368E-3,6.9030303030303034E-4,1.1715166666666667E-2,5.8681818181818184E-5,3.6803030303030301E-5,1.2566121212121211E-2,2.4369242424242422E-2,9.1484848484848483E-5,0.33698621933621936,0.1215010606060606,5.1837878787878782E-4,9.9999999999999991E-5,1.4844545454545455E-3,5.7772727272727272E-5,224.75557860750359,9.8116621500721504,6.5773367588932814,9.0268692474747478,6.0758368379446646,3.3214266732542819,0.1974864624505929,2.0963233992094863,0.2097439393939394,0.23099649538866932,3.0338536034255603,1.9859440052700923E-2,1.7741785243741769E-2,1.6545454545454545E-4,1.7654347826086961E-3,1.4066864295125166E-2,{"$f":"IF(COUNT(EK179:EK183)<3,\"\",AVERAGE(EK179:EK183))","v":0.54001732542819492},7.4556653491436087E-2,5.4591567852437428E-4,1.3292160737812912E-2,0.27574321475625824,0.27077602108036891,0.2082776679841897,0.40445625823451908,1.1725453227931488,1.3087483530961792E-2,4.1150856389986831E-4,1.3681159420289858E-4,4.4671936758893275E-4,1.8548807641633729E-2,1.2965480895915681E-3,5.9020816864295131E-3,7.3618577075098808E-4,2.9057971014492752E-4,0.15324479578392622,5.9357707509881423E-3,1.1726877470355733E-3,3.018409090909091E-2,6.2555994729907778E-5,3.1840579710144926E-4,4.8679407114624512E-2,2.7080777338603423E-2,2.141699604743083E-4,2.1977159420289856,0.80624114624505927,1.4137351778656128E-3,3.7351778656126476E-4,4.411251646903821E-3,4.5520421607378124E-5,83.540046534914367]
["GRGU1","2009-13",null,null,null,null,null,null,null,5.8728953246753255,null,null,{"$f":"IF(COUNT(M180:M184)<3,\"\",AVERAGE(M180:M184))","v":18.110612662337662},7.1106126623376618,3.6806942857142864,0.62248178932178932,1.3299943145743145,0.44564790764790768,5.1971789321789329E-2,0.70917366522366521,0.2706498124098124,11,null,15.402631686429514,null,null,{"$f":"IF(COUNT(AA180:AA184)<3,\"\",AVERAGE(AA180:AA184))","v":49.938254097496703},38.938254097496703,25.720615988142296,2.2302608695652175,6.6556363833992096,2.0367180500658759,0.20578172595520425,1.9197737681159424,0.16946851778656127,11,5.8728953246753255,1,0.20323411219370607,3.4371106098264999E-2,7.3437290022779544E-2,2.460700341599514E-2,2.8696869780594696E-3,3.9157905833768034E-2,1.4944265964709652E-2,0.6073786792909166,15.402631686429514,1,0.51504836228208495,4.4660369287460047E-2,0.13327731422898989,4.0784726796605657E-2,4.1207232746552835E-3,3.8442949254250687E-2,3.3935611256192548E-3,0.22027201789081782,5.8728953246753255,5.8728953246753255,1.1935726673169569,0.20185790830842007,0.43128951723160791,0.14451435531606763,1.6853371236727123E-2,0.22997028209521295,8.7766109714847912E-2,3.5670714059150979,15.402631686429514,15.402631686429514,7.9331002249296692,0.68788721911467565,2.052821383225663,0.6281921252797692,6.3469982881213055E-2,0.59212258830332343,5.2269772123298544E-2,3.3927687623988794,{"$f":"IF(COUNT(BY180:BY184)<3,\"\",AVERAGE(BY180:BY184))","v":2.4525106060606063},1.2639783333333332,2.3118019545454547,1.1566617748917749,0.48067668831168825,7.6127929292929289E-2,0.45872207792207792,4.4564790764790772E-2,5.1971789321789329E-2,1.181956002886003,4.4598614718614725E-2,5.1179545454545445E-3,5.6651515151515152E-5,5.4909090909090912E-4,4.5023333333333339E-3,9.1769191919191917E-2,2.4673737373737372E-2,2.7705627705627703E-5,-7.8987734487734485E-3,3.7031240981240977E-2,8.9097113997113994E-2,6.4710173160173162E-2,7.1905844155844154E-2,0.25484559884559882,2.6094877344877348E-2,9.900621212121213E-3,6.6606060606060608E-5,1.2204545454545454E-4,4.6179393939393939E-3,3.8218181818181819E-4,4.8559848484848482E-3,2.1796969696969698E-4,3.5909090909090915E-5,5.8993939393939383E-2,5.0902597402597413E-3,4.7666666666666669E-4,1.1052893939393941E-2,4.1106060606060605E-5,4.483333333333333E-5,7.9367272727272724E-3,2.3306363636363635E-2,7.1484848484848484E-5,0.32874227994227989,0.11677060606060606,4.4943939393939395E-4,6.6818181818181817E-5,1.2752121212121212E-3,4.9999999999999405E-7,232.10284178932181,9.7882409379509365,6.4194731225296451,8.8014333383838377,5.6819047299077736,2.9387395125164688,0.26482326086956526,2.041420790513834,0.20367180500658763,0.20578172595520425,3.1996229446640316,2.7467187088274041E-2,2.0808313570487486E-2,1.4812252964426878E-4,1.7474835309617921E-3,1.3454262187088275E-2,{"$f":"IF(COUNT(EK180:EK184)<3,\"\",AVERAGE(EK180:EK184))","v":0.50591442687747035},7.3769894598155472E-2,5.5494071146245055E-4,9.2936100131752308E-3,0.26180441370223978,0.27420876152832668,0.21224841897233201,0.37656745718050066,1.1341226613965742,1.6816271409749672E-2,7.0136363636363658E-4,1.6420948616600794E-4,4.2405797101449275E-4,1.9127259552042159E-2,1.1938010540184455E-3,6.953517786561266E-3,7.6474967061923582E-4,1.5158102766798419E-4,0.20528965744400529,9.3261528326745724E-3,1.4005138339920949E-3,3.1753708827404477E-2,4.4189723320158109E-5,2.7874835309617913E-4,3.5641007905138349E-2,2.0989202898550729E-2,1.8567852437417656E-4,1.9441245059288537,0.71242182476943328,1.5661923583662714E-3,2.2251646903820817E-4,4.3118511198945979E-3,1.8300395256916997E-4,91.529442193675891]
["GRGU1","2010-14",null,null,null,null,null,null,null,5.84319877611519,null,null,{"$f":"IF(COUNT(M181:M185)<3,\"\",AVERAGE(M181:M185))","v":18.099870475014118},7.0998704750141162,3.7479840838509322,0.61949634199134196,1.3465762794089968,0.45461636551853946,5.0463407208733296E-2,0.65430046630905325,0.22643496800301147,11,null,15.348369960474308,null,null,{"$f":"IF(COUNT(AA181:AA185)<3,\"\",AVERAGE(AA181:AA185))","v":49.400617203557317},38.40061720355731,25.638411773715418,2.276919456521739,6.263615113636364,1.9562015810276678,0.20181912055335971,1.8820864130434785,0.18156443181818183,11,{"$f":"J211","v":5.84319877611519},{"$f":"M211/M211","v":1},{"$f":"O211/M211","v":0.20707242568530088},{"$f":"P211/M211","v":3.4226562164990232E-2},{"$f":"Q211/M211","v":7.4397011916072647E-2},{"$f":"R211/M211","v":2.5117106011676299E-2},{"$f":"S211/M211","v":2.7880534989681428E-3},{"$f":"T211/M211","v":3.6149455721922394E-2},{"$f":"U211/M211","v":1.2510308751413032E-2},{"$f":"V211/M211","v":0.6077391556577656},{"$f":"X211","v":15.348369960474308},{"$f":"AA211/AA211","v":1},{"$f":"AC211/AA211","v":0.51898970549439227},{"$f":"AD211/AA211","v":4.6090911114320635E-2},{"$f":"AE211/AA211","v":0.12679224406907458},{"$f":"AF211/AA211","v":3.9598727541541784E-2},{"$f":"AG211/AA211","v":4.0853562562134706E-3},{"$f":"AH211/AA211","v":3.8098439241928142E-2},{"$f":"AI211/AA211","v":3.6753474368556565E-3},{"$f":"AJ211/AA211","v":0.22266928274750167},{"$f":"J211","v":5.84319877611519},{"$f":"BE211","v":5.84319877611519},{"$f":"BE211*AM211","v":1.2099653443315537},{"$f":"BE211*AN211","v":0.19999260615310138},{"$f":"BE211*AO211","v":0.43471652897462287},{"$f":"BE211*AP211","v":0.14676424310698244},{"$f":"BE211*AQ211","v":1.6291150792914325E-2},{"$f":"BE211*AR211","v":0.21122845543156718},{"$f":"BE211*AS211","v":7.3100220785079773E-2},{"$f":"BE211*AT211","v":3.5511406905367351},{"$f":"X211","v":15.348369960474308},{"$f":"BO211","v":15.348369960474308},{"$f":"BO211*AW211","v":7.9656460056055387},{"$f":"BO211*AX211","v":0.70742035559793026},{"$f":"BO211*AY211","v":1.9460542700909109},{"$f":"BO211*AZ211","v":0.60777592027160654},{"$f":"BO211*BA211","v":6.2703559240702617E-2},{"$f":"BO211*BB211","v":0.5847489404017655},{"$f":"BO211*BC211","v":5.6410592194141601E-2},{"$f":"BO211*BD211","v":3.4176105304421145},{"$f":"IF(COUNT(BY181:BY185)<3,\"\",AVERAGE(BY181:BY185))","v":2.3584677371541503},1.2630348369565216,2.2182252702569167,1.162938178994918,0.48997773362507052,7.5840294795783914E-2,0.46379438452851496,4.5461636551853944E-2,5.0463407208733296E-2,1.0905006978166762,3.7401026256352346E-2,4.9833572134387353E-3,5.4119071146245059E-5,5.2997035573122534E-4,4.2800108695652175E-3,9.0649720026350467E-2,2.6141172595520418E-2,3.4909655561829472E-5,-7.2762539996235652E-3,3.879625682288726E-2,9.1061965932618102E-2,6.3717412478825522E-2,7.1364165725578771E-2,0.25766354696028604,2.2102679747788446E-2,7.6878572134387356E-3,5.8650197628458495E-5,1.1859930830039524E-4,4.5316067193675895E-3,3.5294071146245063E-4,4.3363364624505922E-3,2.2456422924901185E-4,3.964920948616601E-5,5.8734584980237148E-2,6.9057382834556754E-3,4.1793478260869569E-4,1.0846192193675891E-2,4.5394762845849802E-5,4.0255434782608692E-5,7.8470019762845854E-3,1.9783033596837942E-2,6.9700592885375492E-5,0.32933279691323164,0.11896469367588933,4.3555780632411066E-4,5.6309288537549409E-5,1.2019525691699603E-3,1.1244565217391301E-5,233.62337568981744,9.6285035295501586,6.3648341897233207,8.567265547266139,5.5546516996047437,2.9161590909090909,0.2744146195652174,1.9370947233201581,0.19562015810276678,0.20181912055335971,3.136810686758893,2.9542999011857703E-2,2.0835909090909092E-2,1.528310276679842E-4,1.7400691699604744E-3,1.3047544466403162E-2,{"$f":"IF(COUNT(EK181:EK185)<3,\"\",AVERAGE(EK181:EK185))","v":0.48315647233201575},7.3671986166007911E-2,4.9011857707509875E-4,1.331042490118577E-2,0.2518957015810277,0.25246526679841891,0.19679392292490117,0.36169841897233201,1.0761637351778655,1.7954594861660081E-2,8.248270750988143E-4,1.4880928853754942E-4,4.4249999999999997E-4,1.8697727272727269E-2,1.1004594861660081E-3,7.1952470355731227E-3,7.2377964426877475E-4,1.4151185770750987E-4,0.21272485177865613,1.0144614624505929E-2,1.25701581027668E-3,3.0771368577075096E-2,3.7707509881422928E-5,2.6123517786561261E-4,3.4761842885375496E-2,2.3951793478260874E-2,1.8469367588932808E-4,1.9288607707509882,0.70694778162055316,1.4984486166007905E-3,2.0406126482213439E-4,4.0729100790513834E-3,2.3942687747035576E-4,91.54691012351779]
["GRGU1","2011-15",null,null,null,null,null,null,null,5.6578792113683427,null,null,{"$f":"IF(COUNT(M182:M186)<3,\"\",AVERAGE(M182:M186))","v":17.768485618106531},6.7684856181065314,3.532243648033127,0.59855250216450206,1.3626698806700546,0.4160426162243554,4.56506305288914E-2,0.62377865876152827,0.18954806964050441,11,null,15.166019968379448,null,null,{"$f":"IF(COUNT(AA182:AA186)<3,\"\",AVERAGE(AA182:AA186))","v":48.477718490118583},37.477718490118576,24.542765691699607,2.5115398379446638,6.3055947272727275,1.940160355731225,0.19876811462450594,1.7909880395256921,0.18790218181818183,11,5.6578792113683427,1,0.19879261091523084,3.3686185476299799E-2,7.6690265561036891E-2,2.3414635617590142E-2,2.5691908421487685E-3,3.5105898846319365E-2,1.0667654729525751E-2,0.61907357984355882,15.166019968379448,1,0.50626899235578227,5.1808127860980123E-2,0.13007201913922628,4.0021692772664125E-2,4.1001953230332339E-3,3.6944561239835506E-2,3.8760524973237491E-3,0.2269083682690673,5.6578792113683427,5.6578792113683427,1.12474458067092,0.19059236851665481,0.43390425923210818,0.13247718010252801,1.4536171455831443E-2,0.19862493527899022,6.0356301928238924E-2,3.5026435377042513,15.166019968379448,15.166019968379448,7.6780856474391364,0.78572310166398018,1.9726748395929394,0.60696979175857158,6.2183644143378049E-2,0.56030195348636269,5.8784289572899003E-2,3.4412968441610721,{"$f":"IF(COUNT(BY182:BY186)<3,\"\",AVERAGE(BY182:BY186))","v":2.2317679040090344},1.1881912028985506,2.1125452162055334,1.1199261622435535,0.4593605678524374,7.2534807265198564E-2,0.46946807905138338,4.1604261622435537E-2,4.56506305288914E-2,1.0396309392057219,3.1307868624129501E-2,4.4867810088462263E-3,5.4057161678900812E-5,5.1369057029926595E-4,3.9110563146997927E-3,8.5789014116318479E-2,2.512150950498776E-2,5.4022962544701678E-5,-7.0858603425559951E-3,3.6747195934500279E-2,9.5653477507999241E-2,6.6140501411631844E-2,6.93602849614154E-2,0.26081559947299071,1.8833393798230756E-2,6.3828571993224167E-3,5.3586824769433466E-5,1.1602230378317333E-4,4.179571089779786E-3,3.5073352155091291E-4,3.8940215509128545E-3,2.0822281197063804E-4,3.7719367588932806E-5,5.4996167984189714E-2,7.7690906267645406E-3,3.9120496894409936E-4,1.018104899303595E-2,3.6792000752870317E-5,4.0966252587991715E-5,7.0676015810276684E-3,1.7052903067946545E-2,6.4617617165443244E-5,0.30994298753058536,0.11150594541690192,3.8835100696405043E-4,5.1333145115753809E-5,1.1305144362883492E-3,4.5757556935817806E-5,238.2030775042349,9.354556061735364,6.2352809881422928,8.3435798663843403,5.4788449960474308,2.8050654545454545,0.30584687747035572,1.9443962332015812,0.1940160355731225,0.19876811462450594,2.984980185770751,3.075121739130434E-2,2.0495363636363638E-2,1.6208300395256916E-4,1.8815098814229248E-3,1.3111035573122529E-2,{"$f":"IF(COUNT(EK182:EK186)<3,\"\",AVERAGE(EK182:EK186))","v":0.47990163241106715},6.8669770750988152E-2,3.969130434782608E-4,1.3952612648221344E-2,0.24739210671936762,0.26250639525691694,0.20141677470355729,0.35495228063241108,1.0802201699604741,1.8797584980237154E-2,1.2280434782608696E-3,1.3795652173913045E-4,4.595454545454545E-4,1.857981818181818E-2,1.0971857707509883E-3,7.9658339920948614E-3,7.1993280632411062E-4,1.3266403162055335E-4,0.23709088142292489,1.2317328063241106E-2,1.1447035573122529E-3,3.0908731225296443E-2,4.3711462450592884E-5,2.6126086956521739E-4,3.3952110671936757E-2,2.8822252964426882E-2,1.914822134387352E-4,1.8490837984189725,0.6800159525691698,1.4449407114624506E-3,1.8270355731225298E-4,4.0134189723320156E-3,2.1772332015810276E-4,93.08752928063241]
["GRGU1","2012-16",null,null,null,null,null,null,null,5.3171784908714477,null,null,{"$f":"IF(COUNT(M183:M187)<3,\"\",AVERAGE(M183:M187))","v":17.169185953510258},6.1691859535102562,3.1957412505175986,0.58962688311688305,1.263525623941276,0.36837197440240921,4.2732663655185396E-2,0.55700784302653861,0.15218045887445888,11,null,13.917512278985507,null,null,{"$f":"IF(COUNT(AA183:AA187)<3,\"\",AVERAGE(AA183:AA187))","v":42.596156944664031},31.596156944664028,19.878462972002637,2.4953914212779975,5.4539338030303028,1.6827837648221344,0.19831787977602108,1.7162918728590248,0.17097488636363639,11,5.3171784908714477,1,0.18613236871980096,3.4342157206139014E-2,7.3592634348685987E-2,2.1455412935701541E-2,2.4889161181487849E-3,3.2442297761511391E-2,8.8635803285330161E-3,0.64068267591632899,13.917512278985507,1,0.46667268593799255,5.858254829231941E-2,0.12803816574615917,3.9505530205652381E-2,4.6557692994147947E-3,4.0292176477061806E-2,4.0138570854114158E-3,0.25823925886764665,5.3171784908714477,5.3171784908714477,0.9896990274118791,0.18260337962660825,0.39130517244540042,0.11408226017447726,1.3234011249003978E-2,0.17250148785195529,4.7129238674987035E-2,3.4066241438562668,13.917512278985507,13.917512278985507,6.4949228368091587,0.81532333519261679,1.7819727439509518,0.5498187017249998,6.4796726392729154E-2,0.56076686086655869,5.5862905272306355E-2,3.5940480562065891,{"$f":"IF(COUNT(BY183:BY187)<3,\"\",AVERAGE(BY183:BY187))","v":2.0278149474872951},1.0994688985507248,1.920300861660079,1.0295992554112554,0.4172692386598908,7.1709184076792762E-2,0.43620212874082442,3.6837197440240915E-2,4.2732663655185396E-2,0.92834604893657069,2.4849458686241298E-2,4.3879331827592696E-3,4.8765857331074729E-5,4.9121230942970081E-4,3.6591345755693575E-3,7.3789680782985131E-2,2.4766002258610954E-2,4.8308676830415965E-5,-7.5523116883116871E-3,3.3500728025597594E-2,9.4442616224355361E-2,6.0090476566911369E-2,6.1766794278185579E-2,0.24224830340673814,1.5109740118577075E-2,6.4556702428006773E-3,5.3812911725955216E-5,1.088266516092603E-4,3.9074754376058722E-3,3.1268134763786938E-4,3.5346954639563334E-3,2.0101411631846412E-4,2.7762845849802377E-5,5.3095713438735169E-2,6.9390256916996062E-3,3.0737888198757767E-4,9.4134272539055132E-3,1.8057218144174667E-5,2.1935817805383017E-5,6.8277233201581022E-3,1.5237555241859591E-2,6.4165443252399784E-5,0.28577298320158107,0.10115624976472801,3.3339883305100692E-4,3.1550536420101637E-5,1.0317666102013928E-3,7.0022774327122158E-5,246.84226031996991,8.4034829784020317,5.4432899805665347,7.4831759163843401,4.7256052233201586,2.3209720984848485,0.30546354413702237,1.7044854074440057,0.16827837648221339,0.19831787977602108,2.8604863827404476,2.8086952239789194E-2,2.0296136363636363E-2,1.472420948616601E-4,1.8034038208168644E-3,1.286321739130435E-2,{"$f":"IF(COUNT(EK183:EK187)<3,\"\",AVERAGE(EK183:EK187))","v":0.40812545816864298},6.163747529644268E-2,3.1873122529644268E-4,1.4584711133069828E-2,0.20681444762845844,0.24686348616600789,0.17687034288537551,0.30180328820816865,0.94693627602108033,1.7211039525691703E-2,1.3741419631093546E-3,1.1744894598155469E-4,4.6337878787878779E-4,1.8031053030303029E-2,9.4498122529644275E-4,8.2007885375494066E-3,6.6572068511198935E-4,1.1126251646903821E-4,0.23679360869565219,1.354983563899868E-2,1.0630293148880105E-3,2.9181716073781293E-2,5.4059947299077741E-5,2.2620026350461133E-4,3.4643534914360993E-2,3.0212502964426881E-2,1.7570191040843216E-4,1.5339096999341237,0.56265993741765474,1.4442361660079051E-3,1.2855961791831359E-4,3.5119568511198947E-3,2.8176877470355733E-4,105.37891892457181]
["GRGU1","2013-17",null,null,null,null,null,null,null,5.1985658545078106,null,null,16.974394680782986,5.974394680782984,3.1054556141539624,0.57809942857142849,1.2483842603049125,0.35775288349331824,3.7328118200639936E-2,0.51432538848108422,0.13304909523809522,11,null,13.308447757246375,null,null,40.22424998814229,29.224249988142294,17.793775928524376,2.6664687256258239,5.2268544986824761,1.5947750691699605,0.18105874934123845,1.5771729163372858,0.1841435820158103,11,{"$f":"J214","v":5.1985658545078106},{"$f":"M214/M214","v":1},{"$f":"O214/M214","v":0.18294941719893576},{"$f":"P214/M214","v":3.4057145450135266E-2},{"$f":"Q214/M214","v":7.354514159601995E-2},{"$f":"R214/M214","v":2.1076031883383545E-2},{"$f":"S214/M214","v":2.1990839085943821E-3},{"$f":"T214/M214","v":3.0300072441661861E-2},{"$f":"U214/M214","v":7.8382232615765955E-3},{"$f":"V214/M214","v":0.64803489060221364},{"$f":"X214","v":13.308447757246375},{"$f":"AA214/AA214","v":1},{"$f":"AC214/AA214","v":0.44236439296617847},{"$f":"AD214/AA214","v":6.6290079402645724E-2},{"$f":"AE214/AA214","v":0.12994287028902468},{"$f":"AF214/AA214","v":3.9647105157711686E-2},{"$f":"AG214/AA214","v":4.5012336934712955E-3},{"$f":"AH214/AA214","v":3.9209504634697245E-2},{"$f":"AI214/AA214","v":4.577924562175653E-3},{"$f":"AJ214/AA214","v":0.27346687640522049},{"$f":"J214","v":5.1985658545078106},{"$f":"BE214","v":5.1985658545078106},{"$f":"BE214*AM214","v":0.95107459335249145},{"$f":"BE214*AN214","v":0.17704831343907923},{"$f":"BE214*AO214","v":0.38232926186601141},{"$f":"BE214*AP214","v":0.10956513969747564},{"$f":"BE214*AQ214","v":1.143208251841633E-2},{"$f":"BE214*AR214","v":0.15751692198433645},{"$f":"BE214*AS214","v":4.0747519807640929E-2},{"$f":"BE214*AT214","v":3.3688520548143726},{"$f":"X214","v":13.308447757246375},{"$f":"BO214","v":13.308447757246375},{"$f":"BO214*AW214","v":5.8871834134563921},{"$f":"BO214*AX214","v":0.88221805855382462},{"$f":"BO214*AY214","v":1.7293379006681271},{"$f":"BO214*AZ214","v":0.52764142771745925},{"$f":"BO214*BA214","v":5.9904433452719882E-2},{"$f":"BO214*BB214","v":0.52181764401837794},{"$f":"BO214*BC214","v":6.0925069872329665E-2},{"$f":"BO214*BD214","v":3.6394196379762285},1.8996677656691134,1.0425848076416337,1.8291091343873518,1.0068299826839826,0.41002942047807267,7.102463862224731E-2,0.43075858328627897,3.577528834933183E-2,3.7328118200639936E-2,0.85720877620929803,2.1914458686241294E-2,3.8296604554865429E-3,5.540222096743836E-5,4.9257594579333707E-4,3.1755891210239031E-3,6.9992226237530583E-2,2.5622365894974592E-2,4.4672313194052326E-5,-5.1656753246753246E-3,3.2377273480143041E-2,9.5460888951628103E-2,5.6537567476002262E-2,5.9883976096367399E-2,0.23909403067946541,1.3775558300395258E-2,3.9202156973461326E-3,4.5085638998682478E-5,1.0864483342744209E-4,3.4329299830604182E-3,2.9986316581968756E-4,3.0151500094108786E-3,1.7146866177300961E-4,2.458102766798419E-5,5.2564895256916988E-2,6.3748438735177883E-3,2.1328797289666855E-4,8.7355181629964231E-3,2.2420854507811029E-5,1.7481272350837562E-5,5.9406324110671937E-3,1.2683737060041408E-2,5.6347261434217964E-5,0.28234816501976284,9.940115885563712E-2,3.2303519668737065E-4,3.2095990965556186E-5,9.6649388292866542E-4,3.9386410690758513E-5,250.08945686542447,7.6778151191887805,5.0336182414361001,6.9164530758046308,4.4332581798418982,2.0953118376152835,0.32919450065876149,1.6374912335309617,0.15947750691699605,0.18105874934123845,2.6286214262187086,3.0723734848484851E-2,1.8852310276679839E-2,1.3350296442687747E-4,1.8372299077733859E-3,1.2255304347826087E-2,0.3778919799077734,5.4528257905138336E-2,1.448181818181818E-4,1.8693319828722001E-2,0.19282705632411065,0.24615461660079047,0.17895486462450594,0.27308754907773392,0.90971740645586296,1.8952430830039526E-2,1.6322289196310936E-3,9.962285902503294E-5,4.3216139657444003E-4,1.641487911725955E-2,8.6993774703557315E-4,8.5556581027667993E-3,5.8206851119894584E-4,9.4132081686429511E-5,0.25518952173913045,1.266200955204216E-2,8.1589888010540177E-4,2.861215085638999E-2,5.5277338603425564E-5,2.1176548089591566E-4,3.1037534914360999E-2,3.2939546442687748E-2,1.587453886693017E-4,1.3993253521080367,0.50795437220026352,1.3403231225296442E-3,1.0803787878787879E-4,3.3505655467720684E-3,2.7559486166007905E-4,112.35474075065876]
[{"$f":"A199","v":"GRGU1"},"2014-18",null,null,null,null,null,null,null,4.989238652926784,null,null,16.617889736118954,5.6178897361189533,2.7782846181065315,0.54707302145680403,1.2940709164313948,0.37492442499529449,3.3759315829098434E-2,0.49294145172219084,9.6836186147186157E-2,11,null,13.073982452898552,null,null,39.228770422924903,28.228770422924903,16.253270189393941,3.0029243777997365,5.4007965856389983,1.6468950691699604,0.17198422760210802,1.5549964815546771,0.19790279940711461,11,4.989238652926784,1,0.16718636735613515,3.2920727610061207E-2,7.7872156873127762E-2,2.2561494326225846E-2,2.0315043826366606E-3,2.9663300187314605E-2,5.8272252184170458E-3,0.66193723599522503,13.073982452898552,1,0.4143201536568093,7.6549031372261864E-2,0.13767437845777666,4.1981817207493492E-2,4.3841350556733773E-3,3.9639184832720442E-2,5.0448381958834521E-3,0.28040644357213168,4.989238652926784,4.989238652926784,0.83413268625564618,0.16424936667459136,0.38852277505818716,0.11256467956019432,1.013566018944099E-2,0.14799728386792033,2.9073417299036047E-2,3.3025628436388952,13.073982452898552,13.073982452898552,5.4168144187913567,1.0008006929473323,1.7999524081706864,0.54886954151156442,5.731810478901115E-2,0.51824200695018952,6.5956126050692634E-2,3.6660289229417375,1.8075627617165444,0.98879219104084315,1.7488830711462451,0.96609013288161094,0.36526147976661022,6.6955820440429123E-2,0.44643048842461885,3.7492442499529453E-2,3.3759315829098434E-2,0.821569171466215,1.6190929041972522E-2,3.3145142104272539E-3,4.6228307923960098E-5,4.42184641445511E-4,2.777656314699793E-3,7.039884283832111E-2,2.7680769057029923E-2,3.7399585921325054E-5,-5.6626397515527945E-3,3.2803984942593636E-2,0.10203963203463204,5.7995069452286843E-2,6.0624568981742885E-2,0.24780061565970257,1.0724182806324112E-2,2.6660022586109549E-3,3.9054018445322793E-5,1.1048277809147373E-4,3.1312106154714851E-3,2.7766158479201962E-4,2.4758417090156221E-3,1.5688763410502541E-4,2.4015810276679841E-5,4.9422752964426872E-2,6.4612549407114623E-3,2.943986448334274E-4,8.369308676830417E-3,2.437737624694146E-5,7.9951063429324277E-6,5.5263478260869567E-3,1.0043136269527573E-2,6.0212874082439307E-5,0.24875693972332016,8.8548285337850557E-2,3.1003519668737066E-4,2.4645398080180688E-5,8.7886542443064172E-4,8.5303406738189359E-5,255.55038835554302,7.5161656330227729,4.8916969370882741,6.8033842655279502,4.3583566146245065,1.929860881093544,0.37438337022397888,1.6843673204874832,0.16468950691699605,0.17198422760210802,2.5916607305665353,3.3070082674571809E-2,1.7624918972332013E-2,1.3541600790513834E-4,1.8688820816864294E-3,1.2430956521739131E-2,0.37842502338603429,5.3995736166007911E-2,6.3948616600790505E-5,3.0522537220026347E-2,0.19294879545454546,0.25959661660079048,0.18489651679841895,0.26779520125164691,0.93575966732542815,1.9907387351778653E-2,1.835794137022398E-3,9.370981554677209E-5,4.5259617918313566E-4,1.5701226943346511E-2,8.440247035573122E-4,8.2892233201581032E-3,5.6650329380764151E-4,8.9088603425559952E-5,0.29021960869565222,1.1133574769433465E-2,8.6781192358366258E-4,2.8947194334650862E-2,5.6494729907773394E-5,2.0611330698287218E-4,2.9139447957839258E-2,3.3855720355731228E-2,1.6935408432147562E-4,1.2733261347167324,0.46784506785243735,1.2336274703557313E-3,9.6211791831357052E-5,3.5103916337285907E-3,1.9724703557312252E-4,115.01070475065876]
[{"$f":"A215","v":"GRGU1"},"2015-19",null,null,null,null,null,null,null,4.6983110086580089,null,null,16.096238953510259,5.096238953510257,2.3875830133634479,0.54738183963862208,1.1740119361942405,0.36251007716920752,3.2392481837003578E-2,0.47648345962732924,0.11587528100884623,11,null,12.330069757246378,null,null,36.142921466403159,25.142921466403163,13.210416972002637,3.1549248125823453,5.3022818030303025,1.6463559387351778,0.16071979281949936,1.4764704815546772,0.19175149505928854,11,{"$f":"J216","v":4.6983110086580089},{"$f":"M216/M216","v":1},{"$f":"O216/M216","v":0.14833173266496302},{"$f":"P216/M216","v":3.4006816202194201E-2},{"$f":"Q216/M216","v":7.2937034519993421E-2},{"$f":"R216/M216","v":2.2521414984967746E-2},{"$f":"S216/M216","v":2.0124255070119623E-3},{"$f":"T216/M216","v":2.9602161163457257E-2},{"$f":"U216/M216","v":7.198904125586195E-3},{"$f":"V216/M216","v":0.68338945711296895},{"$f":"X216","v":12.330069757246378},{"$f":"AA216/AA216","v":1},{"$f":"AC216/AA216","v":0.36550495743080563},{"$f":"AD216/AA216","v":8.7290254483579091E-2},{"$f":"AE216/AA216","v":0.14670318800761764},{"$f":"AF216/AA216","v":4.5551269015858514E-2},{"$f":"AG216/AA216","v":4.4467847727499635E-3},{"$f":"AH216/AA216","v":4.0850889237803813E-2},{"$f":"AI216/AA216","v":5.3053678916778254E-3},{"$f":"AJ216/AA216","v":0.30434728443922576},{"$f":"J216","v":4.6983110086580089},{"$f":"BE216","v":4.6983110086580089},{"$f":"BE216*AM216","v":0.69690861251311254},{"$f":"BE216*AN216","v":0.15977459893217855},{"$f":"BE216*AO216","v":0.34268087222415428},{"$f":"BE216*AP216","v":0.10581261195442941},{"$f":"BE216*AQ216","v":9.4550009136984779E-3},{"$f":"BE216*AR216","v":0.13908015967433979},{"$f":"BE216*AS216","v":3.3822690503515176E-2},{"$f":"BE216*AT216","v":3.2107762095546821},{"$f":"X216","v":12.330069757246378},{"$f":"BO216","v":12.330069757246378},{"$f":"BO216*AW216","v":4.5067016217412013},{"$f":"BO216*AX216","v":1.0762949269103186},{"$f":"BO216*AY216","v":1.8088605417443557},{"$f":"BO216*AZ216","v":0.56165032449663099},{"$f":"BO216*BA216","v":5.4829166443468032E-2},{"$f":"BO216*BB216","v":0.50369431394766628},{"$f":"BO216*BC216","v":6.5415556192242735E-2},{"$f":"BO216*BD216","v":3.7526232475641588},1.6921704810841334,0.90082968511198946,1.6399573913043479,0.87719965462074145,0.31559385130811224,6.7327978543195915E-2,0.40631186391869001,3.6251007716920761E-2,3.2392481837003578E-2,0.79413939676265755,1.9322822322604932E-2,2.973782985130811E-3,3.6923960097873137E-5,4.1248108413325795E-4,2.8135930735930731E-3,6.3899763786937708E-2,2.720043704121965E-2,2.6095238095238099E-5,-5.629627893845285E-3,2.8347542254846602E-2,9.4065782232260503E-2,5.385351609260304E-2,5.4875288349331829E-2,0.22551250103519666,1.23563290513834E-2,3.8845437605872389E-3,3.5915678524374176E-5,1.1255787690570297E-4,2.8826888763410505E-3,2.5752719744024093E-4,2.397454357236966E-3,1.281998870694523E-4,1.6387351778656129E-5,4.9744175889328064E-2,4.1287292490118574E-3,2.7023263692828911E-4,7.783727649162432E-3,1.436156597026162E-5,8.1453039713909242E-6,5.4945098814229241E-3,1.2770618482966309E-2,5.4525127046866175E-5,0.2181231610671937,7.6507621306230011E-2,3.1270713344626387E-4,2.559796725014117E-5,8.4924882364012804E-4,8.4335027291549037E-5,262.73522351364579,6.8456234591097296,4.3520316327404478,6.35623870031056,4.0141757450592888,1.6119520984848486,0.39007337022397892,1.6546287117918315,0.16463559387351778,0.16071979281949936,2.4607838610013175,3.2164952239789199E-2,1.5567875494071145E-2,1.1002470355731228E-4,1.79183860342556E-3,{"$f":"IF(COUNT(EJ186:EJ190)<3,\"\",AVERAGE(EJ186:EJ190))","v":1.2290521739130433E-2},0.36146824077733863,5.2427736166007911E-2,1.1861660079051382E-5,3.0886798089591567E-2,0.18421940415019761,0.26848513833992099,0.18637460375494069,0.24927224472990778,0.91923818906455845,1.9336343873517785E-2,1.953881093544137E-3,9.1448945981554696E-5,4.357266139657444E-4,1.4776531291172595E-2,8.5185079051383389E-4,7.7348754940711455E-3,5.4519894598155458E-4,8.1436429512516466E-5,0.30238239130434785,8.9649660737812914E-3,8.9911627140974964E-4,2.816562911725955E-2,6.6320816864295134E-5,2.0228722002635049E-4,2.7453969696969699E-2,3.3987198616600788E-2,1.5465843214756259E-4,1.0625087434123845,0.39077628524374175,1.1946709486166007E-3,8.0211791831357056E-5,3.4557829380764161E-3,1.24899209486166E-4,123.08824866370223]
[{"$f":"A216","v":"GRGU1"},"2016-20",null,null,null,null,null,null,null,{"$f":"IF(J191=\"\",\"\",J191)","v":4.6999131660079057},null,null,16.089406324110673,5.089406324110672,2.3631347193675891,0.55756075889328049,1.1119608181818181,0.38548403162055328,3.575292490118577E-2,0.46452360869565223,0.17098927272727274,11,null,11.651390590579711,null,null,33.375810739130436,22.375810739130436,11.217639032608696,2.7870758731884058,4.9272726666666671,1.6214076811594205,0.16440564130434784,1.4751461557971015,0.1828636920289855,11,{"$f":"J217","v":4.6999131660079057},{"$f":"M217/M217","v":1},{"$f":"O217/M217","v":0.14687519674522292},{"$f":"P217/M217","v":3.4653905039227675E-2},{"$f":"Q217/M217","v":6.9111364072861822E-2},{"$f":"R217/M217","v":2.3958872307357219E-2},{"$f":"S217/M217","v":2.2221407167527657E-3},{"$f":"T217/M217","v":2.8871395211117482E-2},{"$f":"U217/M217","v":1.0627444498746849E-2},{"$f":"V217/M217","v":0.68367966961689708},{"$f":"X217","v":11.651390590579711},{"$f":"AA217/AA217","v":1},{"$f":"AC217/AA217","v":0.33610087018671048},{"$f":"AD217/AA217","v":8.3505862823005067E-2},{"$f":"AE217/AA217","v":0.14763005175151711},{"$f":"AF217/AA217","v":4.8580323451392633E-2},{"$f":"AG217/AA217","v":4.9258920656448813E-3},{"$f":"AH217/AA217","v":4.4198062103330785E-2},{"$f":"AI217/AA217","v":5.4789288403590038E-3},{"$f":"AJ217/AA217","v":0.32958000888659733},{"$f":"J217","v":4.6999131660079057},{"$f":"BE217","v":4.6999131660079057},{"$f":"BE217*AM217","v":0.69030067094287473},{"$f":"BE217*AN217","v":0.16287034454745386},{"$f":"BE217*AO217","v":0.32481740992680902},{"$f":"BE217*AP217","v":0.1126046194000504},{"$f":"BE217*AQ217","v":1.0443868411388568E-2},{"$f":"BE217*AR217","v":0.13569305047374866},{"$f":"BE217*AS217","v":4.9948066320678601E-2},{"$f":"BE217*AT217","v":3.2132350805643899},{"$f":"X217","v":11.651390590579711},{"$f":"BO217","v":11.651390590579711},{"$f":"BO217*AW217","v":3.9160425163790911},{"$f":"BO217*AX217","v":0.97295942435420135},{"$f":"BO217*AY217","v":1.7200953958644223},{"$f":"BO217*AZ217","v":0.566028323548875},{"$f":"BO217*BA217","v":5.7393492463866026E-2},{"$f":"BO217*BB217","v":0.51496888491260595},{"$f":"BO217*BC217","v":6.3837139937014703E-2},{"$f":"BO217*BD217","v":3.8400654143844775},{"$f":"IF(COUNT(BY187:BY191)<3,\"\",AVERAGE(BY187:BY191))","v":1.6807132885375495},0.90969826482213434,1.6278552608695656,0.87315864426877465,0.31550877470355737,6.9435320158102762E-2,0.3854476403162056,3.8548403162055336E-2,3.575292490118577E-2,0.77420649407114628,2.8466122529644273E-2,3.3946442687747035E-3,2.6683794466403165E-5,3.933754940711462E-4,2.951675889328063E-3,6.631469960474308E-2,2.747299604743083E-2,0,-6.0993794466403161E-3,3.0099873517786556E-2,8.5817790513834008E-2,4.8798075098814224E-2,5.5304857707509883E-2,0.21392121739130432,1.7277948616600793E-2,6.2367549407114625E-3,3.2553359683794466E-5,1.109802371541502E-4,3.0900553359683794E-3,2.294071146245059E-4,2.4196324110671939E-3,1.3519367588932804E-4,1.4474308300395257E-5,5.2565154150197621E-2,2.5370988142292489E-3,2.3633201581027669E-4,8.1162411067193675E-3,1.11897233201581E-5,9.1225296442687727E-6,6.1407707509881417E-3,1.6717620553359683E-2,6.0798418972332017E-5,0.21556849802371542,7.6486909090909092E-2,3.5767193675889333E-4,2.2790513833992099E-5,9.194268774703557E-4,8.6790513833992093E-5,262.51546377865611,6.3489981376811588,3.8904215797101451,5.9761772717391306,3.6452255253623194,1.3917063333333333,0.34274235507246387,1.5537295072463766,0.16214076811594205,0.16440564130434784,2.4585765579710146,3.0499967391304349E-2,1.5232655797101452E-2,7.3456521739130438E-5,1.5654673913043479E-3,1.2495938405797101E-2,0.33037945289855075,5.6186804347826094E-2,8.954347826086958E-5,2.9280358695652171E-2,0.17240435869565215,0.25838253985507242,0.17860080072463766,0.22451503260869568,0.86318309057971021,1.8260101449275361E-2,1.543699275362319E-3,8.3873188405797109E-5,4.105978260869565E-4,1.4358478260869565E-2,8.1936594202898559E-4,6.6364891304347817E-3,5.1920652173913034E-4,7.2398550724637681E-5,0.2656917246376812,6.0671630434782613E-3,9.254420289855072E-4,2.6966159420289855E-2,7.1108695652173924E-5,1.7834782608695652E-4,2.9478583333333336E-2,3.2514547101449277E-2,1.424311594202899E-4,0.91761047826086961,0.3373833913043478,1.2250724637681157E-3,7.4673913043478261E-5,3.2572753623188407E-3,1.9121739130434782E-4,130.74876373188405]
["GRGU1","2017-21",null,null,null,null,null,null,null,4.6710200355731235,null,null,16.043230063241108,5.0432300632411069,2.350632110671937,0.52516675889328057,1.0795609920948617,0.4090231620553359,4.1504055335968383E-2,0.44574943478260876,0.19159257707509886,11,null,11.902763442028988,null,null,34.390417130434784,23.390417130434781,11.421666594202899,2.8213600289855072,5.4322124565217393,1.8082090942028988,0.18746449275362317,1.5372882355072464,0.1822164855072464,11,4.6710200355731235,1,0.1465186313108979,3.2734477834146611E-2,6.7290750543333236E-2,2.5495063054197929E-2,2.5870136607380667E-3,2.7784269939750333E-2,1.194226950058414E-2,0.68564746354935346,11.902763442028988,1,0.3321177103168943,8.2039133700668718E-2,0.15795715521328607,5.2578864843214487E-2,5.4510677216450826E-3,4.4701063952689864E-2,5.2984668611648997E-3,0.31985654487061266,4.6710200355731235,4.6710200355731235,0.68439146243795568,0.15290340181732312,0.31431644399666259,0.11908795033435864,1.2083992641608881E-2,0.12978088156234588,5.5782580107442359E-2,3.2026730395789231,11.902763442028988,11.902763442028988,3.9531185408103031,0.97649240142804794,1.8801266524796001,0.62583379027919661,6.4882769597221335E-2,0.53206618983587672,6.3066397653875644E-2,3.8071767889796329,1.6375575494071146,0.89783226482213452,1.5790786284584981,0.86639029644268761,0.31274433992094863,6.5016885375494077E-2,0.37447433596837948,4.0902316205533598E-2,4.1504055335968383E-2,0.74291675494071152,3.1749079051383397E-2,3.8070790513833989E-3,1.6075098814229251E-5,3.629407114624506E-4,3.1927193675889325E-3,6.8323916996047437E-2,2.8232648221343876E-2,0,-5.9573794466403155E-3,2.9119612648221337E-2,8.0215703557312251E-2,4.8813292490118572E-2,5.5719814229249008E-2,0.20791104347826087,1.9074438735177866E-2,6.817363636363637E-3,2.1857707509881422E-5,1.0045849802371543E-4,3.3313596837944667E-3,2.3992885375494072E-4,2.1344150197628456E-3,1.470197628458498E-4,1.6126482213438736E-5,5.0398217391304345E-2,1.4284308300395255E-3,2.7381027667984189E-4,8.3513715415019767E-3,1.8667984189723316E-5,2.9296442687747034E-5,7.662944664031621E-3,1.7915707509881421E-2,5.7928853754940705E-5,0.20615866798418975,7.5816735177865607E-2,3.808893280632411E-4,1.8964426877470357E-5,8.6899209486166005E-4,6.3225296442687745E-5,263.31967630039526,6.6487786755599476,4.0426249746376808,6.3051250671936758,3.8515101123188402,1.4118668514492752,0.34587103623188409,1.6953149021739129,0.18082090942028986,0.18746449275362317,2.5621468550724638,3.0171398550724638E-2,1.6721155797101449E-2,4.8902173913043485E-5,1.5222137681159421E-3,1.3821112318840581E-2,0.36354236231884063,6.4077076086956522E-2,8.954347826086958E-5,3.2367311594202898E-2,0.18964145652173917,0.28016880072463773,0.19277609420289854,0.24688807246376815,0.94184173550724637,1.8063840579710146E-2,1.5362608695652174E-3,8.6376811594202909E-5,4.2189492753623187E-4,1.5787322463768117E-2,8.471159420289857E-4,6.0919456521739126E-3,5.7517753623188394E-4,6.8416666666666658E-5,0.26811711594202897,3.4816594202898557E-3,1.1190688405797102E-3,2.8997123188405798E-2,7.5898550724637684E-5,1.7859420289855074E-4,3.5012989130434782E-2,3.1238949275362322E-2,1.4750000000000001E-4,0.91730326449275368,0.3422708333333333,1.4237137681159418E-3,7.8264492753623191E-5,3.3877137681159416E-3,2.1667391304347827E-4,128.01830668478263]
["GRGU1","2018-22",null,null,null,null,null,null,null,""]
["GRGU1","2019-23",null,null,null,null,null,null,null,""]
["GRGU1","2020-24",null,null,null,null,null,null,null,""]
["GRGU1","2021-25",null,null,null,null,null,null,null,""]
["GRGU1","2022-26",null,null,null,null,null,null,null,""]
["GRGU1","2023-27",null,null,null,null,null,null,null,""]
["GRGU1","2024-28",null,null,null,null,null,null,null,""]
[" ",null,null,null,null,null,null,null,null,{"$f":"IF(J200=\"\",\"\",J200)","v":""}]
["LYBR_RHTS",2000,null,null,null,null,{"$f":"Tracking!BS24","v":2.7944661922999998},{"$f":"Tracking!BT21","v":10.243066239999999},{"$f":"Tracking!BO24","v":6.4925799999999994},null,null,null,19.453746499999998,8.4537464999999994,5.0730304999999998,1.2223635000000002,1.1101665000000001,0.58640000000000003,7.8670999999999991E-2,0.36897599999999997,1.4141500000000001E-2,11,{"$f":"Tracking!BN24","v":23.101413809523809},null,null,null,104.96110952380951,93.96110952380954,68.778435238095241,9.3691219047619043,8.9556085714285736,4.8967619047619042,0.34698523809523807,1.5932600000000001,2.0937619047619045E-2,11,{"$f":"I227","v":6.4925799999999994},{"$f":"M227/M227","v":1},{"$f":"O227/M227","v":0.26077395940159909},{"$f":"P227/M227","v":6.2834349157371835E-2},{"$f":"Q227/M227","v":5.7066976790306187E-2},{"$f":"R227/M227","v":3.0143293992239494E-2},{"$f":"S227/M227","v":4.0440025267112429E-3},{"$f":"T227/M227","v":1.8966835000137378E-2},{"$f":"U227/M227","v":7.2692938606967056E-4},{"$f":"V227/M227","v":0.56544378225551573},{"$f":"W227","v":23.101413809523809},{"$f":"AA227/AA227","v":1},{"$f":"AC227/AA227","v":0.65527542105958259},{"$f":"AD227/AA227","v":8.9262794069803544E-2},{"$f":"AE227/AA227","v":8.5323112646756766E-2},{"$f":"AF227/AA227","v":4.6653107298290482E-2},{"$f":"AG227/AA227","v":3.3058457524834709E-3},{"$f":"AH227/AA227","v":1.5179527038427343E-2},{"$f":"AI227/AA227","v":1.9947978010721704E-4},{"$f":"AJ227/AA227","v":0.10480072142820428},{"$f":"I227","v":6.4925799999999994},{"$f":"BE227","v":6.4925799999999994},{"$f":"BE227*AM227","v":1.693095793331634},{"$f":"BE227*AN227","v":0.4079570386521692},{"$f":"BE227*AO227","v":0.37051191216920609},{"$f":"BE227*AP227","v":0.19570774770813426},{"$f":"BE227*AQ227","v":2.6256009924874878E-2},{"$f":"BE227*AR227","v":0.12314369358519192},{"$f":"BE227*AS227","v":4.7196471934082213E-3},{"$f":"BE227*AT227","v":3.6711889917965159},{"$f":"W227","v":23.101413809523809},{"$f":"BO227","v":23.101413809523809},{"$f":"BO227*AW227","v":15.13778866110737},{"$f":"BO227*AX227","v":2.0620967436008395},{"$f":"BO227*AY227","v":1.9710845327693423},{"$f":"BO227*AZ227","v":1.0777527371979236},{"$f":"BO227*BA227","v":7.6369710718577288E-2},{"$f":"BO227*BB227","v":0.35066853554756544},{"$f":"BO227*BC227","v":4.6082649468896369E-3},{"$f":"BO227*BD227","v":2.4210448332495762},1.9402900000000003,1.326965,null,1.3514875,0.67746300000000004,0.15057549999999997,0.3838049999999999,5.8639999999999991E-2,7.8670999999999991E-2,0.61495999999999995,2.3345000000000002E-3,1.0925000000000002E-3,8.9999999999999992E-5,5.4750000000000003E-4,6.2449999999999988E-3,8.7054999999999993E-2,4.2930000000000003E-2,3.2550000000000001E-3,-2.4149999999999996E-3,2.632E-2,5.1390000000000005E-2,5.7655000000000012E-2,7.46E-2,0.20754999999999996,7.719999999999996E-3,1.2049999999999999E-4,6.0149999999999993E-4,1.5650000000000001E-4,3.7600000000000003E-3,6.7050000000000009E-4,4.0764999999999994E-3,5.31E-4,3.0500000000000003E-5,0.11672500000000001,1.2465E-2,4.9100000000000001E-4,1.1478499999999997E-2,4.6999999999999997E-5,6.4999999999999994E-5,1.9825499999999996E-2,1.2800000000000001E-2,4.6E-5,0.43953999999999988,0.1642335,1.6379999999999999E-3,1.727E-3,1.2639999999999999E-3,2.1500000000000001E-5,220.27551049999997,14.850566666666669,12.195133333333334,null,11.866387142857143,7.2085776190476194,1.1129457142857142,2.7048171428571428,0.48967619047619043,0.34698523809523807,2.6554333333333333,3.3861904761904758E-3,8.1442857142857133E-3,5.2476190476190483E-4,2.965238095238095E-3,2.485095238095238E-2,0.61852857142857143,0.13704285714285711,1.3923809523809521E-2,0.12013333333333331,0.34426190476190471,0.33046666666666669,0.42799523809523815,0.27981904761904763,1.5026761904761909,-0.10500476190476192,0,4.8000000000000001E-4,8.6190476190476165E-4,3.1715714285714278E-2,2.5471428571428568E-3,4.8357142857142861E-3,1.8657142857142857E-3,2.3857142857142859E-4,0.86274761904761899,1.9333333333333331E-2,0,3.7868095238095235E-2,3.0000000000000001E-5,1.0309523809523807E-3,7.3986190476190469E-2,1.2861428571428571E-2,1.1190476190476189E-4,5.2837666666666676,1.7475338095238093,1.1626190476190476E-2,2.8619047619047618E-4,8.1857142857142857E-3,4.6666666666666665E-5,40.72804285714286]
["LYBR_RHTS",2001,null,null,null,null,{"$f":"G227","v":2.7944661922999998},{"$f":"H227","v":10.243066239999999},{"$f":"Tracking!BO25","v":6.4714184999999986},null,null,null,19.305620000000005,8.3056200000000011,4.3964220000000003,1.2348465000000002,1.2440169999999997,0.67825000000000002,0.16131100000000001,0.58004450000000007,1.0729500000000001E-2,11,{"$f":"Tracking!BN25","v":25.480404499999999},null,null,null,147.831729,136.831729,113.57203500000003,6.6982180000000016,9.7213119999999993,4.3008500000000005,0.63775500000000007,1.8724564999999995,2.9101999999999996E-2,11,{"$f":"I228","v":6.4714184999999986},1,0.22772757362881893,6.396305842547402E-2,6.4438075544841322E-2,3.5132256824696638E-2,8.3556498056006467E-3,3.0045370208260598E-2,5.5577080663558062E-4,0.5697822706548662,{"$f":"W228","v":25.480404499999999},{"$f":"AA228/AA228","v":1},{"$f":"AC228/AA228","v":0.76825209153848173},{"$f":"AD228/AA228","v":4.5309745379491582E-2},{"$f":"AE228/AA228","v":6.5759306650604074E-2},{"$f":"AF228/AA228","v":2.909287491320622E-2},{"$f":"AG228/AA228","v":4.3140603462738375E-3},{"$f":"AH228/AA228","v":1.2666134074641037E-2},{"$f":"AI228/AA228","v":1.9685895711873868E-4},{"$f":"AJ228/AA228","v":7.44089247579591E-2},{"$f":"I228","v":6.4714184999999986},{"$f":"BE228","v":6.4714184999999986},{"$f":"BE228*AM228","v":1.4737204329416507},{"$f":"BE228*AN228","v":0.41393171961119335},{"$f":"BE228*AO228","v":0.41700575418528363},{"$f":"BE228*AP228","v":0.22735553676209302},{"$f":"BE228*AQ228","v":5.4072906731485418E-2},{"$f":"BE228*AR228","v":0.19443616460508645},{"$f":"BE228*AS228","v":3.5966254798214183E-3},{"$f":"BE228*AT228","v":3.6872995272879074},{"$f":"W228","v":25.480404499999999},{"$f":"BO228","v":25.480404499999999},{"$f":"BO228*AW228","v":19.57537405037154},{"$f":"BO228*AX228","v":1.1545106400614515},{"$f":"BO228*AY228","v":1.6755737330969318},{"$f":"BO228*AZ228","v":0.74129822085639685},{"$f":"BO228*BA228","v":0.10992400266046744},{"$f":"BO228*BB228","v":0.3227382196730868},{"$f":"BO228*BC228","v":5.0160458568336156E-3},{"$f":"BO228*BD228","v":1.8959695012428623},2.1889894736842104,1.24532,2.2222957894736841,1.3990590000000003,0.5839740000000001,0.15323300000000001,0.43092900000000001,6.7824999999999983E-2,0.16131100000000001,0.96674049999999989,1.7874999999999998E-3,9.6710000000000008E-3,7.5000000000000007E-5,6.0350000000000009E-4,8.8400000000000006E-3,8.1040000000000001E-2,4.972E-2,4.1249999999999993E-3,-3.5950000000000001E-3,2.7184999999999997E-2,7.708000000000001E-2,7.1675000000000003E-2,6.7059999999999981E-2,0.23940500000000003,-1.1435000000000001E-2,0,9.3050000000000012E-4,2.675E-4,8.5974999999999992E-3,8.3749999999999992E-4,2.3314999999999998E-3,3.7099999999999996E-4,4.9399999999999997E-4,0.11878499999999999,5.4149999999999997E-3,0,1.2064E-2,1.495E-4,1.8350000000000002E-4,3.9335999999999996E-2,7.2090000000000001E-3,1.1E-4,0.35910999999999993,0.14156949999999999,1.593E-3,1.4139999999999999E-3,1.1150000000000001E-3,2.0000000000000002E-5,218.72595749999999,19.544915789473681,16.383640000000003,18.127113684210528,15.056965999999999,10.321461500000002,0.77691650000000001,2.8861019999999997,0.43008500000000005,0.63775500000000007,3.1207604999999998,4.6464999999999996E-3,8.9949999999999991E-4,3.4750000000000004E-4,2.5625000000000001E-3,3.7370500000000001E-2,0.66206999999999994,0.12902,7.1349999999999998E-3,0.15765000000000001,0.36920999999999993,0.289275,0.41911500000000002,0.36813999999999997,1.6033899999999999,-0.15216499999999999,5.7899999999999998E-4,5.5649999999999992E-4,8.3849999999999984E-4,3.8671999999999998E-2,2.5025E-3,0,1.3984999999999998E-3,9.3500000000000007E-4,0.60226000000000002,1.6150000000000001E-2,0,3.6450000000000003E-2,9.4499999999999993E-5,1.271E-3,0.17776049999999999,1.2441000000000001E-2,2.5799999999999998E-4,7.6781449999999989,2.5021724999999999,1.6395500000000004E-2,1.0869999999999999E-3,6.3460000000000018E-3,9.5000000000000005E-6,35.532325999999998]
["LYBR_RHTS",2002,null,null,null,null,{"$f":"G227","v":2.7944661922999998},{"$f":"H227","v":10.243066239999999},{"$f":"Tracking!BO26","v":6.4278559090909084},null,null,null,19.239019090909096,8.239019090909089,4.6584604545454544,1.1721622727272727,1.2095745454545455,0.55618181818181822,5.7888181818181811E-2,0.51161727272727286,7.3132727272727252E-2,11,{"$f":"Tracking!BN26","v":23.464843913043474},null,null,null,121.29144217391304,110.29144217391304,82.392016086956531,11.595106956521738,10.233933478260868,4.0979999999999999,0.61319739130434781,1.3149573913043477,4.4230434782608699E-2,11,6.4278559090909084,1,0.24213606902374196,6.0926301241685854E-2,6.28709052025474E-2,2.8909052772062981E-2,3.0088946606189179E-3,2.6592690111161877E-2,3.8012711005252988E-3,0.57175472138274286,23.464843913043474,{"$f":"AA229/AA229","v":1},{"$f":"AC229/AA229","v":0.67928960700145036},{"$f":"AD229/AA229","v":9.559707386359674E-2},{"$f":"AE229/AA229","v":8.4374736542311049E-2},{"$f":"AF229/AA229","v":3.378639025599272E-2},{"$f":"AG229/AA229","v":5.0555701236128289E-3},{"$f":"AH229/AA229","v":1.0841303951344758E-2},{"$f":"AI229/AA229","v":3.6466245260064715E-4},{"$f":"AJ229/AA229","v":9.0690652224480209E-2},6.4278559090909084,{"$f":"BE229","v":6.4278559090909084},1.5564157620783039,0.39162548545542319,0.40412511951608865,0.18582322568712595,1.9340741324091394E-2,0.17093398026965523,2.4434022905568044E-2,3.6751569643906898,23.464843913043474,{"$f":"BO229","v":23.464843913043474},15.939424600041676,2.2431704167529851,1.9798400231694941,0.79279237374204214,0.11862816384202093,0.25438950503216623,8.5567475312217992E-3,2.1280419988195369,2.1145772727272725,1.2618818181818183,2.120100454545454,1.3085404545454542,0.61649136363636359,0.1473581818181818,0.41869636363636364,5.5618181818181817E-2,5.7888181818181811E-2,0.85269545454545448,1.2485909090909091E-2,1.9322727272727271E-3,4.636363636363637E-5,4.6590909090909083E-4,4.1545454545454542E-3,7.333636363636363E-2,5.215454545454546E-2,3.5545454545454548E-3,1.3686363636363635E-2,2.6090909090909088E-2,5.7736363636363634E-2,6.1668181818181809E-2,7.342727272727273E-2,0.2326090909090909,1.5277272727272728E-2,0,2.4545454545454545E-5,1.6818181818181816E-4,4.4204545454545451E-3,6.1136363636363645E-4,5.5977272727272733E-3,1.1363636363636364E-4,6.9545454545454525E-5,0.11423181818181818,5.2363636363636362E-3,0,8.393181818181817E-3,5.5454545454545464E-5,8.0000000000000007E-5,1.2068181818181818E-2,3.3360000000000001E-2,4.9545454545454547E-5,0.4075227272727272,0.14945227272727271,3.1227272727272728E-4,1.0636363636363637E-4,1.071818181818182E-3,2.7272727272727276E-5,220.36677909090906,15.282308695652178,13.090713043478264,15.454245652173913,13.341454782608695,7.9657491304347801,1.3973839130434784,2.9479539130434778,0.4098,0.61319739130434781,2.1915956521739126,7.3721739130434786E-3,2.3547826086956526E-2,2.5347826086956522E-4,3.0656521739130431E-3,2.3906956521739131E-2,0.50187391304347817,9.4756521739130448E-2,6.0869565217391312E-3,0.13326521739130437,0.33054347826086955,0.41596521739130432,0.56506086956521739,0.19291739130434782,1.6377521739130436,-9.0952173913043458E-2,0,2.0130434782608697E-4,7.978260869565217E-4,3.4890869565217385E-2,2.3391304347826088E-3,3.756086956521739E-3,1.0491304347826087E-3,7.4782608695652189E-4,1.0832434782608695,1.807391304347826E-2,0,3.5785217391304351E-2,1.5739130434782607E-4,1.3430434782608699E-3,0.16926260869565218,0.15462086956521739,3.1565217391304356E-4,5.8603826086956516,1.9310904347826088,2.7482608695652173E-3,1.3173913043478262E-3,6.6039130434782621E-3,1.526086956521739E-4,42.890515217391311]
["LYBR_RHTS",2003,null,null,null,null,{"$f":"G227","v":2.7944661922999998},{"$f":"H227","v":10.243066239999999},{"$f":"Tracking!BO27","v":5.8313621739130426},null,null,null,18.068164347826087,7.0681643478260856,3.6867252173913045,0.87457130434782626,1.1944330434782611,0.58860869565217389,5.4879565217391291E-2,0.61484608695652188,5.4099130434782622E-2,11,{"$f":"Tracking!BN27","v":23.369714166666668},null,null,null,124.13140583333332,113.13140583333332,86.899456666666666,8.1351541666666645,11.064820833333334,4.4937916666666675,0.46166374999999987,1.8841824999999999,0.19233416666666667,11,5.8313621739130426,1,0.20404536655849498,4.8403993206595573E-2,6.6107049973893564E-2,3.2577116541614458E-2,3.0373625212233722E-3,3.4029250294621019E-2,2.9941686046978913E-3,0.60880562010846939,23.369714166666668,1,0.70006019897449145,6.5536631217964589E-2,8.9137964393875169E-2,3.6201891346500308E-2,3.7191534801423167E-3,1.5178934672904798E-2,1.5494400097659951E-3,8.8615769121065918E-2,5.8313621739130426,5.8313621739130426,1.1898624323114289,0.28226121505128532,0.38549415064674214,0.18996896513592743,1.7711960914723122E-2,0.19843688297467227,1.7460081543753277E-2,3.5501660643662021,23.369714166666668,23.369714166666668,16.36020674949366,1.5315723390100762,2.0831287492833734,0.84602785306043571,8.6915553772889537E-2,0.35472736466029114,3.6209970146628516E-2,2.0709251950186367,2.0292304347826087,1.0044869565217391,2.1716491304347829,1.1375234782608694,0.49197217391304343,0.10903826086956522,0.41393739130434776,5.8860869565217397E-2,5.4879565217391291E-2,1.0247434782608695,8.8330434782608689E-3,1.5260869565217391E-3,5.1304347826086952E-5,4.0739130434782608E-4,3.2452173913043482E-3,6.6821739130434779E-2,5.0521739130434791E-2,5.9608695652173917E-3,-1.0869565217391302E-3,2.5839130434782608E-2,7.0560869565217385E-2,7.0208695652173914E-2,6.4443478260869561E-2,0.22996521739130441,3.1039130434782614E-2,8.891304347826087E-4,3.1304347826086961E-5,1.634782608695652E-4,3.0008695652173913E-3,5.3782608695652177E-4,1.9119565217391304E-2,9.3913043478260875E-5,1.2608695652173909E-4,8.4526086956521751E-2,1.1878260869565217E-2,1.8521739130434781E-4,7.4247826086956516E-3,3.0869565217391302E-5,5.4347826086956524E-5,1.3840434782608699E-2,5.3462608695652176E-2,4.6521739130434785E-5,0.33041304347826089,0.11926608695652173,2.2000000000000001E-4,2.1260869565217392E-4,1.3378260869565217E-3,7.8260869565217401E-6,233.78625826086963,15.734370833333337,12.59406666666667,16.035509583333333,13.385595416666668,8.3449391666666681,0.97419666666666671,3.1259549999999998,0.44937916666666666,0.46166374999999987,3.1403041666666662,2.9461249999999998E-2,1.5886666666666664E-2,2.8499999999999999E-4,2.4866666666666661E-3,2.3233333333333332E-2,0.48045416666666663,0.15259166666666665,1.4229166666666668E-2,9.4870833333333335E-2,0.38557916666666658,0.48992916666666675,0.56836666666666669,0.1978958333333333,1.7366416666666664,-0.10104166666666664,0,8.4166666666666675E-5,7.5083333333333328E-4,2.658375E-2,2.2549999999999996E-3,1.2983749999999997E-2,8.2749999999999979E-4,6.9333333333333324E-4,0.75519166666666671,1.6079166666666665E-2,0,4.080333333333333E-2,8.6666666666666655E-5,1.1591666666666666E-3,0.12469666666666668,0.24788541666666666,3.1749999999999997E-4,5.8660958333333335,2.0230154166666665,2.1562500000000002E-3,1.1820833333333334E-3,5.8020833333333336E-3,9.5833333333333336E-6,44.56377541666668]
["LYBR_RHTS",2004,{"$f":"J231","v":6.3666166802371533},{"$f":"Tracking!BU28","v":23.565955641483153},{"$f":"Tracking!BZ28","v":6.3666166802371533},{"$f":"Tracking!CA28","v":23.565955641483153},{"$f":"G227","v":2.7944661922999998},{"$f":"H227","v":10.243066239999999},{"$f":"Tracking!BO28","v":6.6098668181818176},{"$f":"Tracking!CC28","v":6.3666166802371533},null,null,19.626518636363638,8.6265186363636346,4.3932613636363635,1.263665909090909,1.6766036363636361,0.5782272727272727,0.11482272727272726,0.49727727272727268,0.10266181818181817,11,{"$f":"Tracking!BN28","v":22.413401818181821},{"$f":"Tracking!CB28","v":23.565955641483153},null,null,105.51388863636363,94.513888636363632,73.301236363636349,7.4419104545454555,8.277403636363637,3.222454545454545,0.65638909090909081,1.4423754545454548,0.17211818181818181,11,6.6098668181818176,1,0.22384313005448725,6.4385637234186457E-2,8.5425421972557938E-2,2.9461530261202018E-2,5.8503868872590526E-3,2.5337008663672368E-2,5.2307706773634484E-3,0.56046618372855028,22.413401818181821,1,0.69470699365708222,7.0530150587026358E-2,7.8448474824867415E-2,3.0540572308544213E-2,6.220878591359935E-3,1.3670005656945939E-2,1.6312372147647689E-3,0.10425167854356787,6.6098668181818176,6.6098668181818176,1.4795732778251125,0.42558048712174079,0.56465066212559067,0.19473679128637872,3.8670278159619625E-2,0.16747425283799322,3.4574697533823084E-2,3.7046068305403388,22.413401818181821,22.413401818181821,15.570746994737274,1.5808206054038942,1.7582971882732741,0.68451811890863823,0.13943105153027513,0.3063913296459479,3.6561575155294519E-2,2.336634761416911,2.134459090909091,1.3056636363636362,2.3012072727272721,1.5033659090909091,0.58520136363636377,0.15751499999999999,0.57046090909090907,5.7822727272727262E-2,0.11482272727272726,0.82879545454545434,1.7544545454545455E-2,7.1872727272727262E-3,6.9090909090909096E-5,7.6500000000000005E-4,6.2936363636363632E-3,7.3745454545454545E-2,4.4636363636363648E-2,1.5227272727272728E-3,2.804545454545455E-3,4.2554545454545456E-2,0.10508636363636366,0.10412727272727275,6.2349999999999989E-2,0.3169227272727273,1.2490909090909092E-2,6.7727272727272729E-5,2.7272727272727276E-5,2.8727272727272716E-4,5.9195454545454542E-3,6.1181818181818191E-4,1.6278181818181817E-2,2.3000000000000001E-4,1.4681818181818182E-4,0.12210454545454547,8.5136363636363638E-3,2.4045454545454546E-4,1.002409090909091E-2,5.7272727272727274E-5,9.2727272727272713E-5,2.7781363636363632E-2,1.8031363636363637E-2,7.0454545454545477E-5,0.3996909090909091,0.14186681818181815,5.4227272727272739E-4,2.5227272727272723E-4,2.1045454545454544E-3,2.8636363636363637E-5,216.75340590909084,13.471550000000001,11.067590909090908,13.947434545454547,11.786243181818181,7.4051218181818177,0.86574954545454541,2.5090854545454544,0.32224545454545456,0.65638909090909081,2.4039590909090909,2.7651363636363644E-2,1.5697727272727273E-2,4.068181818181818E-4,2.2999999999999995E-3,2.0437272727272724E-2,0.46932272727272734,9.8522727272727276E-2,1.1463636363636363E-2,8.9736363636363628E-2,0.28827272727272724,0.36108636363636359,0.3977772727272727,0.25706363636363633,1.3939363636363638,1.634090909090909E-2,0,1.4545454545454548E-4,9.4954545454545454E-4,2.8815909090909083E-2,2.415E-3,6.4786363636363635E-3,8.6636363636363636E-4,6.2454545454545445E-4,0.67112272727272726,2.5954545454545456E-2,0,3.5819090909090905E-2,1.0909090909090911E-4,1.0690909090909093E-3,0.20286318181818183,3.3957727272727271E-2,3.540909090909091E-4,5.2076999999999991,1.795181363636364,2.3054545454545454E-3,1.1286363636363636E-3,6.3609090909090915E-3,3.7272727272727269E-5,45.954674090909094]
["LYBR_RHTS",2005,{"$f":"C231","v":6.3666166802371533},{"$f":"Tracking!BU29","v":23.343907484791767},{"$f":"Tracking!BZ29","v":6.2621743185606054},{"$f":"Tracking!CA29","v":23.154040823088021},{"$f":"G231","v":2.7944661922999998},{"$f":"H231","v":10.243066239999999},{"$f":"Tracking!BO29","v":5.4461949999999995},{"$f":"Tracking!CC29","v":6.1573396802371532},null,null,17.580765499999998,6.5807655,3.7873349999999997,0.84786649999999997,0.79103900000000005,0.48805000000000004,5.5694000000000007E-2,0.58076050000000001,3.00215E-2,11,{"$f":"Tracking!BN29","v":25.918687142857141},{"$f":"Tracking!CB29","v":24.129410308149822},null,null,148.91732380952385,137.91732380952385,119.12087619047617,2.5625390476190475,9.4427514285714302,4.18795238095238,0.38282047619047627,2.0173000000000001,0.20308619047619048,11,5.4461949999999995,1,0.21542491992171786,4.8226938696156324E-2,4.4994570913308649E-2,2.7760452182813092E-2,3.1678939122417628E-3,3.3033857371000147E-2,1.7076332654570702E-3,0.62568379061764978,25.918687142857141,1,0.79991281835577766,1.7207796796675733E-2,6.3409354848797853E-2,2.8122667489707761E-2,2.5706913500549585E-3,1.3546442740135958E-2,1.3637512767550979E-3,7.3866489932828794E-2,5.4461949999999995,5.4461949999999995,1.1732461217530601,0.26265331239231304,0.24504920713520698,0.15118883587577572,1.7252967985381524E-2,0.17990882884465412,9.3001037521659672E-3,3.407595932042891,25.918687142857141,25.918687142857141,20.732690080524513,0.44600350159089763,1.643487230256403,0.72890262028833508,6.6628944842923518E-2,0.35110601128021235,3.5346642682887369E-2,1.9145224429099961,1.8598000000000003,0.84967368421052647,1.9071866666666668,0.99471550000000009,0.50423050000000003,0.10590200000000001,0.275256,4.8805000000000008E-2,5.5694000000000007E-2,0.96793399999999996,4.8275000000000002E-3,2.8072222222222222E-3,4.1052631578947364E-5,4.1736842105263156E-4,3.0038888888888888E-3,8.2010000000000013E-2,3.7430000000000005E-2,1.4E-3,-1.5934999999999998E-2,3.6834999999999993E-2,6.1894999999999992E-2,4.1680000000000002E-2,6.454E-2,0.18901500000000002,3.895E-3,1.261111111111111E-4,3.2222222222222222E-5,2.3368421052631576E-4,2.4249999999999996E-3,5.1789473684210531E-4,1.3644444444444444E-3,1.0944444444444447E-4,1.3052631578947368E-4,8.2095000000000001E-2,1.2595E-2,3.9500000000000001E-4,6.2183333333333335E-3,3.3684210526315786E-5,6.5263157894736838E-5,8.77E-3,2.8450000000000003E-3,5.9473684210526315E-5,0.30875499999999995,0.12541222222222223,2.3944444444444442E-4,2.1277777777777777E-4,1.3968421052631579E-3,4.7368421052631586E-6,247.01468800000004,18.167361904761904,14.805195238095239,17.579933333333333,14.89056380952381,10.959775238095236,0.30076000000000003,2.7961799999999997,0.41879523809523822,0.38282047619047627,3.362166666666667,3.2230952380952381E-2,1.5804761904761905E-2,2.9619047619047621E-4,2.0685714285714287E-3,2.2593333333333337E-2,0.85285714285714287,0.18479523809523812,4.6666666666666671E-3,0.14097619047619048,0.47730952380952385,0.16856190476190477,0.24187619047619049,0.60511428571428549,1.6338380952380955,1.8923809523809523E-2,0,8.285714285714286E-5,7.1095238095238102E-4,2.8918095238095236E-2,1.9161904761904761E-3,9.9571428571428554E-4,8.6047619047619026E-4,8.0714285714285718E-4,0.23314761904761908,1.9104761904761902E-2,0,3.2087619047619045E-2,1.1857142857142858E-4,1.0328571428571429E-3,9.4304761904761919E-2,0.10288190476190474,3.3095238095238094E-4,7.3614619047619048,2.6569152380952379,2.5504761904761898E-3,1.081904761904762E-3,4.9176190476190483E-3,4.9523809523809531E-5,32.235590476190474]
["LYBR_RHTS",2006,{"$f":"C231","v":6.3666166802371533},{"$f":"Tracking!BU30","v":23.121859328100381},{"$f":"Tracking!BZ30","v":6.1577319568840574},{"$f":"Tracking!CA30","v":22.742126004692889},{"$f":"G231","v":2.7944661922999998},{"$f":"H231","v":10.243066239999999},{"$f":"Tracking!BO30","v":5.2435431818181817},{"$f":"Tracking!CC30","v":5.9117646166007898},null,null,17.147305909090907,6.1473059090909086,3.3858763636363634,0.77854500000000004,0.8305995454545454,0.45868181818181825,6.2934999999999991E-2,0.5573672727272726,7.330181818181819E-2,11,{"$f":"Tracking!BN30","v":21.186981304347825},{"$f":"Tracking!CB30","v":23.270725669019384},null,null,92.401769999999985,81.401769999999985,61.155720869565222,6.7590117391304343,7.6584960869565206,3.4685652173913044,0.39592608695652176,1.8052721739130433,0.15877695652173912,11,5.2435431818181817,1,0.19745821189562432,4.5403342316721745E-2,4.8439069662493763E-2,2.6749497595341846E-2,3.6702558602301504E-3,3.2504655581596396E-2,4.2748300269697826E-3,0.64150019007756676,21.186981304347825,1,0.66184577275484258,7.3148076483063429E-2,8.2882569099666834E-2,3.7537865534299886E-2,4.284832281421902E-3,1.953720338812821E-2,1.7183324142139177E-3,0.11904533863366472,5.2435431818181817,5.2435431818181817,1.0353806606793108,0.23807438603660325,0.25399235346238508,0.14026214573311657,1.9245145091438029E-2,0.17043956515222808,2.2415255841349038E-2,3.3637339478162929,21.186981304347825,21.186981304347825,14.022514013718489,1.5497869288956696,1.756031441970958,0.79531405528033428,9.0782661438751869E-2,0.41393436292351338,3.6406276734605135E-2,2.52221136400121,1.9136909090909093,0.98042272727272717,1.8439809090909092,0.94562636363636365,0.43905727272727263,9.6164090909090894E-2,0.28935818181818179,4.5868181818181815E-2,6.2934999999999991E-2,0.92894545454545441,1.2245909090909092E-2,3.9100000000000003E-3,1.5454545454545454E-5,4.3681818181818183E-4,4.3490909090909092E-3,8.3500000000000005E-2,3.4690909090909085E-2,0,-2.6386363636363638E-2,3.4099999999999998E-2,6.18227272727273E-2,4.1222727272727272E-2,7.0086363636363641E-2,0.18084545454545453,9.8818181818181808E-3,5.272727272727273E-5,1.8636363636363638E-5,1.409090909090909E-4,3.7909090909090904E-3,6.004545454545454E-4,1.4422727272727274E-3,1.3409090909090909E-4,7.6363636363636361E-5,7.452727272727272E-2,2.9499999999999999E-3,0,6.7645454545454545E-3,5.0454545454545458E-5,4.4545454545454547E-5,1.4426363636363633E-2,1.1272727272727273E-2,8.5000000000000006E-5,0.26198181818181826,0.10643227272727272,3.8590909090909089E-4,1.0681818181818183E-4,1.2231818181818179E-3,1.0454545454545453E-5,250.978295,12.992917391304346,9.9841304347826103,12.393809130434784,10.3157,6.4053747826086962,0.81653173913043475,2.3250756521739135,0.34685652173913045,0.39592608695652176,3.0087869565217384,2.5934347826086959E-2,2.3364347826086956E-2,2.3086956521739126E-4,2.0639130434782606E-3,2.0545217391304351E-2,0.73131739130434781,0.12129565217391304,3.291304347826087E-3,4.2708695652173917E-2,0.36496086956521739,0.1943304347826087,0.22850000000000001,0.50141739130434781,1.3319173913043481,1.5891304347826086E-2,0,2.3869565217391305E-4,8.4826086956521734E-4,2.8146086956521741E-2,2.2021739130434785E-3,3.6826086956521739E-3,8.8869565217391329E-4,4.5086956521739135E-4,0.63296956521739134,7.5739130434782607E-3,0,3.1508260869565222E-2,6.5217391304347834E-5,8.3826086956521721E-4,9.5491304347826086E-2,1.186913043478261E-2,3.0782608695652177E-4,3.9214695652173912,1.5528182608695653,2.2195652173913039E-3,5.1652173913043485E-4,6.3839130434782607E-3,3.2608695652173917E-5,52.171406956521722]
["LYBR_RHTS",2007,{"$f":"C231","v":6.3666166802371533},{"$f":"Tracking!BU31","v":22.899811171408995},{"$f":"Tracking!BZ31","v":6.0532895952075094},{"$f":"Tracking!CA31","v":22.330211186297756},{"$f":"G231","v":2.7944661922999998},{"$f":"H231","v":10.243066239999999},{"$f":"Tracking!BO31","v":5.7447223809523802},{"$f":"Tracking!CC31","v":5.7751379109730845},null,null,17.878887619047617,6.8788876190476191,4.1401261904761908,0.58931904761904763,0.9304095238095238,0.48504761904761912,7.1193333333333331E-2,0.53110571428571418,0.13168523809523811,11,{"$f":"Tracking!BN31","v":25.256197619047619},{"$f":"Tracking!CB31","v":23.628996410220214},null,null,136.64729238095236,125.64729238095238,99.151029523809527,4.3899638095238096,13.495650476190477,4.7442380952380958,0.65833095238095241,3.0736004761904767,0.13447999999999999,11,5.7447223809523802,1,0.23156508831485845,3.296172894957991E-2,5.2039564408822285E-2,2.7129630734457118E-2,3.981977785770416E-3,2.9705747113701327E-2,7.3654044312546994E-3,0.61525080499308793,25.256197619047619,1,0.72559820100489936,3.2126240725540628E-2,9.8762662918827598E-2,3.4718859134155872E-2,4.8177387265429562E-3,2.2492948251193554E-2,9.8413951463516541E-4,8.0499216693834169E-2,5.7447223809523802,5.7447223809523802,1.3302771454895819,0.18935598201153769,0.2989528503543743,0.15585219686720936,2.2875356906370513E-2,0.17065127028699159,4.2312203680994712E-2,3.5344450693427607,25.256197619047619,25.256197619047619,18.325851556605176,0.81138668452134988,2.4943693320612961,0.87686636740011714,0.12167776135450772,0.56808634606715591,2.4855622066339345E-2,2.0331041249980131,2.0594571428571427,1.1812523809523809,2.0090266666666667,1.0917461904761907,0.55256380952380946,7.3333333333333334E-2,0.32398285714285718,4.8504761904761905E-2,7.1193333333333331E-2,0.88517619047619045,2.2168095238095237E-2,3.0652380952380953E-3,2.6666666666666663E-5,6.1047619047619047E-4,5.157619047619048E-3,9.2714285714285694E-2,3.4104761904761915E-2,7.1428571428571434E-5,-1.8428571428571424E-3,4.009047619047619E-2,7.1947619047619052E-2,4.4238095238095243E-2,7.39095238095238E-2,0.22834285714285721,1.3328571428571427E-2,1.42E-3,3.3809523809523813E-5,1.7380952380952381E-4,4.3390476190476191E-3,7.0238095238095237E-4,2.5861904761904763E-3,1.5333333333333334E-4,2.8095238095238103E-5,5.6919047619047619E-2,2.9999999999999992E-3,1.3952380952380952E-4,8.0171428571428546E-3,4.761904761904762E-5,5.1428571428571442E-5,1.7499523809523809E-2,1.157E-2,9.2857142857142859E-5,0.36229523809523811,0.13411380952380952,4.0666666666666661E-4,9.3809523809523814E-5,1.4966666666666665E-3,2.7142857142857141E-5,235.29574333333338,21.254309999999997,15.599175000000006,20.904594736842103,14.953664285714286,9.4598647619047629,0.51539809523809521,3.8237057142857145,0.47442380952380947,0.65833095238095241,5.1226676190476201,2.1940952380952384E-2,3.7138000000000004E-2,4.4100000000000009E-4,3.4869999999999996E-3,3.2914499999999999E-2,1.0999380952380955,0.11043809523809524,4.3952380952380953E-3,0.14998571428571425,0.63065714285714258,0.30463809523809521,0.39040952380952387,0.72799047619047608,2.2036809523809526,1.2971428571428575E-2,0,1.6150000000000002E-4,1.0680000000000002E-3,4.2892E-2,2.4235000000000003E-3,8.4790000000000004E-3,1.2035000000000001E-3,4.8700000000000002E-4,0.40007142857142858,1.4966666666666665E-2,0,4.4144500000000003E-2,1.5800000000000002E-4,1.1030000000000002E-3,0.17475499999999999,8.5854E-2,4.4400000000000011E-4,6.6976666666666649,2.3184979999999999,3.5675000000000012E-3,7.5050000000000008E-4,6.8769999999999994E-3,2.9999999999999997E-5,34.607009047619052]
["LYBR_RHTS",2008,{"$f":"C231","v":6.3666166802371533},{"$f":"Tracking!BU32","v":22.677763014717609},{"$f":"Tracking!BZ32","v":5.9488472335309615},{"$f":"Tracking!CA32","v":21.918296367902624},{"$f":"G231","v":2.7944661922999998},{"$f":"H231","v":10.243066239999999},null,{"$f":"Tracking!CC32","v":5.7610818452380954},null,null,null,null,null,null,null,null,null,null,null,null,null,{"$f":"Tracking!CB32","v":23.693816971108603}]
["LYBR_RHTS",2009,{"$f":"C231","v":6.3666166802371533},{"$f":"Tracking!BU33","v":22.455714858026223},{"$f":"Tracking!BZ33","v":5.8444048718544135},{"$f":"Tracking!CA33","v":21.506381549507491},{"$f":"G231","v":2.7944661922999998},{"$f":"H231","v":10.243066239999999},{"$f":"Tracking!BO33","v":4.1096230000000009},{"$f":"Tracking!CC33","v":5.1360208906926399},null,null,15.206705499999998,4.2067055,2.2097510000000002,0.77767500000000001,0.37832100000000002,0.2772,5.7847499999999996E-2,0.37992900000000007,0.12598250000000003,11,{"$f":"Tracking!BN33","v":17.854491904761908},{"$f":"Tracking!CB33","v":22.554089492753626},null,null,66.049830952380958,55.049830952380958,38.342448095238083,6.7383266666666675,5.4012928571428578,2.0802380952380952,0.43359047619047619,1.5245,0.5294333333333332,11,4.1096230000000009,1,0.14531424969070392,5.114026835069569E-2,2.4878564262324938E-2,1.822880044596116E-2,3.8040784047537451E-3,2.4984307087422723E-2,8.2846675764188405E-3,0.72336509706195085,17.854491904761908,{"$f":"AA236/AA236","v":1},{"$f":"AC236/AA236","v":0.58050789142641879},{"$f":"AD236/AA236","v":0.10201883289488972},{"$f":"AE236/AA236","v":8.1776028481237953E-2},{"$f":"AF236/AA236","v":3.1494979854495855E-2},{"$f":"AG236/AA236","v":6.5645963046154646E-3},{"$f":"AH236/AA236","v":2.3081058316395963E-2},{"$f":"AI236/AA236","v":8.0156652288032575E-3},{"$f":"AJ236/AA236","v":0.16654092586445102},4.1096230000000009,4.1096230000000009,0.59718678275665982,0.21016722304019111,0.10224151989942862,7.4913497575132257E-2,1.5633328105979304E-2,0.10267608304553545,3.4046860419405134E-2,2.9727578402830264,17.854491904761908,17.854491904761908,10.364673448123398,1.8214944260550663,1.4600694385218422,0.56232686285273559,0.11720753157878674,0.41210056886342922,0.14311562993894927,2.9735036126583938,1.3648099999999999,0.74470000000000014,1.2913559999999999,0.63141150000000013,0.29496799999999995,9.6589499999999995E-2,0.13341599999999998,2.7720000000000002E-2,5.7847499999999996E-2,0.63321499999999986,2.0870999999999994E-2,4.0975000000000004E-3,5.8000000000000014E-5,3.88E-4,4.0214999999999999E-3,5.1424999999999998E-2,1.6995E-2,9.5000000000000005E-5,-2.2004999999999997E-2,1.338E-2,3.5045E-2,3.7489999999999996E-2,3.9620000000000002E-2,0.10353000000000004,1.5104999999999999E-2,1.16E-3,5.9000000000000004E-5,1.2400000000000001E-4,3.3945000000000004E-3,4.0799999999999994E-4,3.1530000000000004E-3,9.0000000000000006E-5,6.4499999999999996E-5,7.5204999999999994E-2,6.4549999999999998E-3,1.93E-4,6.1510000000000011E-3,4.2000000000000004E-5,3.65E-5,1.3150500000000001E-2,2.2028499999999999E-2,1.2450000000000002E-4,0.19906500000000002,7.1805999999999995E-2,2.8700000000000004E-4,3.6000000000000001E-5,6.5900000000000008E-4,3.4500000000000005E-5,280.64366150000001,9.7627047619047609,7.2130238095238113,9.8175314285714261,7.3947823809523801,4.1614547619047615,0.81083190476190481,1.7013857142857147,0.20802380952380953,0.43359047619047619,2.5408333333333335,7.9495238095238091E-2,3.1763809523809521E-2,2.4952380952380951E-4,1.8338095238095242E-3,1.9767619047619048E-2,0.4844666666666666,7.4895238095238098E-2,9.5238095238095247E-6,3.1600000000000003E-2,0.26149523809523811,0.14228095238095234,0.20462380952380946,0.34848095238095234,0.98848095238095268,4.8604761904761914E-2,0,8.9047619047619064E-5,5.4619047619047627E-4,2.1482857142857144E-2,1.6533333333333335E-3,7.7819047619047624E-3,5.676190476190476E-4,1.7476190476190478E-4,0.6312809523809525,1.8404761904761906E-2,0,2.4896190476190475E-2,1.1619047619047618E-4,4.2952380952380955E-4,0.11135,5.9373809523809502E-2,2.3380952380952377E-4,2.8660380952380948,1.0121590476190476,1.7000000000000001E-3,2.9809523809523809E-4,4.0747619047619048E-3,1.0904761904761902E-4,71.691270952380961]
["LYBR_RHTS",2010,{"$f":"C231","v":6.3666166802371533},{"$f":"Tracking!BU34","v":22.233666701334837},{"$f":"Tracking!BZ34","v":5.7399625101778655},{"$f":"Tracking!CA34","v":21.094466731112359},{"$f":"G231","v":2.7944661922999998},{"$f":"H231","v":10.243066239999999},{"$f":"Tracking!BO34","v":4.0833290909090909},{"$f":"Tracking!CC34","v":4.7953044134199132},null,null,15.207989545454547,4.207989545454546,2.1615859090909093,0.62834727272727264,0.71783363636363628,0.28531818181818175,6.4314090909090904E-2,0.30205090909090909,4.853863636363636E-2,11,{"$f":"Tracking!BN34","v":19.089753478260871},{"$f":"Tracking!CB34","v":20.846856076604556},null,null,77.24490304347826,66.244903043478232,48.926154782608691,3.8690269565217394,8.5482291304347839,3.0050000000000003,0.4619552173913043,1.3670686956521738,6.7468260869565214E-2,11,4.0833290909090909,1,0.14213488920611317,4.1316919034513455E-2,4.7201086916724415E-2,1.8761071669953857E-2,4.2289673277894563E-3,1.9861330663604241E-2,3.1916537171834047E-3,0.72330402168692609,19.089753478260871,1,0.63339007306501494,5.0087796140335747E-2,0.11066398938481813,3.8902243146173653E-2,5.9803974008652326E-3,1.7697849848846366E-2,8.7343317437514113E-4,0.14240421783957075,4.0833290909090909,4.0833290909090909,0.58038352792846248,0.16871057744036433,0.1927375713295893,7.6607629726552981E-2,1.7268265314066767E-2,8.110034928285996E-2,1.3032572471483133E-2,2.9534883533257652,19.089753478260871,19.089753478260871,12.091260350388776,0.95616368058839574,2.1125482762770558,0.74263423141181861,0.11416431208454934,0.33784759070975356,1.6673623978556283E-2,2.7184614128219642,1.3520772727272727,0.8518045454545452,1.1754195454545455,0.72197909090909096,0.29347863636363641,7.8941818181818196E-2,0.24896454545454547,2.8531818181818182E-2,6.4314090909090904E-2,0.50341818181818188,7.7490909090909103E-3,6.2500000000000003E-3,1.590909090909091E-5,3.6227272727272736E-4,4.0990909090909099E-3,6.0345454545454542E-2,1.7604545454545453E-2,9.090909090909091E-6,-1.9018181818181819E-2,1.6899999999999998E-2,4.7127272727272726E-2,3.876818181818182E-2,4.9427272727272736E-2,0.13320454545454544,8.6681818181818179E-3,2.1363636363636362E-5,2.1818181818181818E-5,1.35E-4,3.0199999999999992E-3,4.6272727272727259E-4,8.8454545454545448E-4,1.0636363636363639E-4,3.4545454545454548E-5,6.0822727272727278E-2,1.377272727272727E-3,2.3772727272727273E-4,7.1831818181818186E-3,5.4545454545454539E-5,5.4090909090909097E-5,1.4267272727272729E-2,1.3071818181818183E-2,7.2272727272727259E-5,0.18070454545454548,7.1146363636363633E-2,2.977272727272727E-4,3.4545454545454555E-5,7.9863636363636356E-4,6.1818181818181818E-5,282.3665059090909,11.311030434782609,9.0448608695652144,10.741879130434784,8.955633478260868,5.1414460869565213,0.47749086956521736,2.5630121739130431,0.3005000000000001,0.4619552173913043,2.2784478260869565,1.1227826086956523E-2,3.1564347826086962E-2,2.2999999999999998E-4,1.9678260869565216E-3,2.1014347826086958E-2,0.67314782608695634,9.369130434782609E-2,1.4260869565217392E-3,3.9869565217391309E-2,0.3904652173913043,0.24674347826086962,0.27905217391304349,0.46776521739130433,1.4238956521739128,1.8347826086956517E-3,0,1.3173913043478262E-4,8.6304347826086957E-4,2.2850869565217397E-2,1.6252173913043481E-3,8.3821739130434773E-3,8.0260869565217379E-4,1.9391304347826085E-4,0.37014782608695657,1.295652173913044E-2,0,3.4087391304347819E-2,1.1869565217391303E-4,6.4043478260869568E-4,0.11992217391304349,0.10826521739130436,4.0304347826086961E-4,3.3959652173913044,1.246411304347826,1.7830434782608695E-3,3.9434782608695651E-4,5.0491304347826099E-3,8.4347826086956528E-5,66.015179999999987]
["LYBR_RHTS",2011,{"$f":"C231","v":6.3666166802371533},{"$f":"Tracking!BU35","v":22.011618544643451},{"$f":"Tracking!BZ35","v":5.6355201485013175},{"$f":"Tracking!CA35","v":20.682551912717226},{"$f":"G231","v":2.7944661922999998},{"$f":"H231","v":10.243066239999999},{"$f":"Tracking!BO35","v":5.3999280000000001},{"$f":"Tracking!CC35","v":4.8344006179653682},null,null,17.350170500000001,6.3501705000000008,3.3049679999999997,0.99075100000000005,1.002767,0.42699999999999994,4.3275500000000001E-2,0.45465800000000006,0.12675149999999999,11,{"$f":"Tracking!BN35","v":18.26713476190476},{"$f":"Tracking!CB35","v":20.116894440993789},null,null,65.90927714285715,54.909277142857142,38.408849523809522,4.6949080952380955,7.405851428571431,2.6808095238095238,0.2221538095238095,1.346184761904762,0.15052380952380953,11,5.3999280000000001,1,0.19048619723938734,5.7103242875912952E-2,5.7795800911581818E-2,2.4610709157007991E-2,2.4942406185576101E-3,2.620481452905607E-2,7.3054901679496451E-3,0.63399953331870718,18.26713476190476,1,0.58275331165533872,7.1232887064774944E-2,0.11236432486612444,4.0674236465966976E-2,3.3705999997890312E-3,2.0424814536911567E-2,2.2838030706595664E-3,0.166896080139943,5.3999280000000001,5.3999280000000001,1.0286117500864904,0.30835340009644285,0.31209316362487621,0.13289605747678385,1.3468719754886558E-2,0.14150411171025667,3.9449120911635993E-2,3.4235518319546197,18.26713476190476,18.26713476190476,10.645233276954356,1.3012207474917863,2.052574264759941,0.74300175886139952,6.157120442462239E-2,0.37310283963267493,4.1718538461390196E-2,3.0487131871499957,1.9169473684210525,1.1833399999999998,1.7021347368421054,1.0175879999999999,0.44078449999999991,0.12072449999999997,0.34761600000000004,4.2700000000000002E-2,4.3275500000000001E-2,0.75776299999999996,2.2487E-2,3.3655000000000004E-3,4.4500000000000004E-5,3.6149999999999995E-4,3.9309999999999996E-3,7.6619999999999994E-2,2.9125000000000002E-2,9.5E-4,-1.8995000000000001E-2,2.5979999999999996E-2,6.6980000000000012E-2,5.3964999999999999E-2,6.3994999999999996E-2,0.19192499999999998,1.5045000000000003E-2,1.2999999999999999E-5,2.8500000000000005E-5,6.6499999999999977E-5,4.5829999999999994E-3,4.1649999999999993E-4,2.859E-3,1.1749999999999998E-4,4.4499999999999997E-5,9.3585000000000002E-2,2.4300000000000003E-3,2.2649999999999998E-4,8.2339999999999983E-3,4.2999999999999995E-5,-8.4999999999999982E-6,7.0414999999999991E-3,7.8235000000000006E-3,3.0999999999999995E-5,0.290045,0.10685700000000001,4.0599999999999995E-4,7.7000000000000001E-5,9.819999999999998E-4,-2.4000000000000001E-5,245.51723050000001,10.238405000000002,7.9404714285714295,9.5103455000000015,7.5363219047619037,4.1908876190476185,0.55514285714285716,2.2760314285714287,0.26808095238095236,0.2221538095238095,2.2436409523809524,2.4026666666666672E-2,1.9954761904761899E-2,2.3904761904761906E-4,1.8866666666666667E-3,1.7755714285714284E-2,0.55480476190476191,9.3404761904761879E-2,6.6666666666666675E-4,4.3142857142857149E-3,0.32759523809523811,0.28142380952380952,0.27033333333333343,0.38079523809523813,1.2644619047619048,1.0757142857142859E-2,7.6476190476190481E-4,1.3857142857142855E-4,6.8047619047619044E-4,2.1409523809523805E-2,1.8019047619047615E-3,4.5257142857142857E-3,9.2190476190476202E-4,2.0095238095238095E-4,0.43034285714285714,7.1952380952380957E-3,2.1771428571428575E-3,2.6643333333333331E-2,3.7142857142857137E-5,4.1238095238095243E-4,3.802285714285715E-2,1.9684761904761906E-2,2.2047619047619053E-4,2.8110571428571425,1.0159728571428572,1.4552380952380954E-3,5.0333333333333328E-4,4.8347619047619051E-3,1.9047619047619087E-5,67.43029238095238]
["LYBR_RHTS",2012,{"$f":"C231","v":6.3666166802371533},{"$f":"Tracking!BU36","v":21.789570387952065},{"$f":"Tracking!BZ36","v":5.5310777868247696},{"$f":"Tracking!CA36","v":20.270637094322094},{"$f":"G231","v":2.7944661922999998},{"$f":"H231","v":10.243066239999999},{"$f":"Tracking!BO36","v":5.4927761904761914},{"$f":"Tracking!CC36","v":4.7714140703463208},null,null,17.491879047619047,6.4918790476190464,3.2846619047619052,0.94851904761904771,1.1227038095238095,0.56414285714285717,5.1086666666666669E-2,0.42433714285714286,9.6425238095238106E-2,11,{"$f":"Tracking!BN36","v":17.78050318181818},{"$f":"Tracking!CB36","v":18.247970831686427},null,null,61.722624090909086,50.722624090909086,30.520953181818172,9.6100609090909099,5.7988472727272731,2.6882727272727269,0.2667609090909091,1.6258990909090905,0.21182954545454544,11,5.4927761904761914,1,0.18778210710352503,5.4226252367561269E-2,6.4184288404202594E-2,3.2251701238446819E-2,2.9205934095239737E-3,2.4259094274660137E-2,5.5125717387328535E-3,0.6288632553457596,17.78050318181818,1,0.4944856708759649,0.15569754284809065,9.3950109188267086E-2,4.3554090041817803E-2,4.3219307834029596E-3,2.634202798173909E-2,3.4319594893203039E-3,0.17821666142707229,5.4927761904761914,5.4927761904761914,1.0314450868956924,0.29785266790329373,0.35254993114926109,0.17715137666489217,1.6042165941894962E-2,0.1332497754343705,3.0279322794803758E-2,3.4542051160285379,17.78050318181818,17.78050318181818,8.7922040443735909,2.7683806560117481,1.6704802153541483,0.77441363656973694,7.6846104045894259E-2,0.46837451234485539,6.1021966619730757E-2,3.168781915557072,1.8443857142857141,1.1716857142857144,1.7248790476190479,1.0546361904761905,0.4263580952380952,0.11504333333333334,0.38976857142857146,5.6414285714285715E-2,5.1086666666666669E-2,0.70722857142857143,1.5964285714285716E-2,4.8419047619047625E-3,4.7619047619047607E-5,3.0809523809523812E-4,4.3723809523809514E-3,8.4223809523809534E-2,3.2119047619047623E-2,0,-1.6952380952380951E-2,3.4133333333333335E-2,7.8299999999999981E-2,6.1128571428571442E-2,5.9928571428571428E-2,0.21653809523809522,9.5952380952380924E-3,8.442857142857143E-4,2.9523809523809523E-5,1.7142857142857145E-4,3.9595238095238095E-3,5.0476190476190488E-4,2.0880952380952383E-3,1.6190476190476192E-4,5.476190476190476E-5,8.9180952380952402E-2,5.7190476190476193E-3,2.9047619047619045E-5,8.0947619047619049E-3,2.8095238095238076E-5,2.3809523809523833E-6,9.0952380952380937E-3,3.3852380952380961E-3,7.1904761904761905E-5,0.30766666666666664,0.10335952380952379,3.2476190476190474E-4,4.9999999999999996E-5,1.3280952380952382E-3,1.1428571428571431E-4,242.67218571428572,10.355004545454547,7.6451727272727288,9.4742345454545465,7.0465277272727267,3.5033090909090903,1.1441659090909093,1.8291354545454546,0.26882727272727275,0.2667609090909091,2.7098318181818182,3.4330909090909086E-2,1.9869545454545456E-2,1.3590909090909089E-4,2.3695454545454549E-3,2.2316818181818184E-2,0.50259999999999994,7.5163636363636363E-2,1.8181818181818182E-5,1.2018181818181818E-2,0.26864090909090915,0.22909090909090904,0.19748181818181818,0.30895454545454543,1.0161863636363639,1.9727272727272729E-2,6.5636363636363624E-4,1.9181818181818181E-4,8.6136363636363645E-4,2.5050000000000003E-2,1.6272727272727272E-3,4.0390909090909106E-3,1.0759090909090909E-3,2.3136363636363635E-4,0.88694999999999991,1.2018181818181818E-2,3.5759090909090918E-3,2.9848181818181819E-2,-5.1818181818181805E-5,4.7954545454545456E-4,4.9419545454545438E-2,2.1536363636363631E-2,2.1772727272727276E-4,2.3418227272727274,0.84928681818181817,1.544090909090909E-3,3.1272727272727279E-4,6.0922727272727274E-3,2.3409090909090903E-4,70.234512272727272]
["LYBR_RHTS",2013,{"$f":"C231","v":6.3666166802371533},{"$f":"Tracking!BU37","v":21.567522231260678},{"$f":"Tracking!BZ37","v":5.4266354251482216},{"$f":"Tracking!CA37","v":19.858722275926961},{"$f":"G231","v":2.7944661922999998},{"$f":"H231","v":10.243066239999999},{"$f":"Tracking!BO37","v":5.3526569565217388},{"$f":"Tracking!CC37","v":4.8876626475814042},null,null,17.251476521739132,6.2514765217391295,3.0484756521739125,0.79580826086956546,1.1521317391304347,0.34808695652173915,4.7835217391304356E-2,0.64835739130434777,0.21078086956521744,11,{"$f":"Tracking!BN37","v":17.321281666666668},{"$f":"Tracking!CB37","v":18.062632998682474},null,null,58.411142500000004,47.411142500000004,28.959868750000002,7.9743808333333313,5.8887454166666666,2.240791666666667,0.25509500000000002,1.8680975000000004,0.22416541666666667,11,5.3526569565217388,1,0.1767081008012521,4.6129863717273262E-2,6.6784529293976491E-2,2.0177226922176994E-2,2.7728187399510807E-3,3.75827188175651E-2,1.2218135027434074E-2,0.6376265814777391,17.321281666666668,1,0.4957935679823417,0.13652156920802105,0.10081544658481327,3.8362400918055435E-2,4.3672318171143459E-3,3.1981868870310154E-2,3.8377166936371201E-3,0.18832023359241773,5.3526569565217388,5.3526569565217388,0.94585784502756665,0.24691733592966247,0.35747467531343313,0.10800177404830839,1.4841947517572994E-2,0.20116740132384028,6.5399485450316916E-2,3.4129963570099955,17.321281666666668,17.321281666666668,8.5877800395437891,2.3647285538274598,1.7462527466463389,0.66448595171123015,7.564605240786608E-2,0.55396695892904069,6.6474171807357263E-2,3.2619478095867294,2.146404347826087,1.0658086956521737,2.0962130434782607,1.0211799999999998,0.40661739130434782,9.7978695652173931E-2,0.39886434782608698,3.480869565217392E-2,4.7835217391304356E-2,1.0805956521739131,3.5076956521739137E-2,4.3747826086956518E-3,4.9565217391304357E-5,5.1826086956521735E-4,4.8591304347826089E-3,6.8804347826086951E-2,2.1865217391304342E-2,3.0434782608695653E-5,-9.8043478260869572E-3,3.5117391304347823E-2,8.6047826086956519E-2,5.4339130434782626E-2,5.589130434782609E-2,0.22159130434782612,2.1073913043478262E-2,7.4486956521739129E-3,3.1739130434782599E-5,9.9130434782608714E-5,4.1504347826086955E-3,2.5217391304347829E-4,3.495652173913043E-3,2.0478260869565221E-4,3.3478260869565214E-5,7.542608695652174E-2,5.226086956521739E-3,1.1739130434782609E-4,8.279565217391302E-3,7.6956521739130442E-5,4.0869565217391301E-5,7.865652173913041E-3,1.446304347826087E-2,2.6086956521739132E-5,0.29010869565217395,9.8573913043478262E-2,3.2869565217391301E-4,5.3043478260869561E-5,8.0043478260869566E-4,3.2347826086956513E-4,246.44808130434782,10.274379166666666,7.1608833333333317,9.7880225000000003,6.7315875000000007,3.4054858333333331,0.95578291666666637,1.8545700000000005,0.22407916666666672,0.25509500000000002,3.1134958333333334,3.6574583333333334E-2,2.6625416666666669E-2,2.2208333333333336E-4,2.1320833333333335E-3,1.5507916666666668E-2,0.48639583333333319,7.1262500000000006E-2,9.9166666666666652E-4,2.0787500000000004E-2,0.2855166666666667,0.20154166666666662,0.18790000000000004,0.33457083333333332,1.0303166666666668,2.1745833333333336E-2,1.2099999999999997E-3,1.4125000000000002E-4,5.270833333333334E-4,2.2591249999999997E-2,1.2145833333333331E-3,6.9679166666666665E-3,7.6375E-4,1.3999999999999999E-4,0.74091666666666667,9.7541666666666679E-3,1.6229166666666666E-3,2.8527499999999997E-2,3.9583333333333331E-5,3.9166666666666668E-4,4.5382916666666662E-2,2.3137499999999995E-2,2.2458333333333344E-4,2.4333499999999999,0.82557250000000015,1.8379166666666663E-3,2.2625E-4,4.0837499999999997E-3,4.5750000000000001E-4,72.82864499999998]
["LYBR_RHTS",2014,{"$f":"C231","v":6.3666166802371533},{"$f":"Tracking!BU38","v":21.345474074569292},{"$f":"Tracking!BZ38","v":5.3221930634716736},{"$f":"Tracking!CA38","v":19.446807457531829},{"$f":"G231","v":2.7944661922999998},{"$f":"H231","v":10.243066239999999},{"$f":"Tracking!BO38","v":5.0042266666666659},{"$f":"Tracking!CC38","v":5.0665833809147376},null,null,16.882986250000002,5.882986250000001,2.5889258333333331,0.74314124999999998,1.3781320833333333,0.39254166666666662,3.6877916666666663E-2,0.60736749999999995,0.13600375000000001,11,{"$f":"Tracking!BN38","v":16.61486833333333},{"$f":"Tracking!CB38","v":17.814708284396762},null,null,54.189736666666668,43.189736666666668,24.294162083333333,9.015619583333331,5.3153283333333343,2.0818750000000006,0.25848291666666667,1.9914324999999999,0.23283708333333333,11,5.0042266666666659,1,0.15334525509865488,4.4017168467456395E-2,8.1628454997606431E-2,2.3250724774277809E-2,2.1843242730039338E-3,3.5975122588280249E-2,8.055669061508593E-3,0.65154350285631479,16.61486833333333,1,0.44831666617559374,0.16637134885505067,9.8087362299416989E-2,3.8418252755241918E-2,4.7699607447191259E-3,3.6749255901532642E-2,4.2967007713207196E-3,0.2029904678751899,5.0042266666666659,5.0042266666666659,0.76737441477149126,0.22027188823600438,0.40848729125782196,0.11635189693476831,1.0930853775613564E-2,0.18002766779287435,4.0312393935442933E-2,3.2604713714869793,16.61486833333333,16.61486833333333,7.4487223801464424,2.764238055665734,1.629708609768777,0.63831421112506492,7.9252269728676869E-2,0.61058404815193768,7.1389117583225525E-2,3.3726598966680092,2.1049458333333333,1.0976083333333333,1.9973570833333329,1.0169920833333332,0.35196125,9.5357083333333328E-2,0.46936500000000003,3.9254166666666666E-2,3.6877916666666663E-2,1.0122791666666666,2.4175833333333337E-2,3.4016666666666661E-3,6.6666666666666656E-5,4.7624999999999995E-4,3.127916666666666E-3,7.3558333333333323E-2,2.7120833333333341E-2,8.7499999999999999E-5,-1.0779166666666668E-2,5.0541666666666658E-2,0.101775,5.673333333333333E-2,6.1512499999999991E-2,0.25978333333333337,1.5649999999999997E-2,2.9462499999999992E-3,9.9999999999999991E-6,1.7166666666666667E-4,3.730833333333333E-3,2.6125000000000009E-4,1.9799999999999996E-3,1.3791666666666667E-4,2.7083333333333329E-5,7.375000000000001E-2,7.3624999999999984E-3,1.0583333333333334E-4,7.4183333333333332E-3,-6.2499999999999935E-6,1.041666666666667E-5,5.8312499999999996E-3,9.6141666666666684E-3,3.9166666666666659E-5,0.23512083333333336,8.532374999999999E-2,2.1999999999999995E-4,2.7500000000000004E-5,1.1854166666666669E-3,9.6249999999999968E-5,260.04246416666666,10.133149999999999,6.8140958333333339,9.2208129166666648,6.1455370833333332,2.8634241666666664,1.0945066666666667,1.6829399999999997,0.2081875,0.25848291666666667,3.3190541666666662,3.7997916666666666E-2,2.6933750000000003E-2,1.2458333333333334E-4,2.0583333333333339E-3,1.6267500000000001E-2,0.4411166666666666,7.6316666666666672E-2,2.7500000000000002E-4,4.2795833333333332E-2,0.22967916666666663,0.18489999999999998,0.16807083333333331,0.30952083333333325,0.93496666666666661,2.2354166666666665E-2,1.7570833333333334E-3,2.0916666666666664E-4,7.2708333333333338E-4,2.4586666666666663E-2,1.2866666666666666E-3,6.5941666666666657E-3,7.9500000000000013E-4,1.7958333333333335E-4,0.84845416666666684,1.9600000000000003E-2,8.1333333333333344E-4,2.9725416666666671E-2,7.9583333333333321E-5,4.0291666666666671E-4,4.4042916666666654E-2,2.3909999999999997E-2,2.8041666666666672E-4,1.9035666666666666,0.69416333333333313,1.8279166666666667E-3,1.9583333333333337E-4,4.4037499999999997E-3,2.0624999999999994E-4,78.030644166666676]
["LYBR_RHTS",2015,{"$f":"C231","v":6.3666166802371533},{"$f":"Tracking!BU39","v":21.123425917877906},{"$f":"Tracking!BZ39","v":5.2177507017951257},{"$f":"Tracking!CA39","v":19.034892639136697},{"$f":"G231","v":2.7944661922999998},{"$f":"H231","v":10.243066239999999},{"$f":"Tracking!BO39","v":5.2025231818181803},{"$f":"Tracking!CC39","v":5.2904221990965556},null,null,17.09634227272727,6.0963422727272727,2.5697940909090913,0.72080954545454545,1.5548600000000001,0.37164999999999998,5.8981818181818184E-2,0.59634863636363644,0.22389772727272728,11,{"$f":"Tracking!BN39","v":15.356502272727273},{"$f":"Tracking!CB39","v":17.068058043290044},null,null,47.752031363636362,36.752031363636362,18.553413181818179,9.3539190909090895,5.2495113636363637,1.978845454545455,0.1818913636363636,1.0403409090909093,0.39410863636363641,11,5.2025231818181803,1,0.15031250836668869,4.2161623460499384E-2,9.0946939128632887E-2,2.1738568055745474E-2,3.449967088919845E-3,3.48816505221093E-2,1.3096235656787088E-2,0.64341248113332494,15.356502272727273,1,0.38853662665221789,0.19588526024533043,0.10993273403723548,4.1440026697008019E-2,3.8090811729294444E-3,2.1786317343624861E-2,8.2532329014960819E-3,0.23035669239354301,5.2025231818181803,5.2025231818181803,0.78200430929493714,0.2193468234363373,0.47315355913211954,0.11309540424954799,1.7948533756615277E-2,0.18147259546135386,6.8133469598988666E-2,3.3473683485672754,15.356502272727273,15.356502272727273,5.966563590222572,3.0081124441511902,1.6881822800899295,0.63637386415448249,5.849416368909368E-2,0.33456163180173276,0.12674078980917208,3.5374730702793804,2.1182909090909088,1.1384836363636361,2.0321395454545454,1.0976677272727271,0.34108590909090913,8.9947272727272723E-2,0.53371636363636366,3.7164999999999997E-2,5.8981818181818184E-2,0.993914090909091,3.6771363636363637E-2,4.5745454545454553E-3,5.5454545454545451E-5,4.3227272727272727E-4,7.9686363636363635E-3,7.3884090909090927E-2,2.4702272727272732E-2,1.3000000000000002E-4,-8.1345454545454568E-3,3.822954545454546E-2,0.13194136363636363,7.2921363636363645E-2,6.155136363636364E-2,0.29650909090909089,2.1738636363636363E-2,1.3120909090909089E-2,1.9999999999999991E-5,1.2363636363636364E-4,4.8618181818181816E-3,2.1954545454545455E-4,2.7490909090909094E-3,1.8545454545454543E-4,4.7272727272727288E-5,6.9726818181818195E-2,7.8013636363636367E-3,6.9545454545454552E-5,8.2213636363636343E-3,-7.4545454545454538E-5,3.499999999999999E-5,9.3936363636363644E-3,1.7231363636363638E-2,7.0909090909090919E-5,0.21341318181818184,8.2687272727272706E-2,3.7227272727272733E-4,2.0454545454545457E-5,1.2277272727272727E-3,1.9545454545454545E-4,252.33356727272729,7.2736695454545464,5.5915209523809528,7.1042623809523802,5.6357149999999994,2.3520481818181818,1.157405,1.6775090909090908,0.19788454545454545,0.1818913636363636,1.7339004545454544,6.8975454545454548E-2,1.9785714285714288E-2,1.6714285714285716E-4,2.7485714285714288E-3,1.5205238095238095E-2,0.41456772727272728,5.3675000000000007E-2,1.65E-4,8.1204545454545436E-3,0.19363363636363634,0.26481181818181815,0.1948604545454545,0.27052318181818186,0.93194954545454534,4.039636363636364E-2,2.1819047619047621E-3,1.780952380952381E-4,7.123809523809524E-4,1.8989523809523807E-2,1.3671428571428571E-3,1.0795238095238094E-2,7.7999999999999999E-4,1.9285714285714289E-4,0.89721318181818177,1.0070909090909094E-2,4.3523809523809525E-4,2.960190476190476E-2,3.2857142857142864E-5,4.1238095238095243E-4,2.776904761904762E-2,4.4960952380952372E-2,1.9380952380952383E-4,1.5408277272727273,0.57465047619047616,1.2404761904761905E-3,1.0285714285714288E-4,4.475714285714286E-3,3.6714285714285711E-4,88.353854090909095]
["LYBR_RHTS",2016,{"$f":"C231","v":6.3666166802371533},{"$f":"Tracking!BU40","v":20.90137776118652},{"$f":"Tracking!BZ40","v":5.1133083401185777},{"$f":"Tracking!CA40","v":18.622977820741564},{"$f":"G231","v":2.7944661922999998},{"$f":"H231","v":10.243066239999999},{"$f":"Tracking!BO40","v":4.8776914285714286},{"$f":"Tracking!CC40","v":5.1859748848108413},null,null,16.451509523809527,5.4515095238095235,2.1128595238095236,1.0996142857142861,1.0989899999999999,0.30437619047619052,4.3730952380952384E-2,0.69677714285714287,9.5160476190476184E-2,11,{"$f":"Tracking!BN40","v":13.415891818181819},{"$f":"Tracking!CB40","v":16.097809454545452},null,null,40.532919545454547,29.532919545454547,12.557151818181818,10.109673636363636,3.5438045454545457,1.5143227272727273,0.1811568181818182,1.3624718181818183,0.26433954545454541,11,4.8776914285714286,1,0.12842952318458542,6.6839719730451719E-2,6.6801772713286967E-2,1.8501414112527523E-2,2.6581726325880643E-3,4.235338659037511E-2,5.7843005866880922E-3,0.66863165255931056,13.415891818181819,1,0.30980131604139544,0.24941883658359265,8.7430280996177487E-2,3.7360317101622326E-2,4.4693750219168098E-3,3.361395708626197E-2,6.5216014148230545E-3,0.27138434939689815,4.8776914285714286,4.8776914285714286,0.62643958441296788,0.32602352801734097,0.32583843417697655,9.0244189033125963E-2,1.2965745865637951E-2,0.20658675074284474,2.8214033391969193E-2,3.2613788805600987,13.415891818181819,13.415891818181819,4.1562609411417171,3.3461761290222487,1.172955191477955,0.50122197252833323,5.9960651788919919E-2,0.45096121185029675,8.7493099062567595E-2,3.6408630726564422,2.0326514285714286,0.86982523809523793,2.026330952380953,0.89521142857142877,0.28380285714285713,0.14034190476190475,0.38053666666666669,3.043761904761905E-2,4.3730952380952384E-2,1.1612952380952382,1.6360952380952382E-2,4.2680952380952384E-3,3.7619047619047614E-5,4.4095238095238101E-4,3.814761904761905E-3,5.6289999999999993E-2,2.6263809523809526E-2,0,-5.5823809523809524E-3,3.4544761904761911E-2,8.4632380952380973E-2,4.5698571428571429E-2,5.2116190476190483E-2,0.21140952380952382,1.0022380952380953E-2,1.5776190476190475E-3,4.8571428571428576E-5,1.6380952380952378E-4,3.7519047619047627E-3,2.8428571428571424E-4,1.6109523809523809E-3,1.252380952380952E-4,3.5714285714285717E-5,0.10879238095238095,1.6602380952380952E-2,5.5238095238095237E-5,7.1714285714285717E-3,2.3809523809523812E-6,2.1428571428571428E-5,7.4323809523809525E-3,9.0742857142857136E-3,2.5238095238095237E-5,0.18212857142857142,6.880047619047619E-2,2.7142857142857139E-4,2.7619047619047626E-5,8.5666666666666649E-4,3.285714285714285E-4,258.92320857142857,6.7326109090909085,4.4618236363636363,6.4616786363636347,4.3278868181818178,1.5922363636363637,1.2012890909090908,1.1587890909090908,0.15143227272727275,0.1811568181818182,2.2707872727272727,4.2984545454545463E-2,1.861409090909091E-2,1.590909090909091E-4,1.5613636363636363E-3,1.3542272727272726E-2,0.27589045454545452,4.9128636363636374E-2,0,1.2922727272727275E-2,0.13379909090909095,0.17862545454545456,0.14483727272727276,0.17358681818181818,0.64377136363636356,2.5016363636363635E-2,1.4959090909090914E-3,9.3181818181818196E-5,6.4227272727272733E-4,1.6853636363636366E-2,8.2318181818181828E-4,6.3827272727272734E-3,6.045454545454545E-4,7.0454545454545463E-5,0.93123227272727283,9.2300000000000004E-3,4.4090909090909093E-4,2.7037272727272729E-2,6.8636363636363627E-5,2.3136363636363629E-4,3.0031363636363641E-2,2.2840454545454546E-2,2.4545454545454545E-4,1.0568713636363634,0.38599681818181819,1.323181818181818E-3,9.909090909090912E-5,3.7072727272727275E-3,2.7181818181818183E-4,110.16267772727274]
["LYBR_RHTS",2017,{"$f":"C231","v":6.3666166802371533},{"$f":"Tracking!BU41","v":20.679329604495134},{"$f":"Tracking!BZ41","v":5.0088659784420297},{"$f":"Tracking!CA41","v":18.211063002346432},{"$f":"G231","v":2.7944661922999998},{"$f":"H231","v":10.243066239999999},{"$f":"Tracking!BO41","v":5.43004},{"$f":"Tracking!CC41","v":5.1734276467156022},null,null,17.476076956521741,6.4760769565217382,2.5184047826086959,1.0783543478260869,1.6167495652173913,0.46605652173913048,8.0452608695652184E-2,0.63423000000000007,8.1830434782608708E-2,11,{"$f":"Tracking!BN41","v":13.947622083333336},{"$f":"Tracking!CB41","v":15.331233234848487},null,null,41.967955416666662,30.967955416666666,10.850972916666665,11.328524166666668,5.2294437499999988,1.81965,0.13612000000000002,1.3504750000000001,0.25276999999999999,11,5.43004,{"$f":"M244/M244","v":1},{"$f":"O244/M244","v":0.14410584188168588},{"$f":"P244/M244","v":6.1704600552452103E-2},{"$f":"Q244/M244","v":9.2512156431884499E-2},{"$f":"R244/M244","v":2.6668257578552665E-2},{"$f":"S244/M244","v":4.6035851693608382E-3},{"$f":"T244/M244","v":3.6291325654944397E-2},{"$f":"U244/M244","v":4.6824258662966772E-3},{"$f":"V244/M244","v":0.62943188150101437},{"$f":"W244","v":13.947622083333336},1,0.25855376581813266,0.26993271543001568,0.12460563537301221,4.3358080753139704E-2,3.2434270063569242E-3,3.217871794306397E-2,6.0229286247196565E-3,0.26210473897976905,{"$f":"I244","v":5.43004},{"$f":"BE244","v":5.43004},{"$f":"BE244*AM244","v":0.78250048565122954},{"$f":"BE244*AN244","v":0.33505844918383704},{"$f":"BE244*AO244","v":0.50234470991139013},{"$f":"BE244*AP244","v":0.14480970538184412},{"$f":"BE244*AQ244","v":2.4997651613036125E-2},{"$f":"BE244*AR244","v":0.19706334995937427},{"$f":"BE244*AS244","v":2.5425759751025609E-2},{"$f":"BE244*AT244","v":3.4178402938257681},{"$f":"W244","v":13.947622083333336},{"$f":"BO244","v":13.947622083333336},{"$f":"BO244*AW244","v":3.6062102138539829},{"$f":"BO244*AX244","v":3.7649195027458195},{"$f":"BO244*AY244","v":1.7379523116364066},{"$f":"BO244*AZ244","v":0.60474212460344146},{"$f":"BO244*BA244","v":4.5238094139543571E-2},{"$f":"BO244*BB244","v":0.44881659699603366},{"$f":"BO244*BC244","v":8.4005532292480353E-2},{"$f":"BO244*BD244","v":3.6557378455405467},2.1868413043478268,1.1366034782608698,2.2078143478260874,1.162917391304348,0.33585782608695652,0.13455826086956521,0.55216391304347812,4.6605652173913034E-2,8.0452608695652184E-2,1.0570486956521739,1.327869565217391E-2,7.3343478260869555E-3,3.521739130434783E-5,3.9695652173913032E-4,4.0934782608695649E-3,7.7093913043478277E-2,3.8698260869565224E-2,0,-1.2689130434782609E-2,4.6439130434782601E-2,0.1390573913043478,6.466130434782609E-2,6.9186521739130438E-2,0.3066552173913043,1.0600434782608694E-2,2.6608695652173916E-4,1.8260869565217393E-5,1.3086956521739132E-4,7.4334782608695641E-3,1.673913043478261E-4,1.9108695652173908E-3,1.9347826086956523E-4,1.6521739130434781E-5,0.10430869565217391,1.0591304347826087E-3,1.3043478260869567E-4,7.6573913043478234E-3,2.3913043478260857E-5,-1.3043478260869564E-6,1.5299565217391304E-2,7.8386956521739118E-3,4.9565217391304357E-5,0.23642260869565207,8.1420000000000006E-2,7.1043478260869586E-4,2.2173913043478262E-5,7.960869565217393E-4,3.3478260869565208E-5,246.05542434782606,6.6666533333333353,4.4158608333333325,6.9599837500000001,4.767464583333334,1.3829916666666666,1.3690645833333335,1.6547433333333335,0.18196500000000002,0.13612000000000002,2.2507925000000002,4.2580416666666669E-2,1.1734583333333335E-2,8.9583333333333333E-5,1.5654166666666663E-3,1.363833333333333E-2,0.32245708333333339,4.4169583333333325E-2,0,2.6788749999999997E-2,0.18193458333333332,0.29775875000000007,0.22815791666666671,0.18466166666666664,0.91930166666666668,2.5201666666666664E-2,1.8691666666666665E-3,7.8750000000000003E-5,5.1041666666666672E-4,1.450166666666667E-2,9.0416666666666673E-4,8.1983333333333335E-3,5.7208333333333341E-4,6.4583333333333349E-5,1.0612899999999998,6.4508333333333327E-3,6.0250000000000006E-4,2.513583333333334E-2,-8.3333333333333303E-6,2.1666666666666663E-4,2.0575E-2,3.251833333333333E-2,1.4250000000000002E-4,0.96141250000000023,0.33527083333333341,9.0041666666666688E-4,7.3333333333333331E-5,3.7462500000000009E-3,1.4666666666666669E-4,103.28502125000001]
["LYBR_RHTS",{"$f":"B244+1","v":2018},{"$f":"C231","v":6.3666166802371533},{"$f":"Tracking!BU42","v":20.457281447803748},{"$f":"Tracking!BZ42","v":4.9044236167654818},{"$f":"Tracking!CA42","v":17.799148183951299},{"$f":"G231","v":2.7944661922999998},{"$f":"H231","v":10.243066239999999},{"$f":"Tracking!BO42","v":4.6225173913043474},{"$f":"Tracking!CC42","v":5.0273997336721248},null,null,15.968479130434785,4.9684791304347815,1.7637908695652176,0.78621913043478275,1.4058369565217392,0.47956086956521737,3.8133478260869567E-2,0.41754695652173918,7.7389999999999987E-2,11,{"$f":"Tracking!BN42","v":14.310254166666661},{"$f":"Tracking!CB42","v":14.729027734848483},null,null,43.437036666666671,32.437036666666671,12.908756249999998,9.9878604166666687,5.5527024999999997,2.1472874999999996,0.16957041666666664,1.3878508333333335,0.2830091666666667,11,4.6225173913043474,1,0.11045453077641926,4.9235692642532566E-2,8.8038249919637865E-2,3.0031718465361457E-2,2.3880469736275553E-3,2.6148198154069938E-2,4.8464227161433395E-3,0.68885708589710226,14.310254166666661,1,0.29718316995381278,0.22993880759668153,0.1278333635558779,4.9434484135696476E-2,3.9038210172563175E-3,3.1950863590986214E-2,6.5153884423208427E-3,0.25324011129979629,4.6225173913043474,4.6225173913043474,0.51057798946235933,0.22759284551302228,0.4069583413535246,0.13882214089688924,1.1038788666845089E-2,0.12087050071846052,2.240267329098504E-2,3.1842538596825878,14.310254166666661,14.310254166666661,4.2527666960947554,3.2904827794887757,1.8293279234645159,0.70742003257986741,5.5864670978113103E-2,0.45722497883150859,9.3236864604173644E-2,3.623930357895039,1.5555799999999997,0.86162217391304341,1.593068260869565,0.91129521739130426,0.23292565217391309,9.6616956521739128E-2,0.48292391304347837,4.7956086956521739E-2,3.8133478260869567E-2,0.6959117391304348,1.2738260869565216E-2,3.2143478260869569E-3,1.6521739130434785E-5,2.7173913043478261E-4,2.9682608695652175E-3,7.1918695652173903E-2,4.1241739130434781E-2,0,-5.5891304347826087E-3,4.4748695652173903E-2,0.10473608695652173,5.9191304347826094E-2,6.5204347826086945E-2,0.26829130434782611,8.6691304347826098E-3,9.6826086956521744E-4,4.3043478260869568E-5,9.6956521739130426E-5,3.0182608695652176E-3,2.3608695652173914E-4,1.6913043478260868E-3,1.4000000000000001E-4,4.739130434782609E-5,7.4896521739130445E-2,5.6326086956521729E-3,1.6043478260869567E-4,5.6639130434782605E-3,-1.7826086956521734E-5,4.0869565217391301E-5,7.3439130434782614E-3,5.3047826086956521E-3,3.2608695652173917E-5,0.15849000000000002,5.6466956521739144E-2,3.0130434782608696E-4,1.8695652173913045E-5,8.0565217391304338E-4,5.5652173913043473E-5,264.76987086956524,7.3192465217391289,4.9512408333333333,7.3152947826086958,5.0374737500000002,1.64596125,1.2358995833333335,1.7236520833333333,0.21472875000000002,0.16957041666666664,2.3130858333333331,4.7662916666666673E-2,1.6714583333333328E-2,1.6333333333333334E-4,1.8604166666666667E-3,1.4505833333333331E-2,0.42457374999999997,5.2590833333333337E-2,0,4.5523750000000009E-2,0.20168916666666661,0.25515083333333333,0.19278458333333334,0.26243583333333337,0.95758416666666679,2.6639583333333341E-2,1.7879166666666662E-3,1.5791666666666667E-4,6.1666666666666651E-4,1.6190416666666662E-2,1.1329166666666664E-3,5.981666666666669E-3,6.570833333333332E-4,1.025E-4,0.95806166666666659,8.7275000000000009E-3,6.8833333333333344E-4,2.9995416666666667E-2,5.2083333333333343E-5,2.8375000000000004E-4,2.7178749999999998E-2,2.2520416666666668E-2,2.2958333333333329E-4,1.1213208333333333,0.39902083333333338,1.1845833333333333E-3,9.6249999999999995E-5,4.3741666666666677E-3,4.0458333333333335E-4,99.076227500000002]
["LYBR_RHTS",{"$f":"B245+1","v":2019},{"$f":"C231","v":6.3666166802371533},{"$f":"Tracking!BU43","v":20.235233291112362},{"$f":"Tracking!BZ43","v":4.7999812550889338},{"$f":"Tracking!CA43","v":17.387233365556167},{"$f":"G231","v":2.7944661922999998},{"$f":"H231","v":10.243066239999999},{"$f":"Tracking!BO43","v":4.2467409523809527},{"$f":"Tracking!CC43","v":4.8759025908149827},null,null,15.365428095238096,4.3654280952380953,1.9748233333333338,0.70510238095238087,0.83056047619047613,0.43418095238095245,3.5830476190476197E-2,0.29002,9.4909047619047629E-2,11,{"$f":"Tracking!BN43","v":13.280666363636364},{"$f":"Tracking!CB43","v":14.062187340909091},null,null,38.702835909090908,27.702835909090904,10.764093636363638,8.7039704545454555,4.6301559090909086,2.1204500000000004,0.14230272727272728,1.1162099999999999,0.22565272727272731,11,{"$f":"I246","v":4.2467409523809527},{"$f":"M246/M246","v":1},{"$f":"O246/M246","v":0.12852380819414669},{"$f":"P246/M246","v":4.5888886178895291E-2},{"$f":"Q246/M246","v":5.4053845492783588E-2},{"$f":"R246/M246","v":2.8257003299212314E-2},{"$f":"S246/M246","v":2.3318892235472716E-3},{"$f":"T246/M246","v":1.8874840206364322E-2},{"$f":"U246/M246","v":6.1767916279834023E-3},{"$f":"V246/M246","v":0.71589284280397059},{"$f":"W246","v":13.280666363636364},{"$f":"AA246/AA246","v":1},{"$f":"AC246/AA246","v":0.27812157387245262},{"$f":"AD246/AA246","v":0.22489231732243631},{"$f":"AE246/AA246","v":0.11963350489268233},{"$f":"AF246/AA246","v":5.4787974839381935E-2},{"$f":"AG246/AA246","v":3.6768036225299397E-3},{"$f":"AH246/AA246","v":2.8840522245498122E-2},{"$f":"AI246/AA246","v":5.8303925790544912E-3},{"$f":"AJ246/AA246","v":0.2842168988814644},{"$f":"I246","v":4.2467409523809527},{"$f":"BE246","v":4.2467409523809527},{"$f":"BE246*AM246","v":0.54580731961403739},{"$f":"BE246*AN246","v":0.19487821219506293},{"$f":"BE246*AO246","v":0.22955267928787665},{"$f":"BE246*AP246","v":0.12000017310232862},{"$f":"BE246*AQ246","v":9.9029294620540213E-3},{"$f":"BE246*AR246","v":8.0156556874013921E-2},{"$f":"BE246*AS246","v":2.623123396088093E-2},{"$f":"BE246*AT246","v":3.0402114530520419},{"$f":"W246","v":13.280666363636364},{"$f":"BO246","v":13.280666363636364},{"$f":"BO246*AW246","v":3.6936398311294876},{"$f":"BO246*AX246","v":2.9867198341043153},{"$f":"BO246*AY246","v":1.5888126643921725},{"$f":"BO246*AZ246","v":0.72762081458113503},{"$f":"BO246*BA246","v":4.8830402195429702E-2},{"$f":"BO246*BB246","v":0.38302135369549323},{"$f":"BO246*BC246","v":7.743149861144405E-2},{"$f":"BO246*BD246","v":3.7745898089521019},1.274172857142857,0.78609149999999994,1.1417505000000001,0.74138666666666675,0.26858142857142858,8.835714285714287E-2,0.28972619047619053,4.3418095238095242E-2,3.5830476190476197E-2,0.48336761904761905,1.5471428571428572E-2,2.2294999999999997E-3,5.9999999999999993E-6,2.9100000000000003E-4,3.2310000000000004E-3,5.707857142857143E-2,3.0119523809523804E-2,0,-6.8566666666666672E-3,2.5008571428571429E-2,5.9510952380952394E-2,3.9516190476190469E-2,4.3779999999999999E-2,0.16095904761904764,9.8852380952380945E-3,5.0200000000000006E-4,3.7500000000000003E-5,7.0500000000000006E-5,3.0274999999999998E-3,1.2150000000000001E-4,2.2025E-3,2.9999999999999991E-5,4.3000000000000002E-5,6.8493809523809526E-2,8.0238095238095242E-4,3.3000000000000003E-5,6.1414999999999994E-3,5.0500000000000001E-5,3.9499999999999998E-5,5.8875000000000012E-3,7.7369999999999982E-3,2.9500000000000002E-5,0.17821809523809523,6.3561000000000006E-2,2.2149999999999996E-4,3.4E-5,7.4850000000000014E-4,2.1000000000000006E-5,275.34492761904767,6.1547261904761896,4.2573854999999998,6.3009626315789475,4.3241072727272725,1.369444090909091,1.0722886363636364,1.4897081818181819,0.21204499999999993,0.14230272727272728,1.8603490909090914,3.8318636363636353E-2,1.11945E-2,1.1149999999999999E-4,1.771E-3,1.5127500000000006E-2,0.37005227272727281,7.1094090909090926E-2,9.8636363636363638E-5,3.0388636363636368E-2,0.18629545454545451,0.2159331818181818,0.16579818181818182,0.22919999999999999,0.8276154545454546,2.1498181818181819E-2,1.3625E-3,1.46E-4,6.1399999999999996E-4,1.5499000000000002E-2,1.0185000000000003E-3,5.607E-3,5.4049999999999996E-4,8.4999999999999993E-5,0.83123136363636363,3.0436363636363638E-3,1.5500000000000003E-4,2.4521500000000002E-2,1.3250000000000002E-4,2.1500000000000005E-4,2.35205E-2,3.8689499999999995E-2,1.16E-4,0.94457727272727265,0.33878599999999992,9.6800000000000033E-4,7.9500000000000008E-5,4.2695000000000007E-3,1.8200000000000003E-4,109.18786454545453]
["LYBR_RHTS",2020,{"$f":"C231","v":6.3666166802371533},{"$f":"Tracking!BU44","v":20.013185134420976},{"$f":"Tracking!BZ44","v":4.6955388934123858},{"$f":"Tracking!CA44","v":16.975318547161034},{"$f":"G231","v":2.7944661922999998},{"$f":"H231","v":10.243066239999999},{"$f":"Tracking!BO44","v":4.8165208695652177},{"$f":"Tracking!CC44","v":4.7987021283643889},null,null,16.316528260869568,5.316528260869565,2.1512878260869566,1.1181734782608697,1.0353247826086955,0.52827391304347804,3.0534782608695649E-2,0.36808434782608696,8.4849130434782594E-2,11,{"$f":"Tracking!BN44","v":12.464000416666666},{"$f":"Tracking!CB44","v":13.48368696969697},null,null,35.603303333333336,24.603303333333333,9.8751737500000001,8.1110933333333328,3.8962358333333338,1.6003583333333333,0.15495041666666667,0.79212666666666687,0.17336500000000002,11,{"$f":"I247","v":4.8165208695652177},{"$f":"M247/M247","v":1},{"$f":"O247/M247","v":0.13184715471894795},{"$f":"P247/M247","v":6.8530110105743669E-2},{"$f":"Q247/M247","v":6.3452516739827547E-2},{"$f":"R247/M247","v":3.2376612512012674E-2},{"$f":"S247/M247","v":1.8714019379921902E-3},{"$f":"T247/M247","v":2.255898693282871E-2},{"$f":"U247/M247","v":5.2001951075749658E-3},{"$f":"V247/M247","v":0.67416302194507216},{"$f":"W247","v":12.464000416666666},{"$f":"AA247/AA247","v":1},{"$f":"AC247/AA247","v":0.27736678413079835},{"$f":"AD247/AA247","v":0.22781856103052606},{"$f":"AE247/AA247","v":0.10943467230709211},{"$f":"AF247/AA247","v":4.4949714871962719E-2},{"$f":"AG247/AA247","v":4.352135958170922E-3},{"$f":"AH247/AA247","v":2.2248684602393171E-2},{"$f":"AI247/AA247","v":4.8693515423802909E-3},{"$f":"AJ247/AA247","v":0.30896009555667631},{"$f":"I247","v":4.8165208695652177},{"$f":"BE247","v":4.8165208695652177},{"$f":"BE247*AM247","v":0.63504457229660694},{"$f":"BE247*AN247","v":0.33007670551791662},{"$f":"BE247*AO247","v":0.30562037110381574},{"$f":"BE247*AP247","v":0.1559426298499354},{"$f":"BE247*AQ247","v":9.013646489684177E-3},{"$f":"BE247*AR247","v":0.10865583135821852},{"$f":"BE247*AS247","v":2.5046848261445764E-2},{"$f":"BE247*AT247","v":3.2471202646875938},{"$f":"W247","v":12.464000416666666},{"$f":"BO247","v":12.464000416666666},{"$f":"BO247*AW247","v":3.4570997129757637},{"$f":"BO247*AX247","v":2.8395306396088769},{"$f":"BO247*AY247","v":1.3639938012333761},{"$f":"BO247*AZ247","v":0.56025326489319116},{"$f":"BO247*BA247","v":5.4245024396032349E-2},{"$f":"BO247*BB247","v":0.27730761415451372},{"$f":"BO247*BC247","v":6.0691599653124421E-2},{"$f":"BO247*BD247","v":3.8508787597517866},1.4376672727272726,0.79417500000000019,1.4395147619047621,0.888645652173913,0.29143217391304349,0.14013173913043475,0.35955652173913039,5.2827391304347819E-2,3.0534782608695649E-2,0.61347565217391309,1.4162608695652175E-2,1.9327272727272728E-3,4.5454545454545457E-7,2.4636363636363641E-4,3.835454545454546E-3,7.0523043478260869E-2,3.4314782608695651E-2,0,-5.9913043478260859E-3,3.1364347826086957E-2,7.4086521739130412E-2,4.8283043478260866E-2,5.2010434782608694E-2,0.19975304347826089,9.213043478260869E-3,1.6545454545454545E-4,6.5909090909090906E-5,1.0818181818181819E-4,2.7827272727272727E-3,2.7909090909090901E-4,1.5904545454545455E-3,1.3818181818181822E-4,3.0000000000000014E-5,0.10862913043478263,8.77E-3,1.2136363636363637E-4,6.5090909090909097E-3,-6.8181818181818191E-6,5.3181818181818193E-5,4.502272727272728E-3,8.5272727272727271E-3,3.0909090909090922E-5,0.18877130434782607,7.044636363636364E-2,2.4272727272727269E-4,3.0909090909090909E-5,7.6727272727272744E-4,1.6636363636363634E-4,260.24508695652179,4.773763333333334,3.5438599999999996,5.1293873913043475,3.9034845833333329,1.2906949999999997,1.0030337499999999,1.2654029166666667,0.16003583333333335,0.15495041666666667,1.3202120833333331,2.9367499999999991E-2,1.2906086956521741E-2,4.7826086956521742E-5,1.3034782608695654E-3,1.3467826086956524E-2,0.30403666666666668,5.0414583333333325E-2,0,2.0234583333333337E-2,0.14895749999999999,0.19699,0.14240458333333333,0.19441541666666665,0.70300208333333336,1.6532916666666668E-2,1.0269565217391303E-3,1.2130434782608697E-4,5.4391304347826085E-4,1.4826956521739132E-2,9.9695652173913043E-4,3.1321739130434787E-3,5.1869565217391308E-4,5.3913043478260872E-5,0.77754499999999993,6.4595833333333337E-3,3.0999999999999995E-4,2.4685217391304349E-2,3.5652173913043475E-5,2.0391304347826091E-4,2.8140000000000002E-2,3.4805217391304336E-2,1.7956521739130436E-4,0.84655458333333333,0.31315217391304345,1.2986956521739131E-3,4.8260869565217387E-5,3.5804347826086961E-3,9.0000000000000006E-5,118.47616666666666]
["LYBR_RHTS",2021,{"$f":"C231","v":6.3666166802371533},{"$f":"Tracking!BU45","v":19.79113697772959},{"$f":"Tracking!BZ45","v":4.5910965317358379},{"$f":"Tracking!CA45","v":16.563403728765902},{"$f":"G231","v":2.7944661922999998},{"$f":"H231","v":10.243066239999999},{"$f":"Tracking!BO45","v":3.9658022727272724},{"$f":"Tracking!CC45","v":4.6163242971955585},null,null,14.947556363636364,3.9475563636363642,1.6298331818181817,0.73842045454545446,0.7166322727272727,0.35804545454545461,4.6255909090909091E-2,0.30080772727272725,0.15756181818181816,11,{"$f":"Tracking!BN45","v":13.304825652173912},{"$f":"Tracking!CB45","v":13.461473736495387},null,null,39.688862173913037,28.688862173913041,11.528225652173912,8.3029230434782626,5.3294926086956522,2.0912739130434788,0.2459339130434782,1.0935208695652174,9.7493043478260863E-2,11,3.9658022727272724,1,0.10903676441609914,4.9400747291500118E-2,4.7943105568122049E-2,2.3953444016875488E-2,3.0945465576860481E-3,2.0124207593190054E-2,1.0540975016165608E-2,0.73590623994971016,13.304825652173912,1,0.29046500757966454,0.20920032948023548,0.13428181904893854,5.2691707408484119E-2,6.1965473327458423E-3,2.7552336087981234E-2,2.4564333200346004E-3,0.2771558416514685,3.9658022727272724,3.9658022727272724,0.43241824813219415,0.19591359588305682,0.19013287702366197,9.4994622721770297E-2,1.2272359771531686E-2,7.9808628209908555E-2,4.1803422675870963E-2,2.918458638906742,13.304825652173912,13.304825652173912,3.8645862839048104,2.7833739101118713,1.7865961907028931,0.70105398038524169,8.2443981907626723E-2,0.36657902796068975,3.2682417049251081E-2,3.6875101516543092,1.1442095454545458,0.64648772727272719,1.1491772727272727,0.676534090909091,0.22453227272727272,9.2349999999999988E-2,0.25147863636363632,3.5804545454545443E-2,4.6255909090909091E-2,0.50134636363636365,2.6114090909090906E-2,3.1186363636363638E-3,0,2.8363636363636368E-4,6.2790909090909095E-3,4.8568636363636369E-2,2.8840000000000001E-2,0,-1.0235454545454546E-2,1.9375909090909089E-2,5.4218636363636372E-2,3.4389999999999997E-2,4.1961818181818183E-2,0.13971090909090908,1.5680454545454546E-2,2.6609090909090909E-3,4.8636363636363649E-5,1.1227272727272727E-4,3.1281818181818186E-3,1.704545454545455E-4,1.435909090909091E-3,1.4499999999999997E-4,3.7727272727272725E-5,7.1589090909090908E-2,1.4363636363636364E-3,1.404545454545455E-4,6.686363636363637E-3,8.1818181818181863E-6,1.590909090909091E-5,8.3259090909090921E-3,1.6084545454545459E-2,5.4090909090909104E-5,0.14386318181818183,5.4431818181818185E-2,3.8409090909090912E-4,7.7272727272727272E-6,6.649999999999999E-4,8.4090909090909108E-5,283.93569818181817,6.229397619047619,4.1628969565217373,6.5158123809523802,4.623119565217392,1.4598821739130436,1.0225356521739131,1.6692634782608697,0.20912739130434777,0.2459339130434782,1.8225352173913045,1.6376956521739129E-2,1.9224782608695652E-2,3.0434782608695656E-5,1.3891304347826083E-3,1.9109565217391301E-2,0.39938478260869559,7.9654782608695657E-2,0,2.5838260869565224E-2,0.1632395652173913,0.25994608695652177,0.20843260869565217,0.26991217391304351,0.92736869565217395,1.048565217391304E-2,8.9304347826086954E-4,1.2565217391304349E-4,5.6695652173913049E-4,2.0599130434782609E-2,1.1030434782608697E-3,4.8065217391304359E-3,6.986956521739129E-4,6.8695652173913051E-5,0.79266347826086969,6.0834782608695645E-3,4.4521739130434779E-4,2.8624347826086954E-2,1.7391304347826089E-5,2.4565217391304348E-4,4.8024782608695651E-2,2.4854347826086951E-2,1.4478260869565219E-4,0.94666086956521733,0.35391086956521745,1.5769565217391306E-3,1.0043478260869567E-4,3.991739130434783E-3,3.6173913043478258E-4,111.15155521739132]
["LYBR_RHTS",2022,{"$f":"C231","v":6.3666166802371533},{"$f":"Tracking!BU46","v":19.569088821038203},{"$f":"Tracking!BZ46","v":4.4866541700592899},{"$f":"Tracking!CA46","v":16.15148891037077},{"$f":"G231","v":2.7944661922999998},{"$f":"H231","v":10.243066239999999}]
["LYBR_RHTS",2023,{"$f":"C231","v":6.3666166802371533},{"$f":"Tracking!BU47","v":19.347040664346817},{"$f":"Tracking!BZ47","v":4.3822118083827419},{"$f":"Tracking!CA47","v":15.739574091975639},{"$f":"G231","v":2.7944661922999998},{"$f":"H231","v":10.243066239999999}]
["LYBR_RHTS",2024,{"$f":"C231","v":6.3666166802371533},{"$f":"Tracking!BU48","v":19.124992507655431},{"$f":"Tracking!BZ48","v":4.277769446706194},{"$f":"Tracking!CA48","v":15.327659273580508},{"$f":"G231","v":2.7944661922999998},{"$f":"H231","v":10.243066239999999}]
["LYBR_RHTS",2025,{"$f":"C231","v":6.3666166802371533},{"$f":"Tracking!BU49","v":18.902944350964045},{"$f":"Tracking!BZ49","v":4.173327085029646},{"$f":"Tracking!CA49","v":14.915744455185378},{"$f":"G231","v":2.7944661922999998},{"$f":"H231","v":10.243066239999999}]
["LYBR_RHTS",2026,{"$f":"C231","v":6.3666166802371533},{"$f":"Tracking!BU50","v":18.680896194272659},{"$f":"Tracking!BZ50","v":4.068884723353098},{"$f":"Tracking!CA50","v":14.503829636790247},{"$f":"G231","v":2.7944661922999998},{"$f":"H231","v":10.243066239999999}]
["LYBR_RHTS",2027,{"$f":"C231","v":6.3666166802371533},{"$f":"Tracking!BU51","v":18.458848037581273},{"$f":"Tracking!BZ51","v":3.9644423616765501},{"$f":"Tracking!CA51","v":14.091914818395116},{"$f":"G231","v":2.7944661922999998},{"$f":"H231","v":10.243066239999999}]
["LYBR_RHTS",2028,{"$f":"C231","v":6.3666166802371533},{"$f":"Tracking!BU52","v":18.236799880889887},{"$f":"Tracking!BZ52","v":3.86},{"$f":"Tracking!CA52","v":13.68},{"$f":"G231","v":2.7944661922999998},{"$f":"H231","v":10.243066239999999},null,null,3.9,{"$f":"E255","v":3.86},null,{"$f":"IF(M255=\"\",\"\",M255-V255)","v":""},null,null,null,null,null,null,null,null,null,null,13.89,{"$f":"F255","v":13.68},null,{"$f":"IF(AA255=\"\",\"\",AA255-AJ255)","v":""}]
[null,"5-yr period"]
[{"$f":"A231","v":"LYBR_RHTS"},"2000-04",null,null,null,null,null,null,null,{"$f":"IF(J231=\"\",\"\",J231)","v":6.3666166802371533},null,null,{"$f":"IF(COUNT(M227:M231)<3,\"\",AVERAGE(M227:M231))","v":19.138613715019765},{"$f":"IF(COUNT(N227:N231)<3,\"\",AVERAGE(N227:N231))","v":8.1386137150197619},4.4415799071146242,1.1535218972332015,1.2869589450592884,0.59753355731225299,9.3514494861660066E-2,0.51455222648221355,5.0952935177865609E-2,11,null,{"$f":"IF(X231=\"\",\"\",X231)","v":23.565955641483153},null,null,{"$f":"IF(COUNT(AA227:AA231)<3,\"\",AVERAGE(AA227:AA231))","v":120.7459150334839},{"$f":"IF(COUNT(AB227:AB231)<3,\"\",AVERAGE(AB227:AB231))","v":109.7459150334839},84.988635871070954,8.6479022964991525,9.650615703877282,4.2023716233766235,0.54319809406173536,1.6214463691699605,9.1744480463015241E-2,11,{"$f":"J257","v":6.3666166802371533},{"$f":"M257/M257","v":1},{"$f":"O257/M257","v":0.2320742752453864},{"$f":"P257/M257","v":6.0271967155485807E-2},{"$f":"Q257/M257","v":6.7244104731018092E-2},{"$f":"R257/M257","v":3.1221360450120559E-2},{"$f":"S257/M257","v":4.8861686773201841E-3},{"$f":"T257/M257","v":2.6885553684507402E-2},{"$f":"U257/M257","v":2.6623106530374416E-3},{"$f":"V257/M257","v":0.57475427237278554},{"$f":"X257","v":23.565955641483153},{"$f":"AA257/AA257","v":1},{"$f":"AC257/AA257","v":0.70386344620853525},{"$f":"AD257/AA257","v":7.1620661403750299E-2},{"$f":"AE257/AA257","v":7.9924987120277166E-2},{"$f":"AF257/AA257","v":3.4803426867163742E-2},{"$f":"AG257/AA257","v":4.4986871308325569E-3},{"$f":"AH257/AA257","v":1.3428581569159662E-2},{"$f":"AI257/AA257","v":7.5981436256103321E-4},{"$f":"AJ257/AA257","v":9.1100390410305834E-2},{"$f":"J257","v":6.3666166802371533},{"$f":"BE257","v":6.3666166802371533},{"$f":"BE257*AM257","v":1.4775279518312254},{"$f":"BE257*AN257","v":0.38372851144282177},{"$f":"BE257*AO257","v":0.42811743882811387},{"$f":"BE257*AP257","v":0.19877443422143412},{"$f":"BE257*AQ257","v":3.1108363003478991E-2},{"$f":"BE257*AR257","v":0.17117001454519629},{"$f":"BE257*AS257","v":1.6949911411601244E-2},{"$f":"BE257*AT257","v":3.6592401375261443},{"$f":"X257","v":23.565955641483153},{"$f":"BO257","v":23.565955641483153},{"$f":"BO257*AW257","v":16.587214751011807},{"$f":"BO257*AX257","v":1.6878093296544641},{"$f":"BO257*AY257","v":1.883508701122564},{"$f":"BO257*AZ257","v":0.82017601372318372},{"$f":"BO257*BA257","v":0.10601586137011115},{"$f":"BO257*BB257","v":0.31645735758685484},{"$f":"BO257*BC257","v":1.7905751563875107E-2},{"$f":"BO257*BD257","v":2.1468677593310646},{"$f":"IF(COUNT(BY227:BY231)<3,\"\",AVERAGE(BY227:BY231))","v":2.0815092544206366},{"$f":"IF(COUNT(BZ227:BZ231)<3,\"\",AVERAGE(BZ227:BZ231))","v":1.2288634822134388},2.2038131617952983,1.3399952683794465,0.5910203802371542,0.14354398853754941,0.44356573280632405,5.975335573122529E-2,9.3514494861660066E-2,0.8575869774703555,8.5970996047430824E-3,4.2818264822134383E-3,6.635177865612649E-5,5.5786007905138347E-4,5.755679841897233E-3,7.6399711462450587E-2,4.7992529644268776E-2,3.6836284584980234E-3,1.878790513833992E-3,2.959791699604743E-2,7.2370719367588945E-2,7.3066830039525701E-2,6.8376150197628466E-2,0.24529040711462452,1.1018462450592886E-2,2.1547154150197627E-4,3.2302450592885376E-4,2.0858656126482213E-4,5.1396739130434785E-3,6.5380158102766801E-4,9.4806948616600779E-3,2.6790988142292492E-4,1.7339011857707507E-4,0.11127449011857707,8.7016521739130444E-3,1.8333438735177867E-4,9.8769110671936746E-3,6.8019367588932804E-5,9.5115019762845846E-5,2.257029604743083E-2,2.497259446640316E-2,6.4504347826086961E-5,0.38725533596837936,0.14327763557312251,8.61109090909091E-4,7.4244901185770737E-4,1.3786379446640317E-3,2.1047035573122532E-5,221.98158225217389,15.776742397025174,13.066228790513836,15.891075866293081,13.087329304790137,8.2491698468661774,1.025438467890081,2.8347827020892149,0.42023716233766234,0.54319809406173536,2.7024105486166006,1.4503495605119519E-2,1.2835201148127234E-2,3.6351166948993035E-4,2.676011387163561E-3,2.5959802992659514E-2,0.54644987568228875,{"$f":"IF(COUNT(EL227:EL231)<3,\"\",AVERAGE(EL227:EL231))","v":0.12238675456427631},1.0567713815170337E-2,0.11913114953886692,0.34357345539243361,0.37734448287220024,0.47566300941087897,0.25916718172407299,1.5748792789384529,-8.6564538678712583E-2,1.158E-4,2.9348511198945977E-4,8.3972192734801422E-4,3.2135648588368149E-2,2.4117546583850933E-3,5.6108375211744773E-3,1.2014416713721061E-3,6.4785526068134763E-4,0.79491309824957646,1.9118191699604742E-2,0,3.734514737436477E-2,9.5529776021080362E-5,1.1746506869941653E-3,0.14971382953133822,9.2353288415207985E-2,2.7142956898174291E-4,5.97921802173913,1.9997987049218899,7.046331178242049E-3,1.0002602955016E-3,6.6597239506869955E-3,5.112628458498024E-5,41.933866716421988]
["LYBR_RHTS","2001-05",null,null,null,null,null,null,null,6.1573396802371532,null,null,{"$f":"IF(COUNT(M228:M232)<3,\"\",AVERAGE(M228:M232))","v":18.764017515019766},7.7640175150197619,4.1844408071146244,1.0786224972332017,1.2231334450592883,0.57786355731225292,8.8919094861660081E-2,0.55690912648221358,5.4128935177865614E-2,11,null,24.129410308149822,null,null,{"$f":"IF(COUNT(AA228:AA232)<3,\"\",AVERAGE(AA228:AA232))","v":129.53715789062676},118.53715789062676,95.057124061547142,7.2865857250705819,9.7480442753058529,4.0606097186147183,0.55036514168078288,1.7062543691699603,0.12817419474872954,11,{"$f":"J258","v":6.1573396802371532},{"$f":"M258/M258","v":1},{"$f":"O258/M258","v":0.2230034588149987},{"$f":"P258/M258","v":5.7483558431439964E-2},{"$f":"Q258/M258","v":6.518505133989691E-2},{"$f":"R258/M258","v":3.0796366335178418E-2},{"$f":"S258/M258","v":4.7388089885593149E-3},{"$f":"T258/M258","v":2.9679631562720108E-2},{"$f":"U258/M258","v":2.8847199238935797E-3},{"$f":"V258/M258","v":0.5862284018438475},{"$f":"X258","v":24.129410308149822},{"$f":"AA258/AA258","v":1},{"$f":"AC258/AA258","v":0.73382128811107272},{"$f":"AD258/AA258","v":5.6250930958535686E-2},{"$f":"AE258/AA258","v":7.5252880594589733E-2},{"$f":"AF258/AA258","v":3.1347065079529141E-2},{"$f":"AG258/AA258","v":4.2487047781724335E-3},{"$f":"AH258/AA258","v":1.3171929946236871E-2},{"$f":"AI258/AA258","v":9.8947820714849997E-4},{"$f":"AJ258/AA258","v":8.4917719202143735E-2},{"$f":"J258","v":6.1573396802371532},{"$f":"BE258","v":6.1573396802371532},{"$f":"BE258*AM258","v":1.3731080457917233},{"$f":"BE258*AN258","v":0.35394579529113623},{"$f":"BE258*AO258","v":0.40136650317344325},{"$f":"BE258*AP258","v":0.18962368844271371},{"$f":"BE258*AQ258","v":2.9178456622320759E-2},{"$f":"BE258*AR258","v":0.18274757311595555},{"$f":"BE258*AS258","v":1.7762200453760639E-2},{"$f":"BE258*AT258","v":3.6096074003551335},{"$f":"X258","v":24.129410308149822},{"$f":"BO258","v":24.129410308149822},{"$f":"BO258*AW258","v":17.706674953687099},{"$f":"BO258*AX258","v":1.3573017933139149},{"$f":"BO258*AY258","v":1.8158076327370611},{"$f":"BO258*AZ258","v":0.75638619526023376},{"$f":"BO258*BA258","v":0.10251874087071931},{"$f":"BO258*BB258","v":0.31783090222295529},{"$f":"BO258*BC258","v":2.3875525651258622E-2},{"$f":"BO258*BD258","v":2.0490144890607791},{"$f":"IF(COUNT(BY228:BY232)<3,\"\",AVERAGE(BY228:BY232))","v":2.0654112544206367},1.1334052190555441,2.144487862769572,1.2686408683794466,0.55637388023715428,0.13460928853754942,0.42185593280632416,5.7786355731225293E-2,8.8919094861660081E-2,0.92818177747035546,9.0956996047430825E-3,4.6247709266578835E-3,5.6562304971915958E-5,5.3183376326190973E-4,5.1074576196750111E-3,7.5390711462450605E-2,4.6892529644268779E-2,3.3126284584980236E-3,-8.2520948616600777E-4,3.1700916996047421E-2,7.4471719367588923E-2,6.9871830039525698E-2,6.6364150197628452E-2,0.2415834071146245,1.0253462450592887E-2,2.165937637241985E-4,2.0916895037329823E-4,2.2402340337008528E-4,4.8726739130434777E-3,6.2328052839608907E-4,8.9382837505489685E-3,1.8359877031181381E-4,1.9339538173496982E-4,0.10434849011857708,8.7276521739130426E-3,1.6413438735177866E-4,8.8248777338603424E-3,6.535620969419597E-5,9.516765134179321E-5,2.0359196047430826E-2,2.2981594466403164E-2,6.7199084668192235E-5,0.36109833596837937,0.13551338001756696,5.8139797979797983E-4,4.3960456741326304E-4,1.4052063657166633E-3,1.7694403994175163E-5,227.32941775217392,16.44010144464422,13.588241171466217,16.228847359701131,13.692164638123469,8.9994093706757017,0.86300132503293825,2.8530552735177865,0.40606097186147194,0.55036514168078288,2.8437572152832673,2.02724479860719E-2,1.4367296386222472E-2,3.1779738377564465E-4,2.4966780538302276E-3,2.5508279183135703E-2,{"$f":"IF(COUNT(EK228:EK232)<3,\"\",AVERAGE(EK228:EK232))","v":0.59331558996800293},0.1319372307547525,8.7162852437417653E-3,0.12329972096743838,0.37018297920195742,0.34496353049124784,0.43843919988706948,0.32422622934312056,1.6011116598908337,-6.1778824392998297E-2,1.158E-4,2.1405654056088833E-4,8.0953145115753803E-4,3.157612477884434E-2,2.2855641821946169E-3,4.8428375211744768E-3,1.0003940523244869E-3,7.6156954639563341E-4,0.66899309824957665,1.9072477413890458E-2,0,3.618905213626953E-2,1.1324406173536608E-4,1.1750316393751177E-3,0.1537775438170525,0.11035738365330321,3.1523909279126668E-4,6.3947570693581781,2.1816749906361754,5.231188321099191E-3,1.1594031526444572E-3,6.0061049030679468E-3,5.1697713156408801E-5,40.23537624023151]
["LYBR_RHTS","2002-06",null,null,null,null,null,null,null,5.9117646166007898,null,null,{"$f":"IF(COUNT(M229:M233)<3,\"\",AVERAGE(M229:M233))","v":18.332354696837946},7.3323546968379434,3.9823316798418973,0.98736219723320173,1.1404499541501973,0.5339499209486166,6.9243894861660077E-2,0.55237368102766804,6.6643398814229246E-2,11,null,23.270725669019384,null,null,{"$f":"IF(COUNT(AA229:AA233)<3,\"\",AVERAGE(AA229:AA233))","v":118.45116609062677},107.45116609062677,84.573861235460186,7.2987444728966677,9.3354810926971563,3.8941527620929799,0.50199935907208726,1.692817503952569,0.15410918605307736,11,5.9117646166007898,1,0.21722968738591936,5.3858994851518273E-2,6.2209681899014733E-2,2.9126095898674428E-2,3.7771413441833306E-3,3.0131081912949467E-2,3.6352885331050367E-3,0.60003202981324233,23.270725669019384,1,0.71399770915512029,6.1618173242063416E-2,7.8812910001701431E-2,3.2875596675119016E-2,4.2380280046209803E-3,1.4291269219396266E-2,1.3010356177934855E-3,9.2865274045372592E-2,5.9117646166007898,5.9117646166007898,1.2842107795633291,0.31840170004888985,0.3677689962605859,0.17218662315350486,2.2329570550442959E-2,0.17812786391287469,2.1490970121144943E-2,3.5472481226770762,23.270725669019384,23.270725669019384,16.615244818057093,1.4338996057421685,1.8340336078267081,0.76503899143202037,9.8621987073156447E-2,0.33256820546667132,3.0276042947295356E-2,2.1610423164881718,{"$f":"IF(COUNT(BY229:BY233)<3,\"\",AVERAGE(BY229:BY233))","v":2.0103515415019766},1.0804257645100894,2.068824886693017,1.177954341106719,0.52739053478260867,0.1231955067193676,0.39354176916996048,5.3394992094861662E-2,6.9243894861660077E-2,0.92062276837944668,1.1187381422924901E-2,3.4725709266578827E-3,4.465321406282505E-5,4.9849739962554607E-4,4.2092758014931932E-3,7.5882711462450597E-2,4.3886711462450594E-2,2.4876284584980238E-3,-5.3834822134387356E-3,3.308391699604743E-2,7.1420264822134399E-2,6.3781375494071146E-2,6.6969422924901184E-2,0.2298714980237154,1.4516826086956525E-2,2.2713921826965304E-4,2.6796223100570931E-5,1.9870522155190345E-4,3.9113557312252965E-3,5.7587143748699817E-4,8.760438296003514E-3,1.3621695212999563E-4,1.098681090076971E-4,9.5496944664031636E-2,8.234652173913044E-3,1.6413438735177866E-4,7.7649868247694331E-3,4.5547118785105053E-5,6.7376742250884128E-5,1.5377268774703556E-2,2.3794339920948614E-2,6.2199084668192222E-5,0.34167269960474311,0.12848593456302151,3.3997979797979804E-4,1.7816820377689941E-4,1.4268427293530268E-3,1.5785313085084255E-5,233.77988525217387,15.129701765010353,12.308339258422738,15.082186448945984,12.743911438123471,8.2161920271974402,0.87092437285902502,2.7408500039525689,0.38941527620929794,0.50199935907208726,2.8213625065876151,2.4530017551289293E-2,1.8860265951439865E-2,2.9447129681912292E-4,2.3969606625258793E-3,2.2143222661396574E-2,{"$f":"IF(COUNT(EK229:EK233)<3,\"\",AVERAGE(EK229:EK233))","v":0.60716506822887262},0.13039236118953509,7.9475461133069851E-3,0.10031146009787315,0.36933315311500092,0.32597461744776962,0.40031619988706951,0.35088170760399018,1.5468171381517035,-2.8167563523433071E-2,0,1.5049567099567103E-4,8.1148362507058155E-4,2.947094217014869E-2,2.2254989648033121E-3,5.5793592603049121E-3,8.9843318275926976E-4,6.6474345943911173E-4,0.67513501129305475,1.7357260022586109E-2,0,3.5200704310182573E-2,1.0738753999623565E-4,1.0884838132881611E-3,0.13732370468661773,0.11024300974025976,3.2520431018257109E-4,5.6434219824016569,1.9918041428100886,2.3960013645774516E-3,1.045307500470544E-3,6.0136875117635987E-3,5.6319452286843598E-5,43.563192431535853]
["LYBR_RHTS","2003-07",null,null,null,null,null,null,null,5.7751379109730845,null,null,{"$f":"IF(COUNT(M230:M234)<3,\"\",AVERAGE(M230:M234))","v":18.06032840246565},7.0603284024656485,3.8786648270280444,0.87079355221155663,1.0846169498211933,0.5197230811217769,7.1904925164690381E-2,0.55627136933935628,7.8353900978731433E-2,11,null,23.628996410220214,null,null,{"$f":"IF(COUNT(AA230:AA234)<3,\"\",AVERAGE(AA230:AA234))","v":121.52233613203464},110.52233613203464,87.925663922830793,5.8577158434970817,9.9878244922830799,4.0234003811405987,0.51102607128740818,2.044546120929795,0.17215909909655563,11,5.7751379109730845,1,0.21476158908043541,4.8215820488218437E-2,6.0055217471744207E-2,2.8777055961552878E-2,3.9813741789365082E-3,3.0800733903787288E-2,4.3384538327683082E-3,0.60906976633372001,23.628996410220214,1,0.72353500369923029,4.8202791601476815E-2,8.2189207434518519E-2,3.310831991222711E-2,4.2052028256943296E-3,1.6824447142855987E-2,1.4166868789413651E-3,9.0518338851291041E-2,5.7751379109730845,5.7751379109730845,1.2402777949192458,0.27845301281018309,0.3468271631728031,0.16619146684975802,2.2992984958545567E-2,0.17787848605355597,2.5055169204626738E-2,3.5174618979813843,23.628996410220214,23.628996410220214,17.096406005077782,1.1389835897138887,1.9420484874290826,0.78231637235443685,9.9364722472579214E-2,0.39754480114248386,3.3474889176911597E-2,2.1388575037762529,{"$f":"IF(COUNT(BY230:BY234)<3,\"\",AVERAGE(BY230:BY234))","v":1.9993275155279502},1.064299877064202,2.0466101291172594,1.1345954882928666,0.51460502396009788,0.1083905370223979,0.37459906787125913,5.1972308112177679E-2,7.1904925164690381E-2,0.92711891556559378,1.3123818652362128E-2,3.6991640002509568E-3,4.0713820123431109E-5,5.2741081953896595E-4,4.4098905201079121E-3,7.9758295878035013E-2,4.0276754752493885E-2,1.7910050818746471E-3,-8.4893263692828909E-3,3.5883830415960848E-2,7.426251590438547E-2,6.0295358178053836E-2,6.7065873141351401E-2,0.22901825127046868,1.4127085827216262E-2,5.1113921826965308E-4,2.8649036953384783E-5,1.9983076267744457E-4,3.8950743459439108E-3,5.9407490069046144E-4,8.1581309366961542E-3,1.4415634606938956E-4,1.0157806571765382E-4,8.4034390551477503E-2,7.7873794466403164E-3,1.9203914925654058E-4,7.6897790325616399E-3,4.3980019218005485E-5,6.1662456536598409E-5,1.6463537172971957E-2,1.9436339920948616E-2,7.086142233052988E-5,0.33262720176924521,0.12541824192232887,3.5885858585858586E-4,1.7565738126607689E-4,1.5118124263227236E-3,1.5759339059110225E-5,236.76567810065882,16.324102025879917,12.810031649727085,16.172256265879618,13.066353338744587,8.5150151534914365,0.69452720929794831,2.9160003642010159,0.40234003811405988,0.51102607128740818,3.4075768999623564,2.7443773244871073E-2,2.157830073404856E-2,3.3197564464520986E-4,2.4812302277432709E-3,2.3944731357048749E-2,{"$f":"IF(COUNT(EK230:EK234)<3,\"\",AVERAGE(EK230:EK234))","v":0.72677790466779602},0.13352867588932807,7.6092024280067765E-3,0.10365555947675513,0.42935588603425556,0.30370919301712779,0.36538593073593073,0.45789632458121582,1.6600028938452851,-7.3828430265386741E-3,0,1.4253480143045362E-4,8.6551840767927729E-4,3.1071168257105208E-2,2.2423728778467908E-3,6.5239418690005661E-3,9.293070958027481E-4,6.1257824204780727E-4,0.53850060135516664,1.6735810747223794E-2,0,3.6872560831921704E-2,1.0750927912667042E-4,1.0404751176359872E-3,0.13842218294748729,9.6489635827216244E-2,3.508738753999624E-4,5.810878793995859,2.0692856558535668,2.5598491906644082E-3,9.3192923960097877E-4,6.068304903067946E-3,3.1797713156408806E-5,41.90649119758141]
["LYBR_RHTS","2004-08",null,null,null,null,null,null,null,5.7610818452380954,null,null,{"$f":"IF(COUNT(M231:M235)<3,\"\",AVERAGE(M231:M235))","v":18.05836941612554},7.0583694161255401,3.9266497294372291,0.86984911417748922,1.0571629264069262,0.50250167748917751,7.616126515151514E-2,0.54162768993506494,8.4417593614718622E-2,11,null,23.693816971108603,null,null,{"$f":"IF(COUNT(AA231:AA235)<3,\"\",AVERAGE(AA231:AA235))","v":120.87006870670996},109.87006870670996,88.182215736871811,5.2883562627046867,9.7185754070205164,3.9058025597590813,0.52336665160926032,2.0846370261622438,0.16711533220402786,11,5.7610818452380954,1,0.21744209784139523,4.8168751792215643E-2,5.8541438711676476E-2,2.7826525524528242E-2,4.2175051022882272E-3,2.9993167016032406E-2,4.6747074262051833E-3,0.60913583870852461,23.693816971108603,1,0.72956205519205175,4.3752405531735337E-2,8.0405145053756399E-2,3.2314059233609548E-2,4.3299938289867645E-3,1.7246925135954008E-2,1.3826031042435459E-3,9.100681515033629E-2,5.7610818452380954,5.7610818452380954,1.2527017222645478,0.27750412145791353,0.33726201975595799,0.16031089101541413,2.4297392076991744E-2,0.17279308997725834,2.6931372084910386E-2,3.5092814216675619,23.693816971108603,23.693816971108603,17.286109804786307,1.0366614887146566,1.9051047904391423,0.76564340507470652,0.10259408127004213,0.40864548748570662,3.2759144895633169E-2,2.1562988212955814,{"$f":"IF(COUNT(BY231:BY235)<3,\"\",AVERAGE(BY231:BY235))","v":1.9918517857142857},1.0792531071998177,2.0153503787878786,1.1338634908008658,0.52026323647186146,0.10822860606060605,0.36476448701298703,5.0250167748917746E-2,7.616126515151514E-2,0.90271277489177471,1.4196512445887446E-2,4.2424332611832611E-3,3.8066188197767149E-5,5.5741569833675096E-4,4.701058802308802E-3,8.2992435064935061E-2,3.7715508658008663E-2,7.4853896103896107E-4,-1.033991883116883E-2,3.8395005411255415E-2,7.5187927489177506E-2,5.7817023809523818E-2,6.7721471861471857E-2,0.22878150974025976,9.8990746753246754E-3,4.1664141414141413E-4,2.7985209235209241E-5,2.0891888812941441E-4,4.118625541125541E-3,6.0813710412394636E-4,5.4177723665223658E-3,1.5671717171717172E-4,9.5450843016632483E-5,8.3911466450216465E-2,6.7646590909090911E-3,1.9374458874458876E-4,7.7560281385281376E-3,4.7257632718159033E-5,6.3491114149008895E-5,1.7119312770562767E-2,1.0929772727272729E-2,7.6946343130553666E-5,0.33318074134199138,0.12695628066378067,3.935732323232323E-4,1.6641955266955265E-4,1.5553090111642743E-3,1.7742652084757346E-5,237.51053306060606,16.471534824016562,12.864022895492191,16.20644293651619,12.98654281926407,8.557534150197629,0.62460984495576888,2.8635117052512706,0.39058025597590817,0.52336665160926032,3.4743950832862791,2.6939404056088842E-2,2.3001209250894036E-2,3.4371955580651229E-4,2.4798711180124221E-3,2.4122580862977604E-2,{"$f":"IF(COUNT(EK231:EK235)<3,\"\",AVERAGE(EK231:EK235))","v":0.78835883916807836},0.12876292819499341,5.9542113683418024E-3,0.10585174101261058,0.44030006587615278,0.25715419960474306,0.31464074675324677,0.52289644739318641,1.64084320063994,1.6031862883493318E-2,0,1.5712683512140036E-4,8.9418967626576332E-4,3.2193022821381513E-2,2.239216097308489E-3,4.9089898362507057E-3,9.5475886975343496E-4,5.9238946922642575E-4,0.4843278350272916,1.6899971767363072E-2,0,3.5889867706568795E-2,1.1271993224167139E-4,1.0108022303783174E-3,0.14185356201769245,5.864069061735365E-2,3.5921734424995298E-4,5.7970745341614904,2.0808532156502917,2.66074898833051E-3,8.6939071616789023E-4,6.1348602955015995E-3,3.735130811217768E-5,41.242170142810082]
["LYBR_RHTS","2005-09",null,null,null,null,null,null,null,5.1360208906926399,null,null,{"$f":"IF(COUNT(M232:M236)<3,\"\",AVERAGE(M232:M236))","v":16.953416132034629},5.953416132034631,3.3807721385281386,0.74835138690476188,0.73259226731601734,0.42724485930735934,6.1917458333333328E-2,0.5122906217532468,9.0247764069264075E-2,11,null,22.554089492753626,null,null,{"$f":"IF(COUNT(AA232:AA236)<3,\"\",AVERAGE(AA232:AA236))","v":111.00405428571429},100.00405428571429,79.442518669772241,5.1124603157349897,8.9995477122153211,3.6202484472049692,0.46766699792960664,2.1051681625258798,0.2564441200828157,11,5.1360208906926399,1,0.19941539287412055,4.4141627921861791E-2,4.3212073697155032E-2,2.5201107315477922E-2,3.6522113213711595E-3,3.0217545405804021E-2,5.3232789997253007E-3,0.64883678394555266,22.554089492753626,1,0.71567222639719497,4.6056518823861914E-2,8.1074045179028401E-2,3.2613659658653371E-2,4.2130623150562997E-3,1.8964786251026197E-2,2.310223007015149E-3,9.909547962714052E-2,5.1360208906926399,5.1360208906926399,1.0242016237271634,0.2267123231558637,0.22193811323873819,0.12943341364088171,1.8757833643786446E-2,0.15519794446966287,2.7340472149574566E-2,3.3324392769941853,22.554089492753626,22.554089492753626,16.141335441640567,1.0387628472780737,1.8285512705073572,0.73557139862747678,9.5021784492327552E-2,0.42773348631658836,5.2104976448438055E-2,2.2350083158378711,{"$f":"IF(COUNT(BY232:BY236)<3,\"\",AVERAGE(BY232:BY236))","v":1.7994395129870133},0.93901219810890857,1.7628875606060608,0.91587488852813859,0.44770489556277049,9.2997231060606061E-2,0.25550325974025972,4.2724485930735932E-2,6.1917458333333328E-2,0.85381766125541114,1.502812608225108E-2,3.4699900793650797E-3,3.5293460925039878E-5,4.6316569833675092E-4,4.1330247113997116E-3,7.7412321428571421E-2,3.0805167748917752E-2,3.9160714285714287E-4,-1.6542305194805193E-2,3.1101369047619048E-2,5.7677586580086579E-2,4.1157705627705626E-2,6.2038971861471864E-2,0.17543332792207794,1.0552597402597402E-2,6.8970959595959596E-4,3.5917027417027418E-5,1.6810070631123261E-4,3.4873641774891772E-3,5.571825586694007E-4,2.1364769119769124E-3,1.2171717171717173E-4,7.487129756208704E-5,7.2186580086580077E-2,6.2499999999999995E-3,1.8188095238095238E-4,6.7877554112554103E-3,4.3439450899977216E-5,4.9434295967190705E-5,1.346159686147186E-2,1.1929056818181818E-2,9.0457706766917294E-5,0.28302426406926406,0.10944107611832611,3.2975505050505049E-4,1.1235137085137086E-4,1.1939226475279107E-3,1.9208561175666438E-5,253.48309695833336,15.544323514492753,11.900381120600416,15.173967157295412,11.88867761904762,7.7466173861283645,0.61088043478260867,2.6615867701863354,0.3620248447204969,0.46766699792960664,3.5086136438923399,3.9900372670807455E-2,2.7017729813664598E-2,3.0439596273291927E-4,2.3633234989648036E-3,2.3955167443064185E-2,{"$f":"IF(COUNT(EK232:EK236)<3,\"\",AVERAGE(EK232:EK236))","v":0.79214482401656316},0.12285605590062113,3.0906832298136649E-3,9.1317650103519665E-2,0.43360569358178047,0.20245284679089026,0.26635238095238095,0.54575077639751546,1.5394793478260873,2.4097826086956525E-2,0,1.4302510351966874E-4,7.933509316770187E-4,3.0359759834368533E-2,2.0487994306418221E-3,5.234806935817805E-3,8.8007272256728788E-4,4.7994358178053833E-4,0.47436739130434791,1.5012525879917183E-2,0,3.3159142598343683E-2,1.1449482401656315E-4,8.5091045548654244E-4,0.118975266563147,6.4994711180124218E-2,3.2914699792960662E-4,5.2116590579710138,1.8850976366459629,2.5093853519668739E-3,6.6175543478260877E-4,5.5633234989648029E-3,5.5295031055900613E-5,47.676319358178048]
["LYBR_RHTS","2006-10",null,null,null,null,null,null,null,4.7953044134199132,null,null,{"$f":"IF(COUNT(M233:M237)<3,\"\",AVERAGE(M233:M237))","v":16.360222143398268},5.3602221433982677,2.9743348658008659,0.69347158008658005,0.71429092640692637,0.37656190476190482,6.4072481060606062E-2,0.44261322402597403,9.4877048160173172E-2,11,null,20.846856076604556,null,null,{"$f":"IF(COUNT(AA233:AA237)<3,\"\",AVERAGE(AA233:AA237))","v":93.085949094202888},82.085949094202888,61.89383831780539,5.4390822929606628,8.7759171376811604,3.3245103519668739,0.48745068322981366,1.9426103364389233,0.22253963768115939,11,4.7953044134199132,1,0.1818028410452287,4.2387662832953164E-2,4.3660221734529409E-2,2.3016918808395053E-2,3.9163576447194398E-3,2.7054230691151024E-2,5.7992518273022519E-3,0.67236250850290302,20.846856076604556,1,0.66491064355125051,5.8430755080515075E-2,9.4277570600907135E-2,3.5714416454007178E-2,5.2365656468358508E-3,2.0868996398940978E-2,2.3906898930143527E-3,0.11817035876024652,4.7953044134199132,4.7953044134199132,0.87179996603646415,0.20326174665741553,0.20936405397448088,0.11037313234522461,1.8780127098253947E-2,0.12973327183495698,2.7809177881995984E-2,3.2241829044420549,20.846856076604556,20.846856076604556,13.861296489915432,1.2180975416108282,1.9653909455690359,0.74453329967660531,0.10916593037527862,0.43505296439190133,4.9838368123463352E-2,2.4634804615955859,{"$f":"IF(COUNT(BY233:BY237)<3,\"\",AVERAGE(BY233:BY237))","v":1.6725088311688312},0.93954491341991342,1.5799457803030301,0.84769078625541139,0.39501692965367957,8.6257185606060605E-2,0.24893039610389611,3.7656190476190475E-2,6.4072481060606062E-2,0.73768870670995668,1.5758523809523809E-2,4.330684523809524E-3,2.900757575757576E-5,4.4939177489177487E-4,4.4068252164502168E-3,7.1996185064935062E-2,2.5848804112554111E-2,4.3879870129870132E-5,-1.7313100649350651E-2,2.6117619047619049E-2,5.3985654761904769E-2,4.0429751082251081E-2,5.8260790043290038E-2,0.16148071428571428,1.1745892857142856E-2,6.6352272727272722E-4,3.3316017316017317E-5,1.4342965367965369E-4,3.6361141774891772E-3,5.4339069264069256E-4,2.0165021645021648E-3,1.2094696969696971E-4,5.0876082251082253E-5,6.6868511904761896E-2,3.4455681818181816E-3,1.4256277056277057E-4,7.0289675324675316E-3,4.8654761904761909E-5,4.664123376623377E-5,1.4835915043290043E-2,1.4485761363636364E-2,9.3657467532467522E-5,0.25101165043290047,9.5874611471861465E-2,3.4432575757575753E-4,6.7793290043290051E-5,1.044371212121212E-3,3.3478896103896104E-5,262.32105143560608,13.830240646997929,10.46029752846791,13.464453606570775,10.404945036231883,6.2920350983436855,0.65506315217391298,2.6032948136645966,0.33245103519668739,0.48745068322981366,3.2376839337474124,3.4649591097308488E-2,3.0957626293995864E-2,2.8784834368530022E-4,2.3381371635610767E-3,2.3560421066252592E-2,{"$f":"IF(COUNT(EK233:EK237)<3,\"\",AVERAGE(EK233:EK237))","v":0.74721749482401656},0.10008007246376811,2.2805383022774326E-3,6.6040993788819877E-2,0.41189461697722562,0.22199824016563147,0.27564637681159421,0.51141350931677021,1.4869937370600417,1.9825569358178058E-2,0,1.5524560041407868E-4,8.3137370600414083E-4,2.8842953416149071E-2,1.9760561594202902E-3,7.0814218426501034E-3,8.6560584886128376E-4,3.2663612836438926E-4,0.50861744306418222,1.3475465838509317E-2,0,3.365908566252588E-2,1.1452587991718426E-4,7.5280486542443072E-4,0.1253796195652174,6.6340539337474122E-2,3.4716977225672882E-4,4.2202848861283639,1.5324716532091098,2.3175271739130439E-3,4.8986620082815742E-4,5.5962013457556935E-3,6.4001035196687361E-5,56.121216739130432]
["LYBR_RHTS","2007-11",null,null,null,null,null,null,null,4.8344006179653682,null,null,{"$f":"IF(COUNT(M234:M238)<3,\"\",AVERAGE(M234:M238))","v":16.410938291125539},5.4109382911255413,2.9541077748917752,0.74652308008658008,0.75733279004329002,0.36864145021645023,5.9157606060606056E-2,0.41693590584415585,0.10823946861471861,11,null,20.116894440993789,null,null,{"$f":"IF(COUNT(AA234:AA238)<3,\"\",AVERAGE(AA234:AA238))","v":86.462825879917176},75.462825879917176,56.207120481366459,4.9230563819875783,8.7127559730848869,3.1275714285714287,0.44400761387163562,1.8278384834368531,0.22047635093167697,11,4.8344006179653682,1,0.18000846280003704,4.5489360013636369E-2,4.6148049344188265E-2,2.2463154980955514E-2,3.6047668336304951E-3,2.5405976090326302E-2,6.5955685588831156E-3,0.67028464825490297,20.116894440993789,1,0.65007267469408203,5.6938416387464642E-2,0.10076880884260583,3.6172440545895614E-2,5.1352429133913581E-3,2.1140165901764811E-2,2.5499554136465862E-3,0.12722230493920259,4.8344006179653682,4.8344006179653682,0.87023302379949508,0.21991379016077278,0.22309815826744006,0.10859589032138317,1.742688700812433E-2,0.12282266651108685,3.1885620716897489E-2,3.2404245177362023,20.116894440993789,20.116894440993789,13.077443375795342,1.1454241121039772,2.0271554904313831,0.72767716813490579,0.10330513961755536,0.425274485910899,5.1297183885569031E-2,2.559317679001861,{"$f":"IF(COUNT(BY234:BY238)<3,\"\",AVERAGE(BY234:BY238))","v":1.6733229460013668},0.99027423160173156,1.5444842372408294,0.86568119534632049,0.39544873647186141,9.239728787878787E-2,0.26349485064935063,3.686414502164502E-2,5.9157606060606056E-2,0.69489309307359304,1.8318796536796536E-2,4.194559523809524E-3,3.6268939393939399E-5,4.3056222943722942E-4,4.3023024891774894E-3,7.0276185064935048E-2,2.4457326839826841E-2,2.8137987012987012E-4,-1.5465259740259741E-2,2.4087619047619045E-2,5.5274972943722946E-2,4.3615319264069266E-2,5.6737949134199134E-2,0.16425060064935068,1.3036688311688312E-2,6.5359090909090901E-4,3.5781926406926413E-5,1.2482738095238093E-4,3.8341369047619044E-3,4.9740205627705624E-4,2.370683982683983E-3,1.1679924242424243E-4,4.2910173160173159E-5,7.1632943722943723E-2,3.3155681818181812E-3,1.9918777056277058E-4,7.3963311688311677E-3,4.6791125541125536E-5,3.3379870129870141E-5,1.2989699134199133E-2,1.3623454545454546E-2,8.0157467532467532E-5,0.25802744588744592,9.5980793290043276E-2,3.493484848484848E-4,6.0338744588744595E-5,9.8407575757575739E-4,2.486525974025974E-5,260.95578531060607,13.141612549171843,9.9493827769151153,12.743587698962077,9.7101005124223594,5.738413307453416,0.58971593167701863,2.591033757763975,0.31275714285714284,0.44400761387163562,3.0463974327122156,3.4172670807453419E-2,3.0105229813664598E-2,2.8989285714285716E-4,2.293825569358178E-3,2.2863045289855076E-2,{"$f":"IF(COUNT(EK234:EK238)<3,\"\",AVERAGE(EK234:EK238))","v":0.70308933747412006},9.3107349896480326E-2,1.6243788819875777E-3,5.6442391304347819E-2,0.40255320910973075,0.24377158385093167,0.28610471014492755,0.48125797101449269,1.4701298654244308,1.8542028985507251E-2,1.911904761904762E-4,1.3021454451345757E-4,7.8942753623188419E-4,2.7158812629399589E-2,1.8759888716356108E-3,7.292198240165631E-3,8.7390812629399594E-4,2.6415683229813664E-4,0.4579607660455487,1.3380797101449278E-2,5.4428571428571438E-4,3.2442853778467909E-2,1.075072463768116E-4,6.4633488612836441E-4,0.11101250776397516,6.8294447204968953E-2,3.2533229813664602E-4,3.9426817805383014,1.3982603022774329,2.1264453933747419E-3,4.8656909937888198E-4,5.2089135610766044E-3,6.0610766045548661E-5,59.935938095238093]
["LYBR_RHTS","2008-12",null,null,null,null,null,null,null,4.7714140703463208,null,null,{"$f":"IF(COUNT(M235:M239)<3,\"\",AVERAGE(M235:M239))","v":16.314186148268398},5.3141861482683987,2.7402417034632034,0.83632308008658018,0.8054063614718614,0.3884152597402597,5.4130939393939391E-2,0.39024376298701302,9.9424468614718625E-2,11,null,18.247970831686427,null,null,{"$f":"IF(COUNT(AA235:AA239)<3,\"\",AVERAGE(AA235:AA239))","v":67.731658807406362},56.731658807406355,39.049601395868621,6.228080656879353,6.7885551722190858,2.6135800865800864,0.34611510304912479,1.4659131371165066,0.23981373729531336,11,4.7714140703463208,1,0.16796680377182377,5.1263548943589088E-2,4.9368467060022354E-2,2.3808436180035034E-2,3.3180287942028231E-3,2.3920516747838742E-2,6.0943566360661897E-3,0.67425980677360053,18.247970831686427,1,0.57653395891137693,9.1952282972852878E-2,0.10022720972362731,3.8587274143273974E-2,5.1100934059993466E-3,2.164295342721196E-2,3.5406446780997789E-3,0.16240558984799536,4.7714140703463208,4.7714140703463208,0.80143917086797944,0.24459961872532823,0.23555739836161951,0.11359990738236157,1.5831689274473586E-2,0.11413469018059259,2.907869900303469E-2,3.2171727291085492,18.247970831686427,18.247970831686427,10.520574865691508,1.6779425775955958,1.8289431995780694,0.70413945304075132,9.3248835419869225E-2,0.39493998285131166,6.4609580811330544E-2,2.9635724664490484,{"$f":"IF(COUNT(BY235:BY239)<3,\"\",AVERAGE(BY235:BY239))","v":1.6195550888585097},0.98788256493506488,1.4734473324789248,0.85640369534632033,0.36389730790043284,0.10282478787878788,0.27994127922077927,3.8841525974025973E-2,5.4130939393939391E-2,0.65040618831168828,1.6767844155844154E-2,4.6387261904761914E-3,4.1507034632034634E-5,3.5496699134199137E-4,4.1059929653679654E-3,6.8153566017316008E-2,2.396089826839827E-2,2.6352272727272726E-4,-1.9242640692640693E-2,2.2598333333333331E-2,5.6863068181818181E-2,4.7837938311688318E-2,5.3242711038961041E-2,0.16129941017316016,1.2103354978354979E-2,5.0966233766233768E-4,3.4710497835497833E-5,1.2423214285714286E-4,3.7392559523809522E-3,4.4799729437229434E-4,2.2461601731601733E-3,1.1894209956709957E-4,4.9576839826839827E-5,7.9698419913419916E-2,3.995330086580086E-3,1.7156872294372293E-4,7.4157359307359307E-3,4.1910173160173155E-5,2.1117965367965367E-5,1.0888627705627705E-2,1.157726406926407E-2,7.4919372294372297E-5,0.24437030303030302,8.8292221861471856E-2,3.2887229437229435E-4,4.938636363636364E-5,9.4193290043290048E-4,4.6650974025974035E-5,262.79989590584415,10.41678618553548,7.9608822087332953,9.8859976511151899,7.73331637281197,4.2492743897044978,0.74690788514022222,2.0923911928289103,0.26135800865800868,0.34611510304912479,2.4431884824957653,3.727015998494259E-2,2.5788116177300962E-2,2.1362012987012987E-4,2.0144619329945418E-3,2.021362483530962E-2,{"$f":"IF(COUNT(EK235:EK239)<3,\"\",AVERAGE(EK235:EK239))","v":0.55375481366459622},8.4288735177865615E-2,5.3011481272350843E-4,2.1950508187464711E-2,0.3120491506681724,0.22488478731413514,0.23787278373800114,0.3764989883305101,1.1732562182382835,2.0230990024468289E-2,3.5528138528138529E-4,1.3779408996800302E-4,7.3776844532279316E-4,2.2698312629399586E-2,1.6769320534537925E-3,6.182220967438359E-3,8.4201039902126852E-4,2.0024774138904572E-4,0.57968040890269146,1.2643675889328064E-2,1.4382629870129874E-3,2.8868774233013362E-2,5.5052700922266138E-5,4.9047124976472802E-4,7.9678644127611525E-2,5.221503811405985E-2,2.687641163184642E-4,2.8537207956898176,1.0309575068228873,1.6205931206474684E-3,3.7712591756070013E-4,5.0127317428947868E-3,1.1163349331827591E-4,68.842813901515143]
["LYBR_RHTS","2009-13",null,null,null,null,null,null,null,4.8876626475814042,null,null,{"$f":"IF(COUNT(M236:M240)<3,\"\",AVERAGE(M236:M240))","v":16.501644222962547},5.5016442229625451,2.8018884932053454,0.82822011624317715,0.87475143700357605,0.38034959909655558,5.287179499341238E-2,0.44186648865048,0.1216957488048184,11,null,18.062632998682474,null,null,{"$f":"IF(COUNT(AA236:AA240)<3,\"\",AVERAGE(AA236:AA240))","v":65.867555545925086},54.867555545925086,37.031654866694893,6.5773406921701483,6.6085932211086016,2.5390224025974026,0.32791108243929984,1.5463500096932052,0.23668407316958401,11,4.8876626475814042,1,0.16979450382928696,5.0190157117233403E-2,5.3009956170690702E-2,2.3049194005000263E-2,3.2040319303357446E-3,2.6777118854350839E-2,7.3747650331398495E-3,0.66660024003506035,18.062632998682474,1,0.56221389361982888,9.9857063734272083E-2,0.1003315390458185,3.8547390768541738E-2,4.9783399387072916E-3,2.347665701082588E-2,3.5933331851758167E-3,0.16700179487199018,4.8876626475814042,4.8876626475814042,0.82989825413102358,0.24531255621814368,0.25909478272541231,0.11265668459509702,1.5660227187560164E-2,0.13087752363425836,3.6045363587167076E-2,3.2581170940881625,18.062632998682474,18.062632998682474,10.15506322721528,1.8036814945582018,1.8122517679776005,0.69626737250897019,8.9921927255553216E-2,0.42405023962249377,6.4905058565817506E-2,3.0164921308940116,{"$f":"IF(COUNT(BY236:BY240)<3,\"\",AVERAGE(BY236:BY240))","v":1.7249249406520253},1.0034677910784866,1.5980004746787919,0.88935895627705608,0.37244132458121582,0.10185556943346508,0.30372589294184082,3.8034959909655566E-2,5.287179499341238E-2,0.73644408108413317,2.0429666629023152E-2,4.5859374741200835E-3,4.3118671183888574E-5,3.8762576698663659E-4,4.2566204592508943E-3,6.8283722379070197E-2,2.3541762092979486E-2,2.1690513833992094E-4,-1.7354982119329947E-2,2.5102144927536228E-2,6.2700019762845852E-2,4.9138176736307181E-2,5.3772429700734051E-2,0.17335778900809334,1.3897466591379637E-2,1.8974690005646526E-3,3.4116224355354786E-5,1.1921180124223603E-4,3.8214917184265008E-3,4.0883261810653111E-4,2.4960585733107472E-3,1.3611020139281009E-4,4.6357124035384906E-5,7.8843953322040278E-2,4.2414814605684168E-3,1.6073323922454358E-4,7.588501788067005E-3,4.8919442875964617E-5,2.5068285337850557E-5,1.0284032599284773E-2,1.2154419951063431E-2,6.5152889139845669E-5,0.2535179815546772,9.0348560097873135E-2,3.2883696593261806E-4,5.0117786561264819E-5,9.1363327686805958E-4,1.0201643139469226E-4,259.5295329855449,10.388304781761718,7.8008824336533023,9.8664026208921509,7.5329705982495767,4.0805166784302651,0.78868289144551107,2.0448269542631285,0.25390224025974029,0.32791108243929984,2.5772499526632791,3.7131044654620735E-2,2.5955576275174103E-2,2.153127705627706E-4,2.0379862130622999E-3,1.927248320158103E-2,{"$f":"IF(COUNT(EK236:EK240)<3,\"\",AVERAGE(EK236:EK240))","v":0.54028301759834363},8.1683488142292496E-2,6.2242518351214007E-4,2.1717906549971768E-2,0.30674265386787125,0.22021616318464146,0.22787822699040089,0.36811335733107475,1.1446683079239601,2.0533958686241298E-2,5.2622510822510819E-4,1.384852719744024E-4,6.956314229249012E-4,2.2676900103519668E-2,1.5844623094297006E-3,6.3393601072840198E-3,8.2635831921701471E-4,1.8819819311123657E-4,0.61192766045548652,1.2065774044795785E-2,1.4751937229437232E-3,2.8800519386410688E-2,5.1958827404479573E-5,4.7071033314511571E-4,7.2819498635422558E-2,4.6399530491247884E-2,2.5992795972143803E-4,2.7696466365518537,0.98988050545830986,1.6640578298513079E-3,3.4695073404856006E-4,4.8269353943158292E-3,1.8080679465462074E-4,69.639980121212119]
["LYBR_RHTS","2010-14",null,null,null,null,null,null,null,5.0665833809147376,null,null,{"$f":"IF(COUNT(M237:M241)<3,\"\",AVERAGE(M237:M241))","v":16.836900372962546},5.8369003729625444,2.8777234598720116,0.8213133662431773,1.0747136536702429,0.40341793242988888,4.8677878326745715E-2,0.48735418865047997,0.12369999880481837,11,null,17.814708284396762,null,null,{"$f":"IF(COUNT(AA237:AA241)<3,\"\",AVERAGE(AA237:AA241))","v":63.495536688782224},52.495536688782224,34.221997664313946,7.0327992755034812,6.5914003163466974,2.5393497835497838,0.2928895705345379,1.6397365096932053,0.17736482316958405,11,{"$f":"J267","v":5.0665833809147376},{"$f":"M267/M267","v":1},{"$f":"O267/M267","v":0.17091765088146449},{"$f":"P267/M267","v":4.8780556281135888E-2},{"$f":"Q267/M267","v":6.3830849495080846E-2},{"$f":"R267/M267","v":2.3960344451388189E-2},{"$f":"S267/M267","v":2.8911425053577467E-3},{"$f":"T267/M267","v":2.8945600309727752E-2},{"$f":"U267/M267","v":7.3469579355272185E-3},{"$f":"V267/M267","v":0.65332690437868812},{"$f":"X267","v":17.814708284396762},{"$f":"AA267/AA267","v":1},{"$f":"AC267/AA267","v":0.53896698018397815},{"$f":"AD267/AA267","v":0.1107605296727253},{"$f":"AE267/AA267","v":0.10380887634124372},{"$f":"AF267/AA267","v":3.9992571383342786E-2},{"$f":"AG267/AA267","v":4.6127584048956116E-3},{"$f":"AH267/AA267","v":2.582443735738827E-2},{"$f":"AI267/AA267","v":2.7933431610937015E-3},{"$f":"AJ267/AA267","v":0.17324052324993378},{"$f":"J267","v":5.0665833809147376},{"$f":"BE267","v":5.0665833809147376},{"$f":"BE267*AM267","v":0.8659685294610151},{"$f":"BE267*AN267","v":0.24715075576577911},{"$f":"BE267*AO267","v":0.32340432124144647},{"$f":"BE267*AP267","v":0.12139708299839604},{"$f":"BE267*AQ267","v":1.4648214569501758E-2},{"$f":"BE267*AR267","v":0.14665529747986711},{"$f":"BE267*AS267","v":3.7223974976421853E-2},{"$f":"BE267*AT267","v":3.3101352360295331},{"$f":"X267","v":17.814708284396762},{"$f":"BO267","v":17.814708284396762},{"$f":"BO267*AW267","v":9.6015395268998205},{"$f":"BO267*AX267","v":1.9731665255448727},{"$f":"BO267*AY267","v":1.8493248493502736},{"$f":"BO267*AZ267","v":0.71245599273716553},{"$f":"BO267*BA267","v":8.2174945369614644E-2},{"$f":"BO267*BB267","v":0.46005481813055005},{"$f":"BO267*BC267","v":4.9762593553099005E-2},{"$f":"BO267*BD267","v":3.0862293847338251},{"$f":"IF(COUNT(BY237:BY241)<3,\"\",AVERAGE(BY237:BY241))","v":1.8729521073186919},1.0740494577451534,1.7392006913454583,0.96647507294372303,0.38383997458121588,0.10160908610013175,0.37091569294184079,4.0341793242988901E-2,4.8677878326745715E-2,0.8122569144174665,2.1090633295689821E-2,4.4467708074534167E-3,4.4852004517221907E-5,4.052757669866365E-4,4.0779037925842265E-3,7.2710389045736873E-2,2.5566928759646151E-2,2.1540513833992093E-4,-1.5109815452663281E-2,3.2534478260869561E-2,7.6046019762845848E-2,5.2986843402973841E-2,5.8150929700734044E-2,0.20460845567476005,1.4006466591379635E-2,2.2547190005646526E-3,2.4316224355354789E-5,1.2874513457556937E-4,3.888758385093167E-3,3.7948261810653112E-4,2.261458573310747E-3,1.4569353472614343E-4,3.8873790702051569E-5,7.8552953322040292E-2,4.422981460568417E-3,1.4329990589121024E-4,7.8419684547336704E-3,3.926944287596462E-5,1.9851618671183894E-5,8.8201825992847739E-3,9.6715532843967625E-3,4.8086222473178985E-5,0.26072914822134391,9.3052110097873147E-2,3.1543696593261806E-4,4.8417786561264818E-5,1.0189166102013928E-3,1.1436643139469225E-4,255.4092935188782,10.462393829380764,7.7210968384152086,9.7470589185111987,7.2831215387257657,3.8209105593826451,0.84541784382646346,2.0411378114059855,0.25393497835497836,0.2928895705345379,2.7328941193299454,2.8831580368906456E-2,2.49895643704122E-2,1.9032467532467532E-4,2.0828909749670619E-3,1.857245939205722E-2,{"$f":"IF(COUNT(EK237:EK241)<3,\"\",AVERAGE(EK237:EK241))","v":0.53161301759834356},8.1967773856578205E-2,6.7552042160737812E-4,2.3957073216638435E-2,0.30037943958215696,0.22873997270845098,0.2205676317523057,0.36032133352155088,1.133965450781103,1.5283839638622249E-2,8.7764177489177485E-4,1.625090814982119E-4,7.3180999435347265E-4,2.3297662008281574E-2,1.5111289760963674E-3,6.1018124882364017E-3,8.7183450969320554E-4,1.8916247882552227E-4,0.65536230331262946,1.2304821663843404E-2,1.6378603896103898E-3,2.9766364624505926E-2,4.4637398833051003E-5,4.6538890457368723E-4,5.9358081968755881E-2,3.9306768586485977E-2,2.6924938829286661E-4,2.5771523508375678,0.92628136260116689,1.6896411631846416E-3,3.2649835309617918E-4,4.8927330133634482E-3,2.0024727084509689E-4,70.907854764069256]
["LYBR_RHTS","2011-15",null,null,null,null,null,null,null,5.2904221990965556,null,null,{"$f":"IF(COUNT(M238:M242)<3,\"\",AVERAGE(M238:M242))","v":17.214570918417088},6.2145709184170901,2.9593650962356484,0.83980582078863164,1.2421189263975154,0.42068429606625257,4.7611423781291171E-2,0.54621373410502538,0.15877181698663656,11,null,17.068058043290044,null,null,{"$f":"IF(COUNT(AA238:AA242)<3,\"\",AVERAGE(AA238:AA242))","v":57.596962352813854},46.596962352813854,28.147449344155842,8.1297777023809523,5.9316567629870134,2.3341188744588743,0.23687679978354978,1.5743909523809525,0.24269289826839829,11,5.2904221990965556,1,0.17191047690126032,4.8784592120745894E-2,7.2155090724255508E-2,2.4437687007126129E-2,2.7657630275497525E-3,3.1729732718499312E-2,9.2231062707914379E-3,0.63899356261221707,17.068058043290044,1,0.48869676792565642,0.14114941778667914,0.10298558327872002,4.0525034291931591E-2,4.1126613298205885E-3,2.7334617800447891E-2,4.2136405871852668E-3,0.19098229404215453,5.2904221990965556,5.2904221990965556,0.9094790032557033,0.25809108912946499,0.38173089374542729,0.12928568183707354,1.463205411838971E-2,0.16786368234534907,4.879412615962167E-2,3.3805457287234679,17.068058043290044,17.068058043290044,8.3411048005233486,2.4091464555596356,1.7577639130232741,0.69168363750100781,7.0195142289772222E-2,0.46654884320919382,7.191866211564088E-2,3.2596968799521799,{"$f":"IF(COUNT(BY238:BY242)<3,\"\",AVERAGE(BY238:BY242))","v":2.0261948345914194},1.1313852759269716,1.9105446913454585,1.0416128002164502,0.39336142912667038,0.10381017700922265,0.42786605657820448,4.2068429606625261E-2,4.7611423781291171E-2,0.91035609623564839,2.6895087841144368E-2,4.1116798983625077E-3,5.2761095426312812E-5,4.1927576698663646E-4,4.8518128834933189E-3,7.5418116318464151E-2,2.6986474214191609E-2,2.3958695652173911E-4,-1.2933088179936006E-2,3.6800387351778652E-2,9.3008837944664038E-2,5.9817479766610206E-2,6.0575747882552232E-2,0.23726936476566912,1.6620557500470545E-2,4.8746280914737424E-3,2.3952587991718422E-5,1.2647240730284209E-4,4.2571220214568037E-3,3.3084625447016752E-4,2.6343676642198383E-3,1.6151171654432524E-4,4.1419245247506118E-5,8.0333771503858467E-2,5.7077996423865992E-3,1.096635422548466E-4,8.0496048183700351E-3,1.3451261057782795E-5,1.603343685300207E-5,7.8454553265574992E-3,1.0503462375305856E-2,4.7813495200451714E-5,0.26727087549407119,9.5360291916054954E-2,3.3034605684170899E-4,4.5599604743083005E-5,1.1047347920195747E-3,1.4109370412196496E-4,249.40270579160551,9.654921651515151,7.0304288549783553,9.0195355686147174,6.6191378430735925,3.2630309783549776,0.9814006699134199,1.864037194805195,0.23341188744588742,0.23687679978354978,2.6239846450216446,4.0381106060606062E-2,2.2633837662337664E-2,1.7775324675324675E-4,2.2390400432900437E-3,1.7410637445887445E-2,{"$f":"IF(COUNT(EK238:EK242)<3,\"\",AVERAGE(EK238:EK242))","v":0.47989699783549777},7.3964512987012981E-2,4.2330303030303025E-4,1.7607251082251078E-2,0.26101312337662341,0.23235364069264067,0.20372928787878788,0.32087292640692644,1.0355762294372295,2.2996155844155847E-2,1.3140227272727273E-3,1.7178030303030301E-4,7.0167748917748915E-4,2.2525392857142855E-2,1.4595140692640692E-3,6.5844253246753245E-3,8.6731277056277067E-4,1.8895129870129872E-4,0.76077537445887444,1.1727699134199136E-2,1.7249080086580086E-3,2.8869267316017317E-2,2.746969696969697E-5,4.197781385281385E-4,4.0927456709956705E-2,2.6645915584415581E-2,2.2740259740259747E-4,2.2061248528138528,0.79192919696969688,1.5811277056277059E-3,2.6820021645021649E-4,4.7780497835497827E-3,2.56806277056277E-4,75.375589582251081]
["LYBR_RHTS","2012-16",null,null,null,null,null,null,null,5.1859748848108413,null,null,{"$f":"IF(COUNT(M239:M243)<3,\"\",AVERAGE(M239:M243))","v":17.034838723178996},6.0348387231789946,2.7209434009975531,0.86157847793148901,1.2613635263975154,0.39615953416149069,4.7702514257481655E-2,0.59463756267645396,0.1524536122247318,11,null,16.097809454545452,null,null,{"$f":"IF(COUNT(AA239:AA243)<3,\"\",AVERAGE(AA239:AA243))","v":52.521690833333331},41.521690833333331,22.977109803030302,9.2127308106060593,5.1592473863636368,2.1008215151515151,0.22867740151515153,1.5776483636363636,0.26545604545454549,11,5.1859748848108413,1,0.15972815740810123,5.0577436741984227E-2,7.4046109088265144E-2,2.3255842958022466E-2,2.8002915103959103E-3,3.4907143668307314E-2,8.9495189653478156E-3,0.64573549411022602,16.097809454545452,1,0.43747848628756802,0.17540811547443791,9.823079387781776E-2,3.9999121921227468E-2,4.3539611517993916E-3,3.0038034545435768E-2,5.0542174336487963E-3,0.20943727868370068,5.1859748848108413,5.1859748848108413,0.82834621271552566,0.26229331668203926,0.3840012620497068,0.12060421750540957,1.4522241443062208E-2,0.18102757036432551,4.6411980585432076E-2,3.348768054686551,16.097809454545452,16.097809454545452,7.0424453127202451,2.8236864196884071,1.5813006024138403,0.64389824303705179,7.0089236994159851E-2,0.48354655650147882,8.1361829188720036E-2,3.3714814049287476,{"$f":"IF(COUNT(BY239:BY243)<3,\"\",AVERAGE(BY239:BY243))","v":2.0493356466214943},1.0686823235460192,1.975383934453228,1.0171374859307358,0.36196510055524184,0.10773365796160361,0.43445018991153772,3.9615953416149069E-2,4.7702514257481655E-2,0.99106254385469617,2.5669878317334843E-2,4.2921989459815549E-3,5.1384904950122333E-5,4.3516624317711274E-4,4.8285652644456988E-3,7.1352116318464151E-2,2.6414236118953511E-2,4.9586956521739137E-5,-1.0250564370412196E-2,3.8513339732731036E-2,9.653931413514022E-2,5.8164194052324494E-2,5.8199985977790324E-2,0.24116626952757389,1.5616033690946735E-2,5.1875519009975521E-3,2.7966873706004138E-5,1.4593431206474684E-4,4.0909029738377557E-3,3.0440339732731045E-4,2.3847581404103143E-3,1.6305933559194427E-4,3.9662102390363265E-5,8.3375247694334659E-2,8.5422758328627894E-3,7.5411161302465661E-5,7.8370905326557473E-3,5.3274515339732735E-6,2.2019151138716357E-5,7.9236315170336906E-3,1.0753619518162999E-2,4.6661114248070767E-5,0.24568758977978544,8.7748987154150193E-2,3.0343177112742326E-4,3.5723414266892522E-5,1.0796681253529079E-3,2.1160798983625067E-4,252.08390140589123,8.9537628333333323,6.3346992965367965,8.4098021958874458,5.9774508257575762,2.743300727272727,1.1106299166666667,1.6405887272727273,0.21008215151515156,0.22867740151515153,2.6294139090909088,4.4172681818181819E-2,2.2365703463203469E-2,1.6176190476190476E-4,2.1739794372294375E-3,1.6567949134199133E-2,{"$f":"IF(COUNT(EK239:EK243)<3,\"\",AVERAGE(EK239:EK243))","v":0.42411413636363626},6.5109287878787891E-2,2.8996969696969696E-4,1.9328939393939395E-2,0.22225389393939396,0.21179396969696968,0.17863007575757578,0.27943124242424239,0.91143812121212131,2.5848000000000003E-2,1.4602521645021645E-3,1.6270238095238094E-4,6.9403679653679657E-4,2.1614215367965366E-2,1.2637694805194804E-3,6.9558279220779213E-3,8.0384090909090911E-4,1.6285173160173161E-4,0.86095325757575769,1.2134651515151517E-2,1.3776612554112556E-3,2.8948055194805193E-2,3.3768398268398267E-5,3.8357467532467533E-4,3.9329158008658001E-2,2.727705411255411E-2,2.3239826839826843E-4,1.8552876969696968,0.66593398917748914,1.5547164502164501E-3,1.8735173160173163E-4,4.5525519480519487E-3,3.0736038961038959E-4,83.922066651515152]
["LYBR_RHTS","2013-17",null,null,null,null,null,null,null,5.1734276467156022,null,null,17.031678304959534,6.0316783049595326,2.5676919765669117,0.88754553797289693,1.3601726775362317,0.3765422670807454,5.3575702663278754E-2,0.63661613410502549,0.14953465156220594,11,null,15.331233234848487,null,null,48.570757098484847,37.570757098484847,19.043113749999996,9.5564234621212112,5.0453666818181819,1.92709696969697,0.20254921969696973,1.5225635454545456,0.27364413636363633,11,{"$f":"J270","v":5.1734276467156022},{"$f":"M270/M270","v":1},{"$f":"O270/M270","v":0.15075977426248202},{"$f":"P270/M270","v":5.2111455024044719E-2},{"$f":"Q270/M270","v":7.9861341506207092E-2},{"$f":"R270/M270","v":2.2108347770465948E-2},{"$f":"S270/M270","v":3.1456502233064014E-3},{"$f":"T270/M270","v":3.7378355949786009E-2},{"$f":"U270/M270","v":8.7797954426289421E-3},{"$f":"V270/M270","v":0.6458553175465308},{"$f":"X270","v":15.331233234848487},{"$f":"AA270/AA270","v":1},{"$f":"AC270/AA270","v":0.39206952676045564},{"$f":"AD270/AA270","v":0.19675261480367828},{"$f":"AE270/AA270","v":0.10387663242695409},{"$f":"AF270/AA270","v":3.9676074346328964E-2},{"$f":"AG270/AA270","v":4.1701886442961833E-3},{"$f":"AH270/AA270","v":3.1347329883438066E-2},{"$f":"AI270/AA270","v":5.6339277522230056E-3},{"$f":"AJ270/AA270","v":0.22647371910830566},{"$f":"J270","v":5.1734276467156022},{"$f":"BE270","v":5.1734276467156022},{"$f":"BE270*AM270","v":0.77994478418212776},{"$f":"BE270*AN270","v":0.2695948421319696},{"$f":"BE270*AO270","v":0.41315687205200802},{"$f":"BE270*AP270","v":0.11437593757893179},{"$f":"BE270*AQ270","v":1.6273793832150444E-2},{"$f":"BE270*AR270","v":0.19337422005939955},{"$f":"BE270*AS270","v":4.5421636475404217E-2},{"$f":"BE270*AT270","v":3.3412857555735069},{"$f":"X270","v":15.331233234848487},{"$f":"BO270","v":15.331233234848487},{"$f":"BO270*AW270","v":6.0109093590412153},{"$f":"BO270*AX270","v":3.0164602271214949},{"$f":"BO270*AY270","v":1.5925568793882585},{"$f":"BO270*AZ270","v":0.608283149646758},{"$f":"BO270*BA270","v":6.3934134739021403E-2},{"$f":"BO270*BB270","v":0.48059322573272478},{"$f":"BO270*BC270","v":8.6375060397616568E-2},{"$f":"BO270*BD270","v":3.4721214092129964},2.1178267646339171,1.0616658763410505,2.0719709944946358,1.0387937260963676,0.34386504672501406,0.11163664346884998,0.46692925823451914,3.7654226708074535E-2,5.3575702663278754E-2,1.0610265686994165,2.5132760304912481E-2,4.7906875588179937E-3,4.8904573687182386E-5,4.5293849990589121E-4,4.772784726143421E-3,6.9926137022397888E-2,2.7730078769057032E-2,4.9586956521739137E-5,-9.3979142668925292E-3,4.0974499153020885E-2,0.10869079239600979,5.8870740636175423E-2,6.0051576039902119E-2,0.25918969395821573,1.5817073028420853E-2,5.0719121494447574E-3,2.5714285714285711E-5,1.3782251082251085E-4,4.7856938641069073E-3,2.3692927724449465E-4,2.349313005834745E-3,1.6937403538490493E-4,3.2014069264069261E-5,8.6400796348578959E-2,7.6102923960097869E-3,9.5688594014680972E-5,7.7496164125729324E-3,4.4910126105778311E-6,2.1282091097308486E-5,9.1644969414643312E-3,1.164431102955016E-2,4.2193205345379258E-5,0.23143877818558253,8.3361082392245434E-2,3.8056634669678151E-4,3.0158196875588181E-5,9.732664690382082E-4,1.9544649915302086E-4,252.76054913259932,8.2160925909090903,5.6888369177489171,7.9069520367965351,5.5216381969696968,2.3192372424242427,1.1556096515151515,1.6057103030303028,0.192709696969697,0.20254921969696973,2.5376060454545453,4.582258333333334E-2,2.0738711038961043E-2,1.5249675324675323E-4,2.0131536796536799E-3,1.4832252164502163E-2,0.38808555303030301,5.8910477272727267E-2,2.8633333333333332E-4,2.2283053030303031E-2,0.20491262878787878,0.22552753787878785,0.18476529545454548,0.25457266666666667,0.89206118181818184,2.6942878787878786E-2,1.7028127705627707E-3,1.4008874458874457E-4,6.2384740259740275E-4,1.9504548701298703E-2,1.1191482683982684E-3,7.787676406926407E-3,7.0307575757575761E-4,1.2949567099567101E-4,0.89582125757575759,1.1021181818181819E-2,7.8297943722943717E-4,2.8005585497835501E-2,4.2465367965367961E-5,3.3099891774891776E-4,3.3560248917748919E-2,2.9473448051948049E-2,2.1735281385281387E-4,1.5792056515151516,0.56313079220779216,1.4259816017316016E-3,1.3947294372294375E-4,4.0833474025974027E-3,2.8987554112554112E-4,90.532168446969692]
[{"$f":"A255","v":"LYBR_RHTS"},"2014-18",null,null,null,null,null,null,null,5.0273997336721248,null,null,16.775078826698667,5.775078826698663,2.3107550200451725,0.88562771188594025,1.4109137210144929,0.40283704968944101,5.1635354837191796E-2,0.5904540471485038,0.12285647764916241,11,null,14.729027734848483,null,null,45.575935931818179,34.575935931818179,15.832891249999998,9.9591193787878787,4.9781580984848484,1.9083961363636366,0.18544430303030301,1.4265142121212122,0.28541288636363638,11,5.0273997336721248,1,0.13774927938743575,5.2794250389834478E-2,8.4107725250681303E-2,2.4014018285762016E-2,3.078099087976305E-3,3.5198287486360808E-2,7.323749647818528E-3,0.65573462358297596,14.729027734848483,1,0.34739585542875256,0.21851705675746888,0.10922777550706138,4.1872889658670018E-2,4.0689082788717404E-3,3.1299723921309801E-2,6.2623593027385203E-3,0.24135543845892826,5.0273997336721248,5.0273997336721248,0.69252069050592158,0.26541780034927331,0.42284315552504342,0.12072806913423749,1.5474834535108485E-2,0.1769558611346452,3.6819417028924183E-2,3.2966400719606441,14.729027734848483,14.729027734848483,5.1168031895815105,3.2185437895182192,1.6088189348593109,0.61674695312080097,5.9931062890056466E-2,0.46101450173007258,9.2238463855622066E-2,3.5549309470180703,1.9996618950686993,1.0208285719932242,1.9713420379728965,1.0168167695746282,0.30912669889892719,0.11136429564276304,0.48374117127799732,4.0283704968944095E-2,5.1635354837191796E-2,0.98408978609072084,2.0665021174477695E-2,4.5586006022962549E-3,4.2295878035008464E-5,4.0363415207980425E-4,4.3946108130999435E-3,7.0549006587615287E-2,3.1605383116883115E-2,4.3500000000000007E-5,-8.5548707886316591E-3,4.2900760022586103E-2,0.11242844456992282,5.9841175418784122E-2,6.1914184735554302E-2,0.26852969395821569,1.3336116506681723E-2,3.7758251929230187E-3,2.7975155279503105E-5,1.3738772821381517E-4,4.5592590814982122E-3,2.3371188594014685E-4,1.9884434406173537E-3,1.5641751364577452E-4,3.479667795972144E-5,8.6294883305100684E-2,7.6915967438358742E-3,1.042972896668549E-4,7.2264859777903239E-3,-1.4465509128552605E-5,2.1282091097308486E-5,9.060149115377376E-3,9.8126588556371169E-3,4.3497553171466214E-5,0.20511503905514772,7.4939691087897609E-2,3.750880858272163E-4,2.3288631658196876E-5,9.7430994729907786E-4,1.418812817617165E-4,256.42490704564278,7.6250660619235848,5.2469084177489176,7.4124064933182749,5.1828154469696965,1.9673323257575759,1.2116329848484848,1.5795267196969696,0.19083961363636365,0.18544430303030301,2.3775240454545452,4.8040250000000007E-2,1.8756544372294372E-2,1.4074675324675327E-4,1.9588203463203465E-3,1.4631835497835496E-2,0.37572113636363635,5.5176143939393942E-2,8.7999999999999998E-5,2.7230303030303032E-2,0.18814712878787876,0.23624937121212125,0.18574221212121214,0.24014566666666667,0.87751468181818182,2.7921628787878787E-2,1.8183961038961039E-3,1.4342207792207793E-4,6.4176406926406927E-4,1.8224382034632034E-2,1.1028149350649351E-3,7.5904264069264066E-3,6.8174242424242422E-4,1.2199567099567101E-4,0.93925025757575753,1.0815848484848487E-2,5.9606277056277056E-4,2.8299168831168835E-2,4.4965367965367961E-5,3.0941558441558445E-4,2.9919415584415583E-2,2.9350031385281382E-2,2.1835281385281386E-4,1.3167998181818181,0.47782045887445879,1.2953149350649351E-3,1.1347294372294375E-4,4.1414307359307363E-3,2.7929220779220781E-4,95.781684946969705]
[{"$f":"A271","v":"LYBR_RHTS"},"2015-19",null,null,null,null,null,null,null,{"$f":"IF(J246=\"\",\"\",J246)","v":4.8759025908149827},null,null,16.471567195746285,5.4715671957462817,2.1879345200451725,0.87801993807641643,1.3013993995859212,0.41116490683229817,5.1425866741953707E-2,0.52698454714850373,0.11463753717297195,11,null,14.062187340909091,null,null,42.478555780303033,31.478555780303033,13.126877560606058,9.8967895530303043,4.8411236136363636,1.9161111363636365,0.16220826515151515,1.2514697121212122,0.28397601515151516,11,{"$f":"J272","v":4.8759025908149827},{"$f":"M272/M272","v":1},{"$f":"O272/M272","v":0.13283098651415498},{"$f":"P272/M272","v":5.3305185089076494E-2},{"$f":"Q272/M272","v":7.9008838935617637E-2},{"$f":"R272/M272","v":2.4962099959649243E-2},{"$f":"S272/M272","v":3.1220991986259951E-3},{"$f":"T272/M272","v":3.1993588763344592E-2},{"$f":"U272/M272","v":6.9597225212775522E-3},{"$f":"V272/M272","v":0.66781744986844394},{"$f":"X272","v":14.062187340909091},{"$f":"AA272/AA272","v":1},{"$f":"AC272/AA272","v":0.3090236313234756},{"$f":"AD272/AA272","v":0.23298319284243102},{"$f":"AE272/AA272","v":0.11396629486827219},{"$f":"AF272/AA272","v":4.5107727915084203E-2},{"$f":"AG272/AA272","v":3.8185918087810752E-3},{"$f":"AH272/AA272","v":2.9461211407321636E-2},{"$f":"AI272/AA272","v":6.685161723016783E-3},{"$f":"AJ272/AA272","v":0.25895418989504848},{"$f":"J272","v":4.8759025908149827},{"$f":"BE272","v":4.8759025908149827},{"$f":"BE272*AM272","v":0.64767095128487828},{"$f":"BE272*AN272","v":0.25991089007970025},{"$f":"BE272*AO272","v":0.38523940246346172},{"$f":"BE272*AP272","v":0.12171276786543632},{"$f":"BE272*AQ272","v":1.5223051571361871E-2},{"$f":"BE272*AR272","v":0.155997622340661},{"$f":"BE272*AS272","v":3.3934929072850603E-2},{"$f":"BE272*AT272","v":3.2562128340050007},{"$f":"X272","v":14.062187340909091},{"$f":"BO272","v":14.062187340909091},{"$f":"BO272*AW272","v":4.3455481964387364},{"$f":"BO272*AX272","v":3.2762533050334151},{"$f":"BO272*AY272","v":1.6026153889869299},{"$f":"BO272*AZ272","v":0.63431332046466871},{"$f":"BO272*BA272","v":5.3697753393540382E-2},{"$f":"BO272*BB272","v":0.4142890740998848},{"$f":"BO272*BC272","v":9.4007996553336609E-2},{"$f":"BO272*BD272","v":3.6414623310175194},1.8335072998306043,0.95852520532655738,1.8002207213062302,0.96169568624129498,0.29245073461321291,0.10996430754752493,0.44781340937323544,4.1116490683229812E-2,5.1425866741953707E-2,0.87830747656691133,1.8924140222096743E-2,4.3241672689629199E-3,3.0162544701675139E-5,3.6658415207980425E-4,4.4152274797666109E-3,6.7253054206662916E-2,3.2205121212121213E-2,2.6000000000000002E-5,-7.7703707886316586E-3,3.7794140974967062E-2,0.10397563504611332,5.6397746847355545E-2,5.8367684735554301E-2,0.24876483681535855,1.2183164125729342E-2,3.2869751929230188E-3,3.347515527950311E-5,1.1715439488048183E-4,4.4185924148315448E-3,2.0576188594014682E-4,2.0329434406173535E-3,1.3483418031244118E-4,3.7980011293054774E-5,8.5243645209862592E-2,6.3795729343120635E-3,8.9730623000188218E-5,6.9711193111236577E-3,-3.1155091285526078E-6,2.7098757763975154E-5,9.0713991153773786E-3,9.4372255223037823E-3,4.1564219838132884E-5,0.19373449143610011,7.0587141087897612E-2,3.7538808582721626E-4,2.4588631658196877E-5,8.8692661396574447E-4,1.2683128176171652E-4,259.48539973611895,6.829381300018821,4.7355663510822508,6.8284364363007315,4.8185294848484848,1.6685363106060607,1.2071893787878789,1.5408803560606061,0.19161111363636363,0.16220826515151515,2.08578303030303,4.810439393939394E-2,1.5608694372294372E-2,1.3813008658008656E-4,1.9013536796536796E-3,{"$f":"IF(COUNT(EJ242:EJ246)<3,\"\",AVERAGE(EJ242:EJ246))","v":1.4403835497835495E-2},0.36150825757575761,5.4131628787878791E-2,5.2727272727272723E-5,2.4748863636363638E-2,0.17947038636363635,0.24245600757575758,0.18528768181818184,0.22408149999999999,0.85604443939393937,2.775043181818182E-2,1.7394794372294375E-3,1.3078874458874459E-4,6.1914740259740259E-4,1.6406848701298701E-2,1.0491816017316018E-3,7.392993073593074E-3,6.3084242424242423E-4,1.0307900432900434E-4,0.93580569696969695,7.5045757575757585E-3,4.6439610389610396E-4,2.7258385497835502E-2,5.5548701298701305E-5,2.7183225108225108E-4,2.5814932251082251E-2,3.2305931385281386E-2,1.8546948051948052E-4,1.1250019393939392,0.40674499220779226,1.1233316017316016E-3,9.020627705627706E-5,4.114580735930737E-3,2.7444220779220782E-4,102.01312902272727]
[{"$f":"A272","v":"LYBR_RHTS"},"2016-20",null,null,null,null,null,null,null,4.7987021283643889,null,null,16.315604393374748,5.3156043933747403,2.1042332670807453,0.95749272463768131,1.1974923561076605,0.44248968944099376,4.5736459627329196E-2,0.48133168944099386,8.6827817805383026E-2,11,null,13.48368696969697,null,null,40.048810174242426,29.048810174242426,11.391229674242425,9.6482244015151544,4.5704685075757583,1.8404137121212123,0.15682007575757576,1.2018268636363636,0.23982728787878788,11,{"$f":"J273","v":4.7987021283643889},{"$f":"M273/M273","v":1},{"$f":"O273/M273","v":0.1289705987192977},{"$f":"P273/M273","v":5.8685703670682828E-2},{"$f":"Q273/M273","v":7.3395525365515996E-2},{"$f":"R273/M273","v":2.7120643451043397E-2},{"$f":"S273/M273","v":2.8032341631120529E-3},{"$f":"T273/M273","v":2.9501309166116301E-2},{"$f":"U273/M273","v":5.3217653304122193E-3},{"$f":"V273/M273","v":0.67420119627727382},{"$f":"X273","v":13.48368696969697},{"$f":"AA273/AA273","v":1},{"$f":"AC273/AA273","v":0.28443366044289492},{"$f":"AD273/AA273","v":0.24091163656393602},{"$f":"AE273/AA273","v":0.11412245426744977},{"$f":"AF273/AA273","v":4.5954266908655443E-2},{"$f":"AG273/AA273","v":3.9157237150190122E-3},{"$f":"AH273/AA273","v":3.0009052913370294E-2},{"$f":"AI273/AA273","v":5.9883748564653711E-3},{"$f":"AJ273/AA273","v":0.27466483903371242},{"$f":"J273","v":4.7987021283643889},{"$f":"BE273","v":4.7987021283643889},{"$f":"BE273*AM273","v":0.61889148657072335},{"$f":"BE273*AN273","v":0.28161521110906751},{"$f":"BE273*AO273","v":0.35220326378392408},{"$f":"BE273*AP273","v":0.13014388945113367},{"$f":"BE273*AQ273","v":1.3451885744829575E-2},{"$f":"BE273*AR273","v":0.14156799508497814},{"$f":"BE273*AS273","v":2.5537566617704933E-2},{"$f":"BE273*AT273","v":3.2352907155215709},{"$f":"X273","v":13.48368696969697},{"$f":"BO273","v":13.48368696969697},{"$f":"BO273*AW273","v":3.835214441057075},{"$f":"BO273*AX273","v":3.2483770947855164},{"$f":"BO273*AY273","v":1.5387914495558508},{"$f":"BO273*AZ273","v":0.61963294991821405},{"$f":"BO273*BA273","v":5.2798392833135269E-2},{"$f":"BO273*BB273","v":0.40463267574095796},{"$f":"BO273*BC273","v":8.0745372021783085E-2},{"$f":"BO273*BD273","v":3.7034947111127838},{"$f":"IF(COUNT(BY243:BY247)<3,\"\",AVERAGE(BY243:BY247))","v":1.6973825725578771},0.88966347805383028,1.6816957645962733,0.91989127122153214,0.28251998757763974,0.12000120082815732,0.41298144099378886,4.4248968944099375E-2,4.5736459627329196E-2,0.80221978881987577,1.4402389233954451E-2,3.795803632599285E-3,1.9162544701675133E-5,3.294023338979861E-4,3.5885911161302464E-3,6.6580844720496898E-2,3.4127623188405801E-2,0,-7.3417225672877855E-3,3.6421101449275364E-2,9.2404666666666663E-2,5.1470082815734987E-2,5.645949896480331E-2,0.22941362732919254,9.6780455486542433E-3,6.9588428383210985E-4,4.2656973461321297E-5,1.1406348578957278E-4,4.0027742330133636E-3,2.1767097684923772E-4,1.801216167890081E-3,1.2537963485789573E-4,3.452546583850932E-5,9.3024107660455491E-2,6.5733002070393369E-3,1.0009425936382459E-4,6.6286647656691134E-3,1.0429945416901937E-5,3.0735121400338793E-5,8.0931263881046499E-3,7.6964073404856004E-3,3.3564219838132886E-5,0.18880611594202895,6.813895926971579E-2,3.4947899491812539E-4,2.6679540749105968E-5,7.9483570487483518E-4,1.2101309994353471E-4,261.06770367287788,6.3294000575945795,4.3260341606060599,6.4334614383711255,4.4720834015151514,1.4562656742424243,1.1763151287878788,1.4584591212121212,0.18404137121212122,0.15682007575757576,2.0030453560606061,4.0182803030303034E-2,1.4232768906455862E-2,1.142667325428195E-4,1.6123350461133071E-3,1.4056353096179183E-2,0.3394020454545455,5.3479545454545453E-2,1.9727272727272728E-5,2.7171689393939397E-2,0.17053515909090905,0.22889164393939393,0.1747965075757576,0.20885994696969695,0.81025494696969713,2.2977742424242425E-2,1.5084897891963107E-3,1.1943056653491437E-4,5.8545382081686434E-4,1.5574335243741766E-2,9.7514433465085634E-4,5.8603802371541515E-3,5.7858155467720672E-4,7.5290184453227939E-5,0.91187206060606063,6.7823106060606059E-3,4.3934848484848482E-4,2.6275048023715421E-2,5.6107707509881434E-5,2.3013866930171275E-4,2.5889122727272729E-2,3.0274784387351771E-2,1.8262061923583661E-4,0.98614731060606053,0.35444533175230564,1.1349754940711463E-3,7.9287022397891987E-5,3.9355248353096194E-3,2.1901363636363637E-4,108.0375915378788]
["LYBR_RHTS","2017-21",null,null,null,null,null,null,null,4.6163242971955585,null,null,16.014813761340111,5.0148137613401094,2.0076279986824774,0.88525395840391496,1.121020810653115,0.45322354225484662,4.6241450969320544E-2,0.40213780632411067,9.9308086203651419E-2,11,null,13.461473736495387,null,null,39.87999869993412,28.879998699934124,11.185444441040843,9.2868742829380775,4.9276061202239791,1.9558039492753625,0.16977549472990777,1.1480366739130434,0.20645798748353097,11,4.6163242971955585,1,0.12536068346476234,5.5277193453284176E-2,6.9998991393784932E-2,2.8300269301222342E-2,2.8874173411212421E-3,2.5110364211345035E-2,6.2010141162791377E-3,0.68686405998389366,13.461473736495387,1,0.28047755280040471,0.23287047607033695,0.12356083954015072,4.9042227006857786E-2,4.2571589835630622E-3,2.8787279622327067E-2,5.1769807977419023E-3,0.27582749143916524,4.6163242971955585,4.6163242971955585,0.57870556899142389,0.25517745121917501,0.32313804475031216,0.13064322079241025,1.3329254827961786E-2,0.11591758442026187,2.8625892132232027E-2,3.1707872489740359,13.461473736495387,13.461473736495387,3.7756412106991464,3.1347797976260185,1.6633109963290598,0.6601806508320609,5.7307633849319556E-2,0.38751920858110467,6.9689791043143559E-2,3.7130445318117293,1.5196941959345005,0.84499597588932807,1.5062650286655375,0.87615580368906465,0.27066587069452286,0.11040281987577641,0.38716983493318274,4.5322354225484654E-2,4.6241450969320544E-2,0.67023001392810089,1.6353016939582153E-2,3.5659118577075098E-3,1.1638735177865614E-5,2.979391304347826E-4,4.0814569169960475E-3,6.5036571993224171E-2,3.4642861283643897E-2,0,-8.2723372859025042E-3,3.3387330886504793E-2,8.6321917748917745E-2,4.920836853002071E-2,5.4428624505928849E-2,0.21507390438546961,1.0809660267268963E-2,9.1254229249011862E-4,4.266996047430831E-5,1.0375612648221344E-4,3.8780296442687745E-3,1.9490474308300393E-4,1.7662075098814228E-3,1.2933201581027666E-4,3.4928063241106716E-5,8.5583449651797469E-2,3.5400967438358735E-3,1.1713754940711465E-4,6.5316517786561251E-3,1.1590118577075099E-5,2.9631225296442694E-5,8.2718320158102765E-3,9.0984592885375495E-3,3.9334782608695663E-5,0.18115303801995103,6.5265227667984191E-2,3.720114624505929E-4,2.2701185770750987E-5,7.5650237154150203E-4,7.2116996047430826E-5,266.07020159495579,6.2287573995859216,4.2662488246376808,6.4442881872888744,4.5311299509222662,1.4297948362977602,1.1405644410408431,1.5605539986824772,0.19558039492753623,0.16977549472990777,1.9133949449934124,3.4861285243741762E-2,1.4354907246376811E-2,8.8535507246376811E-5,1.5778884057971014E-3,1.5169811594202897E-2,0.36410091106719367,5.9584774703557317E-2,1.9727272727272728E-5,2.9754796113306985E-2,0.17642325395256914,0.24515577042160741,0.18751557476943345,0.22812501811594205,0.86697441337285908,2.0071600131752305E-2,1.3879166666666664E-3,1.2592463768115945E-4,5.7039057971014495E-4,1.6323434057971015E-2,1.0311166666666666E-3,5.5451391304347838E-3,5.9741159420289853E-4,7.493840579710144E-5,0.88415830171277998,6.1530062582345196E-3,4.4021014492753619E-4,2.6592463043478259E-2,4.5858695652173921E-5,2.3299637681159423E-4,2.9487806521739129E-2,3.0677563043478257E-2,1.6248623188405798E-4,0.9641052117918314,0.34802814202898552,1.1857304347826086E-3,7.9555797101449292E-5,3.9924181159420296E-3,2.3699782608695657E-4,108.2353670359025]
["LYBR_RHTS","2018-22",null,null,null,null,null,null,null,""]
["LYBR_RHTS","2019-23",null,null,null,null,null,null,null,""]
["LYBR_RHTS","2020-24",null,null,null,null,null,null,null,""]
["LYBR_RHTS","2021-25",null,null,null,null,null,null,null,""]
["LYBR_RHTS","2022-26",null,null,null,null,null,null,null,""]
["LYBR_RHTS","2023-27",null,null,null,null,null,null,null,""]
["LYBR_RHTS","2024-28",null,null,null,null,null,null,null,""]
[" ",null,null,null,null,null,null,null,null,{"$f":"IF(J256=\"\",\"\",J256)","v":""}]
["MOOS1",2000,null,null,null,null,{"$f":"Tracking!CI24","v":5.0179607756999998},{"$f":"Tracking!CJ21","v":9.9760873409999995},{"$f":"Tracking!CE24","v":8.9378485000000012},null,null,null,25.147138999999999,13.147139000000001,6.6093999999999991,1.1516309999999998,3.0241420000000003,1.2397,9.3293500000000001E-2,0.98533799999999994,4.3634999999999993E-2,12,{"$f":"Tracking!CD24","v":19.479352857142857},null,null,null,74.588474761904749,62.588474761904763,40.614768571428577,7.3681061904761904,7.5082347619047622,3.7488095238095243,0.24443476190476188,2.0786904761904763,1.025430476190476,12,{"$f":"I283","v":8.9378485000000012},{"$f":"M283/M283","v":1},{"$f":"O283/M283","v":0.26282910354136108},{"$f":"P283/M283","v":4.5795706620940055E-2},{"$f":"Q283/M283","v":0.12025789494383439},{"$f":"R283/M283","v":4.9297854519355068E-2},{"$f":"S283/M283","v":3.7099051307586126E-3},{"$f":"T283/M283","v":3.918290665192569E-2},{"$f":"U283/M283","v":1.7351874501508897E-3},{"$f":"V283/M283","v":0.47719146102465176},{"$f":"W283","v":19.479352857142857},{"$f":"AA283/AA283","v":1},{"$f":"AC283/AA283","v":0.5445180197218904},{"$f":"AD283/AA283","v":9.8783440926980451E-2},{"$f":"AE283/AA283","v":0.100662130253661},{"$f":"AF283/AA283","v":5.0259903232720185E-2},{"$f":"AG283/AA283","v":3.2771116809269343E-3},{"$f":"AH283/AA283","v":2.786878915041369E-2},{"$f":"AI283/AA283","v":1.3747840795294067E-2},{"$f":"AJ283/AA283","v":0.16088276423811348},{"$f":"I283","v":8.9378485000000012},{"$f":"BE283","v":8.9378485000000012},{"$f":"BE283*AM283","v":2.3491267088434991},{"$f":"BE283*AN283","v":0.40931508772840919},{"$f":"BE283*AO283","v":1.0748468459369078},{"$f":"BE283*AP283","v":0.44061675506903597},{"$f":"BE283*AQ283","v":3.3158570008093177E-2},{"$f":"BE283*AR283","v":0.35021088344455409},{"$f":"BE283*AS283","v":1.5508842548549956E-2},{"$f":"BE283*AT283","v":4.2650649841319925},{"$f":"W283","v":19.479352857142857},{"$f":"BO283","v":19.479352857142857},{"$f":"BO283*AW283","v":10.606858643235377},{"$f":"BO283*AX283","v":1.9242375022593792},{"$f":"BO283*AY283","v":1.9608331545627378},{"$f":"BO283*AZ283","v":0.97903038963601141},{"$f":"BO283*BA283","v":6.3836014785040307E-2},{"$f":"BO283*BB283","v":0.54286597756222277},{"$f":"BO283*BC283","v":0.26779904187535664},{"$f":"BO283*BD283","v":3.1338921332267367},3.6265500000000004,1.9831999999999996,null,2.1378165,0.78620449999999997,0.12668450000000001,1.0012050000000001,0.12396999999999998,9.3293500000000001E-2,1.6422300000000001,6.458499999999999E-3,2.5474999999999999E-3,2.7250000000000001E-4,5.4749999999999992E-4,8.737E-3,0.15384499999999998,5.4330000000000003E-2,6.2700000000000004E-3,6.3035000000000008E-2,0.10002,0.16906000000000002,0.12410999999999998,9.1395000000000004E-2,0.54761999999999988,-5.015000000000003E-3,2.3644999999999998E-3,6.1050000000000004E-4,2.92E-4,5.574E-3,2.4745000000000001E-3,2.6084999999999997E-3,1.1734999999999998E-3,2.8949999999999999E-4,9.7884999999999986E-2,3.0864999999999997E-2,3.1700000000000001E-4,3.2738000000000003E-2,1.0449999999999999E-4,3.0000000000000004E-5,2.0962999999999996E-2,5.2301500000000001E-2,1.01E-4,0.56542499999999996,0.19053250000000002,1.9289999999999997E-3,1.6064999999999999E-3,3.4850000000000007E-3,0,182.47004650000002,11.709345000000001,8.2707333333333324,null,8.2155395238095235,4.2648899999999994,0.83682380952380953,2.3150057142857143,0.37488095238095243,0.24443476190476188,3.4644838095238093,0.17950476190476189,9.7600000000000013E-3,3.6761904761904761E-4,2.2580952380952383E-3,2.6609047619047619E-2,0.43869047619047613,6.1461904761904752E-2,5.652380952380953E-3,0.10717619047619048,0.27382380952380952,0.37073333333333336,0.40345714285714285,0.1309238095238095,1.286114285714286,-2.4971428571428592E-2,8.7338095238095239E-3,5.6952380952380948E-4,2.9000000000000006E-4,1.832380952380952E-2,1.7433333333333333E-3,1.8757142857142857E-3,1.4528571428571431E-3,5.8000000000000011E-4,0.64869999999999994,2.1485714285714289E-2,0,7.4146666666666666E-2,1.7238095238095237E-4,5.1619047619047619E-4,4.926285714285715E-2,0.29540952380952373,2.4142857142857147E-4,3.1256761904761907,1.0339128571428571,4.2357142857142854E-3,2.4119047619047618E-3,1.010952380952381E-2,2.0952380952380957E-5,60.893349047619054]
["MOOS1",2001,null,null,null,null,{"$f":"G283","v":5.0179607756999998},{"$f":"H283","v":9.9760873409999995},{"$f":"Tracking!CE25","v":9.3074014285714277},null,null,null,25.53413047619048,13.534130476190477,7.0210080952380967,1.2883261904761905,3.0123980952380953,1.0359047619047619,0.1359609523809524,0.90010285714285687,0.14043285714285714,12,{"$f":"Tracking!CD25","v":21.301045454545456},null,null,null,97.708295000000007,85.708295000000007,64.738312727272742,5.6565836363636359,9.6351722727272762,3.5389090909090921,0.42392999999999997,1.6920218181818185,2.3364090909090907E-2,12,{"$f":"I284","v":9.3074014285714277},1,0.27496562304265248,5.0455064122019007E-2,0.11797535451802567,4.0569416016366808E-2,5.3246752423283172E-3,3.525096959859924E-2,5.4998096478673895E-3,0.46995921835636828,{"$f":"W284","v":21.301045454545456},{"$f":"AA284/AA284","v":1},{"$f":"AC284/AA284","v":0.66256721322660206},{"$f":"AD284/AA284","v":5.7892563127456428E-2},{"$f":"AE284/AA284","v":9.8611609922445942E-2},{"$f":"AF284/AA284","v":3.6219126440688497E-2},{"$f":"AG284/AA284","v":4.3387309132760935E-3},{"$f":"AH284/AA284","v":1.7317074442674683E-2},{"$f":"AI284/AA284","v":2.3912085365004993E-4},{"$f":"AJ284/AA284","v":0.12281454711700782},{"$f":"I284","v":9.3074014285714277},{"$f":"BE284","v":9.3074014285714277},{"$f":"BE284*AM284","v":2.5592154327152166},{"$f":"BE284*AN284","v":0.46960553588794268},{"$f":"BE284*AO284","v":1.0980439831772928},{"$f":"BE284*AP284","v":0.37759584058704099},{"$f":"BE284*AQ284","v":4.9558889957125492E-2},{"$f":"BE284*AR284","v":0.32809492480053054},{"$f":"BE284*AS284","v":5.1188936173431863E-2},{"$f":"BE284*AT284","v":4.3740991003003735},{"$f":"W284","v":21.301045454545456},{"$f":"BO284","v":21.301045454545456},{"$f":"BO284*AW284","v":14.113374325631362},{"$f":"BO284*AX284","v":1.2331721186580915},{"$f":"BO284*AY284","v":2.1005303853039266},{"$f":"BO284*AZ284","v":0.77150525863703479},{"$f":"BO284*BA284","v":9.2419504398735586E-2},{"$f":"BO284*BB284","v":0.36887178984316082},{"$f":"BO284*BC284","v":5.0935241727294248E-3},{"$f":"BO284*BD284","v":2.6160782506187981},3.5020952380952379,2.0019238095238094,3.6361809523809514,2.2584861904761904,0.84501619047619037,0.14822095238095243,1.0049228571428575,0.10359047619047621,0.1359609523809524,1.5001714285714287,2.0774761904761907E-2,3.9642857142857145E-3,1.2380952380952381E-4,1.1542857142857142E-3,1.0434761904761905E-2,0.14263809523809529,3.850476190476191E-2,5.6190476190476194E-4,2.2114285714285715E-2,9.2899999999999996E-2,0.21883809523809525,0.14632380952380952,7.8114285714285692E-2,0.55829047619047623,-3.3666666666666671E-3,6.4638095238095236E-3,1.0742857142857143E-3,2.038095238095238E-4,8.8828571428571455E-3,8.9476190476190493E-4,2.2647619047619048E-3,1.3009523809523812E-3,4.5904761904761902E-4,0.11489999999999997,8.9285714285714298E-3,0,5.1590952380952383E-2,3.2904761904761906E-4,1.5714285714285713E-4,3.2222857142857143E-2,5.9077142857142863E-2,8.4761904761904771E-5,0.54500000000000004,0.20485238095238095,1.7647619047619046E-3,1.311904761904762E-3,3.5076190476190485E-3,1.0000000000000001E-5,168.93037095238091,13.392636363636365,10.572600000000001,11.935028095238094,10.387517272727273,6.1696709090909083,0.62232454545454541,2.8141445454545457,0.35389090909090903,0.42392999999999997,2.8200363636363637,3.5568181818181823E-3,5.732727272727273E-3,3.6045454545454542E-4,2.1604545454545448E-3,2.6492727272727275E-2,0.49194999999999994,4.9536363636363642E-2,2.1772727272727273E-3,9.5918181818181833E-2,0.32717727272727271,0.48389545454545452,0.46664999999999995,0.18977272727272732,1.563413636363636,-0.25854545454545458,0,1.0586363636363636E-3,6.3318181818181822E-4,3.0118636363636361E-2,1.9731818181818179E-3,3.8440909090909085E-3,1.9609090909090913E-3,9.5136363636363669E-4,0.48242272727272728,1.5590909090909093E-2,0,5.5563636363636371E-2,2.4090909090909094E-4,9.1909090909090922E-4,0.11066909090909091,0.22783863636363633,2.7636363636363633E-4,4.5484409090909104,1.4956777272727273,6.8890909090909081E-3,2.7386363636363637E-3,5.7350000000000005E-3,3.1818181818181817E-6,52.858170909090902]
["MOOS1",2002,null,null,null,null,{"$f":"G283","v":5.0179607756999998},{"$f":"H283","v":9.9760873409999995},{"$f":"Tracking!CE26","v":9.116468750000001},null,null,null,25.154317500000001,13.154317500000003,6.5542637499999996,1.03833,3.0819750000000004,1.0036250000000002,0.12454458333333331,1.0918600000000001,0.25971833333333333,12,{"$f":"Tracking!CD26","v":22.123386249999999},null,null,null,106.39246333333331,94.392463333333339,72.697973333333337,5.3515462499999993,10.875887083333332,3.449666666666666,0.45675458333333335,1.4911799999999999,6.9456250000000011E-2,12,9.116468750000001,1,0.26056217784481728,4.1278400815287469E-2,0.12252270410437494,3.9898717188411099E-2,4.9512209318870728E-3,4.3406464914025195E-2,1.032500020457058E-2,0.47705528086778737,22.123386249999999,{"$f":"AA285/AA285","v":1},{"$f":"AC285/AA285","v":0.68330002949143753},{"$f":"AD285/AA285","v":5.0300050232254867E-2},{"$f":"AE285/AA285","v":0.10222422474850115},{"$f":"AF285/AA285","v":3.2423975896287642E-2},{"$f":"AG285/AA285","v":4.293110329650858E-3},{"$f":"AH285/AA285","v":1.4015842412897734E-2},{"$f":"AI285/AA285","v":6.5283054667500124E-4},{"$f":"AJ285/AA285","v":0.11278994417493046},9.116468750000001,{"$f":"BE285","v":9.116468750000001},2.3754069517542193,0.37631325108254277,1.1169744031330309,0.3637354084132377,4.5137650899894383E-2,0.39571368093668219,9.4127541708711307E-2,4.3490595600536572,22.123386249999999,{"$f":"BO285","v":22.123386249999999},15.116910477075463,1.1128074396825767,2.2615460082179002,0.71732814251426147,9.4978138036730761E-2,0.31007789531966856,1.4442822339889706E-2,2.495295500097924,3.8122791666666664,1.9939124999999998,3.9156575000000005,2.2150566666666669,0.80159291666666654,0.12102333333333333,1.0264875,0.10036250000000001,0.12454458333333331,1.819766666666667,4.1047083333333331E-2,1.3372083333333333E-2,1.2916666666666667E-4,8.8958333333333326E-4,9.8304166666666661E-3,0.13194583333333335,4.4250000000000005E-2,1.0041666666666667E-3,2.2554166666666667E-2,9.6054166666666663E-2,0.22459166666666666,0.15023333333333336,7.6837500000000003E-2,0.57027083333333339,7.4458333333333329E-3,9.4983333333333326E-3,1.0416666666666666E-5,2.0625000000000003E-4,6.6629166666666668E-3,7.45E-4,7.0024999999999992E-3,6.3416666666666667E-4,1.3458333333333334E-4,9.3816666666666645E-2,4.5750000000000001E-3,4.8333333333333328E-4,4.1434166666666661E-2,1.9125000000000001E-4,2.8333333333333335E-5,2.2737500000000004E-2,4.6378333333333334E-2,1.3333333333333334E-4,0.51743333333333341,0.19432541666666669,5.4333333333333328E-4,4.2916666666666667E-4,2.4008333333333338E-3,4.3750000000000006E-5,173.38467,13.412916666666666,10.927616666666667,13.074846666666666,11.153174166666664,6.6900437500000001,0.56135458333333332,3.0897450000000002,0.3449666666666667,0.45675458333333335,2.4852999999999996,1.030875E-2,1.6539583333333333E-2,2.6041666666666666E-4,2.4399999999999999E-3,2.4372500000000002E-2,0.37878750000000005,5.4279166666666656E-2,3.3958333333333327E-3,0.13465416666666669,0.37939999999999996,0.55213333333333325,0.55884166666666657,9.1495833333333318E-2,1.7165249999999999,-0.2138041666666666,2.2500000000000001E-5,8.7499999999999999E-5,6.7958333333333336E-4,2.2129583333333327E-2,1.5595833333333336E-3,7.6283333333333333E-3,9.3708333333333328E-4,8.8000000000000003E-4,0.43515833333333326,1.9795833333333335E-2,0,6.7304583333333362E-2,2.5916666666666666E-4,8.0458333333333337E-4,0.12511749999999999,0.1559533333333333,3.6333333333333335E-4,4.7429625000000009,1.6218287499999997,1.9800000000000004E-3,2.3924999999999997E-3,6.0170833333333335E-3,1.7250000000000002E-4,49.512554583333333]
["MOOS1",2003,null,null,null,null,{"$f":"G283","v":5.0179607756999998},{"$f":"H283","v":9.9760873409999995},{"$f":"Tracking!CE27","v":9.4847733333333313},null,null,null,25.98476166666666,13.984761666666666,7.3850308333333343,0.91305708333333346,3.0919508333333332,0.90666666666666662,0.10409791666666664,1.2369375,0.34701999999999988,12,{"$f":"Tracking!CD27","v":20.956431249999998},null,null,null,95.54923041666666,83.54923041666666,62.891401250000001,4.4502862500000004,10.054695416666668,3.7341250000000001,0.28760791666666669,2.0092999999999996,0.12181666666666667,12,9.4847733333333313,1,0.28420621778520588,3.5138174251742559E-2,0.11899092525831007,3.4892244858637345E-2,4.0061139679492923E-3,4.7602418520033898E-2,1.335475015901948E-2,0.46180912312902372,20.956431249999998,1,0.65820939609608675,4.657584609099831E-2,0.10523052224304286,3.9080639202601637E-2,3.0100495358516169E-3,2.1028950115431985E-2,1.2749099719113822E-3,0.12558970854784446,9.4847733333333313,9.4847733333333313,2.6956315556166457,0.33327761812494772,1.1286019547986788,0.3309450335753405,3.7997082933499626E-2,0.45149814978099023,0.12666677818159702,4.3801548561442134,20.956431249999998,20.956431249999998,13.793719957391659,0.97606351651658718,2.2052562047879234,0.81899072865537592,6.3079896157168816E-2,0.4406917473537299,2.6717563176300307E-2,2.6319120928904396,4.1695916666666664,2.1080291666666668,4.2623116666666663,2.2829979166666665,0.89705208333333342,0.10410333333333334,1.033455,9.0666666666666673E-2,0.10409791666666664,2.0615625000000004,5.3622916666666659E-2,5.5258333333333331E-3,8.3333333333333331E-5,8.1374999999999991E-4,9.7025000000000011E-3,0.12716666666666665,4.363333333333333E-2,3.1791666666666665E-3,3.6958333333333336E-2,8.9133333333333342E-2,0.23259583333333336,0.13214166666666663,8.3312500000000012E-2,0.57414166666666666,3.2283333333333337E-2,1.7094999999999999E-2,2.7083333333333332E-5,1.4375E-4,6.7720833333333339E-3,5.0541666666666671E-4,5.9925000000000004E-3,5.6875000000000003E-4,2.05E-4,8.0700000000000008E-2,9.3166666666666658E-3,0,3.5795833333333332E-2,1.2708333333333332E-4,6.2500000000000015E-5,2.1639583333333327E-2,5.3568333333333329E-2,7.5000000000000021E-5,0.58932083333333329,0.21746708333333328,5.5541666666666662E-4,4.8124999999999996E-4,2.6691666666666665E-3,0,165.59794208333332,13.190670833333334,9.8418375000000005,12.924520416666669,10.1417625,6.0299854166666664,0.50148166666666671,2.9313674999999999,0.37341249999999998,0.28760791666666669,3.3488333333333333,1.7909166666666674E-2,4.9608333333333336E-3,2.9708333333333339E-4,2.1683333333333337E-3,1.8118333333333334E-2,0.41002916666666661,9.0395833333333342E-2,1.0733333333333333E-2,0.11977916666666666,0.32254583333333325,0.52994166666666687,0.5185249999999999,0.13774583333333335,1.6285375,-0.18410833333333335,5.7708333333333331E-4,5.2500000000000002E-5,5.4583333333333317E-4,1.823583333333333E-2,1.7191666666666664E-3,9.7470833333333333E-3,9.075E-4,7.587500000000002E-4,0.38874583333333335,2.0900000000000002E-2,0,4.8226666666666675E-2,1.5124999999999999E-4,7.079166666666667E-4,7.6366666666666652E-2,0.20552708333333333,1.8458333333333334E-4,4.2277916666666657,1.4618145833333338,1.4866666666666663E-3,2.2129166666666673E-3,5.2541666666666665E-3,0,55.306624583333331]
["MOOS1",2004,{"$f":"J287","v":9.1560898190476188},{"$f":"Tracking!CK28","v":20.652401402337663},{"$f":"Tracking!CP28","v":9.1560898190476188},{"$f":"Tracking!CQ28","v":20.652401402337663},{"$f":"G283","v":5.0179607756999998},{"$f":"H283","v":9.9760873409999995},{"$f":"Tracking!CE28","v":8.9339570833333308},{"$f":"Tracking!CS28","v":9.1560898190476188},null,null,24.648514583333327,12.648514583333332,5.7624525000000011,0.90647416666666658,3.1237145833333329,0.92995833333333333,0.11438374999999999,1.1010225,0.71050708333333323,12,{"$f":"Tracking!CD28","v":19.401791200000005},{"$f":"Tracking!CR28","v":20.652401402337663},null,null,75.247143999999992,63.247143999999999,45.741127999999996,4.5381452000000007,7.2289411999999977,2.2582799999999996,0.38048920000000008,1.5300768,1.5700827999999998,12,8.9339570833333308,1,0.23378498045056309,3.6776015998935707E-2,0.12673033795900651,3.7728777942754671E-2,4.6405940452632086E-3,4.4668918943475897E-2,2.8825553804924183E-2,0.48684475323775017,19.401791200000005,1,0.60787859270778444,6.0309866378450205E-2,9.6069309952813611E-2,3.0011504489791663E-2,5.0565267965519082E-3,2.0334018258553445E-2,2.0865679632970521E-2,0.15947449115145157,8.9339570833333308,8.9339570833333308,2.0886249820732523,0.32855534863047159,1.1322034004820931,0.33706728294718341,4.1458868041553715E-2,0.3990702047999089,0.25752626059650846,4.3494501316720653,19.401791200000005,19.401791200000005,11.79393353066628,1.1701194347745913,1.8639166924325721,0.58227694370880057,9.8105677103905026E-2,0.39451637650944166,0.40483155948498678,3.0940907790467116,3.6420916666666661,1.8070541666666669,3.9421475000000004,2.1401716666666668,0.68930041666666664,9.9694583333333323E-2,1.037385,9.2995833333333333E-2,0.11438374999999999,1.8350375000000003,0.10641166666666667,1.0070000000000001E-2,7.75E-5,9.4666666666666673E-4,8.5183333333333326E-3,0.12262500000000003,3.8691666666666659E-2,1.5291666666666665E-3,2.3804166666666668E-2,0.10685,0.23613749999999997,0.13968333333333335,6.9850000000000009E-2,0.57632500000000009,6.0199999999999976E-2,1.2116249999999997E-2,3.0833333333333335E-5,3.1291666666666669E-4,6.5333333333333328E-3,6.4208333333333348E-4,1.4066666666666667E-2,6.787500000000001E-4,2.7333333333333333E-4,7.7283333333333343E-2,1.2491666666666667E-2,0,3.5541666666666659E-2,1.6041666666666664E-4,7.8750000000000003E-5,2.2310833333333335E-2,4.8325833333333339E-2,1.5458333333333331E-4,0.47584583333333336,0.16710291666666666,5.7541666666666657E-4,5.7166666666666672E-4,3.1099999999999999E-3,3.3333333333333337E-6,176.48961916666667,10.377708,7.8448639999999985,10.667643600000002,8.3215792000000004,4.7345455999999997,0.51080919999999996,2.2288967999999998,0.22582800000000003,0.38048920000000008,2.5501280000000004,0.2410111999999999,1.5314800000000002E-2,2.6799999999999995E-4,2.4984000000000004E-3,2.1888400000000002E-2,0.32496000000000003,4.3456000000000002E-2,1.7080000000000001E-3,6.3516000000000003E-2,0.23723599999999995,0.41397599999999984,0.37925199999999992,0.14429600000000001,1.2382759999999999,0.13419600000000004,1.79968E-2,7.1600000000000019E-5,6.3640000000000007E-4,1.86488E-2,1.874E-3,3.7013999999999998E-2,8.1599999999999989E-4,7.6599999999999986E-4,0.39597599999999999,1.546E-2,0,5.65844E-2,2.084E-4,6.8999999999999997E-4,0.10284399999999999,6.3746399999999995E-2,2.8680000000000003E-4,3.3070719999999998,1.1477684000000001,1.4176E-3,1.9159999999999993E-3,5.7980000000000002E-3,2.3600000000000001E-5,62.701021999999995]
["MOOS1",2005,{"$f":"C287","v":9.1560898190476188},{"$f":"Tracking!CK29","v":20.474462834648701},{"$f":"Tracking!CP29","v":9.0433360765873019},{"$f":"Tracking!CQ29","v":20.338551343906929},{"$f":"G287","v":5.0179607756999998},{"$f":"H287","v":9.9760873409999995},{"$f":"Tracking!CE29","v":7.9851104166666671},{"$f":"Tracking!CS29","v":8.9655422023809503},null,null,22.536896249999998,10.53689625,5.1411070833333339,0.72286458333333348,2.2331050000000006,0.85187500000000016,7.8397500000000009E-2,0.70495166666666675,0.80459416666666683,12,{"$f":"Tracking!CD29","v":20.920530833333338},{"$f":"Tracking!CR29","v":20.940636997575758},null,null,89.312545416666651,77.31254541666668,60.015955833333329,3.5937458333333336,8.3036475000000003,3.4496666666666669,0.21675708333333335,1.1092850000000001,0.62348749999999997,12,7.9851104166666671,1,0.22811957007315656,3.2074717623698228E-2,9.9086625559630936E-2,3.7799126842943169E-2,3.4786289616077909E-3,3.1279891376642728E-2,3.5701196728305781E-2,0.53246018736941214,20.920530833333338,1,0.67197677049000248,4.0237861507222292E-2,9.2972912833928181E-2,3.8624659621703306E-2,2.4269500138206141E-3,1.2420259604346647E-2,6.9809621603691375E-3,0.13435962376860749,7.9851104166666671,7.9851104166666671,1.8215599552366841,0.25612016180863467,0.79121764590855859,0.30183020149449014,2.7777236357052721E-2,0.24977338646383171,0.28507799788266042,4.2517533886237784,20.920530833333338,20.920530833333338,14.058110746319857,0.8417974223292406,1.9450426896070072,0.80804838254284916,5.077308259509293E-2,0.25983842401073853,0.14604543412233584,2.8108746518062198,2.6538999999999997,1.4901583333333333,2.907501739130435,1.7540779166666669,0.63051166666666669,8.1575416666666692E-2,0.75629999999999997,8.5187500000000013E-2,7.8397500000000009E-2,1.1749195833333332,0.12210458333333334,6.1420833333333327E-3,3.5000000000000004E-5,6.9291666666666666E-4,8.1562499999999986E-3,0.16062500000000002,4.2637499999999995E-2,1.0708333333333334E-3,-1.9374999999999998E-3,9.9362500000000006E-2,0.16310416666666669,9.5779166666666679E-2,0.11079583333333336,0.46710416666666671,6.7912499999999987E-2,2.3643750000000002E-2,2.2916666666666667E-5,1.804166666666667E-4,5.6337500000000007E-3,6.7000000000000002E-4,9.2999999999999995E-4,6.037499999999999E-4,2.0624999999999997E-4,6.3237500000000016E-2,8.0499999999999999E-3,5.0708333333333334E-4,2.6509999999999995E-2,9.9999999999999991E-5,5.1249999999999999E-5,1.4393333333333334E-2,4.2276249999999994E-2,1.1875000000000003E-4,0.38617916666666657,0.15285124999999999,4.4458333333333329E-4,3.9625000000000006E-4,1.9912500000000004E-3,2.7500000000000004E-5,197.56119333333334,10.484624999999999,8.6358166666666687,10.721431250000002,9.4291783333333328,5.8904474999999996,0.39090708333333329,2.4886350000000004,0.34496666666666664,0.21675708333333335,1.8488083333333332,9.7463333333333332E-2,1.166125E-2,2.0708333333333334E-4,1.6595833333333339E-3,1.6987083333333333E-2,0.72041249999999979,7.2304166666666669E-2,3.191666666666666E-3,0.11367500000000001,0.32862499999999989,0.27204166666666668,0.27906249999999999,0.43989999999999996,1.4333041666666666,5.4541666666666655E-2,0,4.8333333333333334E-5,5.5041666666666672E-4,1.5098750000000001E-2,1.5424999999999998E-3,5.5366666666666663E-3,8.0166666666666678E-4,9.3916666666666671E-4,0.30302916666666663,1.635E-2,0,4.546E-2,1.708333333333333E-4,6.070833333333335E-4,4.9130833333333346E-2,0.10231541666666666,2.2916666666666666E-4,3.8042416666666665,1.4279875000000004,1.1870833333333332E-3,1.9008333333333332E-3,5.1287500000000005E-3,5.0416666666666675E-5,53.7751375]
["MOOS1",2006,{"$f":"C287","v":9.1560898190476188},{"$f":"Tracking!CK30","v":20.296524266959739},{"$f":"Tracking!CP30","v":8.930582334126985},{"$f":"Tracking!CQ30","v":20.024701285476194},{"$f":"G287","v":5.0179607756999998},{"$f":"H287","v":9.9760873409999995},{"$f":"Tracking!CE30","v":8.604346249999999},{"$f":"Tracking!CS30","v":8.8249311666666657},null,null,23.925608749999995,11.92560875,5.4997625000000001,0.9418270833333332,2.8619266666666658,1.1317916666666665,0.10599041666666668,0.67467500000000002,0.70963291666666672,12,{"$f":"Tracking!CD30","v":20.719332083333331},{"$f":"Tracking!CR30","v":20.824294323333334},null,null,84.301430833333328,72.301430833333328,55.344988333333326,4.8090724999999992,6.9353370833333328,2.7994166666666671,0.25299250000000001,1.3327275000000001,0.82689791666666668,12,8.604346249999999,1,0.22986928180040567,3.9364811703415215E-2,0.11961771575265212,4.7304613165450461E-2,4.4299987421079394E-3,2.8198864532548211E-2,2.9659973298136744E-2,0.50155463651473453,20.719332083333331,1,0.65651303644836312,5.7046155118146119E-2,8.2268319941623771E-2,3.3207226010210963E-2,3.0010463345536142E-3,1.5809073307840357E-2,9.8088242215185022E-3,0.14234633838806829,8.604346249999999,8.604346249999999,1.9778748928495136,0.33870846996223675,1.029232243969898,0.40702527089784424,3.8117243064161165E-2,0.24263279429488918,0.25520468002292301,4.3155497558656686,20.719332083333331,20.719332083333331,13.602511619211155,1.1819582319702149,1.7045446408084166,0.68803154327186511,6.2179675603086591E-2,0.32755343979490531,0.2032322863926854,2.9493210559089262,2.9690291666666671,1.864295833333333,3.0995370833333329,2.0653712500000001,0.66689083333333332,0.10772583333333335,0.95910749999999989,0.11317916666666666,0.10599041666666668,1.1244583333333336,0.11247750000000001,9.9337499999999999E-3,4.3750000000000006E-5,8.8750000000000016E-4,9.9783333333333338E-3,0.20224166666666668,3.8266666666666664E-2,2.2916666666666666E-4,4.7291666666666671E-3,9.9504166666666671E-2,0.21980416666666669,0.11636666666666672,0.12454166666666668,0.56494583333333326,6.2487499999999981E-2,1.3446666666666668E-2,3.875E-5,2.4250000000000007E-4,6.7841666666666649E-3,7.3374999999999992E-4,2.2687500000000004E-3,6.4708333333333339E-4,2.1541666666666663E-4,8.3508333333333337E-2,-3.4083333333333327E-3,7.0333333333333326E-4,3.3973333333333328E-2,1.2708333333333335E-4,6.2916666666666674E-5,1.9804166666666668E-2,4.01725E-2,1.7541666666666668E-4,0.38946249999999999,0.16167041666666668,5.9750000000000005E-4,3.3333333333333327E-4,2.7437500000000001E-3,1.4999999999999999E-5,184.09918791666669,10.663629166666665,8.4424166666666665,10.572703750000001,9.0824566666666691,5.7190291666666662,0.5462887500000001,2.1514349999999998,0.2799416666666667,0.25299250000000001,2.2212124999999996,0.13277249999999999,1.18925E-2,2.108333333333333E-4,1.9616666666666667E-3,1.9279166666666667E-2,0.64629999999999976,5.4925000000000022E-2,4.1666666666666669E-4,3.3616666666666663E-2,0.32791666666666669,0.22163333333333332,0.2253583333333333,0.41392916666666674,1.2224541666666671,7.3762499999999995E-2,0,1.0166666666666667E-4,7.4624999999999995E-4,1.4954166666666664E-2,1.6004166666666667E-3,1.5756250000000003E-2,6.6333333333333337E-4,8.6416666666666673E-4,0.42347916666666668,8.0249999999999991E-3,0,4.6751666666666664E-2,1.2083333333333331E-4,6.333333333333333E-4,6.1956249999999997E-2,0.20128500000000002,3.0083333333333335E-4,3.5864041666666666,1.38643125,1.1329166666666664E-3,1.4537500000000004E-3,4.8850000000000005E-3,2.7500000000000001E-5,53.449059166666672]
["MOOS1",2007,{"$f":"C287","v":9.1560898190476188},{"$f":"Tracking!CK31","v":20.118585699270778},{"$f":"Tracking!CP31","v":8.8178285916666681},{"$f":"Tracking!CQ31","v":19.71085122704546},{"$f":"G287","v":5.0179607756999998},{"$f":"H287","v":9.9760873409999995},{"$f":"Tracking!CE31","v":7.7938495454545462},{"$f":"Tracking!CS31","v":8.5604073257575752},null,null,21.916230000000002,9.9162299999999988,5.5014999999999992,0.64254954545454557,1.9017927272727277,0.63900000000000012,0.10511090909090905,0.77888181818181823,0.3473927272727273,12,{"$f":"Tracking!CD31","v":18.50287347826087},{"$f":"Tracking!CR31","v":20.100191768985507},null,null,67.189696956521743,55.189696956521736,39.488321739130427,3.5533808695652174,7.2202517391304344,2.4657826086956525,0.25940086956521735,1.3274947826086958,0.87506173913043461,12,7.7938495454545462,1,0.25102401279782144,2.9318434121860627E-2,8.6775541563157879E-2,2.9156474448388252E-2,4.7960305714490606E-3,3.5539041987687578E-2,1.5850934548173989E-2,0.54753942626081209,18.50287347826087,1,0.58771394317618675,5.2885799914599997E-2,0.10746069808593776,3.6698820211843688E-2,3.8607239102905152E-3,1.9757415835164636E-2,1.3023748859839099E-2,0.17859881118030888,7.7938495454545462,7.7938495454545462,1.9564433880424767,0.2285034644541025,0.67631551516859012,0.22724117512662786,3.737954068927437E-2,0.27698594624162887,0.12353979902331561,4.2674399084812737,18.50287347826087,18.50287347826087,10.874396731998782,0.97853926461646323,1.9883317005696965,0.67903362718118654,7.1434486046601978E-2,0.3655689654554391,0.24097677736624712,3.304591206637058,2.9412590909090905,1.6432727272727272,2.9719695454545456,1.6083659090909088,0.66327954545454548,7.3600000000000013E-2,0.64824545454545435,6.3900000000000012E-2,0.10511090909090905,1.2981363636363634,5.423E-2,9.2740909090909089E-3,3.9090909090909092E-5,7.0318181818181818E-4,9.8063636363636374E-3,0.14219090909090909,3.2236363636363626E-2,7.0909090909090911E-4,2.9590909090909082E-3,8.4140909090909113E-2,0.14925909090909087,8.5404545454545469E-2,0.10146818181818182,0.4232318181818181,3.0445454545454543E-2,2.1959090909090904E-3,2.7272727272727276E-5,1.9954545454545453E-4,6.8722727272727295E-3,7.1681818181818175E-4,2.7068181818181818E-3,6.9000000000000008E-4,1.3181818181818184E-4,5.7127272727272714E-2,2.3863636363636366E-3,8.6363636363636362E-4,4.5419090909090909E-2,2.0000000000000001E-4,3.9090909090909099E-5,2.0075000000000003E-2,3.2290909090909092E-2,1.3954545454545456E-4,0.43980909090909087,0.16098818181818181,5.4409090909090911E-4,2.6863636363636364E-4,2.4909090909090905E-3,8.3181818181818183E-5,198.90596772727278,9.7032434782608679,7.4876869565217383,9.5682391304347849,7.388312173913044,4.1211143478260865,0.39802130434782607,2.221317391304348,0.24657826086956516,0.25940086956521735,2.212491304347826,0.14187999999999998,9.9086956521739142E-3,2.4869565217391302E-4,2.1769565217391305E-3,1.9345652173913045E-2,0.60119999999999985,5.9143478260869575E-2,1.2826086956521739E-3,5.9147826086956512E-2,0.33327391304347831,0.26290869565217395,0.24263913043478266,0.4054739130434783,1.3034434782608695,7.9791304347826109E-2,0,5.0000000000000009E-5,5.1782608695652194E-4,1.6832608695652174E-2,1.4078260869565217E-3,1.1268695652173914E-2,7.9739130434782618E-4,4.7260869565217395E-4,0.30904782608695652,6.7434782608695645E-3,0,4.7379999999999999E-2,1.7478260869565219E-4,5.0826086956521732E-4,6.4803913043478267E-2,0.1343373913043478,2.8695652173913046E-4,2.8715173913043479,1.0002630434782607,1.281304347826087E-3,1.028695652173913E-3,4.2273913043478252E-3,5.1739130434782611E-5,66.574434782608719]
["MOOS1",2008,{"$f":"C287","v":9.1560898190476188},{"$f":"Tracking!CK32","v":19.940647131581816},{"$f":"Tracking!CP32","v":8.7050748492063512},{"$f":"Tracking!CQ32","v":19.397001168614725},{"$f":"G287","v":5.0179607756999998},{"$f":"H287","v":9.9760873409999995},{"$f":"Tracking!CE32","v":7.8237345833333336},{"$f":"Tracking!CS32","v":8.228199575757575},null,null,22.054566249999997,10.054566250000002,4.9058137499999992,0.58313749999999998,2.0750466666666667,0.67812499999999998,0.1256225,0.999085,0.6877375,12,{"$f":"Tracking!CD32","v":17.506890799999997},{"$f":"Tracking!CR32","v":19.410283678985508},null,null,61.325336400000005,49.325336400000005,36.727930400000005,2.2044888,6.4083956000000013,1.9022000000000003,0.25974439999999999,1.3762103999999999,0.44636519999999996,12,7.8237345833333336,1,0.22243982014382169,2.6440669627769264E-2,9.4086940688151918E-2,3.0747600851138937E-2,5.6959859729728314E-3,4.5300596197397451E-2,3.1183451635554162E-2,0.54410501045333415,17.506890799999997,1,0.59890304001658934,3.5947439172954947E-2,0.10449833586236962,3.1018174732752059E-2,4.2355152902186109E-3,2.2441139026511722E-2,7.2786425024812407E-3,0.19567768730576421,7.8237345833333336,7.8237345833333336,1.7403101135696644,0.20686478137326969,0.73611125170192637,0.24056106813358513,4.4563882442929109E-2,0.35441984111519692,0.24397104898878749,4.2569331872486957,17.506890799999997,17.506890799999997,10.484930121358458,0.6293278921405645,1.8294409547242285,0.54303179786160938,7.4150703667587511E-2,0.39287457036475898,0.1274263994631778,3.4257079036585596,3.3308958333333334,1.6595541666666669,3.360691249999999,1.6757225,0.59844458333333328,6.8412500000000001E-2,0.70439249999999987,6.7812499999999998E-2,0.1256225,1.6651416666666667,0.11103750000000001,9.7941666666666663E-3,5.5000000000000002E-5,8.6541666666666679E-4,1.089125E-2,0.15177499999999997,2.4604166666666673E-2,1.6249999999999999E-4,2.6208333333333331E-3,8.7158333333333338E-2,0.13234583333333336,9.0750000000000011E-2,0.10642916666666664,0.41930416666666664,6.6166666666666665E-2,2.2247083333333334E-2,2.666666666666667E-5,1.9708333333333332E-4,8.515E-3,7.4166666666666652E-4,5.8891666666666667E-3,6.4583333333333333E-4,1.2E-4,5.3245833333333346E-2,-7.2083333333333277E-4,0,2.9853333333333339E-2,1.2958333333333336E-4,4.4166666666666665E-5,2.5692083333333338E-2,5.9850833333333325E-2,1.6541666666666668E-4,0.40043749999999995,0.14564333333333335,7.1291666666666649E-4,3.2166666666666666E-4,2.0950000000000001E-3,1.2499999999999999E-5,199.18790708333336,8.9454800000000017,6.6447960000000004,8.6371500000000001,6.6086396000000001,3.8383163999999992,0.25336720000000001,1.9940040000000001,0.19021999999999997,0.25974439999999999,2.2936839999999994,7.2987200000000016E-2,8.0419999999999988E-3,1.6760000000000001E-4,1.8143999999999999E-3,1.6314000000000002E-2,0.55401199999999995,4.3768000000000001E-2,1.124E-3,2.1135999999999999E-2,0.31601600000000007,0.20547999999999994,0.19754400000000005,0.4038159999999999,1.1439919999999999,4.088E-2,0,5.0399999999999992E-5,5.0359999999999999E-4,1.3247199999999999E-2,1.1076E-3,1.02424E-2,5.6800000000000004E-4,4.8200000000000001E-4,0.19713600000000001,1.7240000000000005E-3,0,4.9447200000000004E-2,1.8599999999999999E-4,4.0719999999999998E-4,7.2279999999999997E-2,0.10803600000000001,2.6800000000000001E-4,2.5409240000000004,0.93335999999999986,1.0532E-3,1.2436000000000001E-3,3.6775999999999996E-3,3.0000000000000001E-5,74.180206799999993]
["MOOS1",2009,{"$f":"C287","v":9.1560898190476188},{"$f":"Tracking!CK33","v":19.762708563892854},{"$f":"Tracking!CP33","v":8.5923211067460343},{"$f":"Tracking!CQ33","v":19.083151110183991},{"$f":"G287","v":5.0179607756999998},{"$f":"H287","v":9.9760873409999995},{"$f":"Tracking!CE33","v":6.8349754166666656},{"$f":"Tracking!CS33","v":7.8084032424242427},null,null,19.961630416666669,7.961630416666666,4.030110416666667,0.50862541666666672,1.6421308333333338,0.42987499999999995,7.9426250000000004E-2,0.6257125,0.64574958333333354,12,{"$f":"Tracking!CD33","v":17.013814},{"$f":"Tracking!CR33","v":18.932688238985506},null,null,61.134456799999995,49.134456799999995,37.150999600000006,2.2145223999999999,5.8883039999999998,2.0698799999999995,0.36824799999999996,1.2384287999999999,0.2040748,12,6.8349754166666656,1,0.2018928480562282,2.5480153977903399E-2,8.2264364135419557E-2,2.1535064572735609E-2,3.9789460250543576E-3,3.1345761189805948E-2,3.2349541087293876E-2,0.60115330008218049,17.013814,1,0.60769329678578266,3.6223801043080504E-2,9.6317270295922547E-2,3.3857829256119271E-2,6.0235752352346085E-3,2.025745978330178E-2,3.3381305843221301E-3,0.19628865010214666,6.8349754166666656,6.8349754166666656,1.3799326532651381,0.17415622605185108,0.56227490653330758,0.14719163695097712,2.719599826549008E-2,0.21424750714902771,0.22110831807210188,4.1088680277097422,17.013814,17.013814,10.339180720560105,0.61630501331997767,1.6387241218025512,0.57605080940737163,0.10248398866728788,0.34465665286557678,5.6794332869368039E-2,3.3396185831490044,2.4397500000000001,1.3931249999999997,2.3921345833333336,1.3188829166666669,0.48054916666666664,5.5631249999999993E-2,0.56343000000000021,4.2987500000000005E-2,7.9426250000000004E-2,1.0428541666666666,9.6859166666666663E-2,6.8908333333333347E-3,1.5208333333333331E-4,7.0083333333333336E-4,7.0875000000000009E-3,0.10285416666666668,1.7758333333333338E-2,6.2500000000000001E-5,-1.3658333333333335E-2,8.1516666666666668E-2,0.13294583333333335,8.5841666666666663E-2,7.5708333333333336E-2,0.3623541666666667,5.630000000000001E-2,1.5946666666666668E-2,1.1666666666666668E-5,1.4666666666666666E-4,4.5099999999999993E-3,3.3916666666666665E-4,2.6412499999999999E-3,4.2083333333333323E-4,1.1291666666666666E-4,4.3291666666666666E-2,4.45E-3,5.9750000000000005E-4,1.9967499999999999E-2,1.1208333333333332E-4,4.7499999999999996E-5,1.6343333333333335E-2,6.2655833333333341E-2,1.2166666666666669E-4,0.29919166666666669,0.11694666666666666,3.620833333333334E-4,2.5541666666666665E-4,1.305E-3,8.4583333333333334E-5,222.08567083333335,8.4572399999999988,6.3867879999999992,8.2773388000000008,6.4791539999999994,3.7727932000000011,0.25002679999999999,1.8479448000000003,0.20698800000000006,0.36824799999999996,2.0640480000000001,3.3152399999999999E-2,2.4605599999999995E-2,2.1159999999999999E-4,1.6103999999999999E-3,1.8063200000000005E-2,0.50944400000000001,4.6504000000000004E-2,9.6000000000000002E-5,2.8715999999999995E-2,0.30535999999999996,0.19188800000000003,0.20038799999999998,0.34500800000000004,1.0713599999999999,2.1328E-2,0,5.7200000000000001E-5,4.5320000000000001E-4,1.6496799999999995E-2,1.1928000000000002E-3,7.9971999999999994E-3,6.3720000000000009E-4,4.2240000000000002E-4,0.194604,1.3787999999999998E-2,0,4.0964400000000005E-2,1.6199999999999998E-4,3.3319999999999997E-4,9.7053200000000006E-2,0.17647399999999994,2.4560000000000001E-4,2.4789599999999998,0.91752959999999983,1.4563999999999998E-3,9.8160000000000001E-4,4.3063999999999993E-3,1.1719999999999998E-4,79.224521999999993]
["MOOS1",2010,{"$f":"C287","v":9.1560898190476188},{"$f":"Tracking!CK34","v":19.584769996203892},{"$f":"Tracking!CP34","v":8.4795673642857174},{"$f":"Tracking!CQ34","v":18.769301051753256},{"$f":"G287","v":5.0179607756999998},{"$f":"H287","v":9.9760873409999995},{"$f":"Tracking!CE34","v":5.9790265217391285},{"$f":"Tracking!CS34","v":7.4071864634387339},null,null,18.311355217391306,6.311355217391303,2.9270717391304353,0.41164130434782609,1.5580713043478256,0.46930434782608688,8.0172173913043474E-2,0.44813478260869566,0.41696173913043472,12,{"$f":"Tracking!CD34","v":16.452778750000004},{"$f":"Tracking!CR34","v":18.039137822318843},null,null,57.421267916666665,45.421267916666665,31.261770416666661,2.8186945833333339,7.1016387499999993,2.2234166666666666,0.36966125,1.3960324999999996,0.25005625000000004,12,5.9790265217391285,1,0.15985008779418103,2.2480111354995048E-2,8.5087711196167454E-2,2.5629143351463282E-2,4.3782763733893129E-3,2.4473053866765539E-2,2.2770665206386424E-2,0.65533106957604847,16.452778750000004,1,0.54442842436073857,4.9087989269481123E-2,0.12367610482419757,3.8721134996416794E-2,6.4377061568280857E-3,2.4312115539246004E-2,4.3547671284949211E-3,0.20898180126247212,5.9790265217391285,5.9790265217391285,0.95574791442373652,0.13440918200316432,0.50874168191596458,0.15323732782785301,2.617783055599851E-2,0.14632503813734149,0.13614641118662682,3.918241845514864,16.452778750000004,16.452778750000004,8.9573604112183443,0.80763382673314721,2.0348155893343307,0.63707026704492764,0.10591815505580532,0.40000185791165155,7.1648020072899776E-2,3.4383313389479251,1.8236695652173911,1.0767782608695653,1.863892608695652,1.1510726086956524,0.37194913043478267,4.9223043478260883E-2,0.5356330434782608,4.69304347826087E-2,8.0172173913043474E-2,0.74689130434782625,6.7166086956521737E-2,6.6756521739130426E-3,3.1739130434782606E-5,5.0000000000000001E-4,7.3126086956521721E-3,9.0978260869565203E-2,1.4647826086956523E-2,3.4782608695652171E-5,-5.4826086956521747E-3,5.8660869565217398E-2,0.11073913043478259,7.4895652173913044E-2,5.8730434782608698E-2,0.29754347826086958,4.0143478260869565E-2,1.897652173913043E-2,3.2608695652173917E-5,1.773913043478261E-4,5.0482608695652182E-3,3.8869565217391306E-4,2.0356521739130435E-3,5.6391304347826079E-4,9.1304347826086949E-5,3.8156521739130429E-2,1.1999999999999999E-2,9.5652173913043483E-5,2.6752608695652168E-2,1.0695652173913044E-4,2.173913043478261E-5,1.5889565217391304E-2,5.6535217391304342E-2,1.1521739130434783E-4,0.24206521739130435,9.016956521739132E-2,4.9782608695652178E-4,1.6652173913043477E-4,3.163478260869565E-3,2.2608695652173911E-5,244.27919260869567,8.4929541666666655,6.1662333333333308,8.1943820833333323,6.25319,3.1404870833333334,0.30277916666666665,2.1814574999999996,0.22234166666666669,0.36966125,2.3267208333333333,3.6463749999999996E-2,2.8738750000000004E-2,2.120833333333333E-4,1.4991666666666662E-3,2.5000416666666664E-2,0.51701666666666668,4.4204166666666676E-2,6.8333333333333343E-4,1.5866666666666671E-2,0.31194583333333331,0.29856250000000001,0.24598333333333333,0.33956249999999999,1.2119208333333333,1.4283333333333334E-2,6.8333333333333332E-5,7.2083333333333342E-5,6.7083333333333318E-4,1.7439583333333331E-2,1.1875E-3,1.1267083333333332E-2,8.7624999999999997E-4,5.2041666666666675E-4,0.23471249999999999,1.7345833333333338E-2,0,8.253125E-2,2.5166666666666664E-4,3.4499999999999987E-4,8.8185833333333338E-2,0.19318000000000005,3.3125000000000011E-4,2.011425,0.76133041666666668,1.4941666666666664E-3,1.0737500000000001E-3,5.4362500000000001E-3,8.2083333333333327E-5,85.532433749999996]
["MOOS1",2011,{"$f":"C287","v":9.1560898190476188},{"$f":"Tracking!CK35","v":19.406831428514931},{"$f":"Tracking!CP35","v":8.3668136218254006},{"$f":"Tracking!CQ35","v":18.455450993322522},{"$f":"G287","v":5.0179607756999998},{"$f":"H287","v":9.9760873409999995},{"$f":"Tracking!CE35","v":6.9741145454545457},{"$f":"Tracking!CS35","v":7.0811401225296438},null,null,20.194809999999997,8.1948100000000004,3.9249086363636363,0.39869454545454541,2.063585909090909,0.50663636363636366,3.2469545454545452E-2,0.82595181818181806,0.44256136363636372,12,{"$f":"Tracking!CD35","v":16.383600869565218},{"$f":"Tracking!CR35","v":17.171991579565219},null,null,53.100369565217385,41.100369565217399,26.426760000000005,3.0110726086956516,6.597270434782609,2.3141739130434784,0.14629304347826089,1.4287121739130431,1.1760878260869565,12,6.9741145454545457,1,0.19435234282291525,1.9742426170612424E-2,0.10218397247069466,2.5087453837711955E-2,1.6078163376900033E-3,4.089921213330644E-2,2.1914608933501421E-2,0.5942120772614351,16.383600869565218,1,0.49767563232385609,5.6705304188090069E-2,0.12424151637362715,4.3581126308381554E-2,2.7550287253384391E-3,2.6905880045868833E-2,2.2148392482325311E-2,0.22598712774045218,6.9741145454545457,6.9741145454545457,1.3554355010244616,0.1376859415190306,0.71264272872019852,0.17496277671800642,1.1213095307103309E-2,0.28523579023652346,0.15283499292108038,4.1441030911137346,16.383600869565218,16.383600869565218,8.1537189225025486,0.92903707100495259,2.0355234156950592,0.71401577888263157,4.5137291020132003E-2,0.44081519971591404,0.36287042233289668,3.7024829025590185,2.7720727272727279,1.4044636363636362,2.6859786363636364,1.3741468181818182,0.47534590909090912,4.4980454545454546E-2,0.70330909090909077,5.0663636363636362E-2,3.2469545454545452E-2,1.376586363636364,6.7375909090909097E-2,1.8881818181818175E-3,1.3772727272727268E-4,3.8272727272727265E-4,3.1309090909090913E-3,0.11543636363636364,2.1713636363636369E-2,4.5454545454545459E-5,-4.4727272727272723E-3,7.1418181818181811E-2,0.14469999999999997,9.2550000000000007E-2,8.6531818181818182E-2,0.39072727272727276,3.777272727272727E-2,1.1972272727272727E-2,-4.5454545454545464E-6,1.8136363636363638E-4,3.1049999999999997E-3,3.095454545454546E-4,3.8809090909090907E-3,3.7909090909090911E-4,9.8181818181818182E-5,3.4868181818181805E-2,7.1818181818181746E-4,1.0504545454545452E-3,1.8242727272727268E-2,4.1363636363636364E-5,-2.1363636363636365E-5,6.1272727272727277E-3,2.9285454545454549E-2,4.1818181818181819E-5,0.30469545454545455,0.11523545454545453,2.2772727272727278E-4,2.9227272727272733E-4,1.408181818181818E-3,-1.4409090909090909E-4,217.83533590909093,8.5678565217391274,6.1985565217391319,8.0476104347826105,5.8913973913043494,2.9296699999999998,0.34381304347826086,2.055122608695652,0.23141739130434785,0.14629304347826089,2.3811869565217396,0.1850813043478261,1.3429999999999997E-2,1.3565217391304347E-4,2.0617391304347827E-3,1.5216086956521739E-2,0.49258695652173912,3.9660869565217395E-2,2.3478260869565218E-4,8.6391304347826076E-3,0.27242608695652176,0.29979565217391302,0.25980869565217396,0.30106521739130437,1.1417347826086959,0.10417826086956522,2.028086956521739E-2,9.2173913043478253E-5,5.5652173913043484E-4,1.3414347826086956E-2,1.1895652173913047E-3,2.0372173913043478E-2,8.1956521739130425E-4,4.965217391304349E-4,0.26652173913043481,9.3782608695652178E-3,2.2621739130434786E-3,6.5194347826086976E-2,1.882608695652174E-4,2.452173913043478E-4,2.3126521739130435E-2,0.11701173913043479,2.7565217391304351E-4,1.9739217391304347,0.71022304347826104,9.7782608695652184E-4,1.2530434782608694E-3,5.4647826086956517E-3,1.9478260869565216E-4,81.902912173913052]
["MOOS1",2012,{"$f":"C287","v":9.1560898190476188},{"$f":"Tracking!CK36","v":19.228892860825969},{"$f":"Tracking!CP36","v":8.2540598793650837},{"$f":"Tracking!CQ36","v":18.141600934891787},{"$f":"G287","v":5.0179607756999998},{"$f":"H287","v":9.9760873409999995},{"$f":"Tracking!CE36","v":7.3213886956521721},{"$f":"Tracking!CS36","v":6.9866479525691698},null,null,20.940351739130431,8.9403517391304366,4.4017786956521743,0.51287652173913034,2.0314630434782606,0.52426086956521734,9.4282173913043485E-2,0.85963565217391313,0.51605478260869564,12,{"$f":"Tracking!CD36","v":14.73847958333333},{"$f":"Tracking!CR36","v":16.419112800579708},null,null,45.148932916666666,33.148932916666659,21.078612083333333,2.9903516666666667,5.3479345833333332,1.6202916666666669,0.18814791666666666,1.2499016666666667,0.67369166666666658,12,7.3213886956521721,1,0.21020557584172472,2.4492259162043475E-2,9.7011887325757939E-2,2.5035915160180961E-2,4.5024159616603773E-3,4.1051633844695408E-2,2.4644036023729433E-2,0.57305627668020787,14.73847958333333,1,0.46686844453752729,6.6233052997865707E-2,0.11845096302063765,3.5887706796023489E-2,4.1672727241181843E-3,2.7683969164313676E-2,1.4921541288918795E-2,0.26578701255573234,7.3213886956521721,7.3213886956521721,1.5389967267306588,0.17931734935996843,0.71026173521068636,0.18329766623905572,3.2963937324824187E-2,0.30055496796860509,0.18042856675937757,4.1955677460589973,14.73847958333333,14.73847958333333,6.880931037918935,0.97617449935087808,1.7457871001058394,0.52893023390584493,6.1419263962597725E-2,0.40801961431386657,0.21992083163859497,3.9172964580678205,2.9878434782608703,1.5551173913043477,2.8885947826086951,1.5235630434782608,0.54354173913043469,5.8716956521739132E-2,0.69269478260869577,5.2426086956521727E-2,9.4282173913043485E-2,1.4327260869565217,8.1900000000000001E-2,9.3765217391304344E-3,2.3913043478260871E-5,5.6217391304347818E-4,7.0665217391304366E-3,0.11617826086956522,2.0013043478260873E-2,2.173913043478261E-5,-1.1452173913043477E-2,6.8543478260869553E-2,0.15254347826086956,9.140869565217391E-2,8.3786956521739148E-2,0.38483043478260864,4.5499999999999992E-2,1.1567826086956523E-2,3.0000000000000004E-5,1.1652173913043479E-4,7.5908695652173912E-3,4.4304347826086961E-4,6.3386956521739122E-3,7.4173913043478271E-4,4.7826086956521735E-5,4.5517391304347822E-2,5.2695652173913041E-3,8.3217391304347846E-4,3.0231304347826088E-2,8.0000000000000007E-5,2.3043478260869563E-5,1.698826086956522E-2,2.9236086956521749E-2,7.1739130434782602E-5,0.34619130434782613,0.1317678260869565,6.6999999999999981E-4,1.2826086956521738E-4,2.8373913043478259E-3,6.2608695652173948E-5,210.66414086956524,7.2189217391304359,5.2525909090909089,6.9171040909090911,4.8730816666666668,2.37342875,0.33356750000000002,1.7124300000000001,0.16202916666666667,0.18814791666666666,2.08317,0.1034775,1.6900909090909091E-2,1.1818181818181819E-4,1.5163636363636364E-3,1.6277272727272727E-2,0.37717916666666657,4.4775000000000002E-2,1.3750000000000001E-4,-3.6750000000000012E-3,0.22637083333333327,0.27313749999999998,0.19545416666666668,0.26006250000000003,0.95134999999999981,5.7487500000000004E-2,1.9049999999999998E-3,9.8181818181818209E-5,4.9590909090909091E-4,1.6522272727272729E-2,8.8954545454545438E-4,1.1597272727272729E-2,8.1272727272727258E-4,3.6136363636363628E-4,0.25857916666666669,2.1908333333333332E-2,2.6690909090909087E-3,5.1346818181818181E-2,1.2818181818181819E-4,2.0818181818181813E-4,3.6222727272727281E-2,8.734909090909089E-2,2.9863636363636371E-4,1.6108125000000004,0.58631409090909092,1.2886363636363635E-3,8.3681818181818195E-4,4.4695454545454543E-3,1.0772727272727274E-4,97.396125416666678]
["MOOS1",2013,{"$f":"C287","v":9.1560898190476188},{"$f":"Tracking!CK37","v":19.050954293137007},{"$f":"Tracking!CP37","v":8.1413061369047668},{"$f":"Tracking!CQ37","v":17.827750876461053},{"$f":"G287","v":5.0179607756999998},{"$f":"H287","v":9.9760873409999995},{"$f":"Tracking!CE37","v":6.545156363636365},{"$f":"Tracking!CS37","v":6.7309323086297752},null,null,19.400299545454541,7.400299545454545,3.566450909090908,0.53178545454545445,1.6560704545454548,0.41431818181818175,4.4848181818181815E-2,0.66936181818181817,0.51746545454545445,12,{"$f":"Tracking!CD37","v":14.423458181818178},{"$f":"Tracking!CR37","v":15.802426276943345},null,null,43.404542727272734,31.404542727272727,19.782905454545457,2.913406818181818,4.9315050000000005,1.5249545454545455,0.17502136363636367,1.2489940909090906,0.82775727272727262,12,6.545156363636365,1,0.18383483722685723,2.7411198126064549E-2,8.5363138371410838E-2,2.1356277558882118E-2,2.3117262552108209E-3,3.4502653766428498E-2,2.6673065193299851E-2,0.61854715036147889,14.423458181818178,1,0.45577960765187603,6.7122163605958532E-2,0.11361725501836349,3.513352404232007E-2,4.0323282458264685E-3,2.877565370880638E-2,1.9070752062252717E-2,0.2764687575538019,6.545156363636365,6.545156363636365,1.2032277547334198,0.1794105778497086,0.55871508833161121,0.1397801759681018,1.5130609810278368E-2,0.22582526386168167,0.17457938238761414,4.0484878173975734,14.423458181818178,14.423458181818178,6.5739181110923308,0.968133719843701,1.6387537264903373,0.50674691480430711,5.8160117829042318E-2,0.41504443792344997,0.27506619486572487,3.9876355631564904,2.401933333333333,1.2702136363636363,2.3544709523809524,1.2449013636363635,0.44634363636363633,6.2165909090909091E-2,0.56884090909090912,4.1431818181818188E-2,4.4848181818181815E-2,1.1156031818181817,8.1269999999999995E-2,4.7368181818181814E-3,4.500000000000001E-5,4.9727272727272738E-4,4.1077272727272724E-3,8.6518181818181841E-2,1.7759090909090905E-2,0,-2.7727272727272735E-4,5.4849999999999996E-2,0.12634545454545457,7.2259090909090912E-2,6.2845454545454538E-2,0.31602272727272723,4.6136363636363635E-2,1.5405454545454545E-2,3.7727272727272731E-5,1.1318181818181818E-4,4.2563636363636354E-3,2.618181818181818E-4,5.0122727272727272E-3,6.4909090909090928E-4,6.2727272727272729E-5,4.7640909090909095E-2,6.8318181818181828E-3,1.0513636363636365E-3,2.6940909090909095E-2,2.8636363636363627E-5,3.3636363636363636E-5,6.6922727272727281E-3,3.5906363636363632E-2,2.5000000000000001E-5,0.31924090909090913,0.10820454545454546,3.7136363636363636E-4,7.3181818181818184E-5,1.8245454545454546E-3,1.3454545454545452E-4,229.65908499999998,6.9741818181818189,5.1694842105263161,6.9372105263157886,4.619152727272728,2.2557277272727272,0.33365727272727275,1.5709336363636366,0.15249545454545455,0.17502136363636367,2.0816577272727277,0.13131818181818183,1.8198421052631576E-2,4.6315789473684214E-5,1.4847368421052633E-3,1.4706842105263155E-2,0.36799999999999999,3.592272727272728E-2,0,1.9368181818181816E-2,0.20668636363636364,0.21540909090909091,0.17985000000000004,0.25142727272727278,0.87274090909090873,7.3854545454545451E-2,5.9026315789473677E-3,1.2631578947368426E-4,4.4263157894736848E-4,1.5437368421052635E-2,9.9736842105263156E-4,1.3148947368421052E-2,7.899999999999999E-4,2.4526315789473685E-4,0.25864999999999999,1.0359090909090908E-2,1.8910526315789472E-3,5.4288421052631576E-2,1.2842105263157893E-4,1.6000000000000001E-4,3.1245789473684213E-2,0.10500315789473684,2.3789473684210526E-4,1.6085181818181817,0.56717263157894737,1.2473684210526313E-3,2.8473684210526313E-4,4.3552631578947371E-3,2.9105263157894738E-4,99.59945954545455]
["MOOS1",2014,{"$f":"C287","v":9.1560898190476188},{"$f":"Tracking!CK38","v":18.873015725448045},{"$f":"Tracking!CP38","v":8.0285523944444499},{"$f":"Tracking!CQ38","v":17.513900818030319},{"$f":"G287","v":5.0179607756999998},{"$f":"H287","v":9.9760873409999995},{"$f":"Tracking!CE38","v":6.9004790476190481},{"$f":"Tracking!CS38","v":6.7440330348202524},null,null,20.081737619047615,8.0817376190476189,4.0175714285714275,0.45237857142857124,2.0136133333333333,0.41233333333333327,6.0580952380952381E-2,0.78695761904761896,0.33830142857142859,12,{"$f":"Tracking!CD38","v":14.153976818181816},{"$f":"Tracking!CR38","v":15.230458840579709},null,null,42.429524545454541,30.429524545454555,18.034545909090909,2.7000472727272733,5.4235368181818178,1.6449545454545456,0.15359863636363638,1.7365063636363642,0.73633272727272747,12,6.9004790476190481,1,0.20006094615840134,2.2526863960192777E-2,0.10027087155164363,2.0532751754620743E-2,3.0167186490620756E-3,3.9187725383942183E-2,1.6846222920996051E-2,0.59755785219591495,14.153976818181816,1,0.4250470893156153,6.3636048286016642E-2,0.12782459563909582,3.8769101541364523E-2,3.6200885588309369E-3,4.0926840030367381E-2,1.735425355718747E-2,0.28282192950676266,6.9004790476190481,6.9004790476190481,1.3805163672128908,0.15544615276587492,0.69191704822861777,0.14168582327272369,2.0816803830414492E-2,0.27041407793574213,0.11624700829785301,4.1234354388181513,14.153976818181816,14.153976818181816,6.0161066488088748,0.90070315224097819,1.8092263634692267,0.54873696447821041,5.1238649541458299E-2,0.5792775450312555,0.24563170254528077,4.0030550339121707,2.7246238095238091,1.5002650000000002,2.6531859999999998,1.3872233333333335,0.49616619047619054,5.1747619047619049E-2,0.68524285714285726,4.123333333333333E-2,6.0580952380952381E-2,1.3115961904761906,5.2253333333333339E-2,7.0009999999999985E-3,7.6000000000000004E-5,5.8850000000000016E-4,4.2104999999999998E-3,0.10413333333333333,1.7952380952380949E-2,2.380952380952381E-5,-6.8714285714285717E-3,7.1147619047619043E-2,0.15522857142857141,8.0309523809523817E-2,8.087619047619049E-2,0.38069047619047619,2.9747619047619044E-2,6.2785000000000011E-3,8.7000000000000001E-5,1.1750000000000001E-4,5.0740000000000004E-3,3.1449999999999984E-4,3.5624999999999997E-3,4.5599999999999997E-4,7.0000000000000007E-5,4.0114285714285713E-2,1.1304761904761904E-2,8.1399999999999984E-4,2.1856E-2,9.6499999999999987E-5,2.0499999999999993E-5,9.7919999999999986E-3,2.5995499999999998E-2,7.4499999999999981E-5,0.32431428571428578,0.12219499999999998,3.1149999999999998E-4,9.7999999999999997E-5,1.1999999999999999E-3,4.8499999999999973E-5,220.65223904761908,7.6826650000000001,4.7882999999999996,7.1884615000000007,4.4824786363636369,2.020195909090909,0.31344090909090905,1.7209063636363633,0.16449545454545453,0.15359863636363638,2.8941772727272723,0.10984090909090907,1.791727272727273E-2,1.4000000000000001E-4,1.9995454545454548E-3,1.2552727272727273E-2,0.38632272727272726,3.743181818181817E-2,7.2727272727272715E-5,3.7322727272727278E-2,0.22206818181818183,0.24979090909090909,0.18754545454545457,0.25933181818181822,0.95605909090909091,6.1727272727272735E-2,7.5759090909090906E-3,1.4136363636363641E-4,4.9363636363636363E-4,1.3862727272727271E-2,9.0318181818181817E-4,1.5534999999999998E-2,7.5681818181818174E-4,1.8000000000000001E-4,0.24287727272727275,1.467272727272727E-2,9.5954545454545468E-4,5.110909090909091E-2,3.7727272727272725E-5,1.4863636363636362E-4,2.3373181818181821E-2,8.4887727272727281E-2,1.5272727272727272E-4,1.297759090909091,0.48974454545454549,1.0172727272727273E-3,2.6136363636363634E-4,4.4259090909090906E-3,1.3590909090909091E-4,103.07728772727273]
["MOOS1",2015,{"$f":"C287","v":9.1560898190476188},{"$f":"Tracking!CK39","v":18.695077157759084},{"$f":"Tracking!CP39","v":7.9157986519841321},{"$f":"Tracking!CQ39","v":17.200050759599584},{"$f":"G287","v":5.0179607756999998},{"$f":"H287","v":9.9760873409999995},{"$f":"Tracking!CE39","v":6.638016666666668},{"$f":"Tracking!CS39","v":6.8758310638057596},null,null,19.507530476190475,7.5075304761904764,2.9793242857142856,0.48004571428571424,2.1456514285714285,0.35082857142857143,3.9661428571428563E-2,0.78357952380952378,0.72843999999999998,12,{"$f":"Tracking!CD39","v":14.525514999999997},{"$f":"Tracking!CR39","v":14.845006090579707},null,null,44.35242090909091,32.35242090909091,19.087647727272724,3.5576395454545451,5.592838636363636,1.6121181818181818,0.2079709090909091,1.1761877272727272,1.118016818181818,12,6.638016666666668,1,0.15272688100375598,2.460822577576513E-2,0.10999093048657596,1.7984263659450293E-2,2.03313426165534E-3,4.0168053294388342E-2,3.7341476969064986E-2,0.6151470589599416,14.525514999999997,1,0.43036315348820864,8.0212973103466742E-2,0.12609996301728985,3.6347918530141521E-2,4.6890542799723775E-3,2.6519132511020255E-2,2.5207571430506923E-2,0.27056020289391602,6.638016666666668,6.638016666666668,1.0138035815509492,0.16334981283662522,0.73012162975206618,0.11937984190915873,1.3495979114439177E-2,0.2666362072357048,0.2478733464786029,4.0833564298270755,14.525514999999997,14.525514999999997,6.2512464414402755,1.1651347440090025,1.8316669043070886,0.52797223582834851,6.8110928279552951E-2,0.38520405707581229,0.36615295692739969,3.9300262855386197,2.6293461904761908,1.3233804761904762,2.5753366666666664,1.3291738095238095,0.35884904761904762,5.4105714285714278E-2,0.72831190476190477,3.5082857142857138E-2,3.9661428571428563E-2,1.3059657142857144,0.11316428571428572,4.3933333333333333E-3,4.2380952380952385E-5,4.7428571428571431E-4,4.2919047619047624E-3,8.5387619047619046E-2,1.7703809523809528E-2,1.4714285714285713E-4,-7.7619047619047624E-3,5.3203809523809528E-2,0.19890095238095243,9.2119047619047628E-2,6.8155714285714292E-2,0.40461761904761911,6.3176666666666673E-2,3.6506666666666673E-2,2.4285714285714288E-5,1.0809523809523811E-4,3.133333333333333E-3,2.5619047619047616E-4,5.6500000000000005E-3,5.6619047619047632E-4,1.904761904761906E-6,4.1941904761904764E-2,7.9495238095238108E-3,5.7809523809523812E-4,2.7758571428571428E-2,1.0238095238095239E-4,7.6190476190476315E-6,6.0485714285714283E-3,4.4681428571428573E-2,7.0476190476190492E-5,0.21708523809523805,8.6993809523809529E-2,1.8380952380952381E-4,2.7619047619047626E-5,1.1285714285714284E-3,1.3047619047619046E-4,225.87921,7.1540913636363657,5.1937790909090911,6.6123849999999997,4.9450668181818171,2.1991586363636362,0.42507818181818185,1.7680450000000001,0.16121181818181815,0.2079709090909091,1.9603122727272722,0.18360090909090906,2.2860454545454545E-2,1.45E-4,2.9490909090909086E-3,1.7895909090909087E-2,0.37217863636363641,2.982636363636363E-2,0,5.8418181818181815E-3,0.20089045454545459,0.33001000000000003,0.20471181818181819,0.2407931818181818,0.98224727272727297,0.10520363636363637,3.2411363636363627E-2,1.1409090909090913E-4,4.5272727272727283E-4,1.7441818181818183E-2,1.0018181818181816E-3,2.5392727272727275E-2,7.7681818181818169E-4,1.5409090909090912E-4,0.32942681818181813,9.5354545454545431E-3,6.3909090909090914E-4,5.1334545454545452E-2,3.1818181818181859E-6,2.9999999999999997E-4,3.3625909090909088E-2,0.13649318181818182,2.2090909090909095E-4,1.3821931818181818,0.53312954545454538,1.3249999999999998E-3,1.7227272727272726E-4,4.3431818181818189E-3,3.1181818181818182E-4,99.676186818181804]
["MOOS1",2016,{"$f":"C287","v":9.1560898190476188},{"$f":"Tracking!CK40","v":18.517138590070122},{"$f":"Tracking!CP40","v":7.8030449095238144},{"$f":"Tracking!CQ40","v":16.88620070116885},{"$f":"G287","v":5.0179607756999998},{"$f":"H287","v":9.9760873409999995},{"$f":"Tracking!CE40","v":6.0893036363636375},{"$f":"Tracking!CS40","v":6.6988688819875772},null,null,18.464557727272727,6.4645577272727275,2.8047736363636369,0.68602363636363628,1.3279031818181817,0.20468636363636358,4.3286818181818183E-2,0.73857909090909102,0.65930272727272721,12,{"$f":"Tracking!CD40","v":12.56302304347826},{"$f":"Tracking!CR40","v":14.080890525362316},null,null,36.115960869565221,24.115960869565214,12.713234782608696,3.7279269565217392,4.2231295652173921,1.3392434782608695,0.14020086956521743,1.1608113043478261,0.81141521739130429,12,6.0893036363636375,1,0.15190039630469454,3.7153537414565743E-2,7.1916327562876164E-2,1.1085365090225554E-2,2.3443192531972866E-3,3.9999825710322144E-2,3.5706391510202086E-2,0.64989371406798579,12.56302304347826,1,0.35201153386236195,0.10322103764552611,0.11693249919251648,3.7081762357026052E-2,3.8819642670330878E-3,3.2141227213645512E-2,2.2466942533296428E-2,0.33226306904414532,6.0893036363636375,6.0893036363636375,0.92496763558325412,0.22623917048228764,0.43792035494254034,6.7502153954328986E-2,1.4275271753291524E-2,0.24357108415177636,0.21742705966449727,3.9574001563240562,12.56302304347826,12.56302304347826,4.4223290114829812,1.2967682745124816,1.4690256818870877,0.46585903498410303,4.8769206540695879E-2,0.40379097813069914,0.28225271676230484,4.1742285928984062,2.3178222727272724,1.0868559090909091,2.2515499999999999,1.0631222727272729,0.35411954545454544,8.1201363636363641E-2,0.45945863636363637,2.0468636363636362E-2,4.3286818181818183E-2,1.2309663636363635,0.10458590909090909,5.1677272727272726E-3,4.7727272727272724E-5,6.0363636363636359E-4,4.4981818181818178E-3,6.1366363636363649E-2,1.1809090909090908E-2,0,-6.5340909090909069E-3,3.8139090909090914E-2,0.11900454545454546,5.1912272727272731E-2,5.2733181818181825E-2,0.25525500000000001,5.8561363636363634E-2,2.9742727272727268E-2,6.6363636363636375E-5,1.6454545454545454E-4,3.1686363636363635E-3,1.8136363636363635E-4,6.3836363636363639E-3,4.5409090909090914E-4,2.8636363636363637E-5,6.2946818181818187E-2,6.7777272727272721E-3,7.8863636363636332E-4,3.1818181818181808E-2,8.9090909090909094E-5,-6.8181818181818166E-6,6.5813636363636361E-3,5.2293181818181815E-2,1.0954545454545456E-4,0.2260240909090909,8.5847272727272717E-2,2.736363636363636E-4,3.6363636363636364E-5,1.9295454545454548E-3,-6.9999999999999994E-5,240.16440954545459,5.6753136363636365,3.7859295652173914,5.3872204545454547,3.6882904347826089,1.4993252173913045,0.41340913043478267,1.3757856521739134,0.13392434782608695,0.14020086956521743,1.9346847826086955,0.12564478260869566,1.6115652173913041E-2,8.7826086956521745E-5,1.9173913043478261E-3,1.2569565217391302E-2,0.24302739130434786,3.0124782608695656E-2,0,1.0468260869565219E-2,0.15870478260869569,0.26239304347826098,0.19353130434782606,0.13922782608695652,0.76432521739130455,6.9802608695652163E-2,7.0726086956521732E-3,1.2434782608695654E-4,4.0608695652173904E-4,1.2152608695652175E-2,9.3434782608695641E-4,1.7912608695652171E-2,8.7304347826086971E-4,6.1739130434782617E-5,0.32047260869565219,9.0882608695652175E-3,7.3391304347826081E-4,8.2193913043478256E-2,1.4347826086956523E-4,1.0782608695652176E-4,2.1326956521739132E-2,0.10849347826086955,1.61304347826087E-4,0.95787304347826085,0.36347304347826087,8.9913043478260862E-4,1.1434782608695654E-4,4.9530434782608683E-3,1.3782608695652175E-4,121.75205739130433]
["MOOS1",2017,{"$f":"C287","v":9.1560898190476188},{"$f":"Tracking!CK41","v":18.33920002238116},{"$f":"Tracking!CP41","v":7.6902911670634966},{"$f":"Tracking!CQ41","v":16.572350642738115},{"$f":"G287","v":5.0179607756999998},{"$f":"H287","v":9.9760873409999995},{"$f":"Tracking!CE41","v":6.7688265217391299},{"$f":"Tracking!CS41","v":6.58835644720497},null,null,19.802381304347822,7.8023813043478256,3.0473095652173923,0.61402739130434791,2.4057408695652174,0.55821739130434789,7.5381739130434777E-2,0.72490043478260879,0.37680217391304344,12,{"$f":"Tracking!CD41","v":12.128652916666669},{"$f":"Tracking!CR41","v":13.558925192028985},null,null,34.480618333333332,22.480618333333336,10.56506708333333,3.5221920833333331,4.6255316666666664,1.2529833333333333,0.13246791666666671,1.2337312499999997,1.1486449999999997,12,{"$f":"I300","v":6.7688265217391299},{"$f":"M300/M300","v":1},{"$f":"O300/M300","v":0.15388601594841139},{"$f":"P300/M300","v":3.1007755171825305E-2},{"$f":"Q300/M300","v":0.12148745307904012},{"$f":"R300/M300","v":2.8189407259912997E-2},{"$f":"S300/M300","v":3.8067007180537381E-3},{"$f":"T300/M300","v":3.6606730455364438E-2},{"$f":"U300/M300","v":1.9028124351403764E-2},{"$f":"V300/M300","v":0.60598772519168054},{"$f":"W300","v":12.128652916666669},{"$f":"AA300/AA300","v":1},{"$f":"AC300/AA300","v":0.30640596352414595},{"$f":"AD300/AA300","v":0.10214991069137343},{"$f":"AE300/AA300","v":0.13414874472233701},{"$f":"AF300/AA300","v":3.6338772153689629E-2},{"$f":"AG300/AA300","v":3.8418080379552374E-3},{"$f":"AH300/AA300","v":3.5780427081474893E-2},{"$f":"AI300/AA300","v":3.3312772668278222E-2},{"$f":"AJ300/AA300","v":0.34802160112074559},{"$f":"I300","v":6.7688265217391299},{"$f":"BE300","v":6.7688265217391299},{"$f":"BE300*AM300","v":1.0416277460763776},{"$f":"BE300*AN300","v":0.2098861155866448},{"$f":"BE300*AO300","v":0.82232749445994491},{"$f":"BE300*AP300","v":0.19080920749300467},{"$f":"BE300*AQ300","v":2.5766896780685531E-2},{"$f":"BE300*AR300","v":0.24778460798042634},{"$f":"BE300*AS300","v":0.12879807276873198},{"$f":"BE300*AT300","v":4.1018257861258105},{"$f":"W300","v":12.128652916666669},{"$f":"BO300","v":12.128652916666669},{"$f":"BO300*AW300","v":3.7162915831811936},{"$f":"BO300*AX300","v":1.2389408122441661},{"$f":"BO300*AY300","v":1.6270435639437451},{"$f":"BO300*AZ300","v":0.44074035486993324},{"$f":"BO300*BA300","v":4.6595956264819244E-2},{"$f":"BO300*BB300","v":0.43396838128130949},{"$f":"BO300*BC300","v":0.40403905738536633},{"$f":"BO300*BD300","v":4.2210332074961352},2.5370999999999997,1.3289326086956521,2.6326539130434781,1.4508939130434781,0.3766421739130435,7.0402608695652166E-2,0.81248130434782628,5.5821739130434797E-2,7.5381739130434777E-2,1.208167391304348,6.0164782608695656E-2,8.5152173913043468E-3,9.1304347826086949E-5,4.9391304347826083E-4,4.9626086956521733E-3,9.9297391304347823E-2,2.9069999999999992E-2,0,-1.5826086956521727E-4,7.9539130434782598E-2,0.19849,0.10046434782608696,7.3043478260869557E-2,0.45137869565217381,3.7791304347826078E-2,1.4058695652173912E-2,7.3913043478260877E-5,2.5999999999999998E-4,5.9695652173913059E-3,4.1217391304347822E-4,4.2204347826086961E-3,7.5347826086956534E-4,3.6521739130434786E-5,5.4575652173913039E-2,2.3434782608695655E-3,3.7739130434782611E-4,3.5067391304347828E-2,1.2565217391304349E-4,1.9130434782608697E-5,1.3289999999999998E-2,3.3540000000000007E-2,6.1304347826086965E-5,0.24936130434782605,9.1306956521739133E-2,5.2652173913043466E-4,4.478260869565217E-5,1.7795652173913045E-3,2.2347826086956517E-4,223.27079826086955,5.6104704166666659,3.6045129166666672,5.7623321739130429,3.630001249999999,1.2949941666666664,0.40764708333333327,1.4831216666666671,0.12529833333333332,0.13246791666666671,2.0562175000000003,0.18647374999999997,1.3692499999999996E-2,1.4333333333333334E-4,1.745833333333333E-3,1.2558333333333331E-2,0.23217499999999999,3.307916666666666E-2,0,2.2528333333333334E-2,0.16937625000000001,0.29778041666666671,0.19431541666666663,0.13995583333333333,0.82395625000000006,0.10513875,2.7817083333333336E-2,7.7916666666666672E-5,4.4000000000000002E-4,1.2146666666666665E-2,7.3874999999999993E-4,2.0523749999999997E-2,8.2333333333333336E-4,5.9166666666666657E-5,0.31600583333333332,1.3616666666666668E-2,4.3583333333333337E-4,5.4703749999999995E-2,1.2374999999999997E-4,1.0749999999999997E-4,2.0232916666666663E-2,0.12613375000000002,1.7791666666666664E-4,0.8807466666666669,0.31393791666666665,1.0820833333333331E-3,1.1416666666666667E-4,3.7612499999999994E-3,7.0416666666666693E-5,127.06769666666668]
[{"$f":"A300","v":"MOOS1"},{"$f":"B300+1","v":2018},{"$f":"C287","v":9.1560898190476188},{"$f":"Tracking!CK42","v":18.161261454692198},{"$f":"Tracking!CP42","v":7.5775374246031788},{"$f":"Tracking!CQ42","v":16.258500584307381},{"$f":"G287","v":5.0179607756999998},{"$f":"H287","v":9.9760873409999995},{"$f":"Tracking!CE42","v":6.5733469565217408},{"$f":"Tracking!CS42","v":6.5939945657820447},null,null,19.350758260869569,7.3507582608695641,2.8919965217391308,0.63871782608695649,1.5494852173913041,0.42860869565217385,5.3971304347826085E-2,0.73522739130434778,1.0527508695652175,12,{"$f":"Tracking!CD42","v":13.234653333333332},{"$f":"Tracking!CR42","v":13.321164222332012},null,null,38.592930416666661,26.592930416666658,11.566438750000001,5.0153712500000003,5.4447633333333334,1.9072416666666665,0.16652125000000004,1.1105379166666667,1.3820570833333334,12,6.5733469565217408,1,0.14945132809535561,3.3007379735529509E-2,8.0073617607255176E-2,2.214945222683555E-2,2.7891053993974479E-3,3.7994758726902146E-2,5.4403597800818673E-2,0.62013073793940077,13.234653333333332,1,0.2997035629355822,0.1299556990322267,0.14108188402770186,4.9419457037214495E-2,4.3148122778488606E-3,2.8775682610177541E-2,3.5811146456411126E-2,0.31093777721573862,6.5733469565217408,6.5733469565217408,0.98239543268373797,0.21696895912730027,0.52635167059633647,0.14559603438389315,1.833375748854757E-2,0.24975273164126008,0.3576137240278443,4.0763344988795414,13.234653333333332,13.234653333333332,3.9664727582172792,1.7199186253825225,1.8671698267201711,0.65404938180909422,5.7105044695740008E-2,0.3808361837757282,0.47394810881982968,4.1151536896875323,2.4803178260869574,1.254938695652174,2.4320765217391305,1.2293482608695654,0.35729521739130432,7.4982608695652181E-2,0.53224652173913045,4.286086956521739E-2,5.3971304347826085E-2,1.2253791304347823,0.1679921739130435,6.1039130434782617E-3,2.434782608695652E-5,6.4565217391304339E-4,5.4178260869565216E-3,8.8129565217391306E-2,1.8407391304347827E-2,0,-3.7391304347826429E-5,5.2530869565217402E-2,0.11805347826086957,6.1469130434782616E-2,6.367608695652173E-2,0.29569217391304348,9.3588260869565218E-2,5.0035217391304343E-2,5.9130434782608697E-5,1.417391304347826E-4,4.0852173913043469E-3,2.3391304347826085E-4,8.5204347826086952E-3,4.7173913043478254E-4,5.0000000000000009E-5,5.8125652173913037E-2,3.1913043478260868E-3,5.4086956521739115E-4,2.6835652173913038E-2,1.6086956521739129E-5,1.3043478260869566E-5,8.4656521739130425E-3,6.5390869565217391E-2,3.6956521739130438E-5,0.2430382608695652,8.6616956521739133E-2,3.8478260869565228E-4,1.7391304347826089E-5,1.4739130434782608E-3,-3.2173913043478272E-5,226.97556608695649,5.8370270833333331,3.9861316666666666,6.0277462500000007,4.2689525000000001,1.3890558333333336,0.57500333333333342,1.7322241666666665,0.19072416666666667,0.16652125000000004,1.8508954166666667,0.21542583333333332,1.6218333333333331E-2,4.9166666666666671E-5,1.8583333333333331E-3,1.4727499999999998E-2,0.32724083333333343,4.303583333333335E-2,0,5.4516250000000016E-2,0.19317583333333332,0.30727333333333334,0.22782874999999994,0.17955249999999998,0.96234666666666679,0.11968083333333331,2.4787500000000004E-2,1.2041666666666668E-4,4.6083333333333333E-4,1.4410000000000001E-2,7.1583333333333319E-4,1.44925E-2,8.5499999999999997E-4,1.2416666666666666E-4,0.44573875000000013,7.2979166666666678E-3,6.066666666666667E-4,5.2821249999999993E-2,1.0291666666666668E-4,1.5416666666666666E-4,2.7927083333333328E-2,0.11665624999999998,2.0125000000000001E-4,0.94323708333333334,0.33674083333333332,1.2495833333333332E-3,9.5416666666666664E-5,4.6341666666666666E-3,2.8500000000000004E-4,113.09807416666666]
[{"$f":"A301","v":"MOOS1"},{"$f":"B301+1","v":2019},{"$f":"C287","v":9.1560898190476188},{"$f":"Tracking!CK43","v":17.983322887003236},{"$f":"Tracking!CP43","v":7.464783682142861},{"$f":"Tracking!CQ43","v":15.944650525876645},{"$f":"G287","v":5.0179607756999998},{"$f":"H287","v":9.9760873409999995},{"$f":"Tracking!CE43","v":6.3058338095238078},{"$f":"Tracking!CS43","v":6.4750655181629977},null,null,18.883157142857144,6.8831571428571445,2.7833747619047617,0.49369571428571435,1.8790338095238095,0.47889047619047626,3.736571428571428E-2,0.64083428571428569,0.56996476190476186,12,{"$f":"Tracking!CD43","v":12.492238571428567},{"$f":"Tracking!CR43","v":12.988816572981367},null,null,36.242504761904755,24.242504761904762,11.513008571428569,3.8085547619047615,5.2917423809523809,1.7686761904761905,0.14455380952380953,1.0800390476190476,0.63593047619047616,12,{"$f":"I302","v":6.3058338095238078},{"$f":"M302/M302","v":1},{"$f":"O302/M302","v":0.14739986226072466},{"$f":"P302/M302","v":2.6144765441009035E-2},{"$f":"Q302/M302","v":9.9508455885227012E-2},{"$f":"R302/M302","v":2.5360720803598472E-2},{"$f":"S302/M302","v":1.9787853272114752E-3},{"$f":"T302/M302","v":3.3936818979271775E-2},{"$f":"U302/M302","v":3.0183764165748108E-2},{"$f":"V302/M302","v":0.63548695322589066},{"$f":"W302","v":12.492238571428567},{"$f":"AA302/AA302","v":1},{"$f":"AC302/AA302","v":0.31766591870686955},{"$f":"AD302/AA302","v":0.10508530762222627},{"$f":"AE302/AA302","v":0.14600928980258121},{"$f":"AF302/AA302","v":4.8801157704069134E-2},{"$f":"AG302/AA302","v":3.9885159834690299E-3},{"$f":"AH302/AA302","v":2.9800342297376173E-2},{"$f":"AI302/AA302","v":1.7546537701194312E-2},{"$f":"AJ302/AA302","v":0.33110294332122009},{"$f":"I302","v":6.3058338095238078},{"$f":"BE302","v":6.3058338095238078},{"$f":"BE302*AM302","v":0.92947903496282991},{"$f":"BE302*AN302","v":0.16486454585998439},{"$f":"BE302*AO302","v":0.62748378545457284},{"$f":"BE302*AP302","v":0.15992049067722502},{"$f":"BE302*AQ302","v":1.2477891418119752E-2},{"$f":"BE302*AR302","v":0.21399994050718121},{"$f":"BE302*AS302","v":0.1903338005750676},{"$f":"BE302*AT302","v":4.0072751151630959},{"$f":"W302","v":12.492238571428567},{"$f":"BO302","v":12.492238571428567},{"$f":"BO302*AW302","v":3.9683584424982477},{"$f":"BO302*AX302","v":1.3127507331688115},{"$f":"BO302*AY302","v":1.8239828818586967},{"$f":"BO302*AZ302","v":0.6096357046011408},{"$f":"BO302*BA302","v":4.9825493211451161E-2},{"$f":"BO302*BB302","v":0.37227298548905685},{"$f":"BO302*BC302","v":0.21919553506588513},{"$f":"BO302*BD302","v":4.1362169596708727},2.1718300000000008,1.1037738095238097,2.2676061904761902,1.2378971428571428,0.35731523809523819,5.9509047619047614E-2,0.64247238095238102,4.7889047619047609E-2,3.736571428571428E-2,1.0680561904761905,9.3345714285714268E-2,3.2128571428571423E-3,0,4.5904761904761907E-4,3.8914285714285709E-3,0.10054619047619048,2.9483333333333327E-2,0,-1.3523809523809528E-3,5.641714285714286E-2,0.14883619047619046,7.0379047619047619E-2,8.2649047619047622E-2,0.35692904761904765,5.2444761904761918E-2,2.0521904761904759E-2,4.0000000000000003E-5,6.0476190476190479E-5,3.2590476190476184E-3,1.3333333333333342E-5,4.4152380952380945E-3,4.0714285714285722E-4,2.1428571428571432E-5,4.6130476190476187E-2,3.6661904761904765E-3,4.5571428571428559E-4,2.173809523809524E-2,2.1904761904761909E-5,1.9047619047619049E-5,6.1228571428571417E-3,4.266904761904762E-2,4.6190476190476194E-5,0.23158714285714291,8.6621904761904775E-2,4.1857142857142863E-4,3.1904761904761908E-5,1.07E-3,-2.0000000000000004E-4,234.80723952380944,5.6495542857142862,3.8494914285714286,5.5292342857142849,3.9143057142857147,1.3998742857142858,0.43031857142857144,1.6615923809523812,0.17686761904761905,0.14455380952380953,1.8000628571428574,0.10109952380952381,1.3599523809523808E-2,3.7619047619047614E-5,1.6790476190476191E-3,1.2983809523809522E-2,0.31405428571428573,3.8910476190476176E-2,0,5.5241428571428559E-2,0.21678571428571425,0.27658571428571427,0.19839714285714288,0.17609714285714287,0.92310714285714279,5.694095238095237E-2,3.3033333333333326E-3,1.0380952380952381E-4,3.9190476190476188E-4,1.322142857142857E-2,6.7047619047619063E-4,9.6923809523809558E-3,9.4476190476190474E-4,7.9047619047619065E-5,0.33358047619047621,2.2366666666666668E-3,5.804761904761905E-4,7.5673333333333329E-2,2.8952380952380956E-4,1.2952380952380954E-4,2.3619047619047619E-2,0.10101476190476191,1.6857142857142857E-4,0.88243285714285713,0.33936333333333335,1.3728571428571433E-3,5.4285714285714282E-5,4.8680952380952382E-3,1.0666666666666664E-4,123.59265380952381]
["MOOS1",2020,{"$f":"C287","v":9.1560898190476188},{"$f":"Tracking!CK44","v":17.805384319314275},{"$f":"Tracking!CP44","v":7.3520299396825433},{"$f":"Tracking!CQ44","v":15.630800467445908},{"$f":"G287","v":5.0179607756999998},{"$f":"H287","v":9.9760873409999995},null,{"$f":"Tracking!CS44","v":6.4343277310370786},null,null,null,null,null,null,null,null,null,null,null,null,null,{"$f":"Tracking!CR44","v":12.604641966226707}]
["MOOS1",2021,{"$f":"C287","v":9.1560898190476188},{"$f":"Tracking!CK45","v":17.627445751625313},{"$f":"Tracking!CP45","v":7.2392761972222255},{"$f":"Tracking!CQ45","v":15.316950409015172},{"$f":"G287","v":5.0179607756999998},{"$f":"H287","v":9.9760873409999995},{"$f":"Tracking!CE45","v":5.9029765217391317},{"$f":"Tracking!CS45","v":6.3877459523809526},null,null,18.164720434782605,6.1647204347826081,2.8961856521739127,0.51236434782608697,1.2769047826086954,0.45719565217391317,7.4903478260869558E-2,0.46548086956521728,0.48168521739130449,12,{"$f":"Tracking!CD45","v":12.83046833333333},{"$f":"Tracking!CR45","v":12.671503288690474},null,null,38.338994166666666,26.338994166666666,12.231304583333333,3.4114137499999999,5.4466824999999988,1.6413249999999995,0.36794625000000009,1.6362887500000003,1.604030416666667,12,{"$f":"I304","v":5.9029765217391317},{"$f":"M304/M304","v":1},{"$f":"O304/M304","v":0.15944014456881864},{"$f":"P304/M304","v":2.8206563908629675E-2},{"$f":"Q304/M304","v":7.0295867596377751E-2},{"$f":"R304/M304","v":2.5169429599282731E-2},{"$f":"S304/M304","v":4.123569010037781E-3},{"$f":"T304/M304","v":2.5625545476268056E-2},{"$f":"U304/M304","v":2.6517623495539874E-2},{"$f":"V304/M304","v":0.66062123240949377},{"$f":"W304","v":12.83046833333333},{"$f":"AA304/AA304","v":1},{"$f":"AC304/AA304","v":0.31903039840225333},{"$f":"AD304/AA304","v":8.8980262110423564E-2},{"$f":"AE304/AA304","v":0.14206639006548444},{"$f":"AF304/AA304","v":4.2810851867027537E-2},{"$f":"AG304/AA304","v":9.5971805728775773E-3},{"$f":"AH304/AA304","v":4.2679490830843186E-2},{"$f":"AI304/AA304","v":4.1838093344172031E-2},{"$f":"AJ304/AA304","v":0.31299725673119622},{"$f":"I304","v":5.9029765217391317},{"$f":"BE304","v":5.9029765217391317},{"$f":"BE304*AM304","v":0.94117143001242931},{"$f":"BE304*AN304","v":0.16650268451157532},{"$f":"BE304*AO304","v":0.41495485599670046},{"$f":"BE304*AP304","v":0.14857455199013192},{"$f":"BE304*AQ304","v":2.4341331052024094E-2},{"$f":"BE304*AR304","v":0.15126699330316876},{"$f":"BE304*AS304","v":0.15653290890648983},{"$f":"BE304*AT304","v":3.899631624675612},{"$f":"W304","v":12.83046833333333},{"$f":"BO304","v":12.83046833333333},{"$f":"BO304*AW304","v":4.0933094240708279},{"$f":"BO304*AX304","v":1.1416584352994892},{"$f":"BO304*AY304","v":1.822778318966179},{"$f":"BO304*AZ304","v":0.54928327920292086},{"$f":"BO304*BA304","v":0.12313632142958758},{"$f":"BO304*BB304","v":0.54759785558792373},{"$f":"BO304*BC304","v":0.53680233177944325},{"$f":"BO304*BD304","v":4.015901390909816},1.7494149999999997,1.0179280952380951,1.6565523809523812,1.0622682608695653,0.36451652173913052,5.9227826086956516E-2,0.44246347826086951,4.5719565217391303E-2,7.4903478260869558E-2,0.77579999999999993,7.5438695652173926E-2,7.678695652173914E-3,0,3.8913043478260869E-4,6.0508695652173924E-3,8.3163478260869575E-2,2.5084782608695646E-2,0,-1.2034782608695651E-3,4.1939130434782611E-2,8.6300869565217403E-2,5.5663043478260878E-2,6.3113478260869549E-2,0.24581304347826086,4.2145217391304349E-2,1.584E-2,2.0000000000000002E-5,9.0434782608695658E-5,5.8313043478260881E-3,3.5826086956521741E-4,3.9852173913043484E-3,5.2565217391304351E-4,1.7391304347826092E-5,4.5912173913043482E-2,3.1221739130434783E-3,4.0782608695652181E-4,2.9310434782608693E-2,6.304347826086956E-5,1.0000000000000002E-4,1.5126086956521741E-2,3.7520434782608685E-2,3.739130434782609E-5,0.23099391304347824,8.981347826086955E-2,5.9260869565217389E-4,2.0434782608695654E-5,1.5991304347826084E-3,3.0478260869565217E-4,246.14854739130433,7.0471491666666664,4.3213745833333332,6.6401304347826082,4.398282083333334,1.4956841666666667,0.40353875,1.7028191666666663,0.16413249999999999,0.36794625000000009,2.72714875,0.26416166666666668,3.5005217391304348E-2,6.0833333333333339E-5,1.6791666666666673E-3,2.5398750000000008E-2,0.32066291666666669,3.1327916666666671E-2,0,2.3877916666666669E-2,0.19321624999999998,0.32595541666666666,0.21510249999999997,0.18785833333333327,0.94601041666666641,0.14675625,4.3658750000000003E-2,1.0416666666666665E-4,6.1916666666666663E-4,2.5795833333333327E-2,1.1875E-3,2.4453333333333327E-2,9.4874999999999994E-4,9.3749999999999975E-5,0.31282083333333333,3.9166666666666664E-3,8.5749999999999986E-4,6.9930000000000006E-2,1.7041666666666667E-4,2.3375000000000004E-4,7.6266250000000008E-2,0.17465375000000002,4.7541666666666658E-4,0.91526749999999979,0.36259000000000002,2.6695833333333333E-3,1.3833333333333333E-4,4.4229166666666661E-3,3.7791666666666659E-4,122.30429916666667]
["MOOS1",2022,{"$f":"C287","v":9.1560898190476188},{"$f":"Tracking!CK46","v":17.449507183936351},{"$f":"Tracking!CP46","v":7.1265224547619077},{"$f":"Tracking!CQ46","v":15.003100350584436},{"$f":"G287","v":5.0179607756999998},{"$f":"H287","v":9.9760873409999995}]
["MOOS1",2023,{"$f":"C287","v":9.1560898190476188},{"$f":"Tracking!CK47","v":17.271568616247389},{"$f":"Tracking!CP47","v":7.0137687123015899},{"$f":"Tracking!CQ47","v":14.6892502921537},{"$f":"G287","v":5.0179607756999998},{"$f":"H287","v":9.9760873409999995}]
["MOOS1",2024,{"$f":"C287","v":9.1560898190476188},{"$f":"Tracking!CK48","v":17.093630048558428},{"$f":"Tracking!CP48","v":6.9010149698412722},{"$f":"Tracking!CQ48","v":14.375400233722964},{"$f":"G287","v":5.0179607756999998},{"$f":"H287","v":9.9760873409999995}]
["MOOS1",2025,{"$f":"C287","v":9.1560898190476188},{"$f":"Tracking!CK49","v":16.915691480869466},{"$f":"Tracking!CP49","v":6.7882612273809544},{"$f":"Tracking!CQ49","v":14.061550175292227},{"$f":"G287","v":5.0179607756999998},{"$f":"H287","v":9.9760873409999995}]
["MOOS1",2026,{"$f":"C287","v":9.1560898190476188},{"$f":"Tracking!CK50","v":16.737752913180504},{"$f":"Tracking!CP50","v":6.6755074849206366},{"$f":"Tracking!CQ50","v":13.747700116861491},{"$f":"G287","v":5.0179607756999998},{"$f":"H287","v":9.9760873409999995}]
["MOOS1",2027,{"$f":"C287","v":9.1560898190476188},{"$f":"Tracking!CK51","v":16.559814345491542},{"$f":"Tracking!CP51","v":6.5627537424603188},{"$f":"Tracking!CQ51","v":13.433850058430755},{"$f":"G287","v":5.0179607756999998},{"$f":"H287","v":9.9760873409999995}]
[{"$f":"A310","v":"MOOS1"},2028,{"$f":"C287","v":9.1560898190476188},{"$f":"Tracking!CK52","v":16.381875777802581},{"$f":"Tracking!CP52","v":6.45},{"$f":"Tracking!CQ52","v":13.12},{"$f":"G287","v":5.0179607756999998},{"$f":"H287","v":9.9760873409999995},null,null,6.46,{"$f":"E311","v":6.45},null,{"$f":"IF(M311=\"\",\"\",M311-V311)","v":""},null,null,null,null,null,null,null,null,null,null,13.2,{"$f":"F311","v":13.12},null,{"$f":"IF(AA311=\"\",\"\",AA311-AJ311)","v":""}]
[null,"5-yr period"]
[{"$f":"A287","v":"MOOS1"},"2000-04",null,null,null,null,null,null,null,{"$f":"IF(J287=\"\",\"\",J287)","v":9.1560898190476188},null,null,{"$f":"IF(COUNT(M283:M287)<3,\"\",AVERAGE(M283:M287))","v":25.293772645238093},{"$f":"IF(COUNT(N283:N287)<3,\"\",AVERAGE(N283:N287))","v":13.293772645238096},6.6664310357142869,1.0595636880952379,3.0668361023809525,1.0231709523809525,0.11445614047619046,1.0630521714285712,0.30026265476190472,12,null,{"$f":"IF(X287=\"\",\"\",X287)","v":20.652401402337663},null,null,{"$f":"IF(COUNT(AA283:AA287)<3,\"\",AVERAGE(AA283:AA287))","v":89.897121502380941},{"$f":"IF(COUNT(AB283:AB287)<3,\"\",AVERAGE(AB283:AB287))","v":77.897121502380955},57.336716776406931,5.4729335053679646,9.060586146926406,3.3459580562770568,0.35864329238095244,1.760253818874459,0.56203005675324669,12,{"$f":"J313","v":9.1560898190476188},{"$f":"M313/M313","v":1},{"$f":"O313/M313","v":0.26356017068767856},{"$f":"P313/M313","v":4.189029857096923E-2},{"$f":"Q313/M313","v":0.12124866248287115},{"$f":"R313/M313","v":4.0451496371522053E-2},{"$f":"S313/M313","v":4.5250719250747445E-3},{"$f":"T313/M313","v":4.2028217235071323E-2},{"$f":"U313/M313","v":1.1871011057673651E-2},{"$f":"V313/M313","v":0.47442507562268171},{"$f":"X313","v":20.652401402337663},{"$f":"AA313/AA313","v":1},{"$f":"AC313/AA313","v":0.63780370069900805},{"$f":"AD313/AA313","v":6.0879963828686254E-2},{"$f":"AE313/AA313","v":0.10078839005636499},{"$f":"AF313/AA313","v":3.7219857547813012E-2},{"$f":"AG313/AA313","v":3.9894858298822585E-3},{"$f":"AH313/AA313","v":1.9580758420922724E-2},{"$f":"AI313/AA313","v":6.2519249488801618E-3},{"$f":"AJ313/AA313","v":0.13348592034375847},{"$f":"J313","v":9.1560898190476188},{"$f":"BE313","v":9.1560898190476188},{"$f":"BE313*AM313","v":2.4131805955399064},{"$f":"BE313*AN313","v":0.38355133626251636},{"$f":"BE313*AO313","v":1.1101636441325575},{"$f":"BE313*AP313","v":0.37037753409253477},{"$f":"BE313*AQ313","v":4.1431964983635078E-2},{"$f":"BE313*AR313","v":0.38481413193875819},{"$f":"BE313*AS313","v":0.10869204348696743},{"$f":"BE313*AT313","v":4.3438786048097331},{"$f":"X313","v":20.652401402337663},{"$f":"BO313","v":20.652401402337663},{"$f":"BO313*AW313","v":13.172178042732344},{"$f":"BO313*AX313","v":1.2573174503498261},{"$f":"BO313*AY313","v":2.0815222881394275},{"$f":"BO313*AZ313","v":0.76867943821526152},{"$f":"BO313*BA313","v":8.2392462747666595E-2},{"$f":"BO313*BB313","v":0.40438968267109948},{"$f":"BO313*BC313","v":0.12911726358156247},{"$f":"BO313*BD313","v":2.7568048084997709},{"$f":"IF(COUNT(BY283:BY287)<3,\"\",AVERAGE(BY283:BY287))","v":3.750521547619047},{"$f":"IF(COUNT(BZ283:BZ287)<3,\"\",AVERAGE(BZ283:BZ287))","v":1.9788239285714286},3.9390744047619046,2.2069057880952383,0.80383322142857128,0.1199453404761905,1.0206910714285715,0.10231709523809525,0.11445614047619046,1.7717536190476193,4.566298571428571E-2,7.0959404761904762E-3,1.3726190476190476E-4,8.7035714285714288E-4,9.4446023809523823E-3,0.13564411904761903,4.3881952380952383E-2,2.5088809523809525E-3,3.3693190476190481E-2,9.6991499999999994E-2,0.21624461904761905,0.13849842857142858,7.9901857142857149E-2,0.56532959523809523,1.8309499999999996E-2,9.5075785714285703E-3,3.5062380952380947E-4,2.317452380952381E-4,6.8850380952380965E-3,1.0523523809523813E-3,6.3869857142857143E-3,8.712238095238096E-4,2.7229285714285717E-4,9.2916999999999986E-2,1.3235380952380953E-2,1.6006666666666664E-4,3.942012380952381E-2,1.824595238095238E-4,7.1345238095238094E-5,2.3974754761904759E-2,5.1930228571428573E-2,1.0973571428571429E-4,0.53860500000000011,0.19485605952380952,1.0735857142857143E-3,8.8009761904761909E-4,3.0345238095238103E-3,1.1416666666666667E-5,173.37452974047619,12.416655372727273,9.4915302999999991,12.150509694642857,9.643914532640693,5.577827135151515,0.60655876099567096,2.6758319119480523,0.33459580562770563,0.35864329238095244,2.9337563012987014,9.0458139350649322E-2,1.0461588787878787E-2,3.1071471861471864E-4,2.3050566233766235E-3,2.3496201645021648E-2,0.40888342857142856,{"$f":"IF(COUNT(EL283:EL287)<3,\"\",AVERAGE(EL283:EL287))","v":5.9825853679653686E-2},4.7333640692640688E-3,0.10420874112554113,0.30803658311688309,0.4701359575757576,0.46534516190476188,0.13884684069264069,1.4865732844155843,-0.10944667662337659,5.4660385714285723E-3,3.679520346320346E-4,5.5699969696969688E-4,2.1491332510822508E-2,1.7738530303030304E-3,1.2021844372294371E-2,1.2148699134199134E-3,7.8722272727272736E-4,0.4702005787878788,1.8646491341991346E-2,0,6.0365190606060617E-2,2.0642134199134202E-4,7.2755627705627709E-4,9.2852022943722939E-2,0.18969499536796533,2.7050177489177491E-4,3.9903886532467538,1.3522004635497837,3.2018143722943723E-3,2.3343915584415585E-3,6.5827547619047621E-3,4.4046839826839831E-5,56.254344224675322]
["MOOS1","2001-05",null,null,null,null,null,null,null,8.9655422023809503,null,null,{"$f":"IF(COUNT(M284:M288)<3,\"\",AVERAGE(M284:M288))","v":24.771724095238092},12.771724095238095,6.3727724523809535,0.97381040476190461,2.9086287023809527,0.94560595238095257,0.11147694047619047,1.0069749047619048,0.45245448809523808,12,null,20.940636997575758,null,null,{"$f":"IF(COUNT(AA284:AA288)<3,\"\",AVERAGE(AA284:AA288))","v":92.841935633333321},80.84193563333335,61.216954228787884,4.7180614339393934,9.2196686945454527,3.2861294848484848,0.35310775666666672,1.5663727236363636,0.48164146151515147,12,{"$f":"J314","v":8.9655422023809503},{"$f":"M314/M314","v":1},{"$f":"O314/M314","v":0.25725994799070129},{"$f":"P314/M314","v":3.9311369730179652E-2},{"$f":"Q314/M314","v":0.11741728961611045},{"$f":"R314/M314","v":3.817279527034325E-2},{"$f":"S314/M314","v":4.5001688234376815E-3},{"$f":"T314/M314","v":4.0650174404109285E-2},{"$f":"U314/M314","v":1.8264957511867901E-2},{"$f":"V314/M314","v":0.4844232865610989},{"$f":"X314","v":20.940636997575758},{"$f":"AA314/AA314","v":1},{"$f":"AC314/AA314","v":0.6593674917610074},{"$f":"AD314/AA314","v":5.0818214869762512E-2},{"$f":"AE314/AA314","v":9.9305002977935403E-2},{"$f":"AF314/AA314","v":3.5394883383588739E-2},{"$f":"AG314/AA314","v":3.803321788348081E-3},{"$f":"AH314/AA314","v":1.6871392361125913E-2},{"$f":"AI314/AA314","v":5.1877576466881235E-3},{"$f":"AJ314/AA314","v":0.1292519368337211},{"$f":"J314","v":8.9655422023809503},{"$f":"BE314","v":8.9655422023809503},{"$f":"BE314*AM314","v":2.3064749206929607},{"$f":"BE314*AN314","v":0.35244774434932669},{"$f":"BE314*AO314","v":1.0527096653424248},{"$f":"BE314*AP314","v":0.34223980697911033},{"$f":"BE314*AQ314","v":4.0346453504369557E-2},{"$f":"BE314*AR314","v":0.36445085415418771},{"$f":"BE314*AS314","v":0.16375524739734662},{"$f":"BE314*AT314","v":4.3431174194796132},{"$f":"X314","v":20.940636997575758},{"$f":"BO314","v":20.940636997575758},{"$f":"BO314*AW314","v":13.807575292969281},{"$f":"BO314*AX314","v":1.0641657904525035},{"$f":"BO314*AY314","v":2.0795100194041249},{"$f":"BO314*AZ314","v":0.74119140450725784},{"$f":"BO314*BA314","v":7.9643980954767823E-2},{"$f":"BO314*BB314","v":0.35329770307801034},{"$f":"BO314*BC314","v":0.10863494971069387},{"$f":"BO314*BD314","v":2.7066178904685452},{"$f":"IF(COUNT(BY284:BY288)<3,\"\",AVERAGE(BY284:BY288))","v":3.5559915476190476},1.8802155952380954,3.7327598716356105,2.1301580714285717,0.7726946547619048,0.11092352380952382,0.97171007142857135,9.4560595238095249E-2,0.11147694047619047,1.6782915357142858,6.8792202380952377E-2,7.8148571428571425E-3,8.9761904761904757E-5,8.994404761904761E-4,9.32845238095238E-3,0.13700011904761905,4.1543452380952375E-2,1.469047619047619E-3,2.0698690476190478E-2,9.6860000000000002E-2,0.21505345238095236,0.13283226190476188,8.378202380952382E-2,0.54922642857142867,3.2894999999999994E-2,1.3763428571428571E-2,2.3310714285714284E-4,2.0942857142857143E-4,6.8969880952380967E-3,6.9145238095238103E-4,6.0512857142857148E-3,7.5727380952380957E-4,2.5564285714285717E-4,8.5987499999999981E-2,8.6723809523809522E-3,1.9808333333333331E-4,3.8174523809523811E-2,1.8155952380952381E-4,7.5595238095238102E-5,2.2660821428571426E-2,4.9925178571428572E-2,1.1328571428571429E-4,0.50275583333333329,0.1873198095238095,7.7670238095238085E-4,6.3804761904761903E-4,2.7357738095238099E-3,1.691666666666667E-5,176.39275910714284,12.171711372727273,9.5645469666666667,11.864694005714286,9.8866422945454548,5.9029386351515152,0.51737541575757573,2.7105577690909088,0.32861294848484845,0.35310775666666672,2.610621206060606,7.4049853636363613E-2,1.0841838787878788E-2,2.7860757575757578E-4,2.1853542424242426E-3,2.1571808787878791E-2,{"$f":"IF(COUNT(EK284:EK288)<3,\"\",AVERAGE(EK284:EK288))","v":0.46522783333333323},6.1994306060606061E-2,4.241221212121212E-3,0.10550850303030304,0.31899682121212114,0.45039762424242424,0.44046623333333323,0.20064207878787879,1.5160112606060605,-9.354405757575758E-2,3.7192766666666668E-3,2.6371393939393937E-4,6.0908303030303022E-4,2.0846320606060603E-2,1.7336863636363635E-3,1.2754034848484846E-2,1.084631818181818E-3,8.5905606060606072E-4,0.40106641212121213,1.7619348484848488E-2,0,5.4627857272727273E-2,2.0611181818181817E-4,7.4573484848484864E-4,9.2825618181818184E-2,0.15107617393939393,2.6804939393939393E-4,4.1261017484848486,1.4310153921212123,2.5920881818181814E-3,2.2321772727272723E-3,5.5866000000000006E-3,4.993969696969698E-5,54.830701915151508]
["MOOS1","2002-06",null,null,null,null,null,null,null,8.8249311666666657,null,null,{"$f":"IF(COUNT(M285:M289)<3,\"\",AVERAGE(M285:M289))","v":24.450019749999996},12.450019749999999,6.0685233333333333,0.90451058333333345,2.8785344166666667,0.96478333333333344,0.10548283333333333,0.96188933333333337,0.56629449999999992,12,null,20.824294323333334,null,null,{"$f":"IF(COUNT(AA285:AA289)<3,\"\",AVERAGE(AA285:AA289))","v":90.16056279999998},78.160562800000008,59.338289349999989,4.5485592066666669,8.6797016566666656,3.1382310000000002,0.31892025666666673,1.4945138599999999,0.64234822666666669,12,8.8249311666666657,1,0.24820116283682489,3.6994268003948491E-2,0.11773137388433673,3.9459409161963298E-2,4.314222827297853E-3,3.9341045249394267E-2,2.3161310534319711E-2,0.49079714956058479,20.824294323333334,1,0.65814018354818882,5.0449543186155313E-2,9.6269381946079285E-2,3.4807136319251114E-2,3.5372478472002929E-3,1.6576137211068966E-2,7.1244922027778957E-3,0.1330958861317135,8.8249311666666657,8.8249311666666657,2.1903581775216043,0.32647186869606448,1.0389712706863692,0.34822656973166211,3.8072719488565603E-2,0.34718201635062301,0.20439697119516298,4.3312510616683655,20.824294323333334,20.824294323333334,13.705304888220107,1.050576135786214,2.0047419439705472,0.72483405126447042,7.3660690264676115E-2,0.34518636002725789,0.14836252253494034,2.7716279060316613,{"$f":"IF(COUNT(BY285:BY289)<3,\"\",AVERAGE(BY285:BY289))","v":3.4493783333333332},1.8526900000000002,3.6254310978260875,2.0915350833333335,0.73706958333333339,0.10282450000000001,0.96254700000000004,9.6478333333333346E-2,0.10548283333333333,1.6031489166666666,8.7132750000000009E-2,9.0087499999999994E-3,7.3750000000000004E-5,8.4608333333333345E-4,9.2371666666666661E-3,0.14892083333333334,4.1495833333333329E-2,1.4024999999999999E-3,1.722166666666667E-2,9.8180833333333342E-2,0.21524666666666667,0.12684083333333335,9.3067500000000011E-2,0.55055750000000003,4.606583333333332E-2,1.5159999999999998E-2,2.5999999999999998E-5,2.1716666666666667E-4,6.4772499999999995E-3,6.5925000000000001E-4,6.0520833333333329E-3,6.265000000000001E-4,2.0691666666666666E-4,7.9709166666666678E-2,6.2050000000000004E-3,3.3874999999999997E-4,3.4651000000000001E-2,1.4116666666666666E-4,5.6750000000000011E-5,2.0177083333333332E-2,4.6144249999999998E-2,1.3141666666666667E-4,0.47164833333333328,0.17868341666666668,5.4325E-4,4.4233333333333332E-4,2.5829999999999998E-3,1.7916666666666671E-5,179.4265225,11.625909933333334,9.1385103000000001,11.592229136666667,9.6256301733333345,5.8128102866666662,0.50216825666666665,2.5780158599999998,0.31382310000000002,0.31892025666666673,2.4908564333333332,9.9892989999999987E-2,1.2073793333333334E-2,2.4868333333333335E-4,2.1455966666666668E-3,2.0129096666666669E-2,{"$f":"IF(COUNT(EK285:EK289)<3,\"\",AVERAGE(EK285:EK289))","v":0.49609783333333324},6.3072033333333333E-2,3.8890999999999995E-3,9.3048200000000011E-2,0.31914469999999995,0.3979452,0.39220789999999994,0.24547336666666669,1.4478193666666668,-2.7082466666666648E-2,3.7192766666666668E-3,7.2319999999999999E-5,6.316966666666667E-4,1.7813426666666667E-2,1.6591333333333333E-3,1.5136466666666668E-2,8.2511666666666673E-4,8.4161666666666675E-4,0.38927769999999995,1.6106166666666668E-2,0,5.2865463333333342E-2,1.8209666666666667E-4,6.8858333333333336E-4,8.3083049999999992E-2,0.14576544666666666,2.7294333333333337E-4,3.9336944000000003,1.409166096666667,1.4408533333333333E-3,1.9751999999999999E-3,5.4166000000000006E-3,5.4803333333333345E-5,54.948879566666662]
["MOOS1","2003-07",null,null,null,null,null,null,null,8.5604073257575752,null,null,{"$f":"IF(COUNT(M286:M290)<3,\"\",AVERAGE(M286:M290))","v":23.802402249999993},11.80240225,5.8579705833333335,0.82535449242424241,2.6424979621212121,0.89185833333333342,0.10159609848484848,0.89929369696969697,0.58382937878787877,12,null,20.100191768985507,null,null,{"$f":"IF(COUNT(AA286:AA290)<3,\"\",AVERAGE(AA286:AA290))","v":82.320009524637669},70.320009524637683,52.696359031159417,4.1889261305797101,7.9485745878260854,2.9414541884057974,0.27944951391304346,1.4617768165217391,0.80346932449275354,12,8.5604073257575752,1,0.24610837686911771,3.4675260242870765E-2,0.11101812053954398,3.7469257260927674E-2,4.2683128122014873E-3,3.7781635967844264E-2,2.4528170419768406E-2,0.50415079427539733,20.100191768985507,1,0.64014034176451173,5.0885880052358362E-2,9.6557017348827517E-2,3.5731946648104376E-2,3.3946730026726568E-3,1.77572479031874E-2,9.7603162236306849E-3,0.14577257788592096,8.5604073257575752,8.5604073257575752,2.1067879522807016,0.29683435180562129,0.95036033235854978,0.32075210434714047,3.6538496266194528E-2,0.32342619331823991,0.20997112974881571,4.3157361526016116,20.100191768985507,20.100191768985507,12.866943628530608,1.0228159473859972,1.9408145653526936,0.71821897990605688,6.8233578346718254E-2,0.35692408814348253,0.19618422782091721,2.9300567701663871,{"$f":"IF(COUNT(BY286:BY290)<3,\"\",AVERAGE(BY286:BY290))","v":3.2751743181818185},1.7825620454545454,3.4366935069169964,1.9701969318181818,0.70940690909090909,9.3339833333333344E-2,0.88689859090909096,8.9185833333333339E-2,0.10159609848484848,1.4988228560606061,8.976933333333334E-2,8.1891515151515156E-3,5.5734848484848488E-5,8.0880303030303035E-4,9.232356060606059E-3,0.15096984848484851,3.909310606060605E-2,1.3434848484848486E-3,1.3302651515151517E-2,9.5798181818181824E-2,0.20018015151515151,0.11387507575757579,9.799363636363638E-2,0.52114969696969693,5.0665757575757565E-2,1.3699515151515152E-2,2.9371212121212119E-5,2.1582575757575761E-4,6.5191212121212122E-3,6.5361363636363642E-4,5.1929469696969698E-3,6.376666666666667E-4,2.0636363636363634E-4,7.2371287878787882E-2,5.7672727272727277E-3,4.1481060606060605E-4,3.5447984848484847E-2,1.4291666666666668E-4,5.8901515151515159E-5,1.9644583333333333E-2,4.3326765151515151E-2,1.3265909090909092E-4,0.45612348484848486,0.17201596969696969,5.4340151515151508E-4,4.1022727272727272E-4,2.6010151515151515E-3,2.5803030303030301E-5,184.53078204545457,10.883975295652174,8.4505243579710143,10.890907629420292,8.8726577747826081,5.2990244062318839,0.46950160086956522,2.4043303382608694,0.29414541884057976,0.27944951391304346,2.4362946942028985,0.12620724,1.0747615797101449E-2,2.4633913043478259E-4,2.0929879710144929E-3,1.9123727101449276E-2,{"$f":"IF(COUNT(EK286:EK290)<3,\"\",AVERAGE(EK286:EK290))","v":0.54058033333333322},6.4044895652173917E-2,3.466455072463767E-3,7.7946931884057977E-2,0.30991948260869562,0.34010027246376817,0.32896739275362313,0.30826898260869567,1.3652030623188407,3.1636627536231886E-2,3.7147766666666667E-3,6.482000000000002E-5,5.9934521739130433E-4,1.6754031739130433E-2,1.6287818840579709E-3,1.5864539130434785E-2,7.9717826086956526E-4,7.6013840579710148E-4,0.36405559855072461,1.3495695652173914E-2,0,4.888054666666667E-2,1.6521985507246377E-4,6.2931884057971024E-4,7.1020332608695641E-2,0.14144225826086956,2.5766797101449277E-4,3.5594053782608697,1.2848529553623191,1.3011142028985507E-3,1.7024391304347824E-3,5.0586615942028986E-3,3.0651159420289858E-5,58.361255606521738]
["MOOS1","2004-08",null,null,null,null,null,null,null,8.228199575757575,null,null,{"$f":"IF(COUNT(M287:M291)<3,\"\",AVERAGE(M287:M291))","v":23.016363166666661},11.016363166666666,5.3621271666666672,0.75937057575757572,2.4391171287878786,0.84615000000000007,0.10590101515151515,0.85172319696969701,0.65197287878787891,12,null,19.410283678985508,null,null,{"$f":"IF(COUNT(AA287:AA291)<3,\"\",AVERAGE(AA287:AA291))","v":75.475230721304342},63.475230721304357,47.463664861159415,3.7397666405797105,7.2193146244927533,2.5750691884057977,0.27387681057971014,1.3351588965217391,0.86837903115942028,12,8.228199575757575,1,0.23297021896284389,3.2992639638973482E-2,0.10597317704476954,3.6762975708752837E-2,4.6011185340039205E-3,3.7005116351448653E-2,2.8326494245280921E-2,0.52136820717961829,19.410283678985508,1,0.62886412413128112,4.9549588717243749E-2,9.5651441612022284E-2,3.411806977993026E-2,3.6286978915110904E-3,1.7690027360789038E-2,1.1505483625031218E-2,0.15899255802622897,8.228199575757575,8.228199575757575,1.9169254568342216,0.27147002348052418,0.8719684504014551,0.30249310113034611,3.7858921569501373E-2,0.3044854826638495,0.23307604793171988,4.2899216611288224,19.410283678985508,19.410283678985508,12.206431044924923,0.96177157317876083,1.8566216159932714,0.66224141300786898,7.0434055459566838E-2,0.34336844936193056,0.22332470102577848,3.0860906541366684,{"$f":"IF(COUNT(BY287:BY291)<3,\"\",AVERAGE(BY287:BY291))","v":3.1074351515151513},1.6928670454545454,3.2563694235836627,1.8487418484848483,0.64968540909090911,8.6201666666666663E-2,0.82108609090909079,8.461500000000001E-2,0.10590101515151515,1.4195386893939395,0.10125225,9.0428181818181814E-3,5.0068181818181817E-5,8.1913636363636368E-4,9.4701060606060608E-3,0.15589151515151517,3.5287272727272723E-2,7.4015151515151507E-4,6.4351515151515161E-3,9.5403181818181831E-2,0.18013015151515149,0.10559674242424244,0.10261696969696972,0.490182196969697,5.7442424242424225E-2,1.4729931818181819E-2,2.9287878787878786E-5,2.2649242424242427E-4,6.8677045454545466E-3,7.008636363636364E-4,5.1722803030303036E-3,6.5308333333333342E-4,1.8936363636363633E-4,6.6880454545454548E-2,3.7597727272727275E-3,4.1481060606060605E-4,3.4259484848484845E-2,1.4341666666666664E-4,5.5234848484848496E-5,2.0455083333333336E-2,4.4583265151515152E-2,1.5074242424242427E-4,0.41834681818181813,0.15765121969696971,5.7490151515151504E-4,3.7831060606060608E-4,2.4861818181818179E-3,2.8303030303030305E-5,191.24877504545458,10.034937128985508,7.8111160579710148,10.033433546086957,8.1660331947826101,4.8606906028985506,0.41987870753623185,2.2168576382608696,0.25750691884057975,0.27387681057971014,2.2252648275362317,0.13722284666666665,1.1363849130434783E-2,2.2044246376811593E-4,2.022201304347826E-3,1.8762860434782608E-2,{"$f":"IF(COUNT(EK287:EK291)<3,\"\",AVERAGE(EK287:EK291))","v":0.56937689999999996},5.4719328985507257E-2,1.5445884057971014E-3,5.8218298550724634E-2,0.30861351594202902,0.27520793913043473,0.26477119275362321,0.36148301594202897,1.2682939623188407,7.6634294202898551E-2,3.5993600000000002E-3,6.4400000000000007E-5,5.9089855072463773E-4,1.5756305072463769E-2,1.5064685507246377E-3,1.5963602463768115E-2,7.2927826086956519E-4,7.0478840579710146E-4,0.32573363188405791,9.6604956521739137E-3,0,4.9124653333333337E-2,1.7216985507246375E-4,5.6917550724637674E-4,7.0202999275362318E-2,0.12194404159420288,2.7435130434782612E-4,3.2220318449275362,1.1791620386956523,1.2144208695652173E-3,1.5085757971014491E-3,4.7433482608695652E-3,3.6651159420289854E-5,62.135972049855084]
["MOOS1","2005-09",null,null,null,null,null,null,null,7.8084032424242427,null,null,{"$f":"IF(COUNT(M288:M292)<3,\"\",AVERAGE(M288:M292))","v":22.078986333333329},10.078986333333333,5.0156587500000001,0.67980082575757583,2.1428003787878787,0.74613333333333343,9.8909515151515165E-2,0.75666119696969703,0.6390213787878789,12,null,18.932688238985506,null,null,{"$f":"IF(COUNT(AA288:AA292)<3,\"\",AVERAGE(AA288:AA292))","v":72.652693281304352},60.652693281304344,45.745639181159419,3.27504208057971,6.9511871844927544,2.5373891884057973,0.27142857057971015,1.2768292965217392,0.59517743115942023,12,7.8084032424242427,1,0.22716888693516263,3.0789494385947396E-2,9.7051574127423892E-2,3.3793821965769903E-2,4.4798032689656771E-3,3.4270649274660864E-2,2.8942514350087194E-2,0.54350321245877253,18.932688238985506,1,0.62964822245524521,4.5078054682695066E-2,9.567693736525934E-2,3.4924915702453957E-2,3.7359739649122769E-3,1.757442482659214E-2,8.1920903999380939E-3,0.16516937580740657,7.8084032424242427,7.8084032424242427,1.7738262733224301,0.24041678779583467,0.75781782609895343,0.26387578901142533,3.4980110370814312E-2,0.26759904891624592,0.22599482289513101,4.2438922464310718,18.932688238985506,18.932688238985506,11.92093349597655,0.85344875572740642,1.8114216267973984,0.66122254076741027,7.0732030346650709E-2,0.33273110622135588,0.15509829356761401,3.1271002987894634,{"$f":"IF(COUNT(BY288:BY292)<3,\"\",AVERAGE(BY288:BY292))","v":2.866966818181818},1.6100812121212122,2.9463668402503291,1.6844840984848486,0.60793515909090901,7.7388999999999999E-2,0.72629509090909095,7.4613333333333337E-2,9.8909515151515165E-2,1.2611020227272727,9.9341750000000006E-2,8.4069848484848476E-3,6.4984848484848489E-5,7.6996969696969703E-4,9.1839393939393936E-3,0.15193734848484847,3.1100606060606061E-2,4.468181818181818E-4,-1.0573484848484852E-3,9.0336515151515168E-2,0.15949181818181818,9.4828409090909102E-2,0.10378863636363636,0.44738803030303026,5.6662424242424236E-2,1.5496015151515153E-2,2.5454545454545457E-5,1.9324242424242428E-4,6.4630378787878789E-3,6.4028030303030291E-4,2.8871969696969697E-3,6.0150000000000004E-4,1.5728030303030304E-4,6.0082121212121219E-2,2.1514393939393939E-3,5.3431060606060608E-4,3.1144651515151511E-2,1.3375E-4,4.8984848484848493E-5,1.9261583333333335E-2,4.7449265151515152E-2,1.4415909090909092E-4,0.38301598484848481,0.14761996969696972,5.3223484848484838E-4,3.1506060606060609E-4,2.1251818181818186E-3,4.4553030303030306E-5,200.36798537878789,9.6508435289855079,7.519500857971015,9.5553725860869569,7.7975481547826089,4.6683401228985506,0.3677222275362319,2.1406672382608698,0.2537389188405797,0.27142857057971015,2.1280488275362317,9.5651086666666663E-2,1.3222009130434781E-2,2.0916246376811591E-4,1.8446013043478264E-3,1.7997820434782607E-2,{"$f":"IF(COUNT(EK288:EK292)<3,\"\",AVERAGE(EK288:EK292))","v":0.6062736999999998},5.5328928985507252E-2,1.2221884057971011E-3,5.1258298550724633E-2,0.32223831594202901,0.23079033913043476,0.22899839275362321,0.40162541594202905,1.2349107623188407,5.4060694202898552E-2,0,6.1519999999999994E-5,5.5425855072463773E-4,1.5325905072463767E-2,1.3702285507246376E-3,1.0160242463768116E-2,6.9351826086956527E-4,6.3606840579710148E-4,0.28545923188405797,9.3260956521739134E-3,0,4.6000653333333336E-2,1.6288985507246375E-4,4.9781550724637682E-4,6.9044839275362327E-2,0.14448956159420287,2.6611130434782605E-4,3.0564094449275365,1.1331142786956521,1.2221808695652174E-3,1.3216957971014492E-3,4.4450282608695648E-3,5.5371159420289851E-5,65.440672049855067]
["MOOS1","2006-10",null,null,null,null,null,null,null,7.4071864634387339,null,null,{"$f":"IF(COUNT(M289:M293)<3,\"\",AVERAGE(M289:M293))","v":21.233878126811593},9.233878126811593,4.5728516811594204,0.61755616996047435,2.0077936396574438,0.6696192028985507,9.9264449934123852E-2,0.70529782015810283,0.56149489328063251,12,null,18.039137822318843,null,null,{"$f":"IF(COUNT(AA289:AA293)<3,\"\",AVERAGE(AA289:AA293))","v":66.274437781304343},54.274437781304343,39.994802097826081,3.1200318305797099,6.7107854344927533,2.2921391884057973,0.30200940391304348,1.3341787965217391,0.52049118115942028,12,7.4071864634387339,1,0.21535640610960144,2.9083531810456167E-2,9.4556144085721341E-2,3.1535417077346597E-2,4.6748149038674481E-3,3.3215685610794639E-2,2.6443351041543568E-2,0.56513463665630825,18.039137822318843,1,0.60347252178589428,4.7077454521384926E-2,0.10125752340045997,3.4585569717988575E-2,4.5569515792744861E-3,2.0131122061334238E-2,7.8535736942343098E-3,0.18106528552679982,7.4071864634387339,7.4071864634387339,1.5951850561498544,0.21542714313540073,0.70039499050671761,0.23358871449421639,3.4627225675008609E-2,0.24603477683011479,0.19587083188288007,4.186057630660974,18.039137822318843,18.039137822318843,10.886123992478057,0.84923669043521,1.8265984201675727,0.62389385880621295,8.2203477588165957E-2,0.36314808538233173,0.14167169826803044,3.266261640455455,{"$f":"IF(COUNT(BY289:BY293)<3,\"\",AVERAGE(BY289:BY293))","v":2.7009207312252963},1.5274051976284584,2.7376450141633724,1.5638830368906456,0.55622265184453235,7.0918525362318838E-2,0.68216169960474304,6.6961920289855079E-2,9.9264449934123852E-2,1.1754963669301712,8.8354050724637687E-2,8.5136986166007896E-3,6.4332674571805011E-5,7.3138636363636364E-4,9.0152111330698299E-3,0.13800800065876154,2.5502671277997362E-2,2.3960803689064558E-4,-1.7663702239789202E-3,8.2196189064558639E-2,0.14901881093544136,9.0651706192358378E-2,9.3375556653491426E-2,0.41347589262187084,5.1108619894598153E-2,1.4562569499341238E-2,2.7392951251646905E-5,1.9263735177865612E-4,6.3459400527009231E-3,5.8401943346508562E-4,3.1083274044795784E-3,5.9353260869565217E-4,1.342911725955204E-4,5.5065925559947305E-2,2.9414393939393938E-3,4.5202437417654807E-4,3.1193173254281947E-2,1.351413043478261E-4,4.3082674571805009E-5,1.9560829710144931E-2,5.0301058629776019E-2,1.4345256916996048E-4,0.3541931949934124,0.13508363274044793,5.4288339920948619E-4,2.6911495388669303E-4,2.3596274703557309E-3,4.3574769433465089E-5,209.71158523386038,9.2525093623188397,7.0255841913043469,9.0499627527536237,7.1623504881159423,4.1183480395652179,0.35009664420289854,2.0792317382608694,0.22921391884057973,0.30200940391304348,2.2236313275362312,8.3451169999999991E-2,1.6637509130434783E-2,2.1016246376811591E-4,1.8125179710144928E-3,1.9600487101449276E-2,{"$f":"IF(COUNT(EK289:EK293)<3,\"\",AVERAGE(EK289:EK293))","v":0.5655945333333332},4.9708928985507259E-2,7.2052173913043493E-4,3.1696631884057969E-2,0.31890248260869564,0.23609450579710148,0.22238255942028989,0.38155791594202898,1.1906340956521739,4.6009027536231886E-2,1.3666666666666666E-5,6.6270000000000001E-5,5.7834188405797105E-4,1.5794071739130434E-2,1.2992285507246377E-3,1.130632579710145E-2,7.0843492753623193E-4,5.5231840579710143E-4,0.27179589855072467,9.5252623188405803E-3,0,5.341490333333334E-2,1.7905652173913039E-4,4.4539884057971007E-4,7.6855839275362325E-2,0.16266247826086955,2.8652797101449279E-4,2.6978461115942025,0.99978286202898536,1.283597536231884E-3,1.1562791304347828E-3,4.5065282608695648E-3,6.1704492753623187E-5,71.792131299855072]
["MOOS1","2007-11",null,null,null,null,null,null,null,7.0811401225296438,null,null,{"$f":"IF(COUNT(M290:M294)<3,\"\",AVERAGE(M290:M294))","v":20.487718376811596},8.4877183768115945,4.2578809084321474,0.50892966238471682,1.8481254881422924,0.54458814229249008,8.4560275691699591E-2,0.73555318379446644,0.5080805826745719,12,null,17.171991579565219,null,null,{"$f":"IF(COUNT(AA290:AA294)<3,\"\",AVERAGE(AA290:AA294))","v":60.034225527681158},48.034225527681158,34.211156431159417,2.7604318523188405,6.6431721047826091,2.1950906376811594,0.28066951260869566,1.3533757313043477,0.59032916304347816,12,7.0811401225296438,1,0.20782601703717779,2.4840719353148345E-2,9.0206505875931861E-2,2.6581200125674595E-2,4.1273642157931348E-3,3.5902152219496539E-2,2.4799276001842525E-2,0.5857167586597557,17.171991579565219,1,0.56986087736544555,4.5980968823292875E-2,0.11065641384379168,3.6563986932237946E-2,4.6751583807686809E-3,2.2543402857430388E-2,9.8332102705528113E-3,0.19988597994767043,7.0811401225296438,7.0811401225296438,1.471645147747489,0.17590061448407737,0.63876490807126718,0.18822520271490439,2.9226444348745866E-2,0.25422817056664365,0.17560714830633362,4.1475424401836083,17.171991579565219,17.171991579565219,9.7856461876430796,0.78958480945383613,1.900191006750475,0.62787647571572269,8.0281780347693552E-2,0.38711512404254111,0.16885580396602712,3.4324403645345387,{"$f":"IF(COUNT(BY290:BY294)<3,\"\",AVERAGE(BY290:BY294))","v":2.6615294433465086},1.4354387582345189,2.6549333247694333,1.4256381505270093,0.51791366699604746,5.8369449604743086E-2,0.63100201778656129,5.4458814229249017E-2,8.4560275691699591E-2,1.2259219729907775,7.9333732542819502E-2,6.9045849802371537E-3,8.3128129117259522E-5,6.3043181818181818E-4,7.6457262845849808E-3,0.12064694005270091,2.2192065217391303E-2,2.0286561264822134E-4,-3.6067490118577086E-3,7.6578992094861659E-2,0.13399797760210802,8.5888372859025036E-2,8.5773586956521736E-2,0.37863218050065878,4.6165665349143611E-2,1.4267690711462449E-2,1.8733860342555998E-5,1.804100790513834E-4,5.6101067193675891E-3,4.9917852437417654E-4,3.4307592226613969E-3,5.3993412384716727E-4,1.1084420289855071E-4,4.5337895256916991E-2,3.7667424242424238E-3,5.2144861660079049E-4,2.8047052042160736E-2,1.1799736495388671E-4,2.6226613965744401E-5,1.6825450922266141E-2,4.8123649538866928E-2,1.1673287220026352E-4,0.33723978590250325,0.12579664031620555,4.6892885375494068E-4,2.6090283267457185E-4,2.0925138339920948E-3,1.1756587615283272E-5,216.45881483234521,8.8333548333333312,6.5768121623188396,8.5449440897101461,6.5241386330434779,3.560476206231884,0.30960150289855071,2.0599692599999999,0.21950906376811594,0.28066951260869566,2.2556262188405798,9.3912930869565217E-2,1.6945009130434781E-2,1.9512623188405796E-4,1.8325324637681159E-3,1.8787871159420291E-2,{"$f":"IF(COUNT(EK290:EK294)<3,\"\",AVERAGE(EK290:EK294))","v":0.53485192463768116},4.6656102898550732E-2,6.8414492753623198E-4,2.6701124637681158E-2,0.30780436666666666,0.2517269695652174,0.22927263188405803,0.35898512608695654,1.1744902188405797,5.2092179710144924E-2,4.0698405797101444E-3,6.4371449275362313E-5,5.4039623188405802E-4,1.548610797101449E-2,1.2170582608695653E-3,1.2229510579710145E-2,7.3968130434782608E-4,4.7878942028985514E-4,0.24040441304347829,9.7959144927536237E-3,4.5243478260869572E-4,5.7103439565217393E-2,1.9254202898550725E-4,3.6777565217391295E-4,6.9089893623188417E-2,0.14580782608695653,2.8149173913043484E-4,2.3753496260869564,0.86454122072463768,1.252579420289855E-3,1.1161378260869566E-3,4.6224847826086945E-3,9.5161014492753615E-5,77.482901901304359]
["MOOS1","2008-12",null,null,null,null,null,null,null,6.9866479525691698,null,null,{"$f":"IF(COUNT(M291:M295)<3,\"\",AVERAGE(M291:M295))","v":20.292542724637681},8.2925427246376806,4.0379366475625824,0.4829950576416337,1.8740595513833991,0.52164031620553364,8.2394528656126481E-2,0.75170395059288542,0.5418129937417655,12,null,16.419112800579708,null,null,{"$f":"IF(COUNT(AA291:AA295)<3,\"\",AVERAGE(AA291:AA295))","v":55.626072719710145},43.626072719710145,30.529214500000002,2.6478260117391303,6.2687086736231885,2.0259924492753627,0.26641892202898548,1.3378571081159418,0.55005514855072468,12,6.9866479525691698,1,0.19898623363054563,2.3801603583922352E-2,9.2352130376843158E-2,2.5706010492819963E-2,4.060335354429942E-3,3.704335926715694E-2,2.670010363383081E-2,0.59135023948627696,16.419112800579708,1,0.54882922714733551,4.7600448535726279E-2,0.11269371298617634,3.6421633781050428E-2,4.7894612904172277E-3,2.4050899923443544E-2,9.8884411869655884E-3,0.21572617683196618,6.9866479525691698,6.9866479525691698,1.3902467617843022,0.16629342494747412,0.64523182261277223,0.17959884557838218,2.8368133690772169E-2,0.25880891018016622,0.18654422438668869,4.1315559399580852,16.419112800579708,16.419112800579708,9.0112889887870846,0.7815571338662789,1.8503307854361835,0.59801091343247137,7.8638705181370505E-2,0.39489443879847341,0.16235943127068628,3.5420324314418576,{"$f":"IF(COUNT(BY291:BY295)<3,\"\",AVERAGE(BY291:BY295))","v":2.6708463208168647},1.4178076910408433,2.638258372200263,1.4086775774044795,0.49396610573122529,5.5392840909090912E-2,0.63989188339920955,5.2164031620553351E-2,8.2394528656126481E-2,1.2528399176548091,8.4867732542819499E-2,6.92507114624506E-3,8.0092555994729902E-5,6.022302371541502E-4,7.0977579051383407E-3,0.11544441040843215,1.9747401185770754E-2,6.5395256916996053E-5,-6.4890019762845847E-3,7.3459505928853752E-2,0.13465485507246375,8.7089202898550738E-2,8.2237341897233196E-2,0.37095190382081683,4.9176574440052696E-2,1.614207411067194E-2,1.9279314888010543E-5,1.6380533596837944E-4,5.7538260869565211E-3,4.4442358366271402E-4,4.1571347167325429E-3,5.5028194993412389E-4,9.4045783926218697E-5,4.3015918972332014E-2,4.3433827404479571E-3,5.151561264822135E-4,2.5009494729907777E-2,9.3997364953886693E-5,2.3017127799736492E-5,1.6208103096179184E-2,4.7512685111989458E-2,1.0317160737812912E-4,0.31851622859025036,0.11995256916996047,4.9411067193675892E-4,2.3282773386034257E-4,2.1618102766798415E-3,7.6419631093544195E-6,218.81044946080368,8.3364904855072464,6.1297929528326742,8.0147170818050064,6.0210925315942037,3.2109390866666665,0.29671074202898551,1.9581917817391303,0.20259924492753623,0.26641892202898548,2.2297619579710144,8.6232430869565224E-2,1.8343451818181818E-2,1.69023465085639E-4,1.7004138866930168E-3,1.8174195270092227E-2,{"$f":"IF(COUNT(EK291:EK295)<3,\"\",AVERAGE(EK291:EK295))","v":0.49004775797101441},4.3782407246376817E-2,4.5512318840579713E-4,1.4136559420289855E-2,0.28642375072463766,0.2537727304347826,0.2198356391304348,0.32990284347826088,1.1040715231884057,4.7631418840579712E-2,4.4508405797101446E-3,7.4007812911725955E-5,5.3601283267457175E-4,1.5424040777338601E-2,1.1134021343873518E-3,1.2295225994729906E-2,7.4274849802371536E-4,4.5654040843214766E-4,0.2303106811594203,1.2828885507246377E-2,9.8625296442687751E-4,5.789680320158104E-2,1.8322187088274045E-4,3.0775984189723314E-4,6.3373656469038225E-2,0.13641016600790515,2.8382770750988147E-4,2.123208647826087,0.78175143021080373,1.2540458234519102E-3,1.0777623320158101E-3,4.6709156126482207E-3,1.0635864295125163E-4,83.647240028115945]
["MOOS1","2009-13",null,null,null,null,null,null,null,6.7309323086297752,null,null,{"$f":"IF(COUNT(M292:M296)<3,\"\",AVERAGE(M292:M296))","v":19.761689383728587},7.7616893837285899,3.7700640793807643,0.4727246485507246,1.7902643089591568,0.46887895256916989,6.6239665019762833E-2,0.68575931422924907,0.50775858465085633,12,null,15.802426276943345,null,null,{"$f":"IF(COUNT(AA292:AA296)<3,\"\",AVERAGE(AA292:AA296))","v":52.041913985164683},40.041913985164697,27.140209510909095,2.7896096153754941,5.9733305536231889,1.9505433583662715,0.24947431475625823,1.3124138462977599,0.62633356309617905,12,6.7309323086297752,1,0.19077640611459898,2.3921267021834551E-2,9.0592675261520289E-2,2.3726663417513092E-2,3.351923195104127E-3,3.4701451931224599E-2,2.5694087928987256E-2,0.60723553371305294,15.802426276943345,1,0.52150675162803994,5.3603132585990469E-2,0.11477922497865807,3.748023869610758E-2,4.793719055516954E-3,2.5218400819614031E-2,1.2035175402555807E-2,0.23058337176877811,6.7309323086297752,6.7309323086297752,1.2841030756410292,0.16101242906062616,0.60977316484297228,0.15970256537292302,2.2561568129971912E-2,0.23357312396024277,0.17294516658199463,4.0872612728172335,15.802426276943345,15.802426276943345,8.2410719955303051,0.84705955090333385,1.8137902408499382,0.59227870883747924,7.5752391967185154E-2,0.39851191977435835,0.19018497202897008,3.6437767330651356,{"$f":"IF(COUNT(BY292:BY296)<3,\"\",AVERAGE(BY292:BY296))","v":2.4850538208168644},1.3399395849802371,2.4370143126764541,1.3225133501317523,0.46354591633728592,5.4143522727272728E-2,0.61278156521739136,4.6887895256916994E-2,6.6239665019762833E-2,1.1429322206851122,7.8914232542819499E-2,5.9136014492753618E-3,7.8092555994729908E-5,5.2860144927536232E-4,5.7410533596837943E-3,0.10239304677206854,1.8378386034255602E-2,3.2895256916996049E-5,-7.0686231884057983E-3,6.6997839262187081E-2,0.133454779314888,8.3391021080368916E-2,7.3520599472990777E-2,0.35029561594202896,4.5170513833992093E-2,1.4773748353096177E-2,2.1491436100131753E-5,1.4702503293807643E-4,4.9020988142292488E-3,3.4845388669301717E-4,3.9817559288537552E-3,5.5093346508563903E-4,8.2591238471673245E-5,4.1894934123847163E-2,5.8539130434782606E-3,7.2542885375494073E-4,2.4427009881422927E-2,7.380797101449275E-5,2.0911067193675886E-5,1.2408140974967063E-2,4.2723791172595518E-2,7.5088274044795791E-5,0.30227691040843219,0.11246481159420289,4.2580006587615284E-4,1.8313076416337287E-4,2.1077193675889325E-3,3.2051054018445325E-5,224.90468504413701,7.9422308491436082,5.8347305949379376,7.6747291870681646,5.6231951570487491,2.8944213521212125,0.31276875657444003,1.8735777090118577,0.19505433583662718,0.24947431475625823,2.1873567034255599,9.7898627233201585E-2,2.0374736028708131E-2,1.4476662298037584E-4,1.6344812551140695E-3,1.7852763691144857E-2,{"$f":"IF(COUNT(EK292:EK296)<3,\"\",AVERAGE(EK292:EK296))","v":0.45284535797101444},4.2213352700922267E-2,2.3032318840579715E-4,1.3782995783926217E-2,0.26455782345191037,0.2557585486166008,0.21629683913043482,0.29942509802371547,1.0498213050065874,5.4226327931488807E-2,5.6313668954996185E-3,8.9190970806462812E-5,5.2381914846404555E-4,1.5862074461549129E-2,1.0913558185978781E-3,1.2876535468414118E-2,7.8714849802371536E-4,4.0919304001109494E-4,0.24261348115942027,1.4555903689064559E-2,1.364463490742667E-3,5.8865047412107352E-2,1.7170608140905621E-4,2.5831984189723315E-4,5.516681436377506E-2,0.13580359758685251,2.7780665487830254E-4,1.9367274841897235,0.70851395652659321,1.2928795076624366E-3,8.8598970043686292E-4,4.8064482442271685E-3,1.5856916926704112E-4,88.731090577206857]
["MOOS1","2010-14",null,null,null,null,null,null,null,6.7440330348202524,null,null,{"$f":"IF(COUNT(M293:M297)<3,\"\",AVERAGE(M293:M297))","v":19.785710824204777},7.7857108242047817,3.7675562817617161,0.46147527950310546,1.864560808959157,0.46537061923583661,6.2470605495953332E-2,0.71800833803877284,0.44626895369847547,12,null,15.230458840579709,null,null,{"$f":"IF(COUNT(AA293:AA297)<3,\"\",AVERAGE(AA293:AA297))","v":48.300927534255599},36.300927534255607,23.316918772727274,2.8867145899209485,5.8803771172595516,1.8655582674571805,0.20654444202898553,1.4120293590250328,0.73278514855072463,12,{"$f":"J323","v":6.7440330348202524},{"$f":"M323/M323","v":1},{"$f":"O323/M323","v":0.19041804033407231},{"$f":"P323/M323","v":2.3323664416370696E-2},{"$f":"Q323/M323","v":9.4237746903596376E-2},{"$f":"R323/M323","v":2.3520540827197737E-2},{"$f":"S323/M323","v":3.1573596749190401E-3},{"$f":"T323/M323","v":3.6289236430181726E-2},{"$f":"U323/M323","v":2.2555113519223881E-2},{"$f":"V323/M323","v":0.6064983010526892},{"$f":"X323","v":15.230458840579709},{"$f":"AA323/AA323","v":1},{"$f":"AC323/AA323","v":0.48274267106342078},{"$f":"AD323/AA323","v":5.9765199909953194E-2},{"$f":"AE323/AA323","v":0.12174460030998613},{"$f":"AF323/AA323","v":3.8623653057885982E-2},{"$f":"AG323/AA323","v":4.2762003251904787E-3},{"$f":"AH323/AA323","v":2.9234000900367898E-2},{"$f":"AI323/AA323","v":1.5171243824065792E-2},{"$f":"AJ323/AA323","v":0.24844243397788698},{"$f":"J323","v":6.7440330348202524},{"$f":"BE323","v":6.7440330348202524},{"$f":"BE323*AM323","v":1.2841855544387188},{"$f":"BE323*AN323","v":0.1572955633170656},{"$f":"BE323*AO323","v":0.63554247824488386},{"$f":"BE323*AP323","v":0.15862330433546001},{"$f":"BE323*AQ323","v":2.1293337950463339E-2},{"$f":"BE323*AR323","v":0.24473580929354813},{"$f":"BE323*AS323","v":0.15211243067776672},{"$f":"BE323*AT323","v":4.0902445778616947},{"$f":"X323","v":15.230458840579709},{"$f":"BO323","v":15.230458840579709},{"$f":"BO323*AW323","v":7.3523923822229396},{"$f":"BO323*AX323","v":0.91025141732756032},{"$f":"BO323*AY323","v":1.8542261240840714},{"$f":"BO323*AZ323","v":0.5882559581709631},{"$f":"BO323*BA323","v":6.5128493046887156E-2},{"$f":"BO323*BB323","v":0.44524724745852345},{"$f":"BO323*BC323","v":0.23106500462283316},{"$f":"BO323*BD323","v":3.7838922649536495},{"$f":"IF(COUNT(BY293:BY297)<3,\"\",AVERAGE(BY293:BY297))","v":2.5420285827216262},1.3613675849802369,2.489224596009787,1.3361814334650854,0.46666932109919068,5.3366796536796532E-2,0.63714413664596281,4.6537061923583659E-2,6.2470605495953332E-2,1.1966806254470168,6.9993065876152824E-2,5.9356347826086953E-3,6.2875889328063228E-5,5.0613478260869561E-4,5.1656533596837941E-3,0.10264888010540185,1.8417195558065126E-2,2.5157161678900814E-5,-5.7112422360248456E-3,6.4924029738377562E-2,0.13791132693393562,8.2284592508940338E-2,7.4554170901562217E-2,0.35396287784679081,3.9860037643515908E-2,1.2840115019762847E-2,3.6558102766798426E-5,1.4119169960474307E-4,5.0148988142292485E-3,3.435205533596838E-4,4.1660059288537547E-3,5.5796679841897223E-4,7.4007905138339915E-5,4.1259457933370977E-2,7.2248654244306404E-3,7.6872885375494065E-4,2.4804709881422922E-2,7.0691304347826066E-5,1.551106719367589E-5,1.1097874308300396E-2,3.5391724505928854E-2,6.5654940711462441E-5,0.30730143421795597,0.11351447826086955,4.1568339920948613E-4,1.5164743083003954E-4,2.0867193675889332E-3,2.4834387351778653E-5,224.61799868699418,7.7873158491436101,5.515032994937938,7.4569537270681652,5.2238600843214762,2.543901893939394,0.32545157839262184,1.8481700217391304,0.18655582674571808,0.20654444202898553,2.3533825579710146,0.11323632905138341,1.9037070574162679E-2,1.3044662298037585E-4,1.7123103460231607E-3,1.675066914569031E-2,{"$f":"IF(COUNT(EK293:EK297)<3,\"\",AVERAGE(EK293:EK297))","v":0.42822110342555997},4.0398916337285908E-2,2.2566864295125167E-4,1.5504341238471674E-2,0.24789945981554676,0.26733913043478263,0.21372833003952571,0.28228986166007913,1.0267611231884057,6.2306182476943348E-2,7.146548713681436E-3,1.060236980791901E-4,5.3190642119131811E-4,1.5335259916094584E-2,1.0334321822342417E-3,1.4384095468414118E-2,8.1107213438735165E-4,3.6071304001109494E-4,0.25226813570487483,1.4732849143610014E-2,1.5563725816517579E-3,6.0893985593925538E-2,1.4685153595451076E-4,2.2140711462450587E-4,4.0430810727411413E-2,0.11748634304139798,2.5923210942375708E-4,1.7004873023715419,0.62295694561750226,1.2050540531169823E-3,7.4194242770959018E-4,4.8303500624089866E-3,1.6231098744885932E-4,93.501643722661399]
["MOOS1","2011-15",null,null,null,null,null,null,null,6.8758310638057596,null,null,{"$f":"IF(COUNT(M294:M298)<3,\"\",AVERAGE(M294:M298))","v":20.024945875964612},8.0249458759646153,3.7780067910784867,0.47515616149068318,1.9820768338038772,0.4416754639563335,5.4368456427630343E-2,0.78509728627893849,0.5085646058723885,12,null,14.845006090579707,null,null,{"$f":"IF(COUNT(AA294:AA298)<3,\"\",AVERAGE(AA294:AA298))","v":45.68715813274045},33.68715813274045,20.882094234848488,3.0345035823451907,5.5786170945322793,1.7432985704874837,0.17420637384716733,1.3680604044795783,0.90637726218708825,12,6.8758310638057596,1,0.1886650188459747,2.3728212022834975E-2,9.8980384070995631E-2,2.2056262558315543E-2,2.7150363733510659E-3,3.9205962959493891E-2,2.5396553330154292E-2,0.59925255600332328,14.845006090579707,1,0.45706704221298255,6.6419180057745747E-2,0.12210470781141707,3.815729937551525E-2,3.8130271386332326E-3,2.9944090645883166E-2,1.9838775253949486E-2,0.26265586415191206,6.8758310638057596,6.8758310638057596,1.2972287972346519,0.16315117731517803,0.68057239950277659,0.15165513524992191,1.8668131435249792E-2,0.26957357800330611,0.17462241030107448,4.1203593396326506,14.845006090579707,14.845006090579707,6.7851630254549784,0.98599313248854581,1.8126451311489418,0.56644534162959714,5.6604411096556048E-2,0.44452020801500641,0.29450673947452211,3.8991279030616104,{"$f":"IF(COUNT(BY294:BY298)<3,\"\",AVERAGE(BY294:BY298))","v":2.7031639077733862},1.4106880280444192,2.6315134076039901,1.3718016736307173,0.46404930453604365,5.4343330698287215E-2,0.67567990890269147,4.4167546395633348E-2,5.4368456427630343E-2,1.3084955074345948,7.9192705627705626E-2,5.4791710144927539E-3,6.5004253717297188E-5,5.0099192546583851E-4,4.5615125729343122E-3,0.1015307517410126,1.9028392245435725E-2,4.7629211368341803E-5,-6.1671014492753629E-3,6.3832617730095992E-2,0.15554369132316956,8.5729271597967255E-2,7.6439226802183333E-2,0.37537770600414078,4.4466675324675319E-2,1.634614400527009E-2,3.4893506493506498E-5,1.2733248635422547E-4,4.6319133069828719E-3,3.1701951816299643E-4,4.888875494071146E-3,5.5842228496141551E-4,5.6127987954074906E-5,4.2016534537925837E-2,6.4147701863354039E-3,8.6521746659137951E-4,2.5005902428006776E-2,6.9776190476190475E-5,1.2687050630528891E-5,9.1296755505364206E-3,3.3020966741953699E-2,5.6706700545830989E-5,0.3023054383587428,0.11287932712215321,3.5288008658008655E-4,1.2386689252776208E-4,1.679738001129305E-3,4.6407886316581961E-5,220.93800216525506,7.5195432885375499,5.3205421464530902,7.1405543104014981,4.9622354479578394,2.3556362045454544,0.34991138142292499,1.7654875217391304,0.17432985704874837,0.17420637384716733,2.2801008458498027,0.14266376086956523,1.7861411483253587E-2,1.1702995631370918E-4,2.0022951945080089E-3,1.5329767630538796E-2,{"$f":"IF(COUNT(EK294:EK298)<3,\"\",AVERAGE(EK294:EK298))","v":0.39925349736495386},3.7523355731225297E-2,8.9001976284584978E-5,1.3499371541501975E-2,0.22568838405797101,0.27362863043478258,0.20547402700922271,0.26253599802371547,0.9808264110671937,8.0490243083003954E-2,1.3615154774287496E-2,1.1442521323070526E-4,4.8828520907010615E-4,1.5335706885791556E-2,9.9629581859787819E-4,1.7209224256292906E-2,7.9118577075098801E-4,2.8744788849594346E-4,0.27121099934123849,1.3170773386034253E-2,1.6841907634699397E-3,5.4654644684834622E-2,9.7154566257541086E-5,2.1240711462450589E-4,2.9518825878926569E-2,0.10614897940503432,2.371639276055752E-4,1.5746409387351779,0.57731677137507798,1.1712207197836489E-3,5.616469731641356E-4,4.6117364260453509E-3,2.0825795714582901E-4,96.330394336297758]
["MOOS1","2012-16",null,null,null,null,null,null,null,6.6988688819875772,null,null,{"$f":"IF(COUNT(M295:M299)<3,\"\",AVERAGE(M295:M299))","v":19.678895421419156},7.6788954214191607,3.5539797910784863,0.53262197967250136,1.8349402883493315,0.3812854639563335,5.6531910973084888E-2,0.76762274082439297,0.55191287859966109,12,null,14.080890525362316,null,null,{"$f":"IF(COUNT(AA295:AA299)<3,\"\",AVERAGE(AA295:AA299))","v":42.290276393610014},30.290276393610007,18.139389191370221,3.1778744519104087,5.1037889206192357,1.5483124835309618,0.17298793906455864,1.3144802305665348,0.83344274044795785,12,6.6988688819875772,1,0.18059854046534635,2.7065644095693404E-2,9.3244069296294058E-2,1.9375348859333327E-2,2.8727176887963792E-3,3.9007409937698391E-2,2.8045927720055923E-2,0.60979032323830562,14.080890525362316,1,0.42892576587915254,7.5144329214896777E-2,0.12068469056850167,3.6611547986120735E-2,4.090489677922673E-3,3.1082327727826119E-2,1.9707668322874558E-2,0.28375317031063857,6.6988688819875772,6.6988688819875772,1.2098059428556829,0.18130920100359135,0.62462979423883758,0.12979292155144154,1.9243959132213339E-2,0.26130552459858075,0.18787599247035541,4.0849054208782318,14.080890525362316,14.080890525362316,6.0396567528515339,1.0580990732767466,1.699347915982298,0.51552319915661526,5.7597737349953715E-2,0.43766685400895317,0.27750152016454738,3.9954973273685903,{"$f":"IF(COUNT(BY295:BY299)<3,\"\",AVERAGE(BY295:BY299))","v":2.6123138168642952},1.3471664825898739,2.5446276803312626,1.3095967645398079,0.43980403180877092,6.1587512516469031E-2,0.62690981799360068,3.8128546395633352E-2,5.6531910973084888E-2,1.2793715074345944,8.6634705627705616E-2,6.1350801054018429E-3,4.7004253717297198E-5,5.4517374364765672E-4,4.8349671183888585E-3,9.0716751741012625E-2,1.7047483154526633E-2,3.8538302277432715E-5,-6.5793741765480893E-3,5.7176799548277799E-2,0.15040460041407866,7.7601726143421798E-2,6.9679499529456054E-2,0.34828325145868627,4.8624402597402597E-2,1.9900234914360999E-2,4.9075324675324678E-5,1.2396884999058913E-4,4.6446405797101447E-3,2.9138315452663279E-4,5.3894209486166009E-3,5.7342228496141544E-4,4.2218897044984004E-5,4.7632261810653116E-2,7.6266792772444938E-3,8.1285383022774332E-4,2.7720993337097682E-2,7.9321645021645018E-5,1.5596141539619798E-5,9.2204937323546021E-3,3.7622512196499154E-2,7.0252155091285522E-5,0.28657116563147,0.10700169075851684,3.6206190476190472E-4,7.2685074345943911E-5,1.7840107284020326E-3,6.1226068134763795E-5,225.4038168925278,6.9410347114624518,4.8380167551487414,6.6084763143540668,4.5216140566534921,2.0695672480237155,0.3638305988142293,1.6296201304347826,0.1548312483530962,0.17298793906455864,2.1908004110671935,0.13077645652173914,1.8398541918036197E-2,1.0746473892240483E-4,1.9734256292906179E-3,1.4800463282712709E-2,{"$f":"IF(COUNT(EK295:EK299)<3,\"\",AVERAGE(EK295:EK299))","v":0.34934158432147561},3.5616138339920951E-2,4.2045454545454547E-5,1.3865197628458498E-2,0.2029441231884058,0.2661481086956522,0.19221854874835309,0.23016851976284589,0.90534449802371542,7.3615112648221334E-2,1.0973502600374451E-2,1.2085999583940089E-4,4.5819825254836698E-4,1.5083359059704596E-2,9.452523403370083E-4,1.6717311212814646E-2,8.018814229249011E-4,2.0049136675681298E-4,0.28200117325428192,1.3112773386034251E-2,1.3785385895568963E-3,5.8054557728312875E-2,8.8198044518410644E-5,1.8492885375494072E-4,2.915891283544831E-2,0.10444532723112128,2.1429436238818393E-4,1.3714311996047432,0.50796677137507795,1.155481589348866E-3,3.3390784272935303E-4,4.5093885999583942E-3,1.9686665279800296E-4,104.30022337977603]
["MOOS1","2013-17",null,null,null,null,null,null,null,6.58835644720497,null,null,19.451301334462634,7.4513013344626389,3.2830859649915296,0.55285215358554485,1.9097958535667232,0.3880767683041596,5.2751824016563142E-2,0.74067569734613214,0.52406235686053082,12,null,13.558925192028985,null,null,40.156613476943349,28.156613476943345,16.036680191370223,3.2842425352437417,4.9593083372859024,1.4748508168642953,0.16185193906455866,1.3112461472332015,0.92843340711462441,12,{"$f":"J326","v":6.58835644720497},{"$f":"M326/M326","v":1},{"$f":"O326/M326","v":0.16878490073950772},{"$f":"P326/M326","v":2.8422373602635779E-2},{"$f":"Q326/M326","v":9.818344905196974E-2},{"$f":"R326/M326","v":1.9951198206805257E-2},{"$f":"S326/M326","v":2.7119945914929949E-3},{"$f":"T326/M326","v":3.807846501425835E-2},{"$f":"U326/M326","v":2.6942277426550837E-2},{"$f":"V326/M326","v":0.6169253045676244},{"$f":"X326","v":13.558925192028985},{"$f":"AA326/AA326","v":1},{"$f":"AC326/AA326","v":0.3993534016651572},{"$f":"AD326/AA326","v":8.1785844245293476E-2},{"$f":"AE326/AA326","v":0.12349916758128471},{"$f":"AF326/AA326","v":3.6727470002197962E-2},{"$f":"AG326/AA326","v":4.0305176420688191E-3},{"$f":"AH326/AA326","v":3.2653304990125163E-2},{"$f":"AI326/AA326","v":2.3120311369077509E-2},{"$f":"AJ326/AA326","v":0.29882997994564503},{"$f":"J326","v":6.58835644720497},{"$f":"BE326","v":6.58835644720497},{"$f":"BE326*AM326","v":1.1120150889779865},{"$f":"BE326*AN326","v":0.18725672836979379},{"$f":"BE326*AO326","v":0.64686755957036557},{"$f":"BE326*AP326","v":0.13144560533526964},{"$f":"BE326*AQ326","v":1.7867587051647881E-2},{"$f":"BE326*AR326","v":0.2508745004763579},{"$f":"BE326*AS326","v":0.17750532718560114},{"$f":"BE326*AT326","v":4.0645238077919981},{"$f":"X326","v":13.558925192028985},{"$f":"BO326","v":13.558925192028985},{"$f":"BO326*AW326","v":5.4148028983601701},{"$f":"BO326*AX326","v":1.1089281438888685},{"$f":"BO326*AY326","v":1.6745159745124905},{"$f":"BO326*AZ326","v":0.4979850182522908},{"$f":"BO326*BA326","v":5.4649487193964175E-2},{"$f":"BO326*BB326","v":0.44274371963361386},{"$f":"BO326*BC326","v":0.31348657226973919},{"$f":"BO326*BD326","v":4.051813343218523},2.522165121212121,1.3019295260681347,2.4934395064182193,1.2950629384528516,0.40642411876529272,6.3924642951251651E-2,0.65086712234142663,3.8807676830415958E-2,5.2751824016563142E-2,1.2344597683041596,8.228766214944476E-2,5.9628192358366265E-3,6.0482514586862407E-5,5.3152156973461319E-4,4.4141845096932059E-3,8.734057782796914E-2,1.8858874458874457E-2,3.4190476190476194E-5,-4.3205915678524373E-3,5.9375929983060419E-2,0.15959390476190477,7.9412856578204405E-2,6.7530803877282136E-2,0.36159290363259922,4.7082663466967808E-2,2.0398408827404478E-2,5.7857933370976854E-5,1.5266450216450217E-4,4.3203797101449282E-3,2.8520924148315446E-4,4.9657687747035571E-3,5.7577011104837197E-4,3.9958027479766617E-5,4.9443913984566157E-2,7.0414618859401465E-3,7.2189730848861279E-4,2.8688210728402032E-2,8.8452079804253713E-5,1.4813532843967629E-5,8.4808415584415563E-3,3.8483294805194808E-2,6.8165198569546408E-5,0.26720516563146995,9.8909516845473361E-2,3.3336625258799173E-4,5.5989422172030857E-5,1.5724455110107283E-3,9.3399981178242026E-5,227.92514837078861,6.6193444469696967,4.5084011566638935,6.3775219309548579,4.272997973320158,1.8538803313570487,0.3786465154808959,1.5837584637681161,0.14748508168642951,0.16185193906455866,2.1854099110671936,0.14737570652173912,1.7756860099854378E-2,1.1249504195270787E-4,2.0193195686845572E-3,1.4056675403924829E-2,0.3203407509881423,3.3276971673254281E-2,1.4545454545454543E-5,1.9105864295125168E-2,0.19154520652173918,0.27107669202898549,0.19199079874835309,0.20614718642951252,0.87986574802371531,8.3145362648221352E-2,1.615591926704112E-2,1.1680696553637059E-4,4.4701643436654881E-4,1.4208237847583386E-2,9.1509324942791752E-4,1.8502606667360096E-2,8.040026350461133E-4,1.4005197281741907E-4,0.29348650658761527,1.145444005270092E-2,9.31887074405381E-4,5.8725944091949242E-2,8.7311680882046997E-5,1.6479249011857705E-4,2.5960950714236181E-2,0.1122022590493031,1.9015042299424449E-4,1.2254180329380766,0.45349153652659319,1.1141709832882601E-3,1.8937753969905E-4,4.3677295090493035E-3,1.8940453158588171E-4,110.23453762977601]
[{"$f":"A311","v":"MOOS1"},"2014-18",null,null,null,null,null,null,null,6.5939945657820447,null,null,19.441393077545641,7.4413930775456425,3.1481950875211746,0.57423862789384517,1.8884788061358928,0.39093487107095798,5.4576448522491994E-2,0.75384881197063813,0.63111943986448327,12,null,13.321164222332012,null,null,39.194291014822127,27.194291014822134,14.393386850461132,3.7046354216073789,5.061960003952569,1.5513082411067194,0.16015191633728593,1.283554912384717,1.0392933692358366,12,6.5939945657820447,1,0.16193258759616702,2.9536907442969069E-2,9.7137010635160823E-2,2.0108377497005538E-2,2.8072293124676612E-3,3.8775452405276252E-2,3.2462665476035851E-2,0.61723971899213959,13.321164222332012,1,0.36723171864540111,9.4519771264809843E-2,0.12915044188548491,3.9579954144853907E-2,4.0861031591749213E-3,3.2748517173057531E-2,2.6516447735789032E-2,0.30616703834397602,6.5939945657820447,6.5939945657820447,1.0677826026321502,0.19476620716894527,0.6405209202645632,0.13259453194194848,1.8510854831315822E-2,0.2556851224461319,0.21405863973978079,4.0700753528190043,13.321164222332012,13.321164222332012,4.8919540317246124,1.2591133952757902,1.7204342457432913,0.52725106907596953,5.4431651212758767E-2,0.43624837530015947,0.35322995488132952,4.0785013972451267,2.537842019762846,1.2988745379258424,2.5089606202898551,1.2919523178994918,0.38861443497082632,6.6487982872200257E-2,0.64354824487107098,3.9093487107095801E-2,5.4576448522491994E-2,1.2564149580274795,9.9632096932053466E-2,6.2362382081686419E-3,5.6352079804253705E-5,5.6119745906267637E-4,4.6762042725390553E-3,8.7662854507811028E-2,1.8988534537925837E-2,3.4190476190476194E-5,-4.2726152832674568E-3,5.8912103896103893E-2,0.15793550950498778,7.7254864483342761E-2,6.7696930359495575E-2,0.35752679296066248,5.6573042913608131E-2,2.7324361396574438E-2,6.2138565782044052E-5,1.5837596461509506E-4,4.28615046113307E-3,2.7962821381517029E-4,5.6674011857707511E-3,5.4029975531714666E-4,3.7412572934312074E-5,5.1540862601166949E-2,6.3133591191417288E-3,6.1979849425936365E-4,2.8667159345002819E-2,8.5942198381328818E-5,1.0694955768868813E-5,8.8355174477696193E-3,4.4380195990965557E-2,7.0556502917372494E-5,0.2519646359872012,9.4591999058912107E-2,3.3605004705439484E-4,4.4831319405232452E-5,1.5023190287972899E-3,6.005610766045547E-5,227.38844458817994,6.3919134999999994,4.271730647891963,6.1956290756917003,4.2029579278656124,1.6805459525691699,0.42691572760210805,1.6160165698287219,0.15513082411067192,0.16015191633728593,2.1392574489459815,0.16419723682476942,1.7360842555994731E-2,1.1306521739130434E-4,2.0940388669301712E-3,1.4060806982872199E-2,0.312188917654809,3.469959288537549E-2,1.4545454545454543E-5,2.6135477931488803E-2,0.18884310046113309,0.28944954051383404,0.20158654874835308,0.19177223188405795,0.89778689953886703,9.2310620223978915E-2,1.9932892951251648E-2,1.1562714097496707E-4,4.5065678524374179E-4,1.4002764163372861E-2,8.5878623188405791E-4,1.877131719367589E-2,8.1700263504611329E-4,1.1583267457180502E-4,0.3309042565876153,1.0842205204216072E-2,6.7500988142292495E-4,5.8432509881422921E-2,8.2210803689064559E-5,1.636258234519104E-4,2.5297209486166004E-2,0.11453287747035575,1.8282147562582345E-4,1.0923618132411066,0.40740517687747035,1.1146139657444004E-3,1.515135046113307E-4,4.4235102108036899E-3,1.881940052700922E-4,112.93426055401844]
[{"$f":"A327","v":"MOOS1"},"2015-19",null,null,null,null,null,null,null,{"$f":"IF(J302=\"\",\"\",J302)","v":6.4750655181629977},null,null,19.201676982307546,7.2016769823075482,2.9013557541878416,0.58250205646527387,1.8615629013739881,0.40424629964238656,4.9933400903444378E-2,0.72462414530397135,0.67745210653115007,12,null,12.988816572981367,null,null,37.956887058112173,25.956887058112176,13.089079382928665,3.9263369194428761,5.0356011165066823,1.5760525701110484,0.15834295096932055,1.1522614491812535,1.0192129190193864,12,{"$f":"J328","v":6.4750655181629977},{"$f":"M328/M328","v":1},{"$f":"O328/M328","v":0.15109908144279038},{"$f":"P328/M328","v":3.0335999142262007E-2},{"$f":"Q328/M328","v":9.6947933406505843E-2},{"$f":"R328/M328","v":2.1052655974520336E-2},{"$f":"S328/M328","v":2.6004708312431821E-3},{"$f":"T328/M328","v":3.7737544797344584E-2},{"$f":"U328/M328","v":3.5280882349773689E-2},{"$f":"V328/M328","v":0.62494541549974092},{"$f":"X328","v":12.988816572981367},{"$f":"AA328/AA328","v":1},{"$f":"AC328/AA328","v":0.34484069683821073},{"$f":"AD328/AA328","v":0.10344201602812253},{"$f":"AE328/AA328","v":0.13266633559272534},{"$f":"AF328/AA328","v":4.1522176665807826E-2},{"$f":"AG328/AA328","v":4.1716527155374137E-3},{"$f":"AH328/AA328","v":3.0357111409508787E-2},{"$f":"AI328/AA328","v":2.6851857410197168E-2},{"$f":"AJ328/AA328","v":0.31614815992755002},{"$f":"J328","v":6.4750655181629977},{"$f":"BE328","v":6.4750655181629977},{"$f":"BE328*AM328","v":0.97837645207631452},{"$f":"BE328*AN328","v":0.19642758200508301},{"$f":"BE328*AO328","v":0.62774422065762858},{"$f":"BE328*AP328","v":0.13631732676636485},{"$f":"BE328*AQ328","v":1.6838219010371396E-2},{"$f":"BE328*AR328","v":0.24435307505741735},{"$f":"BE328*AS328","v":0.22844602475338513},{"$f":"BE328*AT328","v":4.04656251063642},{"$f":"X328","v":12.988816572981367},{"$f":"BO328","v":12.988816572981367},{"$f":"BO328*AW328","v":4.4790725581305946},{"$f":"BO328*AX328","v":1.3435893721286822},{"$f":"BO328*AY328","v":1.7231786984234987},{"$f":"BO328*AZ328","v":0.53932393642310494},{"$f":"BO328*BA328","v":5.4184831928295082E-2},{"$f":"BO328*BB328","v":0.39430295178366948},{"$f":"BO328*BC328","v":0.34877385054490151},{"$f":"BO328*BD328","v":4.1063904591845253},2.4272832578580839,1.2195762998306041,2.431844658385093,1.2620870798042538,0.36084424449463587,6.8040268586485972E-2,0.63499414963297574,4.0424629964238665E-2,4.9933400903444378E-2,1.2077069580274797,0.10785057312252966,5.478609636740071E-3,4.1152079804253715E-5,5.3530698287220023E-4,4.6123899868247692E-3,8.6945425936382464E-2,2.1294725014116316E-2,2.9428571428571426E-5,-3.168805759457933E-3,5.5966008658008673E-2,0.15665703331451158,7.5268769245247516E-2,6.8051501788067001E-2,0.35277450724637682,6.1112471485036714E-2,3.0173042348955393E-2,5.2738565782044047E-5,1.4697120271033314E-4,3.9231599849425935E-3,2.1939488048183697E-4,5.837948804818369E-3,5.305283267457181E-4,2.7698287220026352E-5,5.274410069640504E-2,4.785644833427442E-3,5.4814135140222083E-4,2.8643578392621872E-2,7.10231507622812E-5,1.0404479578392626E-5,8.1016888763410476E-3,4.7714905514775086E-2,6.4894598155467736E-5,0.23341920741577266,8.7477380011293057E-2,3.574643327686806E-4,3.1612271786184834E-5,1.4763190287972899E-3,1.0356107660455468E-5,230.21944468341803,5.9852913571428576,4.0839689336062488,5.8637836328345561,4.0893233434500278,1.5564816278938454,0.45029126006964049,1.6041537732919255,0.15760525701110484,0.15834295096932055,1.9204345658290982,0.16244895976849236,1.6497292772444945E-2,9.2589026915113859E-5,2.0299392998306041E-3,{"$f":"IF(COUNT(EJ298:EJ302)<3,\"\",AVERAGE(EJ298:EJ302))","v":1.4147023433088648E-2},0.29773522934312069,3.4995324487107092E-2,0,2.9719218191229062E-2,0.18778660695463958,0.29480850155279503,0.20375688641069073,0.17512529681912289,0.89119650992847743,9.1353356154714835E-2,1.9078377799736496E-2,1.0811631846414457E-4,4.3031046489742139E-4,1.3874504423113119E-2,8.1224510634293236E-4,1.760279338415208E-2,8.5459137963485776E-4,9.564219838132881E-5,0.34904489728025595,8.3549930830039525E-3,5.9919602860907212E-4,6.3345358366271393E-2,1.3257011104837193E-4,1.5980331262939958E-4,2.5346382646339167E-2,0.11775828439676266,1.8599030679465465E-4,1.0092965664878599,0.3773289344532279,1.1857308488612836E-3,1.1009792019574629E-4,4.511947440240918E-3,1.8234552042160736E-4,117.03733377046865]
[{"$f":"A328","v":"MOOS1"},"2016-20",null,null,null,null,null,null,null,6.4343277310370786,null,null,19.125213608836816,7.1252136088368152,2.8818636213062305,0.60811614201016373,1.790540769574628,0.41760073169584039,5.2501393986448333E-2,0.70988530067758338,0.66470513316393753,12,null,12.604641966226707,null,null,36.358003595367492,24.358003595367492,11.58943729684265,4.0185112629399589,4.8962917365424437,1.567036167184265,0.14593596143892346,1.1462798796583851,0.99451194422877831,12,{"$f":"J329","v":6.4343277310370786},{"$f":"M329/M329","v":1},{"$f":"O329/M329","v":0.15068399654237921},{"$f":"P329/M329","v":3.1796567319341378E-2},{"$f":"Q329/M329","v":9.3622001102633842E-2},{"$f":"R329/M329","v":2.1835088498195269E-2},{"$f":"S329/M329","v":2.7451402666786441E-3},{"$f":"T329/M329","v":3.7117771084636694E-2},{"$f":"U329/M329","v":3.4755435769711358E-2},{"$f":"V329/M329","v":0.62744397241426852},{"$f":"X329","v":12.604641966226707},{"$f":"AA329/AA329","v":1},{"$f":"AC329/AA329","v":0.31875890177642491},{"$f":"AD329/AA329","v":0.1105261803607933},{"$f":"AE329/AA329","v":0.13466888311673686},{"$f":"AF329/AA329","v":4.3100170862624777E-2},{"$f":"AG329/AA329","v":4.0138606911166511E-3},{"$f":"AH329/AA329","v":3.1527580348345553E-2},{"$f":"AI329/AA329","v":2.7353315525704299E-2},{"$f":"AJ329/AA329","v":0.33005112529140529},{"$f":"J329","v":6.4343277310370786},{"$f":"BE329","v":6.4343277310370786},{"$f":"BE329*AM329","v":0.96955021757612581},{"$f":"BE329*AN329","v":0.20458953485462553},{"$f":"BE329*AO329","v":0.60239463792986092},{"$f":"BE329*AP329","v":0.14049411543358659},{"$f":"BE329*AQ329","v":1.7663132143476919E-2},{"$f":"BE329*AR329","v":0.2388279038041641},{"$f":"BE329*AS329","v":0.2236278641773318},{"$f":"BE329*AT329","v":4.0371801513771919},{"$f":"X329","v":12.604641966226707},{"$f":"BO329","v":12.604641966226707},{"$f":"BO329*AW329","v":4.0178418304394619},{"$f":"BO329*AX329","v":1.3931429313423973},{"$f":"BO329*AY329","v":1.6974530556781007},{"$f":"BO329*AZ329","v":0.54326222240658173},{"$f":"BO329*BA329","v":5.0593276913836673E-2},{"$f":"BO329*BB329","v":0.39739386235234075},{"$f":"BO329*BC329","v":0.34477874879073295},{"$f":"BO329*BD329","v":4.1601762648483955},{"$f":"IF(COUNT(BY299:BY303)<3,\"\",AVERAGE(BY299:BY303))","v":2.3767675247035576},1.1936252557406362,2.3959716563146998,1.2453153973743647,0.36134304371353287,7.1523907161678904E-2,0.61166471085074348,4.1760073169584043E-2,5.2501393986448333E-2,1.1831422689629212,0.10652214497459062,5.7499287125917561E-3,4.0844861660079046E-5,5.5056230001882163E-4,4.6925112930547705E-3,8.7334877658573312E-2,2.2192453886693012E-2,0,-2.0205310088462257E-3,5.6656558441558445E-2,0.14609605354790137,7.1056199651797478E-2,6.8025448663655189E-2,0.33981372929606624,6.0596422689629205E-2,2.8589636269527569E-2,5.9851778656126481E-5,1.5669019386410689E-4,4.1206166478449085E-3,2.1019598155467715E-4,5.8849360060229628E-3,5.2161278938452852E-4,3.4146668548842468E-5,5.5444649680030114E-2,3.9946750894033498E-3,5.4065287972896651E-4,2.8864830133634476E-2,6.318370035761341E-5,1.1100837568228875E-5,8.6149682382834561E-3,4.8473274750611708E-2,6.3499200075287036E-5,0.23750269974590624,8.7598272633163943E-2,4.0087803500846978E-4,3.2610577827969135E-5,1.5632559288537551E-3,-1.9673913043478283E-5,231.30450335427253,5.6930913555194795,3.8065163942805382,5.6766332910431956,3.8753874747670807,1.3958123757763976,0.45659452963250513,1.563180966614907,0.1567036167184265,0.14593596143892346,1.9104651391045551,0.15716097243788818,1.4906502329192543E-2,7.9486283643892341E-5,1.8001513975155279E-3,1.3209802018633539E-2,0.27912437758799175,3.6287564699792954E-2,0,3.5688568193581779E-2,0.18451064505693582,0.28600812694099381,0.20351815346790886,0.15870832556935818,0.8684338192287786,8.7890786102484464E-2,1.5745131340579713E-2,1.0662267080745343E-4,4.2470626293995855E-4,1.2982675983436854E-2,7.6485183747411999E-4,1.5655309912008281E-2,8.7403467908902697E-4,8.1030020703933754E-5,0.35394941705486543,8.0598777173913044E-3,5.8922230848861283E-4,6.6348061594202895E-2,1.6491718426501036E-4,1.2475414078674948E-4,2.3276501035196687E-2,0.11307456004140787,1.7726061076604553E-4,0.91607241265527961,0.33837878170289859,1.1509135610766046E-3,9.4554218426501038E-5,4.554138845755693E-3,1.4997735507246376E-4,121.37762050854037]
["MOOS1","2017-21",null,null,null,null,null,null,null,6.3877459523809526,null,null,19.050254285714285,7.0502542857142858,2.904716625258799,0.56470131987577643,1.7777911697722566,0.48072805383022776,6.0405559006211182E-2,0.64161074534161489,0.62030075569358178,12,null,12.671503288690474,null,null,36.913761919642852,24.913761919642855,11.468954747023808,3.9393829613095233,5.2021799702380944,1.6425565476190473,0.20287230654761909,1.2651492410714287,1.1926657440476189,12,6.3877459523809526,1,0.15247652769847986,2.9642718223412055E-2,9.3321125435339491E-2,2.5234731600969965E-2,3.1708531602913609E-3,3.3679904515645044E-2,3.2561284820158173E-2,0.62991285155698706,12.671503288690474,1,0.31069590717929119,0.10671854496664743,0.14092792768081078,4.4497132294310994E-2,5.4958448014388109E-3,3.4273105077329093E-2,3.230951498912301E-2,0.32508201212660642,6.3877459523809526,6.3877459523809526,0.97398132263906689,0.18935015334916946,0.59611164127122496,0.1611930546435156,2.0254604440245492E-2,0.21513867374638859,0.20799321531428872,4.0237232678858881,12.671503288690474,12.671503288690474,3.9369842096050585,1.3522843935091351,1.7857686990757271,0.56384555820465687,6.9640615475564341E-2,0.43429176370100975,0.40941012544066641,4.1192777857564096,2.2346657065217395,1.1763933022774329,2.2472222515527953,1.2451018944099379,0.36394228778467919,6.6030522774327124E-2,0.60741592132505184,4.8072805383022776E-2,6.0405559006211182E-2,1.0693506780538302,9.9235341614906838E-2,6.377670807453416E-3,2.8913043478260867E-5,4.9693581780538298E-4,5.0806832298136637E-3,9.2784156314699801E-2,2.5511376811594197E-2,0,-6.8787784679089038E-4,5.7606568322981368E-2,0.13792013457556937,7.1993892339544521E-2,7.0620522774327121E-2,0.33745324016563144,5.6492386128364394E-2,2.5113954451345753E-2,4.8260869565217394E-5,1.3816252587991719E-4,4.7862836438923393E-3,2.5442028985507245E-4,5.2853312629399588E-3,5.3950310559006218E-4,3.1335403726708081E-5,5.1185988612836436E-2,3.0807867494824018E-3,4.454503105590062E-4,2.82378933747412E-2,5.6671842650103523E-5,3.7805383022774333E-5,1.0751149068322981E-2,4.4780087991718426E-2,4.5460662525879924E-5,0.2387451552795031,8.8589824016563151E-2,4.806211180124224E-4,2.8628364389233954E-5,1.4806521739130433E-3,7.4021739130434756E-5,232.80053781573494,6.0360502380952381,3.9403776488095241,5.9898607861024846,4.0528853869047623,1.3949021130952381,0.45412693452380959,1.6449393452380952,0.16425565476190476,0.20287230654761909,2.108581130952381,0.19179019345238096,1.9628893633540371E-2,7.2738095238095249E-5,1.7405952380952381E-3,1.6417098214285716E-2,0.29853325892857147,3.6588348214285714E-2,0,3.9040982142857145E-2,0.19313851190476189,0.30189872023809528,0.20891095238095236,0.17086595238095234,0.91385511904761896,0.10712919642857141,2.489166666666667E-2,1.0157738095238095E-4,4.7797619047619045E-4,1.639348214285714E-2,8.2813988095238101E-4,1.729049107142857E-2,8.9296130952380953E-4,8.9032738095238084E-5,0.35203647321428572,6.7669791666666668E-3,6.2011904761904762E-4,6.3282083333333322E-2,1.7165178571428572E-4,1.5623511904761905E-4,3.7011324404761903E-2,0.1296146279761905,2.5578869047619045E-4,0.90542102678571423,0.33815802083333335,1.5935267857142858E-3,1.0055059523809523E-4,4.4216071428571421E-3,2.1000000000000001E-4,121.51568095238096]
["MOOS1","2018-22",null,null,null,null,null,null,null,""]
["MOOS1","2019-23",null,null,null,null,null,null,null,""]
["MOOS1","2020-24",null,null,null,null,null,null,null,""]
["MOOS1","2021-25",null,null,null,null,null,null,null,""]
["MOOS1","2022-26",null,null,null,null,null,null,null,""]
["MOOS1","2023-27",null,null,null,null,null,null,null,""]
["MOOS1","2024-28",null,null,null,null,null,null,null,""]
[" ",null,null,null,null,null,null,null,null,{"$f":"IF(J312=\"\",\"\",J312)","v":""}]
["SHEN1",2000,null,null,null,null,{"$f":"Tracking!CY24","v":3.1463273572000001},{"$f":"Tracking!CZ21","v":9.5204195729999999},{"$f":"Tracking!CU24","v":11.079403684210527},null,null,null,31.178997894736845,21.178997894736845,8.7477694736842118,4.660376315789474,4.037796842105263,2.0622105263157895,0.16023368421052633,1.4200557894736843,9.0555263157894722E-2,10,{"$f":"Tracking!CT24","v":27.229264999999998},null,null,null,160.83426550000001,150.83426550000004,128.89901450000002,4.1849695000000002,9.9459335000000006,5.3869000000000016,0.36001100000000003,2.029026,2.8410499999999998E-2,10,{"$f":"I339","v":11.079403684210527},{"$f":"M339/M339","v":1},{"$f":"O339/M339","v":0.28056608821160589},{"$f":"P339/M339","v":0.14947165176774865},{"$f":"Q339/M339","v":0.12950374016949601},{"$f":"R339/M339","v":6.6141013681004154E-2},{"$f":"S339/M339","v":5.1391543997497914E-3},{"$f":"T339/M339","v":4.554526717850018E-2},{"$f":"U339/M339","v":2.9043673393101856E-3},{"$f":"V339/M339","v":0.32072871725258512},{"$f":"W339","v":27.229264999999998},{"$f":"AA339/AA339","v":1},{"$f":"AC339/AA339","v":0.80144000471093646},{"$f":"AD339/AA339","v":2.6020384940919197E-2},{"$f":"AE339/AA339","v":6.1839642622672344E-2},{"$f":"AF339/AA339","v":3.3493484633098917E-2},{"$f":"AG339/AA339","v":2.2383973892677739E-3},{"$f":"AH339/AA339","v":1.261563258110567E-2},{"$f":"AI339/AA339","v":1.7664457204860984E-4},{"$f":"AJ339/AA339","v":6.2175805441160789E-2},{"$f":"I339","v":11.079403684210527},{"$f":"BE339","v":11.079403684210527},{"$f":"BE339*AM339","v":3.1085049513962022},{"$f":"BE339*AN339","v":1.6560567692806274},{"$f":"BE339*AO339","v":1.4348242159529569},{"$f":"BE339*AP339","v":0.73280299065473631},{"$f":"BE339*AQ339","v":5.6938766190314578E-2},{"$f":"BE339*AR339","v":0.50461440097582766},{"$f":"BE339*AS339","v":3.2178658199453994E-2},{"$f":"BE339*AT339","v":3.5534829315604082},{"$f":"W339","v":27.229264999999998},{"$f":"BO339","v":27.229264999999998},{"$f":"BO339*AW339","v":21.822622269875335},{"$f":"BO339*AX339","v":0.70851595695829817},{"$f":"BO339*AY339","v":1.6838480164780401},{"$f":"BO339*AZ339","v":0.91200296884807808},{"$f":"BO339*BA339","v":6.0949915687680364E-2},{"$f":"BO339*BB339","v":0.34351440269356026},{"$f":"BO339*BC339","v":4.8099018631231902E-3},{"$f":"BO339*BD339","v":1.6930014829458089},5.9383666666666661,3.5121421052631576,null,3.417705789473684,1.1552142105263159,0.58033000000000001,1.2993157894736842,0.20622105263157894,0.16023368421052633,2.3667599999999998,1.6388947368421048E-2,5.9294736842105261E-3,1.794736842105263E-4,1.2694736842105263E-3,1.5705789473684211E-2,0.28709473684210529,9.959999999999998E-2,9.9578947368421048E-3,5.7184210526315789E-2,0.12626315789473685,0.1820263157894737,0.16593684210526319,0.19043157894736845,0.72184210526315784,-2.0300000000000002E-2,0,8.1473684210526317E-4,1.8315789473684213E-4,1.035263157894737E-2,6.4526315789473676E-4,1.9026315789473685E-3,1.0484210526315789E-3,4.0000000000000003E-5,0.44986842105263153,9.1526315789473671E-3,2.4684210526315788E-4,1.7821578947368421E-2,8.1052631578947381E-5,6.5052631578947368E-4,3.587631578947368E-2,2.5491578947368421E-2,7.3157894736842116E-5,1.2418789473684213,0.28005210526315788,2.0642105263157895E-3,1.0157894736842104E-3,3.0500000000000006E-3,1.3157894736842106E-5,134.2798342105263,22.389454999999998,19.007745,null,15.910967500000003,11.591596499999998,0.47992550000000012,2.9363760000000001,0.53869,0.36001100000000003,3.3817099999999995,4.3690000000000005E-3,4.0324999999999996E-3,7.2000000000000015E-4,2.8080000000000002E-3,2.2548999999999996E-2,0.6794,0.18153,1.23E-2,3.3939999999999998E-2,0.42479999999999996,0.35149000000000008,0.48654999999999993,0.33453999999999995,1.6313200000000001,-0.28725000000000006,0,6.8099999999999996E-4,7.8499999999999989E-4,3.1039000000000001E-2,1.2244999999999999E-3,0,1.4564999999999999E-3,3.4E-5,0.37203499999999995,2.2339999999999999E-2,0,3.7163999999999996E-2,1.3000000000000001E-5,1.5214999999999998E-3,6.8292499999999992E-2,0,2.3800000000000001E-4,9.5675799999999978,2.8100839999999998,3.2121000000000004E-2,0,7.8785000000000001E-3,3.5500000000000002E-5,27.356364000000003]
["SHEN1",2001,null,null,null,null,{"$f":"G339","v":3.1463273572000001},{"$f":"H339","v":9.5204195729999999},{"$f":"Tracking!CU25","v":13.210694285714288},null,null,null,37.866028571428572,27.866028571428572,15.797827619047618,5.3540357142857138,3.1117000000000012,1.7873333333333332,0.20438476190476185,1.3521314285714285,0.25861666666666666,10,{"$f":"Tracking!CT25","v":27.617892272727271},null,null,null,176.78195181818182,166.78195181818182,143.4537018181818,9.0001295454545431,7.7465945454545455,4.2739545454545453,0.44539090909090912,1.8317890909090913,3.039272727272728E-2,10,{"$f":"I340","v":13.210694285714288},1,0.41720318224678332,0.14139417087762796,8.2176560822327771E-2,4.7201499622855816E-2,5.3975758645832296E-3,3.5708297901398234E-2,6.8297805823186652E-3,0.26408895723343428,{"$f":"W340","v":27.617892272727271},{"$f":"AA340/AA340","v":1},{"$f":"AC340/AA340","v":0.81147255329391466},{"$f":"AD340/AA340","v":5.0910907210205893E-2},{"$f":"AE340/AA340","v":4.3820053267778304E-2},{"$f":"AF340/AA340","v":2.4176419037675621E-2},{"$f":"AG340/AA340","v":2.519436540382745E-3},{"$f":"AH340/AA340","v":1.0361855789402444E-2},{"$f":"AI340/AA340","v":1.7192211625757954E-4},{"$f":"AJ340/AA340","v":5.6566860458045418E-2},{"$f":"I340","v":13.210694285714288},{"$f":"BE340","v":13.210694285714288},{"$f":"BE340*AM340","v":5.5115436956893973},{"$f":"BE340*AN340","v":1.8679151652463892},{"$f":"BE340*AO340","v":1.0856094224751782},{"$f":"BE340*AP340","v":0.62356458134480641},{"$f":"BE340*AQ340","v":7.1305724630959022E-2},{"$f":"BE340*AR340","v":0.47173140703858513},{"$f":"BE340*AS340","v":9.0226143311519597E-2},{"$f":"BE340*AT340","v":3.4887984782439752},{"$f":"W340","v":27.617892272727271},{"$f":"BO340","v":27.617892272727271},{"$f":"BO340*AW340","v":22.411161559146276},{"$f":"BO340*AX340","v":1.4060519508382805},{"$f":"BO340*AY340","v":1.2102175105346717},{"$f":"BO340*AZ340","v":0.66770173652283804},{"$f":"BO340*BA340","v":6.9581526960263346E-2},{"$f":"BO340*BB340","v":0.2861726169372521},{"$f":"BO340*BC340","v":4.7481264861011256E-3},{"$f":"BO340*BD340","v":1.5622574583366944},5.7569380952380955,3.5033857142857143,6.2082276190476176,4.1726114285714289,2.0392509523809528,0.66542476190476185,1.0415742857142856,0.17873333333333333,0.20438476190476185,2.2535523809523808,4.3243333333333335E-2,2.333809523809524E-3,1.6523809523809525E-4,1.3404761904761903E-3,1.4127142857142857E-2,0.23629047619047622,9.1542857142857134E-2,4.7285714285714283E-3,2.0942857142857142E-2,9.6271428571428549E-2,0.14521428571428571,0.16239523809523806,0.15382857142857148,0.57865238095238092,-3.3433333333333343E-2,0,5.6285714285714283E-4,3.5809523809523808E-4,1.2382380952380952E-2,7.1761904761904788E-4,1.0961904761904761E-3,1.467142857142857E-3,2.0095238095238095E-4,0.51498571428571416,1.1414285714285714E-2,0,1.869714285714286E-2,1.2904761904761905E-4,7.5428571428571428E-4,5.4723333333333332E-2,1.5289047619047617E-2,1.2999999999999999E-4,1.4006047619047617,0.49436380952380954,2.1928571428571431E-3,1.4742857142857144E-3,2.5233333333333336E-3,6.3333333333333319E-5,105.55368523809527,22.388859090909094,19.335877272727274,17.307755333333333,16.355944090909091,12.096192272727272,1.009384090909091,2.3730218181818183,0.42739545454545469,0.44539090909090912,3.0529818181818196,4.5590909090909093E-3,9.9668181818181809E-3,2.3681818181818179E-4,2.2013636363636363E-3,2.3722272727272731E-2,0.6296772727272727,0.1546909090909091,1.2545454545454544E-2,6.9281818181818181E-2,0.32403181818181814,0.23285909090909088,0.32265454545454547,0.36951818181818191,1.3183454545454543,-0.42285,0,8.4090909090909105E-4,1.297272727272727E-3,2.9910000000000003E-2,1.9509090909090908E-3,5.5654545454545453E-3,1.1545454545454548E-3,2.0636363636363639E-4,0.7824681818181819,2.1018181818181818E-2,0,3.3828181818181813E-2,5.4545454545454539E-5,1.7581818181818182E-3,0.10985136363636362,4.7410909090909101E-2,2.4045454545454552E-4,9.6776590909090903,2.93241,1.5615454545454545E-2,3.4909090909090908E-4,5.3190909090909087E-3,1.7727272727272726E-5,27.187177727272729]
["SHEN1",2002,null,null,null,null,{"$f":"G339","v":3.1463273572000001},{"$f":"H339","v":9.5204195729999999},{"$f":"Tracking!CU26","v":11.492608695652173},null,null,null,32.216009999999997,22.216009999999997,11.904248695652173,4.8728834782608708,2.7815534782608697,1.6172173913043479,0.13679695652173915,0.90044043478260849,2.870434782608696E-3,10,{"$f":"Tracking!CT26","v":29.890470833333335},null,null,null,211.48395916666664,201.48395916666664,176.141705,5.4535533333333346,11.203509166666668,4.6182499999999989,1.1209637499999998,2.9404724999999989,5.5054166666666663E-3,10,11.492608695652173,1,0.36951344054251828,0.15125657951623653,8.6340719358507456E-2,5.0199183303716012E-2,4.2462414346698786E-3,2.7950091733352719E-2,8.9099636566064395E-5,0.3104046714661437,29.890470833333335,{"$f":"AA341/AA341","v":1},{"$f":"AC341/AA341","v":0.83288446884610268},{"$f":"AD341/AA341","v":2.5787077917505265E-2},{"$f":"AE341/AA341","v":5.2975692392052243E-2},{"$f":"AF341/AA341","v":2.1837353613946866E-2},{"$f":"AG341/AA341","v":5.3004670161134479E-3},{"$f":"AH341/AA341","v":1.390399778586832E-2},{"$f":"AI341/AA341","v":2.603231322299933E-5},{"$f":"AJ341/AA341","v":4.7284910115188372E-2},11.492608695652173,{"$f":"BE341","v":11.492608695652173},4.2466733799392982,1.7383326810229043,0.99228010208844664,0.57691957055092402,4.8800391235925604E-2,0.32121946729900536,1.0239872579785999E-3,3.567359426462859,29.890470833333335,{"$f":"BO341","v":29.890470833333335},24.89530892358076,0.77078790037008527,1.5834683883202763,0.65272878127486511,0.15843345474818438,0.41559704028522826,7.7811809911625921E-4,1.4133682266548264,4.2922181818181819,2.8598130434782609,4.7891709090909096,3.3124678260869569,1.5033856521739128,0.58042217391304352,0.92966869565217392,0.16172173913043478,0.13679695652173915,1.5007343478260868,4.7478260869565213E-4,9.1434782608695638E-3,5.4347826086956524E-5,1.1821739130434782E-3,8.4234782608695654E-3,0.22389565217391302,7.8856521739130422E-2,6.3652173913043477E-3,2.6017391304347829E-2,6.7795652173913049E-2,0.129,0.14627391304347828,0.14739565217391304,0.51648260869565232,-2.6373913043478251E-2,0,5.0000000000000002E-5,3.4000000000000002E-4,8.2443478260869566E-3,1.0391304347826089E-3,7.5417391304347823E-3,3.6000000000000002E-4,3.1739130434782613E-5,0.44993913043478267,6.2478260869565216E-3,0,1.5379999999999998E-2,1.091304347826087E-4,4.9608695652173917E-4,3.0997826086956514E-2,6.0479130434782605E-2,9.7391304347826092E-5,1.1733565217391304,0.36445695652173915,6.6347826086956521E-4,1.7086956521739132E-4,2.2234782608695652E-3,5.3913043478260878E-5,127.00731260869564,26.541625,21.6408375,24.560420833333335,19.888371249999999,14.541562916666663,0.59497416666666669,3.168217499999999,0.46182499999999993,1.1209637499999998,4.9007875000000007,8.2708333333333332E-4,5.1637083333333333E-2,1.9875000000000001E-4,3.0199999999999997E-3,3.3166250000000008E-2,0.66092916666666668,0.14804999999999999,5.3208333333333337E-3,0.13247083333333334,0.44219583333333334,0.33328333333333332,0.49969583333333345,0.35247499999999993,1.7601208333333327,-0.32450416666666665,0,2.1874999999999995E-4,7.2124999999999999E-4,5.9122499999999995E-2,2.1033333333333334E-3,2.5544999999999998E-2,1.7295833333333332E-3,3.233333333333334E-4,0.46122083333333336,2.6091666666666666E-2,0,4.4660000000000005E-2,2.0041666666666667E-4,2.0458333333333331E-3,0.31318291666666664,0.20753708333333332,5.2041666666666664E-4,10.834737500000003,3.5252275000000002,6.7566666666666652E-3,7.499999999999998E-4,6.635000000000002E-3,1.7208333333333333E-4,21.020127499999997]
["SHEN1",2003,null,null,null,null,{"$f":"G339","v":3.1463273572000001},{"$f":"H339","v":9.5204195729999999},{"$f":"Tracking!CU27","v":9.4794200000000011},null,null,null,27.876785454545452,17.876785454545455,10.016352272727273,2.9020045454545449,2.2699990909090908,1.3117727272727273,0.16649863636363635,1.0799999999999998,0.13015818181818181,10,{"$f":"Tracking!CT27","v":27.874650869565219},null,null,null,176.76878217391305,166.76878217391305,143.91877434782609,5.3701021739130432,10.63802695652174,4.7022608695652179,0.44795043478260871,1.6873878260869564,4.2804347826086954E-3,10,9.4794200000000011,1,0.35930800877523905,0.10410111848033606,8.1429729213593954E-2,4.7056097246637028E-2,5.9726626886418104E-3,3.8741913114802851E-2,4.6690527510932526E-3,0.3587214177296561,27.874650869565219,1,0.81416397498418214,3.0379245180462328E-2,6.0180461876212801E-2,2.6601195141679048E-2,2.534103755616164E-3,9.5457342938914894E-3,2.4214879629579684E-5,5.6571074807550303E-2,9.4794200000000011,9.4794200000000011,3.406031524544177,0.98681822454486734,0.77190660370192687,0.44606450936171604,5.6617378143964954E-2,0.36725086601872448,4.4259912029768408E-2,3.4004709816548568,27.874650869565219,27.874650869565219,22.694536553261507,0.84681085308630921,1.6775093639686116,0.74149902728747796,7.06372574550546E-2,0.26608401073586091,6.7498131552308049E-4,1.576898959576521,4.0666857142857147,2.4478181818181817,4.3104280952380964,2.7495540909090903,1.3086127272727273,0.3625363636363636,0.7564418181818181,0.13117727272727273,0.16649863636363635,1.7999999999999998,2.4284999999999998E-2,6.0445454545454552E-3,7.3181818181818198E-5,1.0531818181818181E-3,7.8168181818181817E-3,0.14742272727272726,6.4022727272727273E-2,7.2454545454545462E-3,6.0636363636363657E-3,5.8345454545454548E-2,0.1299727272727273,0.13501818181818181,8.7513636363636349E-2,0.41691363636363632,1.4986363636363638E-2,9.409090909090908E-5,4.9545454545454547E-5,2.3681818181818179E-4,9.2377272727272742E-3,6.9590909090909078E-4,1.4276363636363637E-2,3.818181818181819E-4,7.3636363636363626E-5,0.28103636363636358,2.6368181818181822E-2,6.0000000000000002E-5,1.3366818181818181E-2,4.0000000000000003E-5,5.113636363636363E-4,4.4930000000000005E-2,7.1190909090909082E-2,9.6818181818181842E-5,0.9171636363636364,0.31723954545454552,7.4454545454545444E-4,2.4000000000000001E-4,2.7131818181818177E-3,9.9999999999999991E-6,167.1480254545454,21.212978260869566,18.400665217391303,19.668355652173915,16.907813913043476,12.264953913043477,0.61720913043478265,3.1068313043478257,0.47022608695652163,0.44795043478260871,2.8123130434782611,6.4478260869565225E-4,4.4653478260869559E-2,3.052173913043478E-4,2.1708695652173917E-3,1.8469565217391303E-2,0.59339130434782605,0.18658695652173912,9.9608695652173892E-3,7.5095652173913022E-2,0.39777391304347826,0.39261304347826093,0.54082173913043485,0.31971304347826091,1.7260173913043477,-0.24320000000000003,0,5.1304347826086959E-5,6.2826086956521753E-4,2.6116521739130434E-2,1.4743478260869564E-3,5.0372608695652167E-2,4.7869565217391308E-4,3.3826086956521747E-4,0.47845652173913045,3.5143478260869568E-2,0,3.5950434782608703E-2,1E-4,1.4043478260869562E-3,9.5730869565217397E-2,0.86451608695652182,1.7565217391304344E-4,9.2011565217391311,2.9733221739130427,2.7126086956521739E-3,4.8260869565217392E-4,4.8747826086956523E-3,0,26.059410869565223]
["SHEN1",2004,{"$f":"J343","v":10.963213246158876},{"$f":"Tracking!DA28","v":28.322496403820814},{"$f":"Tracking!DF28","v":10.963213246158876},{"$f":"Tracking!DG28","v":28.322496403820814},{"$f":"G339","v":3.1463273572000001},{"$f":"H339","v":9.5204195729999999},{"$f":"Tracking!CU28","v":9.5539395652173944},{"$f":"Tracking!DI28","v":10.963213246158876},null,null,27.348787826086959,17.348787826086959,9.7241969565217392,2.9751034782608694,2.2549482608695657,1.25,0.12523478260869567,0.76367173913043485,0.2556317391304348,10,{"$f":"Tracking!CT28","v":29.000203043478262},{"$f":"Tracking!DH28","v":28.322496403820814},null,null,190.92663826086957,180.92663826086954,156.87120695652175,6.032203043478261,10.020866521739132,4.9936956521739129,0.92348086956521735,1.7255608695652176,0.35962521739130432,10,9.5539395652173944,1,0.35556226544147601,0.10878374197715017,8.2451488351474839E-2,4.5705864843036043E-2,4.5791712380480361E-3,2.7923421834513545E-2,9.3470957746287203E-3,0.36564691874428834,29.000203043478262,1,0.82163080220468387,3.1594350052066893E-2,5.2485429026657246E-2,2.6155049382636991E-2,4.8368361689971936E-3,9.0378214652662818E-3,1.8835780102090111E-3,5.2376138243929372E-2,9.5539395652173944,9.5539395652173944,3.3970203956996472,1.0393132965278953,0.78773653677221656,0.43667107048636078,4.3749125267092653E-2,0.26677868466101423,8.9301588141101659E-2,3.4933685638908862,29.000203043478262,29.000203043478262,23.82746009071176,0.91624256653666791,1.5220880985971277,0.75850174270867354,0.14026923098895816,0.26209865756342837,5.4624144744292093E-2,1.5189186437072388,3.7464636363636372,2.4806565217391308,3.9432640909090919,2.6985982608695656,1.259263043478261,0.38379782608695656,0.7609930434782608,0.12500000000000003,0.12523478260869567,1.2727860869565217,4.4310000000000002E-2,5.9286956521739133E-3,1.6608695652173914E-4,1.0678260869565219E-3,6.7395652173913049E-3,0.16115217391304346,5.8686956521739143E-2,2.3130434782608696E-3,2.214347826086957E-2,6.4982608695652172E-2,0.11853913043478265,0.11995652173913045,9.7152173913043469E-2,0.42277391304347828,2.69304347826087E-2,0,4.0000000000000003E-5,4.2043478260869559E-4,7.6143478260869554E-3,9.2652173913043473E-4,2.5254347826086959E-2,3.3608695652173913E-4,1.3608695652173912E-4,0.2975173913043479,6.0217391304347835E-3,2.1608695652173911E-4,1.3850869565217392E-2,1.226086956521739E-4,3.8478260869565211E-4,2.9593478260869568E-2,3.7236086956521738E-2,1.091304347826087E-4,0.90651739130434761,0.305275652173913,6.039130434782609E-4,3.1739130434782611E-4,2.5973913043478261E-3,2.173913043478261E-5,159.10998217391304,22.722934782608693,19.846999999999998,22.000917391304348,18.233116521739131,13.076422608695653,0.6678673913043478,3.0120886956521749,0.49936956521739123,0.92348086956521735,2.8759347826086952,5.3887391304347831E-2,3.1611739130434781E-2,3.3956521739130429E-4,2.5730434782608698E-3,2.0620869565217387E-2,0.67168695652173915,0.17784347826086955,6.9434782608695641E-3,7.5743478260869551E-2,0.39679130434782622,0.32999130434782614,0.5137521739130434,0.35710434782608697,1.6733826086956523,3.1647826086956515E-2,0,8.1304347826086963E-5,1.1230434782608697E-3,3.0928695652173908E-2,2.0521739130434785E-3,2.3642173913043477E-2,1.0873913043478261E-3,2.9782608695652169E-4,0.51772608695652167,2.1595652173913044E-2,0,4.2160434782608697E-2,1.5434782608695648E-4,1.8600000000000003E-3,0.2911260869565217,0.10116130434782609,2.3086956521739134E-4,10.156513043478265,3.1700417391304341,2.6313043478260871E-3,6.6521739130434782E-4,7.6178260869565221E-3,4.7826086956521743E-6,22.524985217391304]
["SHEN1",2005,{"$f":"C343","v":10.963213246158876},{"$f":"Tracking!DA29","v":28.009128456640468},{"$f":"Tracking!DF29","v":10.790996027568923},{"$f":"Tracking!DG29","v":27.736142386994945},{"$f":"G343","v":3.1463273572000001},{"$f":"H343","v":9.5204195729999999},{"$f":"Tracking!CU29","v":10.482019130434782},{"$f":"Tracking!DI29","v":10.843736335403728},null,null,30.070826956521731,20.070826956521739,11.598794782608694,2.936651304347826,2.7523091304347829,1.6924782608695652,0.13110304347826091,0.82815391304347852,0.13133782608695654,10,{"$f":"Tracking!CT29","v":30.510654583333331},{"$f":"Tracking!DH29","v":28.978774320487485},null,null,223.49842416666672,213.49842416666672,192.82331333333335,4.3378916666666667,8.7925470833333321,4.637249999999999,0.50382333333333329,2.0647108333333333,0.33888999999999997,10,10.482019130434782,1,0.38571585674643905,9.7657816613883577E-2,9.1527550420021447E-2,5.6283063426112473E-2,4.3598083839801885E-3,2.7540111026573191E-2,4.3676160378579854E-3,0.33254822072098716,30.510654583333331,1,0.86275021424554477,1.9409048107792582E-2,3.9340532785039121E-2,2.0748468439052259E-2,2.254258996285465E-3,9.2381449266668737E-3,1.5162970444359094E-3,4.4743044776650517E-2,10.482019130434782,10.482019130434782,4.0430809893282165,1.0236511019832193,0.95939353446449893,0.58996014755198511,4.5699594885910286E-2,0.28867597063483807,4.5781434863221171E-2,3.4857768113894361,30.510654583333331,30.510654583333331,26.323073778542643,0.59218276260815883,1.200305406928629,0.63304935367711679,6.8778917577037524E-2,0.28186184884830623,4.6263215368513265E-2,1.3651395841870007,4.1229521739130437,2.742695652173913,4.4360621739130428,3.1848573913043476,1.5621108695652177,0.3803543478260869,0.91946347826086949,0.16924782608695652,0.13110304347826091,1.3802565217391305,2.2579565217391302E-2,7.570869565217392E-3,5.9565217391304356E-5,1.3121739130434781E-3,1.0319999999999999E-2,0.29457826086956523,7.8943478260869573E-2,3.860869565217391E-3,3.1826086956521739E-3,9.8239130434782607E-2,0.12301304347826085,0.11238260869565217,0.20393478260869566,0.54075217391304353,1.4904347826086959E-2,0,5.5217391304347828E-5,4.9304347826086947E-4,1.0299130434782611E-2,1.0021739130434781E-3,2.3482608695652176E-3,4.1956521739130428E-4,1.5217391304347827E-4,0.29484782608695648,9.7434782608695637E-3,0,1.7080434782608695E-2,6.0869565217391292E-5,4.7043478260869572E-4,2.8014347826086961E-2,1.3093478260869564E-2,1.2869565217391306E-4,0.99688695652173909,0.37869347826086963,8.347826086956521E-4,2.9521739130434777E-4,3.0713043478260869E-3,1.0434782608695653E-5,146.40660826086955,23.701545454545457,20.501091666666667,21.896818181818183,19.669180000000001,15.51495083333333,0.47678958333333332,2.6596875,0.463725,0.50382333333333329,3.4411849999999995,5.0205416666666669E-2,2.4502083333333331E-2,1.7041666666666667E-4,2.6612500000000004E-3,2.5416250000000005E-2,0.91175000000000006,0.18325416666666669,4.8916666666666666E-3,9.0900000000000022E-2,0.48562499999999992,0.14987916666666667,0.21968333333333337,0.6152833333333334,1.5613708333333334,2.9383333333333331E-2,0,1.2375000000000003E-4,1.0666666666666667E-3,3.6087500000000002E-2,2.1837499999999995E-3,0,1.0499999999999999E-3,6.8166666666666668E-4,0.36960416666666668,2.189166666666667E-2,0,4.4727916666666666E-2,1.2374999999999997E-4,1.7745833333333331E-3,0.12583416666666666,7.7664166666666659E-2,4.3249999999999994E-4,10.460420833333332,3.7612000000000005,3.8904166666666675E-3,8.6291666666666667E-4,7.0533333333333325E-3,7.0833333333333338E-6,19.487357916666671]
["SHEN1",2006,{"$f":"C343","v":10.963213246158876},{"$f":"Tracking!DA30","v":27.695760509460122},{"$f":"Tracking!DF30","v":10.61877880897897},{"$f":"Tracking!DG30","v":27.149788370169077},{"$f":"G343","v":3.1463273572000001},{"$f":"H343","v":9.5204195729999999},{"$f":"Tracking!CU30","v":10.592410952380956},{"$f":"Tracking!DI30","v":10.320079668737062},null,null,29.511111428571429,19.511111428571425,10.809866190476189,3.2486161904761905,2.3501385714285714,1.5254761904761902,0.2052333333333333,1.1004428571428573,0.27133619047619045,10,{"$f":"Tracking!CT30","v":27.753847727272728},{"$f":"Tracking!DH30","v":29.005965411396573},null,null,172.91496954545457,162.91496954545457,143.13028454545454,3.0865990909090915,9.5239231818181818,4.316590909090908,0.60031727272727298,1.9406595454545454,0.31659727272727267,10,10.592410952380956,1,0.36629817269472703,0.11008111972804303,7.9635718807705258E-2,5.1691587223627496E-2,6.9544426962732057E-3,3.7289102438800535E-2,9.1943738253617274E-3,0.33885541804157254,27.753847727272728,1,0.82774952869438845,1.7850386805855521E-2,5.5078650546299901E-2,2.4963662315865578E-2,3.4717484223913079E-3,1.1223201499303389E-2,1.8309419569602272E-3,5.7831892902547553E-2,10.592410952380956,10.592410952380956,3.8799807762887575,1.1660244582576822,0.84353426009946719,0.54753853465350732,7.3664314983710052E-2,0.3949814970772062,9.7390586008046343E-2,3.5892958413371803,27.753847727272728,27.753847727272728,22.973234375705825,0.49541691728263232,1.5286444802856742,0.69283768262958967,9.6354377062447677E-2,0.31148702542416523,5.0815684270948881E-2,1.6050575493972492,4.5489999999999995,2.7149285714285716,4.7310599999999994,3.0652447619047622,1.455975238095238,0.41342666666666661,0.79191428571428568,0.15254761904761907,0.2052333333333333,1.8340714285714288,4.6148095238095231E-2,1.4620952380952382E-2,1.4619047619047619E-4,1.1385714285714287E-3,1.4531428571428574E-2,0.25982380952380957,7.9409523809523805E-2,1.061904761904762E-3,-8.4761904761904792E-3,7.8799999999999995E-2,0.10779047619047619,9.4119047619047616E-2,0.18746666666666664,0.45970000000000005,2.685238095238095E-2,8.5714285714285726E-6,7.6666666666666655E-5,3.2809523809523801E-4,1.3130476190476192E-2,7.3333333333333334E-4,3.5114285714285716E-3,4.5952380952380957E-4,1.2571428571428572E-4,0.32048571428571426,1.1619047619047622E-3,0,1.8141904761904762E-2,8.2857142857142846E-5,3.5666666666666664E-4,4.5910476190476189E-2,1.8552380952380956E-2,1.8666666666666671E-4,0.90887619047619039,0.35296380952380946,1.1980952380952381E-3,2.2714285714285713E-4,2.0995238095238098E-3,3.0952380952380953E-5,139.82860142857143,19.917095238095243,16.652954545454545,18.959670499999998,16.705133181818184,12.459351818181814,0.36335181818181822,2.8019781818181815,0.43165909090909077,0.60031727272727298,3.2344322727272727,4.8474090909090911E-2,3.8667727272727277E-2,2.2999999999999998E-4,2.3945454545454543E-3,2.0058181818181815E-2,0.90167272727272729,0.14997727272727276,3.7681818181818181E-3,7.1668181818181811E-2,0.49874545454545455,0.17127727272727275,0.24307272727272727,0.61369090909090918,1.5984545454545454,2.7827272727272725E-2,0,1.3954545454545456E-4,7.563636363636365E-4,2.7260000000000003E-2,1.7440909090909091E-3,1.3789999999999998E-2,8.5272727272727269E-4,1.8545454545454548E-4,0.28166818181818182,1.4890909090909088E-2,0,3.3427272727272715E-2,9.2727272727272713E-5,1.2686363636363635E-3,0.16466272727272727,0.16562272727272725,2.3363636363636365E-4,8.0847499999999997,3.0204490909090911,2.5781818181818189E-3,2.6090909090909089E-4,5.3736363636363643E-3,3.8636363636363636E-5,26.364346363636365]
["SHEN1",2007,{"$f":"C343","v":10.963213246158876},{"$f":"Tracking!DA31","v":27.382392562279776},{"$f":"Tracking!DF31","v":10.446561590389017},{"$f":"Tracking!DG31","v":26.563434353343208},{"$f":"G343","v":3.1463273572000001},{"$f":"H343","v":9.5204195729999999},{"$f":"Tracking!CU31","v":11.129924782608693},{"$f":"Tracking!DI31","v":10.247542886128366},null,null,31.246494782608696,21.246494782608693,12.154368260869566,4.3317234782608693,2.183953913043478,1.3783478260869568,0.13948434782608696,0.87226695652173913,0.18634956521739129,10,{"$f":"Tracking!CT31","v":28.171336666666665},{"$f":"Tracking!DH31","v":28.662138578063242},null,null,178.26968541666665,168.26968541666665,143.02143750000002,4.06842375,13.288834999999999,4.5618750000000015,0.7243879166666668,2.3396862500000002,0.26504166666666668,10,11.129924782608693,1,0.38898341543367271,0.13863070108816936,6.9894365055597596E-2,4.4112078352357253E-2,4.4639998437111649E-3,2.7915673824867839E-2,5.9638550344248697E-3,0.32003589745259498,28.171336666666665,1,0.8022757047319542,2.2821736295158337E-2,7.4543436641738806E-2,2.5589740562662742E-2,4.0634385760740391E-3,1.3124420142053271E-2,1.4867455790208491E-3,5.6094786820469075E-2,11.129924782608693,11.129924782608693,4.3293561554590072,1.5429492756716341,0.77791902579699468,0.49096411406627744,4.9683982490082226E-2,0.31069934992661735,6.6377257947530979E-2,3.5619754663820511,28.171336666666665,28.171336666666665,22.601178977491141,0.64291881648879157,2.0999882499247597,0.72089719660342821,0.11447249615090237,0.36973245837656382,4.1883610244274609E-2,1.5802651247643305,4.3563130434782611,2.90095652173913,4.6054765217391314,3.1814113043478263,1.586077391304348,0.54455347826086953,0.74162347826086961,0.13783478260869567,0.13948434782608696,1.4537782608695651,3.1838695652173912E-2,8.6460869565217376E-3,5.4782608695652176E-5,1.2721739130434784E-3,9.0613043478260883E-3,0.2665826086956522,5.9708695652173911E-2,7.0434782608695646E-4,-2.7565217391304353E-3,8.9008695652173925E-2,0.1015391304347826,7.9139130434782601E-2,0.18645652173913044,0.4533869565217391,1.886521739130435E-2,0,7.9999999999999993E-5,3.5695652173913043E-4,8.5273913043478269E-3,8.7739130434782606E-4,2.3752173913043476E-3,4.4173913043478262E-4,7.5217391304347819E-5,0.42256521739130432,2.3043478260869566E-4,0,1.5472173913043478E-2,8.6086956521739136E-5,5.2130434782608694E-4,3.3196086956521743E-2,2.5688260869565219E-2,1.7086956521739132E-4,1.0725260869565216,0.38520826086956533,7.2608695652173912E-4,1.6086956521739129E-4,2.8030434782608691E-3,1.4652173913043477E-4,132.90212347826088,23.110356521739128,19.389687500000004,21.847500000000004,17.968518333333336,12.469696666666666,0.48451416666666675,3.7924950000000006,0.45618749999999997,0.7243879166666668,3.8994770833333328,4.1238333333333321E-2,2.7460833333333334E-2,2.5875000000000003E-4,2.9129166666666665E-3,3.3048749999999995E-2,1.1793083333333334,0.12142499999999999,2.0500000000000002E-3,0.15612083333333329,0.65754583333333338,0.25255833333333333,0.29685833333333328,0.83291666666666642,2.1960000000000002,2.233333333333334E-2,0,1.1208333333333334E-4,9.2624999999999999E-4,3.8143333333333328E-2,1.9495833333333335E-3,8.530416666666667E-3,1.2320833333333335E-3,1.0124999999999998E-4,0.37615416666666662,1.9320833333333332E-2,0,4.4405833333333346E-2,1.4333333333333334E-4,1.6008333333333337E-3,0.20447083333333335,4.5206666666666666E-2,4.5833333333333343E-4,9.0059458333333335,3.0291916666666658,3.8908333333333334E-3,2.4458333333333331E-4,6.3537499999999983E-3,8.125000000000001E-5,24.775104166666662]
["SHEN1",2008,{"$f":"C343","v":10.963213246158876},{"$f":"Tracking!DA32","v":27.06902461509943},{"$f":"Tracking!DF32","v":10.274344371799064},{"$f":"Tracking!DG32","v":25.977080336517339},{"$f":"G343","v":3.1463273572000001},{"$f":"H343","v":9.5204195729999999},{"$f":"Tracking!CU32","v":8.1589549999999988},{"$f":"Tracking!DI32","v":9.9834498861283656},null,null,23.907310833333337,13.907310833333334,8.0928950000000004,2.3305254166666667,1.5283125,0.88679166666666676,0.12682875000000002,0.793485,0.1484716666666667,10,{"$f":"Tracking!CT32","v":24.588055600000004},{"$f":"Tracking!DH32","v":28.004819524150196},null,null,122.74093119999998,112.74093119999998,89.66403840000001,6.1538143999999999,10.318094799999999,3.6208400000000007,0.70282559999999994,2.0744519999999995,0.20686279999999996,10,8.1589549999999988,1,0.33851130545039337,9.748170477698713E-2,6.3926575040347655E-2,3.7092907389242473E-2,5.3050194931654974E-3,3.3190056612041226E-2,6.2103039401510832E-3,0.41828209244083037,24.588055600000004,1,0.73051456855820263,5.0136611640762926E-2,8.4064009447567242E-2,2.9499857664433308E-2,5.726089847361367E-3,1.690106128182935E-2,1.6853611747732935E-3,8.1472414313897609E-2,8.1589549999999988,8.1589549999999988,2.7618985081610137,0.79534884259872296,0.52157404905831961,0.30263936220799675,4.3283415318860097E-2,0.27079617834509678,5.0669590384015376E-2,3.4127447695305748,24.588055600000004,24.588055600000004,17.9619328283191,1.2327617946186862,2.0669705382557089,0.72534414044517248,0.14079341553751684,0.41556423449662738,4.1439754271407066E-2,2.0032482530163507,3.3676916666666661,2.039754166666667,3.4511275000000006,2.1782695833333334,1.1076941666666666,0.30482041666666676,0.5236575,8.8679166666666656E-2,0.12682875000000002,1.3224750000000001,2.6586666666666672E-2,7.4374999999999988E-3,7.0416666666666666E-5,9.9375000000000006E-4,8.3245833333333314E-3,0.17750416666666666,4.0466666666666658E-2,9.1666666666666668E-5,-1.8008333333333331E-2,5.9633333333333337E-2,6.5708333333333327E-2,6.3004166666666653E-2,0.12838750000000002,0.29872500000000007,2.2437499999999999E-2,0,4.9583333333333337E-5,2.9291666666666664E-4,7.8045833333333335E-3,6.8999999999999997E-4,3.4254166666666669E-3,2.6708333333333337E-4,5.2500000000000002E-5,0.23732083333333334,-1.816666666666667E-3,6.4583333333333336E-5,1.2932500000000001E-2,6.4999999999999994E-5,2.7625000000000002E-4,3.0623749999999995E-2,2.0122083333333336E-2,1.1916666666666669E-4,0.74320833333333336,0.2696325,6.5583333333333325E-4,1.0791666666666668E-4,1.919583333333333E-3,6.3333333333333332E-5,184.94537625000001,17.112584000000005,13.644232000000002,16.493008800000002,13.348558799999999,8.5527268000000003,0.72160999999999997,2.9764799999999996,0.36208400000000007,0.70282559999999994,3.4574199999999995,3.2832800000000002E-2,3.2085599999999999E-2,3.0959999999999999E-4,2.5071999999999998E-3,2.8299600000000001E-2,0.97041199999999994,9.9891999999999981E-2,2.8399999999999996E-4,7.1492000000000014E-2,0.48043599999999992,0.20783600000000002,0.225272,0.70387999999999995,1.6889160000000003,2.4975999999999998E-2,0,1.2999999999999999E-4,7.8959999999999989E-4,3.2448400000000002E-2,1.9480000000000001E-3,1.5978800000000001E-2,1.1148E-3,1.2439999999999999E-4,0.56164800000000004,1.1356000000000002E-2,0,3.8525200000000009E-2,1.2679999999999999E-4,1.274E-3,0.20169399999999998,9.6328800000000006E-2,3.2879999999999997E-4,5.9224560000000004,2.0800128,2.7111999999999995E-3,2.1639999999999992E-4,5.8915999999999994E-3,4.6E-5,34.921774399999997]
["SHEN1",2009,{"$f":"C343","v":10.963213246158876},{"$f":"Tracking!DA33","v":26.755656667919084},{"$f":"Tracking!DF33","v":10.102127153209111},{"$f":"Tracking!DG33","v":25.390726319691471},{"$f":"G343","v":3.1463273572000001},{"$f":"H343","v":9.5204195729999999},{"$f":"Tracking!CU33","v":8.2333234782608695},{"$f":"Tracking!DI33","v":9.719326668737061},null,null,23.790498260869565,13.790498260869564,7.7142339130434783,1.765222608695652,1.9920560869565214,0.98869565217391298,0.14069869565217391,1.0923626086956519,9.7228260869565222E-2,10,{"$f":"Tracking!CT33","v":21.198066666666666},{"$f":"Tracking!DH33","v":26.444392248787882},null,null,86.580235416666653,76.580235416666653,60.378389583333337,3.8314512500000006,6.5885950000000024,3.0710833333333336,0.51771958333333334,1.9641575,0.22883791666666661,10,8.2333234782608695,1,0.32425692931920608,7.4198639698062854E-2,8.3733264646795577E-2,4.1558425608937841E-2,5.9140709920983067E-3,4.5915919738947285E-2,4.0868526503072674E-3,0.42033587907017173,21.198066666666666,1,0.69736920086625831,4.4253185863507689E-2,7.6098141432538777E-2,3.5470951523217407E-2,5.9796509081063622E-3,2.2685980126382291E-2,2.6430733938916438E-3,0.1154998014486226,8.2333234782608695,8.2333234782608695,2.6697121891525946,0.61090140228107992,0.6894030537278929,0.34216396128562571,4.869245955134454E-2,0.3780406200126164,3.3648379877967483E-2,3.4607612619038663,21.198066666666666,21.198066666666666,14.782878811243,0.93808198414702682,1.6131334752963857,0.75191559511926409,0.12675703859343254,0.48089891911772686,5.6028046008607987E-2,2.4483724910946649,3.9427347826086963,2.1193956521739126,3.9626660869565216,2.1618934782608692,1.0195573913043479,0.21961956521739129,0.66684521739130442,9.8869565217391292E-2,0.14069869565217391,1.8206043478260869,1.630130434782609E-2,1.1003913043478263E-2,3.9130434782608692E-5,7.5521739130434762E-4,8.5613043478260879E-3,0.20202173913043481,4.368695652173913E-2,2.4782608695652177E-4,-7.9913043478260851E-3,8.4665217391304337E-2,9.8543478260869552E-2,8.204782608695653E-2,0.14660000000000001,0.40386521739130443,1.1365217391304349E-2,0,6.2608695652173921E-5,2.8826086956521739E-4,6.9195652173913037E-3,5.991304347826087E-4,1.5791304347826086E-3,2.5999999999999998E-4,4.8695652173913039E-5,0.17096086956521736,8.3956521739130437E-3,0,1.1765217391304346E-2,8.8260869565217411E-5,2.6695652173913047E-4,3.3850869565217385E-2,2.0787826086956521E-2,1.4130434782608694E-4,0.67690869565217393,0.24814304347826086,5.991304347826087E-4,8.9130434782608701E-5,1.3643478260869563E-3,3.0869565217391308E-5,180.98324086956524,13.275775000000001,9.9915125000000025,12.575838333333335,9.6084241666666674,6.239630833333333,0.44773749999999995,2.0612924999999995,0.30710833333333332,0.51771958333333334,3.2735958333333333,3.4935833333333333E-2,3.3773749999999998E-2,2.4499999999999999E-4,1.8612500000000001E-3,1.7722083333333333E-2,0.66912500000000008,9.783749999999998E-2,6.7083333333333329E-4,5.2687499999999998E-2,0.3539416666666666,0.15454583333333333,0.1875833333333333,0.45601249999999999,1.2047708333333333,2.1812499999999999E-2,0,1.2708333333333332E-4,5.4708333333333334E-4,2.1999166666666667E-2,1.3004166666666665E-3,5.1616666666666668E-3,7.7875000000000004E-4,8.25E-5,0.34837499999999993,1.6012500000000002E-2,0,2.6897500000000001E-2,8.1666666666666669E-5,8.2125000000000004E-4,0.14385791666666667,7.2463333333333324E-2,2.5041666666666669E-4,4.2205874999999997,1.5175970833333334,1.8550000000000001E-3,2.2500000000000002E-4,3.8095833333333319E-3,3.041666666666667E-5,48.601274166666663]
["SHEN1",2010,{"$f":"C343","v":10.963213246158876},{"$f":"Tracking!DA34","v":26.442288720738738},{"$f":"Tracking!DF34","v":9.9299099346191575},{"$f":"Tracking!DG34","v":24.804372302865602},{"$f":"G343","v":3.1463273572000001},{"$f":"H343","v":9.5204195729999999},{"$f":"Tracking!CU34","v":9.7869190909090911},{"$f":"Tracking!DI34","v":9.5803066608319227},null,null,27.288211818181818,17.288211818181818,8.3516836363636386,3.4913890909090908,2.7915418181818183,1.2713636363636363,0.16374454545454548,1.1433763636363636,7.5110909090909103E-2,10,{"$f":"Tracking!CT34","v":22.121661739130435},{"$f":"Tracking!DH34","v":24.766593679947299},null,null,97.532784782608672,87.532784782608701,65.45759000000001,8.3505878260869562,7.944674782608697,2.9116956521739126,0.54638652173913027,2.3195608695652177,2.2886956521739137E-3,10,9.7869190909090911,1,0.30605463238155495,0.12794495711818019,0.10229845168241646,4.6590214295996538E-2,6.0005597488599228E-3,4.1900010570664996E-2,2.7525038867099228E-3,0.36645860368678013,22.121661739130435,1,0.67113422574674531,8.5618265126948076E-2,8.1456453851047356E-2,2.9853506784039911E-2,5.6020806025068801E-3,2.3782370971312864E-2,2.3465911050065876E-5,0.10252962654854007,9.7869190909090911,9.7869190909090911,2.9953319245162038,1.2521869434054627,1.0011866697410827,0.4559746577430342,5.8726992762257839E-2,0.41007201336333399,2.6938532836642819E-2,3.586500704450037,22.121661739130435,22.121661739130435,14.846604323522703,1.8940182998295327,1.8019521185619582,0.66040917880336658,0.12392733212400123,0.52610556598189806,5.1910494665008042E-4,2.2681257167461708,4.4282318181818177,2.5226045454545454,4.5905713636363634,2.7874422727272727,1.1133509090909088,0.43955636363636363,0.93019090909090918,0.12713636363636366,0.16374454545454548,1.9056272727272727,1.3461363636363638E-2,1.1228181818181819E-2,1.0590909090909092E-4,1.0604545454545456E-3,1.128090909090909E-2,0.24781818181818183,5.0522727272727268E-2,3.181818181818182E-5,5.4545454545454844E-5,0.10036818181818184,0.14050000000000004,0.10461363636363638,0.17123636363636363,0.51677272727272727,1.4227272727272726E-2,0,1.1954545454545456E-4,3.3000000000000005E-4,9.7372727272727281E-3,9.4181818181818179E-4,2.4977272727272726E-3,3.5772727272727274E-4,8.3181818181818183E-5,0.34074090909090909,9.7545454545454532E-3,0,1.4737727272727269E-2,5.1818181818181819E-5,3.254545454545455E-4,3.8099999999999995E-2,2.0139545454545452E-2,1.2090909090909096E-4,0.72633181818181813,0.26990318181818185,7.4136363636363647E-4,1.1181818181818181E-4,2.1663636363636364E-3,5.5000000000000009E-5,152.06940863636362,14.53994347826087,10.674008695652173,14.161251304347825,10.814760434782608,6.5702391304347829,0.99106173913043472,2.4155452173913039,0.29116956521739129,0.54638652173913027,3.8659347826086958,3.6086956521739133E-4,3.7314782608695654E-2,2.0608695652173911E-4,1.9013043478260871E-3,2.3183043478260869E-2,0.68501304347826097,0.11388695652173914,1.2826086956521736E-3,3.1443478260869566E-2,0.38069130434782616,0.19685652173913049,0.22396521739130434,0.50901304347826071,1.3419695652173915,-7.0999999999999987E-3,0,1.3173913043478257E-4,1.0808695652173913E-3,2.3716086956521734E-2,1.4395652173913045E-3,7.7508695652173916E-3,1.0256521739130436E-3,1.1217391304347828E-4,0.76826521739130438,1.6778260869565218E-2,0,3.0600434782608692E-2,7.3913043478260863E-5,9.9391304347826084E-4,0.14631,5.8904347826086959E-2,2.8478260869565218E-4,4.4101347826086963,1.5927852173913046,1.8821739130434781E-3,1.7304347826086958E-4,5.1726086956521726E-3,5.2608695652173922E-5,45.172976956521751]
["SHEN1",2011,{"$f":"C343","v":10.963213246158876},{"$f":"Tracking!DA35","v":26.128920773558391},{"$f":"Tracking!DF35","v":9.7576927160292044},{"$f":"Tracking!DG35","v":24.218018286039733},{"$f":"G343","v":3.1463273572000001},{"$f":"H343","v":9.5204195729999999},{"$f":"Tracking!CU35","v":7.8694421739130425},{"$f":"Tracking!DI35","v":9.0357129051383396},null,null,22.771787391304354,12.771787391304347,6.5673213043478267,2.1706656521739136,1.7210313043478258,0.85352173913043483,7.2661739130434805E-2,1.0937182608695653,0.29286652173913041,10,{"$f":"Tracking!CT35","v":22.101653333333335},{"$f":"Tracking!DH35","v":23.636154801159417},null,null,96.497232083333316,86.497232083333344,68.367252916666658,3.9442929166666665,7.9373037500000008,2.8745833333333337,0.33841583333333336,2.7378975000000008,0.29748583333333334,10,7.8694421739130425,1,0.28839726945877014,9.5322585569317456E-2,7.5577348179748927E-2,3.7481543475869669E-2,3.1908667458480423E-3,4.8029530667724966E-2,1.2860936943885423E-2,0.43913988077275851,22.101653333333335,1,0.70848926379179356,4.0874674138429636E-2,8.2254211635267263E-2,2.978928277290787E-2,3.5070004188418936E-3,2.8372808638030163E-2,3.0828431749879604E-3,0.10362991542974181,7.8694421739130425,7.8694421739130425,2.2695256351202096,0.75013557500562156,0.5947515711582263,0.29495883897236402,2.5110341341113254E-2,0.3779656142298447,0.10120839958224827,3.4557858980002911,22.101653333333335,22.101653333333335,15.658784098714774,0.90339787792053716,1.8179540707693103,0.65839240089544848,7.7510507497098341E-2,0.62708598061074816,6.8135931134616579E-2,2.2903924657908048,3.5663047619047616,1.8883565217391303,3.5711152380952389,1.9818199999999999,0.90237347826086978,0.27970565217391302,0.5891243478260868,8.5352173913043478E-2,7.2661739130434805E-2,1.8228634782608699,5.2603913043478258E-2,7.3417391304347827E-3,5.1304347826086959E-5,6.6043478260869573E-4,5.8160869565217366E-3,0.15268260869565212,4.1682608695652178E-2,9.5652173913043483E-5,-4.0217391304347835E-3,5.2908695652173911E-2,8.8791304347826075E-2,7.8817391304347825E-2,0.10910869565217389,0.32560434782608694,3.1556521739130428E-2,9.4782608695652179E-5,8.9130434782608688E-5,2.6130434782608696E-4,6.1060869565217396E-3,4.6956521739130436E-4,1.951304347826087E-3,2.2782608695652175E-4,5.0434782608695641E-5,0.21682608695652175,1.1130434782608697E-3,3.1826086956521742E-4,1.1593913043478262E-2,2.6521739130434774E-5,1.7521739130434781E-4,1.2608260869565218E-2,8.7239130434782625E-3,8.8695652173913063E-5,0.58831739130434779,0.21875695652173913,4.4217391304347825E-4,8.5217391304347819E-5,1.3508695652173913E-3,2.3826086956521742E-4,185.48414434782606,16.794937500000003,12.231775000000001,14.468615833333333,10.278076666666665,6.7449958333333333,0.45514458333333341,2.4071250000000002,0.28745833333333343,0.33841583333333336,4.5631624999999998,4.4937083333333329E-2,3.3007083333333333E-2,1.1749999999999998E-4,1.8150000000000004E-3,2.354708333333334E-2,0.60947083333333341,0.11786250000000004,1.5208333333333335E-3,1.8070833333333331E-2,0.39985416666666662,0.22782083333333339,0.25014999999999998,0.44139583333333338,1.3372916666666665,2.5512499999999997E-2,5.6291666666666675E-4,1.9166666666666667E-4,6.6041666666666668E-4,2.671041666666667E-2,1.3800000000000004E-3,7.8020833333333345E-3,1.0658333333333333E-3,1.2416666666666666E-4,0.35282499999999994,7.0499999999999998E-3,4.5291666666666657E-3,3.0425833333333336E-2,4.0416666666666662E-5,8.275E-4,6.3717083333333355E-2,2.2518750000000004E-2,4.2291666666666666E-4,4.6337416666666664,1.6351504166666666,2.1258333333333333E-3,2.5791666666666671E-4,3.9170833333333323E-3,1.6458333333333329E-4,45.359601249999997]
["SHEN1",2012,{"$f":"C343","v":10.963213246158876},{"$f":"Tracking!DA36","v":25.815552826378045},{"$f":"Tracking!DF36","v":9.5854754974392513},{"$f":"Tracking!DG36","v":23.631664269213864},{"$f":"G343","v":3.1463273572000001},{"$f":"H343","v":9.5204195729999999},{"$f":"Tracking!CU36","v":9.6250933333333339},{"$f":"Tracking!DI36","v":8.7347466152832673},null,null,26.447893809523809,16.447893809523805,8.6584761904761898,3.176925238095238,2.2517395238095239,1.007380952380952,0.14964523809523811,1.0954400000000002,0.10828761904761902,10,{"$f":"Tracking!CT36","v":19.295124545454545},{"$f":"Tracking!DH36","v":21.860912376916993},null,null,70.813782727272709,60.813782727272724,45.015886818181812,4.5070331818181817,6.0341999999999985,2.4315909090909091,0.41524181818181821,1.9783527272727275,0.43147909090909098,10,9.6250933333333339,1,0.32737866587162029,0.12012016007683896,8.5138708587777195E-2,3.8089269400280075E-2,5.6581155071543463E-3,4.1418799088097348E-2,4.0943759010641885E-3,0.37810194157687632,19.295124545454545,1,0.63569385908323628,6.3646270658584317E-2,8.5212225185592724E-2,3.4337819778047583E-2,5.8638559075575971E-3,2.793739652197395E-2,6.0931512806039418E-3,0.14121544725993959,9.6250933333333339,9.6250933333333339,3.1510502143564936,1.1561677519545155,0.81946801643682377,0.36661277297617312,5.4459889847141257E-2,0.39865980697751857,3.940875018949358E-2,3.639266477191982,19.295124545454545,19.295124545454545,12.265792183791675,1.2280627192110936,1.6441804977513301,0.66255250923680042,0.11314383005292322,0.53905554536723599,0.11756811283354891,2.724769642622602,4.2298952380952377,2.4041619047619047,4.2698766666666668,2.5442414285714285,1.1249480952380952,0.38650238095238088,0.76428000000000007,0.10073809523809521,0.14964523809523811,1.8257333333333334,1.8127142857142856E-2,1.4477619047619046E-2,1.5000000000000001E-4,9.0666666666666651E-4,1.0255238095238095E-2,0.1965904761904762,4.9285714285714294E-2,0,-8.9190476190476198E-3,7.5004761904761907E-2,0.11917619047619052,9.4199999999999992E-2,0.14513809523809526,0.42459999999999998,1.0690476190476191E-2,-1.2857142857142857E-5,4.0952380952380959E-5,4.5285714285714281E-4,1.0446190476190474E-2,8.0571428571428558E-4,3.7571428571428569E-3,4.7714285714285729E-4,7.5714285714285713E-5,0.29961428571428572,1.8380952380952389E-3,1.3999999999999998E-3,1.7142380952380951E-2,3.2857142857142864E-5,1.6047619047619043E-4,2.9825714285714292E-2,8.2690476190476203E-3,1.0714285714285715E-4,0.74453333333333327,0.2727147619047619,7.9000000000000001E-4,6.2380952380952377E-5,2.1428571428571425E-3,9.5238095238096781E-7,151.04074571428572,12.551759090909094,9.2545045454545445,10.904970909090908,7.853350909090909,4.6995750000000012,0.52248500000000009,1.9037209090909095,0.24315909090909085,0.41524181818181821,3.2972545454545452,6.916909090909093E-2,3.8208636363636361E-2,2.6045454545454543E-4,1.7881818181818181E-3,2.0031363636363639E-2,0.52385454545454546,0.11596818181818183,1.1818181818181817E-3,1.8327272727272723E-2,0.29847727272727265,0.18909090909090909,0.1538818181818182,0.3978454545454545,1.0576227272727274,3.8427272727272727E-2,1.0863636363636365E-4,1.9863636363636367E-4,7.1772727272727266E-4,3.1169545454545453E-2,1.2313636363636366E-3,3.8422727272727272E-3,1.2454545454545453E-3,1.0727272727272728E-4,0.40502727272727274,2.0200000000000003E-2,5.2113636363636364E-3,3.3740454545454553E-2,-4.7272727272727268E-5,6.6545454545454547E-4,8.7435454545454552E-2,1.7485000000000001E-2,2.4136363636363637E-4,3.239231818181818,1.1392909090909091,2.7768181818181819E-3,2.6045454545454543E-4,3.9654545454545446E-3,2.7454545454545456E-4,58.386280454545471]
["SHEN1",2013,{"$f":"C343","v":10.963213246158876},{"$f":"Tracking!DA37","v":25.502184879197699},{"$f":"Tracking!DF37","v":9.4132582788492982},{"$f":"Tracking!DG37","v":23.045310252387996},{"$f":"G343","v":3.1463273572000001},{"$f":"H343","v":9.5204195729999999},{"$f":"Tracking!CU37","v":7.5015527272727276},{"$f":"Tracking!DI37","v":8.603266160737812},null,null,21.712354545454545,11.712354545454547,5.6372113636363643,2.4553736363636367,1.6529827272727273,0.66218181818181832,0.11501818181818178,0.89001272727272718,0.29957318181818177,10,{"$f":"Tracking!CT37","v":18.884010434782613},{"$f":"Tracking!DH37","v":20.720103343873518},null,null,68.715025652173921,58.715025652173928,39.457712173913045,10.494023043478261,4.6677143478260863,2.1982173913043481,0.18812347826086956,1.4645478260869564,0.2446860869565218,10,7.5015527272727276,1,0.25963150849600086,0.11308647485574826,7.6130975284703847E-2,3.0497927656604393E-2,5.2973610751147534E-3,4.0991073787483366E-2,1.3797360447068465E-2,0.46056727652752372,18.884010434782613,1,0.57422247608030585,0.15271802555379332,6.7928583356039463E-2,3.199034520384849E-2,2.7377342360770541E-3,2.1313356317442092E-2,3.5608818396589033E-3,0.14552857843084618,7.5015527272727276,7.5015527272727276,1.9476394506441077,0.84832415387179705,0.5711005252769028,0.22878181238856704,3.9738433420375467E-2,0.30749670136433344,0.10350162689087131,3.4549697093276182,18.884010434782613,18.884010434782613,10.843623230187205,2.8839287881372311,1.2827640769154498,0.60410601264177277,5.1699401881740693E-2,0.4024816430988164,6.7243729817146644E-2,2.7481631936471791,3.2800409090909097,1.7966863636363632,3.3420431818181822,1.8574295454545462,0.75012772727272714,0.3085922727272728,0.56704909090909095,6.6218181818181801E-2,0.11501818181818178,1.4833545454545456,5.0425454545454544E-2,1.1960454545454547E-2,9.8636363636363638E-5,8.3090909090909092E-4,7.2286363636363642E-3,0.13196818181818182,3.8849999999999996E-2,3.7272727272727278E-4,-1.516818181818182E-2,6.1527272727272722E-2,9.3763636363636355E-2,6.9931818181818206E-2,0.1049727272727273,0.31502727272727271,2.9100000000000004E-2,2.2059090909090913E-3,7.4090909090909068E-5,2.459090909090909E-4,8.9768181818181813E-3,3.0090909090909089E-4,5.6054545454545445E-3,3.0136363636363634E-4,6.0000000000000002E-5,0.23921818181818175,2.0499999999999997E-3,2.3499999999999999E-4,1.1825454545454545E-2,5.5000000000000009E-5,1.1863636363636361E-4,2.1503181818181817E-2,1.8797272727272728E-2,7.9545454545454551E-5,0.54509999999999981,0.1818490909090909,8.1181818181818167E-4,7.4090909090909082E-5,1.3263636363636366E-3,2.2727272727272753E-5,189.92508818181821,10.795308695652173,8.3543956521739151,9.9003043478260846,7.4531339130434766,4.241416956521741,1.2567621739130437,1.5087678260869564,0.21982173913043479,0.18812347826086956,2.4409130434782615,3.8239999999999996E-2,1.746E-2,1.4608695652173912E-4,1.7965217391304343E-3,1.4059999999999998E-2,0.4323217391304347,0.11236956521739129,1.8695652173913045E-4,1.116521739130435E-2,0.2464782608695652,0.11420434782608696,0.14130000000000001,0.32505652173913047,0.83820434782608699,2.2326086956521742E-2,5.9391304347826098E-4,1.3130434782608697E-4,5.7608695652173916E-4,1.7727391304347827E-2,1.3265217391304348E-3,3.924782608695652E-3,8.5869565217391289E-4,1.2521739130434784E-4,0.97423478260869545,5.5608695652173898E-3,2.2399999999999998E-3,2.241086956521739E-2,-1.0434782608695655E-5,5.5521739130434797E-4,3.267565217391305E-2,9.3826086956521736E-3,1.8826086956521737E-4,3.0877999999999997,1.0282221739130435,1.3047826086956522E-3,9.1739130434782601E-5,3.8143478260869558E-3,3.2695652173913046E-4,61.188355217391297]
["SHEN1",2014,{"$f":"C343","v":10.963213246158876},{"$f":"Tracking!DA38","v":25.188816932017353},{"$f":"Tracking!DF38","v":9.2410410602593451},{"$f":"Tracking!DG38","v":22.458956235562127},{"$f":"G343","v":3.1463273572000001},{"$f":"H343","v":9.5204195729999999},{"$f":"Tracking!CU38","v":8.0176504347826079},{"$f":"Tracking!DI38","v":8.5601315520421615},null,null,22.789338260869567,12.789338260869567,6.2680547826086963,2.2663573913043478,1.967741304347826,0.8285217391304347,0.10311521739130437,1.1920904347826085,0.16345565217391303,10,{"$f":"Tracking!CT38","v":18.581340833333332},{"$f":"Tracking!DH38","v":20.196758177206853},null,null,66.555220833333337,56.555220833333344,37.705876249999996,8.9706237499999997,5.298400833333333,2.3515000000000006,0.22636083333333337,1.7869699999999999,0.21548875000000001,10,8.0176504347826079,1,0.27504329923310056,9.9448143924204979E-2,8.6344819749616691E-2,3.6355673413872136E-2,4.5247131009660936E-3,5.2309128994302012E-2,7.1724615389370285E-3,0.43880168373166412,18.581340833333332,1,0.56653521358485959,0.1347846741048927,7.9609094027371874E-2,3.533156333277887E-2,3.4010980731351346E-3,2.6849433862970801E-2,3.2377437457479698E-3,0.15025117300777743,8.0176504347826079,8.0176504347826079,2.2052010276803116,0.79734045437222545,0.69228258160674017,0.2914870807535464,3.6277567961227365E-2,0.41939631082426504,5.7506289376119998E-2,3.518158510354517,18.581340833333332,18.581340833333332,10.526983897705572,2.5044799686527686,1.4792437095554778,0.65650782046086675,6.3196962504517187E-2,0.49889848178990204,6.0161620070736367E-2,2.7918682562656456,4.0276956521739136,2.0408782608695653,3.9122008695652171,1.9990886956521734,0.83318478260869566,0.28466434782608696,0.66845739130434778,8.2852173913043461E-2,0.10311521739130437,1.9868173913043479,2.6814782608695652E-2,9.8030434782608693E-3,9.3043478260869571E-5,1.1117391304347828E-3,8.8517391304347819E-3,0.15779565217391306,4.7178260869565204E-2,0,-8.721739130434782E-3,6.8291304347826098E-2,0.10659565217391304,8.3078260869565226E-2,0.12212173913043477,0.3713652173913044,1.6656521739130438E-2,7.8304347826086969E-4,1E-4,3.3782608695652174E-4,8.2234782608695631E-3,3.6739130434782614E-4,5.4147826086956511E-3,3.6434782608695644E-4,5.4782608695652176E-5,0.22066956521739131,1.1026086956521739E-2,2.2739130434782615E-4,1.3840869565217394E-2,-4.3478260869565229E-7,1.2826086956521738E-4,1.8429130434782608E-2,1.9588260869565218E-2,1.1304347826086958E-4,0.55015652173913043,0.2019843478260869,6.0739130434782612E-4,6.9565217391304355E-5,2.5273913043478255E-3,5.0869565217391327E-5,180.30505608695654,11.21272083333333,8.2344375000000003,10.099967083333334,7.4139854166666659,4.1559583333333334,1.0820745833333336,1.68015,0.23514999999999994,0.22636083333333337,2.9782833333333336,3.4293333333333335E-2,2.5330833333333334E-2,1.5791666666666664E-4,2.4608333333333335E-3,1.6768749999999999E-2,0.48542916666666674,0.10522916666666667,3.7499999999999995E-4,2.6720833333333333E-2,0.24372916666666664,0.14742499999999997,0.15965833333333332,0.35588333333333333,0.93341666666666656,1.8858333333333331E-2,1.3887500000000004E-3,1.7374999999999999E-4,6.329166666666665E-4,2.1132916666666668E-2,1.0291666666666667E-3,5.8758333333333336E-3,9.7916666666666681E-4,1.2208333333333334E-4,0.83881666666666665,6.9166666666666673E-3,1.0354166666666667E-3,2.8919583333333335E-2,-1.2500000000000001E-5,5.2333333333333333E-4,3.5798333333333328E-2,2.116458333333333E-2,2.1625E-4,2.8101833333333333,1.0075050000000003,1.5566666666666665E-3,1.3833333333333335E-4,4.2358333333333336E-3,4.1000000000000005E-4,63.202086249999979]
["SHEN1",2015,{"$f":"C343","v":10.963213246158876},{"$f":"Tracking!DA39","v":24.875448984837007},{"$f":"Tracking!DF39","v":9.068823841669392},{"$f":"Tracking!DG39","v":21.872602218736258},{"$f":"G343","v":3.1463273572000001},{"$f":"H343","v":9.5204195729999999},{"$f":"Tracking!CU39","v":6.498550434782608},{"$f":"Tracking!DI39","v":7.9024578208168634},null,null,19.831780000000002,9.831780000000002,3.8238808695652167,1.9364386956521737,2.2122543478260872,0.65803043478260859,5.3411739130434781E-2,1.0629234782608696,8.4842173913043495E-2,10,{"$f":"Tracking!CT39","v":18.649001666666667},{"$f":"Tracking!DH39","v":19.502226162714098},null,null,66.399551250000016,56.399551250000023,35.38569291666667,7.4755733333333332,8.3309062500000017,2.7945958333333327,0.25860541666666664,1.9577874999999996,0.19638958333333334,10,6.498550434782608,1,0.19281581731772016,9.7643211837372818E-2,0.11155097262202823,3.3180603797672653E-2,2.6932397964496771E-3,5.359697809580731E-2,4.2780917251524315E-3,0.50424117250191358,18.649001666666667,1,0.53292066362672386,0.11258469662222802,0.12546630350909185,4.208757108630809E-2,3.8946862109503575E-3,2.9484950773669558E-2,2.9576944367275871E-3,0.15060342745915767,6.498550434782608,6.498550434782608,1.2530233134630342,0.63453933673932938,0.72491962163330437,0.21562582723571508,1.7502154650191871E-2,0.3483026653075425,2.7801394840529212E-2,3.2768366907976025,18.649001666666667,18.649001666666667,9.9384383441758786,2.0995921949490914,2.33982130325156,0.78489118333451136,7.2632009639156905E-2,0.5498648961197482,5.5158048480023501E-2,2.8086035696915439,3.313587727272727,1.5157000000000007,3.3793422727272726,1.63940347826087,0.51876,0.24019652173913042,0.7474473913043479,6.5803043478260867E-2,5.3411739130434781E-2,1.7715382608695651,1.3785217391304345E-2,4.7726086956521733E-3,6.6521739130434777E-5,7.0086956521739124E-4,4.8039130434782609E-3,0.13386913043478263,3.6422173913043469E-2,1.6521739130434781E-5,-8.4430434782608692E-3,6.2242173913043479E-2,0.16442434782608698,9.2520434782608699E-2,0.10450478260869565,0.41524869565217398,1.0814782608695655E-2,5.5652173913043484E-4,4.0434782608695655E-5,2.8000000000000003E-4,5.1334782608695659E-3,4.4304347826086961E-4,2.8900000000000002E-3,2.1217391304347824E-4,5.0869565217391293E-5,0.1861986956521739,5.4004347826086948E-3,3.5695652173913043E-4,1.0490869565217392E-2,1.3043478260869576E-5,9.3913043478260875E-5,8.693913043478262E-3,9.3404347826086965E-3,1.4391304347826086E-4,0.33482391304347825,0.12576000000000001,3.7173913043478255E-4,3.6956521739130438E-5,1.2656521739130436E-3,3.7826086956521747E-4,211.52394478260874,12.006346666666667,8.7433679166666689,10.783260833333332,7.9659108333333322,3.9724800000000013,0.90656000000000014,2.5153479166666668,0.27945958333333337,0.25860541666666664,3.2629787500000003,3.345625E-2,2.9409166666666667E-2,1.8000000000000001E-4,2.6183333333333336E-3,1.8729583333333334E-2,0.6264404166666665,8.6548749999999994E-2,2.9791666666666665E-4,2.9577499999999996E-2,0.35207291666666657,0.35366458333333339,0.22827291666666669,0.43382749999999981,1.397415416666667,2.1889999999999996E-2,1.8833333333333332E-3,1.2958333333333333E-4,8.4458333333333347E-4,2.3847083333333335E-2,1.2670833333333336E-3,9.7675000000000001E-3,9.4916666666666706E-4,9.5416666666666664E-5,0.70276041666666655,9.6545833333333345E-3,9.9833333333333306E-4,3.8815416666666651E-2,4.166666666666655E-6,5.6208333333333338E-4,4.0897916666666666E-2,2.8911666666666658E-2,3.4583333333333335E-4,2.5606612499999999,0.96302541666666663,1.9749999999999998E-3,1.5666666666666669E-4,4.4858333333333321E-3,3.7583333333333333E-4,62.166958749999992]
["SHEN1",2016,{"$f":"C343","v":10.963213246158876},{"$f":"Tracking!DA40","v":24.562081037656661},{"$f":"Tracking!DF40","v":8.8966066230794389},{"$f":"Tracking!DG40","v":21.286248201910389},{"$f":"G343","v":3.1463273572000001},{"$f":"H343","v":9.5204195729999999},{"$f":"Tracking!CU40","v":7.3168409090909101},{"$f":"Tracking!DI40","v":7.7919375678524379},null,null,21.492609545454542,11.492609545454547,5.5527881818181815,1.9586304545454547,2.1164359090909088,0.69967727272727287,9.3235000000000012E-2,1.0230795454545456,4.876409090909091E-2,10,{"$f":"Tracking!CT40","v":16.594855652173909},{"$f":"Tracking!DH40","v":18.400866626482212},null,null,54.470507391304352,44.470507391304352,25.121943043478268,9.4588039130434804,5.5814760869565205,1.9341173913043475,0.18705304347826085,2.0336673913043479,0.15344782608695653,10,7.3168409090909101,1,0.2583580262822267,9.1130416267190054E-2,9.8472728712391863E-2,3.2554319253208001E-2,4.3380027819710813E-3,4.7601457761136133E-2,2.2688771601214893E-3,0.46527621407959247,16.594855652173909,1,0.46120266262635778,0.17365000559097932,0.10246785562066464,3.5507607399543138E-2,3.4340242534278637E-3,3.7335201904673314E-2,2.8170809018653068E-3,0.18358558564843469,7.3168409090909101,7.3168409090909101,1.8903645758937808,0.66678675780625996,0.72050928987263985,0.23819477487947815,3.1740476218876185E-2,0.34829229347904389,1.6601013222878921E-2,3.4043520372045024,16.594855652173909,16.594855652173909,7.6535916126826695,2.8816967767814941,1.7004392730127267,0.58924361934948055,5.6987136791699672E-2,0.61957228635282202,4.6749050926950662E-2,3.0465762936555838,3.5525036363636362,1.8473722727272728,3.5266381818181811,1.8889718181818183,0.755170909090909,0.24950136363636369,0.71277045454545462,6.9967727272727265E-2,9.3235000000000012E-2,1.7051313636363636,8.3259090909090904E-3,1.0189545454545453E-2,4.9090909090909091E-5,6.6363636363636375E-4,5.4818181818181815E-3,0.14041818181818183,4.3973636363636368E-2,0,-2.3554545454545464E-3,6.7534999999999998E-2,0.13421318181818181,8.2167272727272728E-2,0.11442409090909092,0.39598409090909092,6.2836363636363636E-3,4.5181818181818186E-4,8.2727272727272741E-5,2.0409090909090908E-4,7.4722727272727267E-3,4.55E-4,1.8945454545454545E-3,2.8272727272727276E-4,4.2727272727272731E-5,0.19341181818181818,5.4904545454545449E-3,4.0999999999999994E-4,1.2129090909090907E-2,2.6818181818181814E-5,1.3136363636363636E-4,1.6812272727272728E-2,5.6113636363636366E-3,3.8636363636363629E-5,0.49823727272727258,0.1830718181818182,8.1590909090909099E-4,6.2272727272727273E-5,1.2318181818181818E-3,1.9545454545454543E-5,195.7419090909091,9.9946521739130443,6.6052078260869562,9.2156465217391297,6.1205408695652155,2.8433986956521737,1.1112278260869566,1.7613517391304352,0.1934117391304348,0.18705304347826085,3.3894443478260867,2.4099130434782609E-2,2.129695652173913E-2,5.1304347826086959E-5,1.665217391304348E-3,1.4543043478260865E-2,0.3730739130434782,8.6088260869565225E-2,0,3.307826086956521E-2,0.26388391304347825,0.22144826086956521,0.19436739130434785,0.26575043478260868,0.97852826086956524,1.4654782608695653E-2,1.0013043478260869E-3,1.2695652173913042E-4,5.3391304347826093E-4,1.6326086956521737E-2,7.9043478260869585E-4,7.3317391304347813E-3,7.9260869565217376E-4,5.8260869565217386E-5,0.86141652173913064,8.5121739130434772E-3,1.3878260869565218E-3,2.3479565217391304E-2,2.4347826086956516E-5,4.4565217391304357E-4,2.9960869565217395E-2,2.0853913043478257E-2,1.3434782608695654E-4,1.852203913043478,0.68930869565217401,1.2286956521739129E-3,1.1260869565217389E-4,3.1295652173913046E-3,1.2956521739130436E-4,77.0557595652174]
["SHEN1",2017,{"$f":"C343","v":10.963213246158876},{"$f":"Tracking!DA41","v":24.248713090476315},{"$f":"Tracking!DF41","v":8.7243894044894859},{"$f":"Tracking!DG41","v":20.699894185084521},{"$f":"G343","v":3.1463273572000001},{"$f":"H343","v":9.5204195729999999},{"$f":"Tracking!CU41","v":6.3530713043478269},{"$f":"Tracking!DI41","v":7.1375331620553357},null,null,19.263633913043474,9.2636339130434795,3.8135986956521735,1.3364965217391305,2.3997073913043478,0.74637826086956527,5.9781739130434788E-2,0.84006304347826077,6.7606521739130426E-2,10,{"$f":"Tracking!CT41","v":16.136525833333334},{"$f":"Tracking!DH41","v":17.769146884057971},null,null,51.973252499999994,41.973252500000001,19.92750916666667,11.087361249999999,6.6848287500000003,2.307995833333333,0.17812458333333334,1.5853645833333336,0.20206833333333332,10,{"$f":"I356","v":6.3530713043478269},{"$f":"M356/M356","v":1},{"$f":"O356/M356","v":0.19796881070658079},{"$f":"P356/M356","v":6.9379252521726137E-2},{"$f":"Q356/M356","v":0.12457189552795112},{"$f":"R356/M356","v":3.8745454997677772E-2},{"$f":"S356/M356","v":3.1033469282219055E-3},{"$f":"T356/M356","v":4.3608752495522207E-2},{"$f":"U356/M356","v":3.5095414522674155E-3},{"$f":"V356/M356","v":0.51911285508955629},{"$f":"W356","v":16.136525833333334},{"$f":"AA356/AA356","v":1},{"$f":"AC356/AA356","v":0.38341855104539924},{"$f":"AD356/AA356","v":0.21332821627817117},{"$f":"AE356/AA356","v":0.12862055823810528},{"$f":"AF356/AA356","v":4.4407377301109517E-2},{"$f":"AG356/AA356","v":3.4272356407429642E-3},{"$f":"AH356/AA356","v":3.0503470671444582E-2},{"$f":"AI356/AA356","v":3.8879293408341791E-3},{"$f":"AJ356/AA356","v":0.19240666148419328},{"$f":"I356","v":6.3530713043478269},{"$f":"BE356","v":6.3530713043478269},{"$f":"BE356*AM356","v":1.2577099704558452},{"$f":"BE356*AN356","v":0.4407713383128799},{"$f":"BE356*AO356","v":0.79141413480684164},{"$f":"BE356*AP356","v":0.24615263831964676},{"$f":"BE356*AQ356","v":1.9715784317122564E-2},{"$f":"BE356*AR356","v":0.27704951409770884},{"$f":"BE356*AS356","v":2.2296367091819317E-2},{"$f":"BE356*AT356","v":3.2979609833875316},{"$f":"W356","v":16.136525833333334},{"$f":"BO356","v":16.136525833333334},{"$f":"BO356*AW356","v":6.1870433539233201},{"$f":"BO356*AX356","v":3.4423762729516296},{"$f":"BO356*AY356","v":2.0754889607069402},{"$f":"BO356*AZ356","v":0.71658079100993399},{"$f":"BO356*BA356","v":5.530367645376956E-2},{"$f":"BO356*BB356","v":0.49222004249609119},{"$f":"BO356*BC356","v":6.2737672246545376E-2},{"$f":"BO356*BD356","v":3.1047750635451066},2.8272259090909091,1.5892809090909088,2.8569147619047621,1.6287908695652178,0.50892086956521743,0.16875999999999997,0.80563869565217405,7.4637826086956544E-2,5.9781739130434788E-2,1.4001043478260871,1.1049565217391304E-2,4.7527272727272722E-3,7.4999999999999993E-5,6.1545454545454555E-4,5.1218181818181822E-3,0.13088956521739131,3.9878260869565224E-2,0,-5.8913043478260867E-4,7.484434782608694E-2,0.18676782608695652,9.0423913043478257E-2,9.6129999999999965E-2,0.44757695652173918,9.5008695652173923E-3,6.7909090909090914E-4,1.6363636363636366E-5,2.1590909090909093E-4,4.6527272727272719E-3,2.2772727272727267E-4,2.3545454545454546E-3,1.790909090909091E-4,1.7272727272727277E-5,0.13082217391304349,4.6660869565217393E-3,2.0136363636363635E-4,1.0797272727272727E-2,-1.5000000000000005E-5,4.1818181818181813E-5,9.5377272727272741E-3,4.5954545454545449E-3,1.590909090909091E-5,0.34528521739130424,0.12717136363636361,3.4090909090909094E-4,4.8636363636363649E-5,1.0027272727272728E-3,-4.1363636363636391E-5,211.98895608695656,9.0177712500000009,6.3754987499999993,8.6337195833333329,6.182600833333332,2.3667708333333333,1.30800625,2.0650212500000009,0.23079958333333336,0.17812458333333334,2.6422725000000007,3.3879583333333331E-2,1.8301666666666667E-2,1.7583333333333332E-4,1.8145833333333336E-3,1.5427083333333334E-2,0.45144749999999995,7.2917499999999996E-2,0,7.1919999999999998E-2,0.26849208333333341,0.28301666666666664,0.23024000000000003,0.29356541666666663,1.1472341666666668,2.2503749999999999E-2,1.8087499999999998E-3,1.6333333333333328E-4,5.7583333333333336E-4,1.7711666666666671E-2,1.1004166666666666E-3,6.7595833333333336E-3,7.6916666666666659E-4,9.9583333333333373E-5,1.0139579166666666,1.2152916666666666E-2,1.1616666666666668E-3,3.0273749999999999E-2,-1.6666666666666667E-5,4.1250000000000005E-4,2.7050000000000001E-2,2.4540833333333331E-2,1.7374999999999994E-4,1.5774437500000003,0.57376249999999995,1.2879166666666666E-3,1.2708333333333332E-4,4.1158333333333333E-3,3.4375000000000003E-4,80.701117083333344]
[{"$f":"A356","v":"SHEN1"},{"$f":"B356+1","v":2018},{"$f":"C343","v":10.963213246158876},{"$f":"Tracking!DA42","v":23.935345143295969},{"$f":"Tracking!DF42","v":8.5521721858995328},{"$f":"Tracking!DG42","v":20.113540168258652},{"$f":"G343","v":3.1463273572000001},{"$f":"H343","v":9.5204195729999999},{"$f":"Tracking!CU42","v":6.086503636363636},{"$f":"Tracking!DI42","v":6.8545233438735185},null,null,18.828244999999999,8.828244999999999,3.5086036363636355,1.7945381818181816,1.8406463636363639,0.68404090909090909,6.779909090909092E-2,0.75032409090909091,0.18229181818181817,10,{"$f":"Tracking!CT42","v":15.372941304347824},{"$f":"Tracking!DH42","v":17.066933057971013},null,null,48.157933478260873,38.157933478260873,17.699035217391302,11.662369565217389,5.1309778260869567,1.966313043478261,0.24393999999999999,1.2510947826086956,0.20420217391304343,10,6.086503636363636,1,0.18634788512490866,9.5310964023369235E-2,9.7759847698835653E-2,3.6330571919523519E-2,3.6009246166645338E-3,3.9850984035372967E-2,9.6818273918688746E-3,0.53111694690609779,15.372941304347824,1,0.36752065421122937,0.24216922784865627,0.10654480903760433,4.0830511225442859E-2,5.0654166900686824E-3,2.5978996444551681E-2,4.24026030945084E-3,0.20765010617646482,6.086503636363636,6.086503636363636,1.1342070804414297,0.58011052911356054,0.59501566850931842,0.22112615809935049,2.1917040773600016E-2,0.24255315924396678,5.8928477627254963E-2,3.2326452286783165,15.372941304347824,15.372941304347824,5.6498734453247419,3.7228533254366272,1.6379070956180388,0.62768505249524797,7.7870353458489694E-2,0.39937358748795382,6.5185272852343504E-2,3.1921928940923872,2.7343831818181816,1.4838418181818183,2.6861454545454539,1.4724872727272726,0.45773500000000006,0.22220772727272731,0.62673090909090912,6.8404090909090914E-2,6.779909090909092E-2,1.2505413636363636,2.9609090909090908E-2,6.4072727272727259E-3,3.5454545454545453E-5,6.0045454545454551E-4,4.8349999999999999E-3,0.11887954545454545,4.5114545454545456E-2,0,-6.7231818181818174E-3,5.5173181818181823E-2,0.13034227272727272,7.3801818181818177E-2,9.5590000000000008E-2,0.34818409090909092,1.7124090909090908E-2,7.2909090909090916E-4,2.6363636363636358E-5,2.0272727272727274E-4,6.2609090909090922E-3,4.3181818181818181E-4,2.4013636363636359E-3,1.790909090909091E-4,4.1363636363636357E-5,0.17225409090909094,5.4327272727272731E-3,5.554545454545455E-4,1.0400909090909089E-2,-2.5454545454545457E-5,3.6818181818181813E-5,1.195090909090909E-2,7.5372727272727284E-3,5.9999999999999988E-5,0.30521181818181814,0.1109663636363636,4.554545454545454E-4,2.8636363636363637E-5,1.3654545454545456E-3,1.2227272727272727E-4,218.39854818181814,8.1028830434782613,6.0177247826086946,7.5879786956521738,5.6595660869565219,2.1460221739130434,1.4227956521739133,1.6165939130434783,0.19663130434782614,0.24393999999999999,2.0851582608695658,3.3582173913043481E-2,2.3812173913043477E-2,1.7086956521739129E-4,1.8747826086956518E-3,1.8533043478260871E-2,0.40831521739130433,7.3615652173913068E-2,0,2.7894782608695649E-2,0.20340608695652176,0.21435913043478258,0.16714826086956519,0.28529956521739125,0.8981078260869565,1.8798695652173913E-2,1.4952173913043477E-3,1.5521739130434787E-4,5.2478260869565226E-4,2.0723913043478266E-2,1.0178260869565217E-3,8.1052173913043479E-3,7.7782608695652175E-4,1.1130434782608699E-4,1.1029426086956522,5.4878260869565213E-3,1.0469565217391306E-3,2.8368695652173915E-2,8.6956521739130441E-5,3.5086956521739135E-4,4.3406086956521747E-2,1.3800434782608699E-2,2.2782608695652177E-4,1.4465591304347825,0.52024782608695641,1.6039130434782605E-3,5.8695652173913038E-5,3.6808695652173905E-3,2.9565217391304351E-4,86.808338695652168]
[{"$f":"A357","v":"SHEN1"},{"$f":"B357+1","v":2019},{"$f":"C343","v":10.963213246158876},{"$f":"Tracking!DA43","v":23.621977196115623},{"$f":"Tracking!DF43","v":8.3799549673095797},{"$f":"Tracking!DG43","v":19.527186151432783},{"$f":"G343","v":3.1463273572000001},{"$f":"H343","v":9.5204195729999999},{"$f":"Tracking!CU43","v":6.43722652173913},{"$f":"Tracking!DI43","v":6.5384385612648215},null,null,19.379925652173917,9.3799256521739114,3.825716956521739,1.6176152173913041,2.2284169565217393,0.91536086956521756,5.3943913043478259E-2,0.56685739130434776,0.17201565217391304,10,{"$f":"Tracking!CT43","v":15.161969999999998},{"$f":"Tracking!DH43","v":16.383058891304344},null,null,47.201247083333328,37.201247083333321,17.721527499999997,10.96835375,4.7995912499999989,2.0773791666666672,0.18276750000000005,1.245214583333333,0.20641208333333336,10,{"$f":"I358","v":6.43722652173913},{"$f":"M358/M358","v":1},{"$f":"O358/M358","v":0.19740617302588023},{"$f":"P358/M358","v":8.3468597683183085E-2},{"$f":"Q358/M358","v":0.11498583619549488},{"$f":"R358/M358","v":4.7232424210179473E-2},{"$f":"S358/M358","v":2.7834943235412863E-3},{"$f":"T358/M358","v":2.9249719605645718E-2},{"$f":"U358/M358","v":8.8759706957192291E-3},{"$f":"V358/M358","v":0.51599785156442346},{"$f":"W358","v":15.161969999999998},{"$f":"AA358/AA358","v":1},{"$f":"AC358/AA358","v":0.37544617134188885},{"$f":"AD358/AA358","v":0.23237423643988647},{"$f":"AE358/AA358","v":0.10168356868890283},{"$f":"AF358/AA358","v":4.4011107651437155E-2},{"$f":"AG358/AA358","v":3.8720904911119375E-3},{"$f":"AH358/AA358","v":2.638096788279596E-2},{"$f":"AI358/AA358","v":4.3730218180234705E-3},{"$f":"AJ358/AA358","v":0.2118588092036022},{"$f":"I358","v":6.43722652173913},{"$f":"BE358","v":6.43722652173913},{"$f":"BE358*AM358","v":1.2707482525572198},{"$f":"BE358*AN358","v":0.53730627073855941},{"$f":"BE358*AO358","v":0.74018987438199091},{"$f":"BE358*AP358","v":0.30404581381180068},{"$f":"BE358*AQ358","v":1.7917983482610287E-2},{"$f":"BE358*AR358","v":0.18828707079889562},{"$f":"BE358*AS358","v":5.7136633968663142E-2},{"$f":"BE358*AT358","v":3.3215950552509175},{"$f":"W358","v":15.161969999999998},{"$f":"BO358","v":15.161969999999998},{"$f":"BO358*AW358","v":5.6925035865005782},{"$f":"BO358*AX358","v":3.5232512016744653},{"$f":"BO358*AY358","v":1.5417232179540838},{"$f":"BO358*AZ358","v":0.66729509387786057},{"$f":"BO358*BA358","v":5.8708519863524454E-2},{"$f":"BO358*BB358","v":0.39998744360991584},{"$f":"BO358*BC358","v":6.6303625614217307E-2},{"$f":"BO358*BD358","v":3.2121969093807401},2.3632795454545454,1.479718695652174,2.5117440909090907,1.6766078260869568,0.53597000000000006,0.20912260869565213,0.75559260869565226,9.1536086956521753E-2,5.3943913043478259E-2,0.94476086956521765,3.0443043478260864E-2,4.277826086956522E-3,2.6086956521739132E-5,6.6869565217391315E-4,4.79608695652174E-3,0.14900608695652173,5.7095652173913047E-2,9.6086956521739136E-5,5.4352173913043474E-3,7.5576086956521737E-2,0.13339130434782609,9.0709130434782612E-2,0.11466173913043477,0.41977347826086964,1.7767391304347829E-2,5.4043478260869574E-4,1.0434782608695651E-5,1.7869565217391303E-4,4.8647826086956518E-3,3.1478260869565215E-4,2.5269565217391297E-3,2.3391304347826088E-4,2.3478260869565219E-5,0.16211086956521736,2.6508695652173913E-3,2.2347826086956517E-4,1.0641304347826086E-2,-2.1739130434782614E-5,3.8260869565217388E-5,9.5582608695652174E-3,1.6455217391304348E-2,6.2608695652173894E-5,0.3552682608695652,0.12993217391304346,4.8521739130434789E-4,3.7826086956521749E-5,1.2821739130434782E-3,3.4347826086956526E-5,209.53191086956525,7.4974079166666678,5.4220491666666666,7.304193333333334,5.3236287500000001,2.0638458333333332,1.3049541666666664,1.5307450000000002,0.20773791666666663,0.18276750000000005,2.0753587499999999,3.3578333333333328E-2,1.5423750000000002E-2,6.6249999999999998E-5,1.3991666666666666E-3,1.6177083333333332E-2,0.39105625000000005,8.181541666666664E-2,0,5.1891666666666669E-2,0.20874166666666671,0.17382624999999996,0.15082083333333332,0.26513374999999995,0.85041416666666658,1.8942083333333335E-2,1.0712499999999999E-3,1.2791666666666667E-4,5.7541666666666668E-4,1.691833333333333E-2,8.6083333333333335E-4,2.4170833333333331E-3,6.2958333333333323E-4,9.1250000000000009E-5,1.0115920833333334,2.9133333333333333E-3,6.6083333333333326E-4,2.3426666666666665E-2,5.2083333333333337E-5,3.3083333333333337E-4,3.1737500000000002E-2,1.9759166666666664E-2,2.875E-4,1.431662916666667,0.50032624999999997,1.2875000000000002E-3,8.5833333333333337E-5,3.6704166666666673E-3,1.4333333333333334E-4,89.027394583333333]
["SHEN1",2020,{"$f":"C343","v":10.963213246158876},{"$f":"Tracking!DA44","v":23.308609248935277},{"$f":"Tracking!DF44","v":8.2077377487196266},{"$f":"Tracking!DG44","v":18.940832134606914},{"$f":"G343","v":3.1463273572000001},{"$f":"H343","v":9.5204195729999999},{"$f":"Tracking!CU44","v":5.3549837499999997},{"$f":"Tracking!DI44","v":6.3097252243083002},null,null,17.401253333333333,7.401253333333333,3.0468420833333334,1.4826779166666668,1.3535220833333332,0.70097916666666682,7.6817916666666666E-2,0.57745916666666675,0.16295375000000001,10,{"$f":"Tracking!CT44","v":13.271531599999998},{"$f":"Tracking!DH44","v":15.307564877971013},null,null,38.511549200000012,28.511549200000001,12.546868000000002,8.4846219999999999,4.4311292000000009,1.6070040000000003,0.2805608,0.99801879999999998,0.1633492,10,{"$f":"I359","v":5.3549837499999997},{"$f":"M359/M359","v":1},{"$f":"O359/M359","v":0.17509325477705054},{"$f":"P359/M359","v":8.52052371323445E-2},{"$f":"Q359/M359","v":7.7783022717137607E-2},{"$f":"R359/M359","v":4.0283257374564597E-2},{"$f":"S359/M359","v":4.4145048172775292E-3},{"$f":"T359/M359","v":3.318491809785349E-2},{"$f":"U359/M359","v":9.3644835161298731E-3},{"$f":"V359/M359","v":0.57467124973373562},{"$f":"W359","v":13.271531599999998},{"$f":"AA359/AA359","v":1},{"$f":"AC359/AA359","v":0.32579494361135691},{"$f":"AD359/AA359","v":0.22031370267493672},{"$f":"AE359/AA359","v":0.11505974940109653},{"$f":"AF359/AA359","v":4.172784614959088E-2},{"$f":"AG359/AA359","v":7.2851081254347444E-3},{"$f":"AH359/AA359","v":2.5914792334555049E-2},{"$f":"AI359/AA359","v":4.2415639825779837E-3},{"$f":"AJ359/AA359","v":0.2596623664259135},{"$f":"I359","v":5.3549837499999997},{"$f":"BE359","v":5.3549837499999997},{"$f":"BE359*AM359","v":0.93762153406571547},{"$f":"BE359*AN359","v":0.45627266025860136},{"$f":"BE359*AO359","v":0.41652682267615271},{"$f":"BE359*AP359","v":0.21571618863786107},{"$f":"BE359*AQ359","v":2.3639601560817888E-2},{"$f":"BE359*AR359","v":0.17770469715908635},{"$f":"BE359*AS359","v":5.0146657056018333E-2},{"$f":"BE359*AT359","v":3.0773552039163459},{"$f":"W359","v":13.271531599999998},{"$f":"BO359","v":13.271531599999998},{"$f":"BO359*AW359","v":4.3237978892583406},{"$f":"BO359*AX359","v":2.9239002669634266},{"$f":"BO359*AY359","v":1.5270191000647335},{"$f":"BO359*AZ359","v":0.55379242877423362},{"$f":"BO359*BA359","v":9.6684542696123962E-2},{"$f":"BO359*BB359","v":0.34392898537548505},{"$f":"BO359*BC359","v":5.6292050428205551E-2},{"$f":"BO359*BD359","v":3.4461173013522894},2.001455,1.0390225,2.174584583333333,1.2535512499999999,0.42079666666666671,0.19028166666666668,0.46736041666666667,7.0097916666666663E-2,7.6817916666666666E-2,0.96243249999999991,2.8196666666666665E-2,6.4254166666666661E-3,5.4166666666666659E-6,4.0250000000000008E-4,5.0870833333333332E-3,9.7957083333333347E-2,4.5314166666666676E-2,0,-5.5154166666666659E-3,4.7973750000000003E-2,8.5487500000000008E-2,5.8525416666666656E-2,7.3173333333333326E-2,0.25964458333333329,1.6984166666666668E-2,1.2675000000000002E-3,3.7499999999999997E-5,1.3333333333333334E-4,5.4912500000000005E-3,1.9666666666666669E-4,1.5662500000000002E-3,2.4125000000000001E-4,2.7500000000000008E-5,0.14750500000000002,2.2954166666666665E-3,2.308333333333333E-4,8.7145833333333329E-3,1.9583333333333333E-5,2.5833333333333342E-5,1.5984166666666664E-2,1.5387499999999998E-2,3.6249999999999993E-5,0.27439666666666673,0.10201125,5.2999999999999998E-4,2.166666666666667E-5,9.0916666666666674E-4,8.3333333333333358E-5,233.77187500000002,5.6802959999999985,4.0169300000000003,6.0381916000000011,4.530397999999999,1.5939000000000001,1.0506956000000001,1.4174891999999999,0.16070040000000002,0.2805608,1.6633660000000001,2.7055599999999992E-2,2.8086399999999997E-2,1.0120000000000001E-4,1.2519999999999999E-3,1.34368E-2,0.34647519999999993,6.3175200000000001E-2,0,2.4156E-2,0.15618080000000004,0.19127280000000002,0.16693360000000002,0.24895000000000003,0.78749320000000012,1.6197200000000002E-2,9.368E-4,1.228E-4,4.2359999999999994E-4,2.1560000000000003E-2,8.567999999999999E-4,7.031599999999999E-3,6.9960000000000009E-4,5.4000000000000005E-5,0.81449280000000002,3.568E-3,2.5639999999999984E-4,2.5215600000000005E-2,4.0399999999999999E-5,2.4039999999999999E-4,5.6629999999999993E-2,4.1532400000000004E-2,1.8480000000000005E-4,1.0445283999999999,0.38639999999999991,1.8984000000000002E-3,8.7200000000000019E-5,3.1480000000000006E-3,-4.5599999999999997E-5,105.84639279999999]
["SHEN1",2021,{"$f":"C343","v":10.963213246158876},{"$f":"Tracking!DA45","v":22.99524130175493},{"$f":"Tracking!DF45","v":8.0355205301296735},{"$f":"Tracking!DG45","v":18.354478117781046},{"$f":"G343","v":3.1463273572000001},{"$f":"H343","v":9.5204195729999999},{"$f":"Tracking!CU45","v":7.2435822727272718},{"$f":"Tracking!DI45","v":6.2950734970355722},null,null,20.850487727272728,10.850487727272728,4.166584545454544,2.4031899999999995,2.1640986363636361,0.99155454545454547,0.18426000000000001,0.74454818181818183,0.19624863636363638,10,{"$f":"Tracking!CT45","v":13.781053478260869},{"$f":"Tracking!DH45","v":14.744804443188404},null,null,41.966051304347822,31.966051304347822,14.908109999999999,9.1460773913043454,4.4509730434782613,1.7803260869565223,0.21666130434782607,1.1688730434782608,0.29503260869565218,10,7.2435822727272718,1,0.1998315147326071,0.11525821512830098,0.10379127168008473,4.7555460496858222E-2,8.8372033503554617E-3,3.5708909621538609E-2,9.4121844500999578E-3,0.4796050879385359,13.781053478260869,1,0.35524214303325385,0.2179399087365835,0.10606127822698262,4.2423006969256473E-2,5.1627755677213132E-3,2.7852824060126947E-2,7.0302685033672881E-3,0.23828784670441383,7.2435822727272718,7.2435822727272718,1.4474960176493514,0.83488236388954717,0.75182061560568192,0.34447189062642425,6.4013009529120882E-2,0.25866042471299738,6.8177932430383337E-2,3.4740589129013828,13.781053478260869,13.781053478260869,4.8956109708732685,3.0034415373461503,1.4616361472187527,0.58463372775195699,7.1148486195026034E-2,0.3838412578932005,9.6884506211437599E-2,3.2838575586531551,2.876657272727273,1.638801818181818,3.0741759090909095,1.9080663636363633,0.56034272727272738,0.29807136363636366,0.73551772727272724,9.9155454545454547E-2,0.18426000000000001,1.2409145454545454,3.0720454545454544E-2,1.6309545454545459E-2,6.3636363636363634E-6,6.3000000000000003E-4,1.1719090909090912E-2,0.16527272727272727,5.6608181818181814E-2,0,-1.4427272727272735E-3,5.9997727272727279E-2,0.13411636363636362,9.322363636363637E-2,0.12272545454545457,0.40862045454545459,1.7725909090909091E-2,2.7318181818181819E-4,6.3181818181818185E-5,1.7454545454545454E-4,1.2170454545454545E-2,4.4545454545454554E-4,3.3568181818181813E-3,4.1636363636363637E-4,3.0454545454545456E-5,0.23106318181818183,3.6354545454545454E-3,8.045454545454546E-4,1.6185000000000001E-2,3.999999999999999E-5,6.5454545454545464E-5,3.9068181818181828E-2,1.3790000000000002E-2,1.2363636363636364E-4,0.35464318181818183,0.13584045454545454,1.195909090909091E-3,3.0000000000000004E-5,1.5463636363636365E-3,1.309090909090909E-4,191.66008545454545,6.271114347826086,4.3229939130434785,6.582916521739131,4.7967113043478271,1.8205347826086955,1.1266352173913043,1.4095756521739133,0.17803260869565216,0.21666130434782607,1.9481204347826084,4.5273478260869568E-2,1.8119999999999997E-2,1.8695652173913042E-5,1.0973913043478261E-3,1.5910434782608694E-2,0.36262652173913035,9.5706086956521746E-2,0,2.3747391304347828E-2,0.15467695652173913,0.16750695652173908,0.15657869565217389,0.2805873913043479,0.78309739130434775,2.5618695652173909E-2,8.1260869565217403E-4,1.2478260869565219E-4,4.5739130434782616E-4,1.7254347826086956E-2,8.3956521739130441E-4,4.8669565217391289E-3,6.0782608695652185E-4,6.4782608695652182E-5,0.87336000000000014,9.295217391304348E-3,1.2078260869565216E-3,2.4920869565217392E-2,1.0478260869565218E-4,2.4086956521739134E-4,4.2677391304347827E-2,2.1144347826086953E-2,1.9478260869565218E-4,1.2058686956521742,0.44134173913043495,1.4643478260869566E-3,4.478260869565219E-5,3.5617391304347823E-3,1.6391304347826091E-4,103.01789521739131]
["SHEN1",2022,{"$f":"C343","v":10.963213246158876},{"$f":"Tracking!DA46","v":22.681873354574584},{"$f":"Tracking!DF46","v":7.8633033115397204},{"$f":"Tracking!DG46","v":17.768124100955177},{"$f":"G343","v":3.1463273572000001},{"$f":"H343","v":9.5204195729999999}]
["SHEN1",2023,{"$f":"C343","v":10.963213246158876},{"$f":"Tracking!DA47","v":22.368505407394238},{"$f":"Tracking!DF47","v":7.6910860929497673},{"$f":"Tracking!DG47","v":17.181770084129308},{"$f":"G343","v":3.1463273572000001},{"$f":"H343","v":9.5204195729999999}]
["SHEN1",2024,{"$f":"C343","v":10.963213246158876},{"$f":"Tracking!DA48","v":22.055137460213892},{"$f":"Tracking!DF48","v":7.5188688743598142},{"$f":"Tracking!DG48","v":16.595416067303439},{"$f":"G343","v":3.1463273572000001},{"$f":"H343","v":9.5204195729999999}]
["SHEN1",2025,{"$f":"C343","v":10.963213246158876},{"$f":"Tracking!DA49","v":21.741769513033546},{"$f":"Tracking!DF49","v":7.3466516557698611},{"$f":"Tracking!DG49","v":16.009062050477571},{"$f":"G343","v":3.1463273572000001},{"$f":"H343","v":9.5204195729999999}]
["SHEN1",2026,{"$f":"C343","v":10.963213246158876},{"$f":"Tracking!DA50","v":21.4284015658532},{"$f":"Tracking!DF50","v":7.174434437179908},{"$f":"Tracking!DG50","v":15.422708033651704},{"$f":"G343","v":3.1463273572000001},{"$f":"H343","v":9.5204195729999999}]
["SHEN1",2027,{"$f":"C343","v":10.963213246158876},{"$f":"Tracking!DA51","v":21.115033618672854},{"$f":"Tracking!DF51","v":7.0022172185899549},{"$f":"Tracking!DG51","v":14.836354016825837},{"$f":"G343","v":3.1463273572000001},{"$f":"H343","v":9.5204195729999999}]
[{"$f":"A366","v":"SHEN1"},2028,{"$f":"C343","v":10.963213246158876},{"$f":"Tracking!DA52","v":20.801665671492508},{"$f":"Tracking!DF52","v":6.83},{"$f":"Tracking!DG52","v":14.25},{"$f":"G343","v":3.1463273572000001},{"$f":"H343","v":9.5204195729999999},null,null,7,{"$f":"E367","v":6.83},null,{"$f":"IF(M367=\"\",\"\",M367-V367)","v":""},null,null,null,null,null,null,null,null,null,null,14.54,{"$f":"F367","v":14.25},null,{"$f":"IF(AA367=\"\",\"\",AA367-AJ367)","v":""}]
[null,"5-yr period"]
[{"$f":"A343","v":"SHEN1"},"2000-04",null,null,null,null,null,null,null,{"$f":"IF(J343=\"\",\"\",J343)","v":10.963213246158876},null,null,{"$f":"IF(COUNT(M339:M343)<3,\"\",AVERAGE(M339:M343))","v":31.29732194935956},{"$f":"IF(COUNT(N339:N343)<3,\"\",AVERAGE(N339:N343))","v":21.297321949359567},11.238079003526604,4.1528807064102953,2.8911995344289578,1.6057067956452395,0.15862976432187187,1.1032598783916312,0.14756645711115732,10,null,{"$f":"IF(X343=\"\",\"\",X343)","v":28.322496403820814},null,null,{"$f":"IF(COUNT(AA339:AA343)<3,\"\",AVERAGE(AA339:AA343))","v":183.35911938392624},{"$f":"IF(COUNT(AB339:AB343)<3,\"\",AVERAGE(AB339:AB343))","v":173.35911938392624},149.85688052450593,6.0081915192358366,9.9109861380764173,4.7950122134387358,0.65955939268774699,2.0428472573122529,8.5642859222661391E-2,10,{"$f":"J369","v":10.963213246158876},{"$f":"M369/M369","v":1},{"$f":"O369/M369","v":0.3590747803185943},{"$f":"P369/M369","v":0.13269124793264545},{"$f":"Q369/M369","v":9.237849612522904E-2},{"$f":"R369/M369","v":5.1304926288688331E-2},{"$f":"S369/M369","v":5.0684772511380297E-3},{"$f":"T369/M369","v":3.5250935532974807E-2},{"$f":"U369/M369","v":4.714986711959775E-3},{"$f":"V369/M369","v":0.31951615592479249},{"$f":"X369","v":28.322496403820814},{"$f":"AA369/AA369","v":1},{"$f":"AC369/AA369","v":0.81728621422274772},{"$f":"AD369/AA369","v":3.2767344975384576E-2},{"$f":"AE369/AA369","v":5.4052321866382397E-2},{"$f":"AF369/AA369","v":2.6150933913457044E-2},{"$f":"AG369/AA369","v":3.5970907523106581E-3},{"$f":"AH369/AA369","v":1.1141236193629616E-2},{"$f":"AI369/AA369","v":4.6707717352927622E-4},{"$f":"AJ369/AA369","v":5.4537783741541175E-2},{"$f":"J369","v":10.963213246158876},{"$f":"BE369","v":10.963213246158876},{"$f":"BE369*AM369","v":3.9366133879504015},{"$f":"BE369*AN369","v":1.4547224469845301},{"$f":"BE369*AO369","v":1.0127651523803474},{"$f":"BE369*AP369","v":0.56246684748135267},{"$f":"BE369*AQ369","v":5.5566796937531374E-2},{"$f":"BE369*AR369","v":0.38646352337460199},{"$f":"BE369*AS369","v":5.1691404776020487E-2},{"$f":"BE369*AT369","v":3.5029237529964496},{"$f":"X369","v":28.322496403820814},{"$f":"BO369","v":28.322496403820814},{"$f":"BO369*AW369","v":23.147585863216101},{"$f":"BO369*AX369","v":0.92805301022808562},{"$f":"BO369*AY369","v":1.5308966916787805},{"$f":"BO369*AZ369","v":0.74065973172044286},{"$f":"BO369*BA369","v":0.10187858989653573},{"$f":"BO369*BB369","v":0.31554762202819309},{"$f":"BO369*BC369","v":1.3228791567589717E-2},{"$f":"BO369*BD369","v":1.5446461838921572},{"$f":"IF(COUNT(BY339:BY343)<3,\"\",AVERAGE(BY339:BY343))","v":4.7601344588744592},{"$f":"IF(COUNT(BZ339:BZ343)<3,\"\",AVERAGE(BZ339:BZ343))","v":2.9607631133168892},4.8127726785714291,3.2701874791821455,1.4531453171664341,0.51450222510822508,0.95759872650004463,0.16057067956452395,0.15862976432187187,1.8387665631469978,2.5740412662090005E-2,5.8760005151217969E-3,1.276656760478271E-4,1.1826263385737068E-3,1.0562558798181224E-2,0.21117115327845309,7.85418125352908E-2,6.1220363160866594E-3,2.6470314719605335E-2,8.2731660376237026E-2,0.14095049184225389,0.14591613936025835,0.13526432256530657,0.53133292886366112,-7.6380895915678483E-3,1.8818181818181816E-5,3.0342788790157208E-4,3.0770121945179155E-4,9.5662870912459012E-3,8.0488869406718374E-4,1.0014254529604645E-2,7.1869380962287142E-4,9.6482966309053257E-5,0.39866940414276797,1.1840932865761242E-2,1.0458581235697939E-4,1.5823281910309371E-2,9.6367876212269808E-5,5.5940904633124317E-4,3.9224190694126623E-2,4.19373506097259E-2,1.0129956313709173E-4,1.1279042517360593,0.35227761378743305,1.2538008856132425E-3,6.4366721150702847E-4,2.6214769433465087E-3,3.2428680396643779E-5,138.61976793715513,23.051170426877469,19.646424998023715,20.884362302536232,17.459242655138343,12.714145642226613,0.67387205586297771,2.9193070636363636,0.47950122134387352,0.65955939268774699,3.4047454288537553,1.2857469631093545E-2,2.8380323781291173E-2,3.6007015810276681E-4,2.5546553359683797E-3,2.3705591501976285E-2,0.64701694005270094,{"$f":"IF(COUNT(EL339:EL343)<3,\"\",AVERAGE(EL339:EL343))","v":0.16974026877470355},9.4141271409749656E-3,7.7306356389986813E-2,0.39711857378129117,0.32804735441370225,0.4726948583662714,0.34667011462450592,1.6218372575757574,-0.24923126811594204,0,3.7465355731225301E-4,9.1096541501976282E-4,3.5423343478260864E-2,1.7610528326745718E-3,2.1025047430830036E-2,1.1813431488801054E-3,2.3995678524374177E-4,0.52238132476943355,2.5237795783926219E-2,0,3.8752610276679846E-2,1.0446198945981554E-4,1.7179725955204215E-3,0.17563674736495388,0.24412507674571807,2.8107859025032939E-4,9.8875292312252974,3.0822170826086959,1.1967406851119895E-2,4.4938339920948614E-4,6.4650399209486165E-3,4.6018642951251646E-5,24.829613062845851]
["SHEN1","2001-05",null,null,null,null,null,null,null,10.843736335403728,null,null,{"$f":"IF(COUNT(M340:M344)<3,\"\",AVERAGE(M340:M344))","v":31.075687761716544},21.075687761716544,11.808284065311499,3.8081357041219652,2.6341019920948621,1.5317603425559949,0.15280363617541881,0.98487950310559003,0.15572296969696969,10,null,28.978774320487485,null,null,{"$f":"IF(COUNT(AA340:AA344)<3,\"\",AVERAGE(AA340:AA344))","v":195.89195111725957},185.89195111725957,162.6417402911726,6.0387759525691695,9.6803088547430836,4.6450822134387346,0.68832185935441359,2.0499842239789192,0.14773875922266139,10,{"$f":"J370","v":10.843736335403728},{"$f":"M370/M370","v":1},{"$f":"O370/M370","v":0.37998464123644027},{"$f":"P370/M370","v":0.1225438913314533},{"$f":"Q370/M370","v":8.47640770589774E-2},{"$f":"R370/M370","v":4.9291277293725268E-2},{"$f":"S370/M370","v":4.9171441464817417E-3},{"$f":"T370/M370","v":3.1692926980650925E-2},{"$f":"U370/M370","v":5.0110868306770485E-3},{"$f":"V370/M370","v":0.32179496964567339},{"$f":"X370","v":28.978774320487485},{"$f":"AA370/AA370","v":1},{"$f":"AC370/AA370","v":0.83026249605230784},{"$f":"AD370/AA370","v":3.0827075426669265E-2},{"$f":"AE370/AA370","v":4.9416572756215582E-2},{"$f":"AF370/AA370","v":2.3712471017546914E-2},{"$f":"AG370/AA370","v":3.5137832638278683E-3},{"$f":"AH370/AA370","v":1.0464872151647583E-2},{"$f":"AI370/AA370","v":7.5418493909546077E-4},{"$f":"AJ370/AA370","v":5.104854968754724E-2},{"$f":"J370","v":10.843736335403728},{"$f":"BE370","v":10.843736335403728},{"$f":"BE370*AM370","v":4.1204532610709368},{"$f":"BE370*AN370","v":1.3288336471126461},{"$f":"BE370*AO370","v":0.91915930234139476},{"$f":"BE370*AP370","v":0.53450161460842938},{"$f":"BE370*AQ370","v":5.3320214647621815E-2},{"$f":"BE370*AR370","v":0.34366974387538157},{"$f":"BE370*AS370","v":5.4338904345675822E-2},{"$f":"BE370*AT370","v":3.4894598048969283},{"$f":"X370","v":28.978774320487485},{"$f":"BO370","v":28.978774320487485},{"$f":"BO370*AW370","v":24.059989499864461},{"$f":"BO370*AX370","v":0.89333086175009402},{"$f":"BO370*AY370","v":1.4320317095943216},{"$f":"BO370*AZ370","v":0.68715834619859228},{"$f":"BO370*BA370","v":0.10182513221357373},{"$f":"BO370*BB370","v":0.30325916837534961},{"$f":"BO370*BC370","v":2.1855355145957957E-2},{"$f":"BO370*BD370","v":1.4793244007836235},{"$f":"IF(COUNT(BY340:BY344)<3,\"\",AVERAGE(BY340:BY344))","v":4.3970515603237343},2.80687382269904,4.7374305776397518,3.2236177995482778,1.5345246489742144,0.47450709467344243,0.88162826425748153,0.15317603425559947,0.15280363617541881,1.6414658674948239,2.6978536231884058E-2,6.2042796913231698E-3,1.0368398268398268E-4,1.1911663843402974E-3,9.4854009034443833E-3,0.21266785808394503,7.4410508187464711E-2,4.9026312817617157E-3,1.5669994353472615E-2,7.7126854884246171E-2,0.12914783738001129,0.13520529267833617,0.13796496329757199,0.4951149425936382,-5.9722002635045868E-4,1.8818181818181816E-5,1.5152399774138905E-4,3.6967833615659704E-4,9.5555868624129497E-3,8.7627084509693217E-4,1.0103380387728214E-2,5.9292264257481656E-4,1.1891774891774892E-4,0.36766528514963293,1.195910220214568E-2,5.5217391304347828E-5,1.5675053077357427E-2,9.2331262939958592E-5,5.233907396950875E-4,3.765179710144928E-2,3.9457730472426129E-2,1.1240711462450594E-4,1.0789058535667231,0.3720058883869754,1.007915302089215E-3,4.9955279503105586E-4,2.6257378129117257E-3,3.1884057971014492E-5,141.04512274722379,23.31358851778656,19.945094331357048,21.086853478392623,18.210885155138339,13.498816508893279,0.67324487252964427,2.8639693636363637,0.46450822134387354,0.68832185935441359,3.4166404288537549,2.202475296442688E-2,3.2474240447957839E-2,2.5015349143610012E-4,2.5253053359683792E-3,2.4279041501976288E-2,{"$f":"IF(COUNT(EK340:EK344)<3,\"\",AVERAGE(EK340:EK344))","v":0.69348694005270084},0.1700851021080369,7.9324604743082998E-3,8.8698356389986827E-2,0.4092835737812911,0.28772518774703559,0.41932152503293807,0.40281878129117266,1.6078474242424243,-0.18590460144927537,0,2.6320355731225293E-4,9.672987483530963E-4,3.6433043478260867E-2,1.9529028326745717E-3,2.1025047430830036E-2,1.1000431488801055E-3,3.6949011857707518E-4,0.52189515810276677,2.5148129117259554E-2,0,4.0265393610013175E-2,1.2661198945981551E-4,1.7685892621870883E-3,0.1871450806982872,0.25965791007905137,3.1997859025032941E-4,10.066097397891962,3.272440282608696,6.3212901844532281E-3,6.2196673254281943E-4,6.300006587615284E-3,4.0335309617918312E-5,23.255811846179185]
["SHEN1","2002-06",null,null,null,null,null,null,null,10.320079668737062,null,null,{"$f":"IF(COUNT(M341:M345)<3,\"\",AVERAGE(M341:M345))","v":29.404704333145116},19.404704333145116,10.810691779597212,3.3870517993600608,2.4817897063805758,1.479388913984566,0.15297335046113306,0.93454178881987582,0.15826687445887444,10,null,29.005965411396573,null,null,{"$f":"IF(COUNT(AA341:AA345)<3,\"\",AVERAGE(AA341:AA345))","v":195.1185546627141},185.1185546627141,162.57705683662715,4.8560698616600799,10.035774582015812,4.6536094861660073,0.7193071320816864,2.0717583148880103,0.20497966831357045,10,10.320079668737062,1,0.36765177629796303,0.11518741222445011,8.4401110729179857E-2,5.0311300437630727E-2,5.2023427519623383E-3,3.178205018597844E-2,5.3823657828953346E-3,0.34008163750614401,29.005965411396573,1,0.83322192047630295,2.4887791271590652E-2,5.1434240066834523E-2,2.3850163784834975E-2,3.6865132243578541E-3,1.0617946194144856E-2,1.0505390872123999E-3,5.125089214240134E-2,10.320079668737062,10.320079668737062,3.7941956217476749,1.1887432709919825,0.87102618685503452,0.5192166287541149,5.3688591664328142E-2,0.32799328995509708,5.5546443685764182E-2,3.5096695929379642,29.005965411396573,29.005965411396573,24.168406205353069,0.72189441278981603,1.49189978834007,0.69179702579906643,0.10693087507437997,0.3079837800474356,3.0471900427003002E-2,1.4865816047857097,{"$f":"IF(COUNT(BY341:BY345)<3,\"\",AVERAGE(BY341:BY345))","v":4.1554639412761158},2.6491823941276116,4.441997053830228,3.0021444662149444,1.4178695061170714,0.4241074756258234,0.83169626425748144,0.14793889139845662,0.15297335046113306,1.5575696770186336,2.7559488612836434E-2,8.6617082627517411E-3,9.9874458874458884E-5,1.1507854319593451E-3,9.5662580463015262E-3,0.21737452475061173,7.1983841520798036E-2,4.1692979484283825E-3,9.7861848296630916E-3,7.3632569169960471E-2,0.12166307547524939,0.12155005458309806,0.14469258234519106,0.47132446640316211,1.1459922830792399E-2,2.053246753246753E-5,5.4285902503293811E-5,3.6367833615659701E-4,9.7052059100319991E-3,8.7941370223978911E-4,1.0586428006775834E-2,3.9139883305100692E-4,1.0387012987012986E-4,0.32876528514963299,9.9086260116694903E-3,5.5217391304347828E-5,1.5564005458309804E-2,8.3093167701863341E-5,4.4386693017127801E-4,3.5889225672877847E-2,4.0110397139092792E-2,1.2374044795783928E-4,0.98056013928100882,0.34372588838697538,8.08962921136834E-4,2.5012422360248452E-4,2.540975908149821E-3,2.5407867494824018E-5,147.90010598531904,22.819235747223793,19.408509785902503,21.41723651172596,18.280722973320159,13.571448417984186,0.54403841798418973,2.9497606363636364,0.46536094861660071,0.7193071320816864,3.4529305197628459,3.0807752964426883E-2,3.8214422266139657E-2,2.4878985507246375E-4,2.5639416996047432E-3,2.3546223320158106E-2,{"$f":"IF(COUNT(EK341:EK345)<3,\"\",AVERAGE(EK341:EK345))","v":0.74788603096179185},0.16914237483530964,6.1770059288537545E-3,8.9175629117259542E-2,0.44422630105401845,0.27540882411067197,0.40340516139657445,0.45165332674571806,1.6638692424242421,-9.5769146903820837E-2,0,1.2293083003952571E-4,8.5911693017127805E-4,3.5903043478260864E-2,1.9115391963109352E-3,2.2669956521739129E-2,1.0396795125164689E-3,3.6530830039525696E-4,0.42173515810276674,2.3922674571805008E-2,0,4.0185211791831363E-2,1.3424835309617917E-4,1.6706801712779973E-3,0.19810735342555991,0.283300273715415,3.1861495388669299E-4,9.7475155797101447,3.2900481007905142,3.7138356389986825E-3,6.0433036890645577E-4,6.3109156785243741E-3,4.4517127799736493E-5,23.091245573451914]
["SHEN1","2003-07",null,null,null,null,null,null,null,10.247542886128366,null,null,{"$f":"IF(COUNT(M342:M346)<3,\"\",AVERAGE(M342:M346))","v":29.210801289666854},19.210801289666854,10.860715692640692,3.2788197993600599,2.3622697933370977,1.431615000941088,0.15351082872200264,0.92890709316770192,0.19496270054583101,10,null,28.662138578063242,null,null,{"$f":"IF(COUNT(AA342:AA346)<3,\"\",AVERAGE(AA342:AA346))","v":188.47569991271411},178.47569991271411,155.95300333662715,4.5790439449934128,10.452839748682477,4.6423344861660079,0.6399919654150199,1.9516010648880104,0.25688691831357047,10,10.247542886128366,1,0.37180478498145841,0.11224682838535904,8.0869736160669323E-2,4.9009781920892156E-2,5.2552761973121967E-3,3.180012365824067E-2,6.6743359284292519E-3,0.34233911972614872,28.662138578063242,1,0.82744355590058183,2.4295142276240578E-2,5.545988025789713E-2,2.4630944404588719E-2,3.395620579795749E-3,1.0354656148202798E-2,1.3629710272068951E-3,5.3057237641940834E-2,10.247542886128366,10.247542886128366,3.810085479365231,1.1502541877108576,0.82871608949634479,0.50222984207414101,5.3853668210406332E-2,0.32587313097200654,6.8395543663006139E-2,3.5081348109931425,28.662138578063242,28.662138578063242,23.716301864747894,0.69635073469537023,1.5895987734746413,0.70597554183289324,9.732574761662921E-2,0.29678658944798314,3.9065664459689231E-2,1.5207338978625415,{"$f":"IF(COUNT(BY342:BY346)<3,\"\",AVERAGE(BY342:BY346))","v":4.168282913608131},2.6574110897797851,4.4052581763598724,2.9759331618671183,1.4344078539431586,0.41693373649538862,0.79408722077922078,0.1431615000941088,0.15351082872200264,1.5481784596273291,3.3832271221532095E-2,8.5622300018821755E-3,9.9961415396198017E-5,1.1687854319593449E-3,9.6938232636928287E-3,0.2259119160549595,6.8154276303406744E-2,3.0371240353849051E-3,4.0314022209674396E-3,7.7875177865612641E-2,0.11617090156220591,0.10812309806135892,0.15250475625823451,0.45870533596837937,2.0507748917748918E-2,2.053246753246753E-5,6.0285902503293801E-5,3.6706964050442308E-4,9.7618146056841718E-3,8.4706587615283272E-4,9.5531236589497474E-3,4.0774665913796357E-4,1.125657820440429E-4,0.32329050254093733,8.7051477507999239E-3,5.5217391304347828E-5,1.5582440240918502E-2,7.8484472049689433E-5,4.489104084321476E-4,3.632887784679089E-2,3.3152223226049313E-2,1.3843610013175231E-4,0.96039405232448716,0.34787614925654059,8.2148466026726896E-4,2.4812422360248447E-4,2.6568889516280815E-3,4.39296066252588E-5,149.07906815923207,22.132982051571616,18.958279785902505,20.874652345059292,17.896752389986823,13.157075167984189,0.52194641798418973,3.0746161363636366,0.46423344861660071,0.6399919654150199,3.252668436429512,3.8890002964426879E-2,3.3379172266139658E-2,2.6078985507246378E-4,2.5425250329380767E-3,2.35227233201581E-2,{"$f":"IF(COUNT(EK342:EK346)<3,\"\",AVERAGE(EK342:EK346))","v":0.85156186429512526},0.16381737483530961,5.522839262187087E-3,9.3905629117259554E-2,0.4872963010540185,0.25926382411067195,0.36283766139657442,0.54774166007905134,1.7510450757575757,-2.6401646903820818E-2,0,1.0159749670619238E-4,9.0011693017127818E-4,3.1707210144927542E-2,1.8807891963109357E-3,1.9267039855072464E-2,9.4017951251646901E-4,3.2089163372859029E-4,0.40472182476943341,2.2568507905138341E-2,0,4.013437845849803E-2,1.2283168642951249E-4,1.5816801712779972E-3,0.17636493675889328,0.25083419038208171,3.0619828722002634E-4,9.3817572463768126,3.1908409341238468,3.1406689723320162E-3,5.0324703557312243E-4,6.2546656785243734E-3,2.6350461133069833E-5,23.842240906785246]
["SHEN1","2004-08",null,null,null,null,null,null,null,9.9834498861283656,null,null,{"$f":"IF(COUNT(M343:M347)<3,\"\",AVERAGE(M343:M347))","v":28.416906365424428},18.416906365424428,10.476024238095238,3.1645239736024844,2.2139324751552794,1.346618788819876,0.14557685144927537,0.87160409316770182,0.19862539751552796,10,null,28.004819524150196,null,null,{"$f":"IF(COUNT(AA343:AA347)<3,\"\",AVERAGE(AA343:AA347))","v":177.6701297179315},167.6701297179315,145.10205614706192,4.7357863902108033,10.388853317378128,4.426050312252964,0.69096699845849818,2.0290138996706188,0.29740339135704874,10,9.9834498861283656,1,0.36865463479309918,0.11136060811506354,7.7908990045764709E-2,4.738794475032445E-2,5.1228958415544638E-3,3.067202608050976E-2,6.9896911001262451E-3,0.35190319000266879,28.004819524150196,1,0.81669359040501321,2.6654938552300951E-2,5.8472706323068696E-2,2.49116174974361E-2,3.8890442617195982E-3,1.1420118299524374E-2,1.6739076615140955E-3,5.6284081155768648E-2,9.9834498861283656,9.9834498861283656,3.6804450717458601,1.1117630504055167,0.77780049780076566,0.4730951716214839,5.114417390601439E-2,0.3062126352807914,6.9781230817627812E-2,3.5132078621603524,28.004819524150196,28.004819524150196,22.871356605822637,0.74646674358450149,1.6375175876661749,0.69764535207036016,0.10891198267088929,0.31981835192262514,4.687748196079454E-2,1.5762255348499239,{"$f":"IF(COUNT(BY343:BY347)<3,\"\",AVERAGE(BY343:BY347))","v":4.0284841040843222},2.5757982867494826,4.2333980573122538,2.8616762603519672,1.3942241418219463,0.40539054710144928,0.74753035714285709,0.13466187888198758,0.14557685144927537,1.4526734596273292,3.4292604554865429E-2,8.8408209109730844E-3,9.9408385093167716E-5,1.1568990683229815E-3,9.7953762939958604E-3,0.23192820393374741,6.3443064182194614E-2,1.6063664596273294E-3,-7.829917184265005E-4,7.8132753623188417E-2,0.10331802277432714,9.3720295031055889E-2,0.16067952898550725,0.4350676086956522,2.1997976190476193E-2,1.7142857142857145E-6,6.0293478260869561E-5,3.7828933747412002E-4,9.4751858178053847E-3,8.4588405797101436E-4,7.3829342650103521E-3,3.8479968944099378E-4,1.0833850931677019E-4,0.31454739648033125,3.0681780538302276E-3,5.6134057971014492E-5,1.5495576604554865E-2,8.3484472049689433E-5,4.0188768115942029E-4,3.3467627846790894E-2,2.2938458074534162E-2,1.4290579710144927E-4,0.92560299171842642,0.33835474016563144,8.0374223602484461E-4,2.217075569358178E-4,2.4981692546583848E-3,5.4596273291925471E-5,152.63853831832299,21.312903199397702,18.006993142424243,20.239582974624508,17.184901367378131,12.414629745375493,0.54282659189723326,3.0485458754940717,0.44260503122529637,0.69096699845849818,3.3816898277338603,4.5327606442687747E-2,3.0865596613965745E-2,2.6166637681159421E-4,2.6097911198945979E-3,2.548873027667984E-2,{"$f":"IF(COUNT(EK343:EK347)<3,\"\",AVERAGE(EK343:EK347))","v":0.9269660034255599},0.14647838353096182,3.58746534914361E-3,9.3184898682476924E-2,0.50382871844532284,0.22230841541501975,0.29972771357048744,0.62457505138339919,1.7436247974967063,2.7233553096179187E-2,0,1.1733662714097496E-4,9.323847562582345E-4,3.2973585797101447E-2,1.9755196310935444E-3,1.2388278115942028E-2,1.0674003820816866E-3,2.7811945981554676E-4,0.42136012042160742,1.7811012252964428E-2,0,4.0649331501976291E-2,1.2819168642951251E-4,1.555610606060606E-3,0.19755756284584977,9.7196732990777329E-2,3.3682785243741768E-4,8.7260171420289847,3.0121790593412383,3.140387233201581E-3,4.5000529644268768E-4,6.4580291567852433E-3,3.5550461133069836E-5,25.614713612872201]
["SHEN1","2005-09",null,null,null,null,null,null,null,9.719326668737061,null,null,{"$f":"IF(COUNT(M344:M348)<3,\"\",AVERAGE(M344:M348))","v":27.705248452380953},17.70524845238095,10.074031629399586,2.9225477996894407,2.1613540403726708,1.2943579192546584,0.14866963405797104,0.93734226708074542,0.16694470186335403,10,null,26.444392248787882,null,null,{"$f":"IF(COUNT(AA344:AA348)<3,\"\",AVERAGE(AA344:AA348))","v":156.80084914909094},146.80084914909094,125.80349267242426,4.2956360315151514,9.7023990130303037,4.0415278484848489,0.60981474121212131,2.0767332257575757,0.27124593121212115,10,9.719326668737061,1,0.36361455652399455,0.10548715362407374,7.8012440281398268E-2,4.6718870667388758E-2,5.3661180593092481E-3,3.3832660576634949E-2,6.0257428172966632E-3,0.36094244082263816,26.444392248787882,1,0.80231384813998385,2.7395489596046332E-2,6.1877209630446406E-2,2.5774910470300089E-2,3.8891035636694237E-3,1.3244400378106088E-2,1.7298753972576539E-3,6.3775164830208925E-2,9.719326668737061,9.719326668737061,3.5340886563646596,1.0252641054276233,0.75822839132025155,0.45407596561082919,5.2155054361435936E-2,0.32883068021681705,5.8566162863102247E-2,3.5081174909665154,26.444392248787882,26.444392248787882,21.216702106848167,0.72445707272543669,1.6363052027279998,0.68160184265400525,0.10284498013383303,0.35024011869863192,4.5745503546609161E-2,1.6864954745011465,{"$f":"IF(COUNT(BY344:BY348)<3,\"\",AVERAGE(BY344:BY348))","v":4.0677383333333328},2.5035461128364389,4.2372784565217394,2.7543353038302278,1.3462830113871636,0.37255489492753624,0.72870079192546588,0.12943579192546584,0.14866963405797104,1.5622371118012421,2.8690865424430639E-2,9.855864389233953E-3,7.4017080745341612E-5,1.0943773291925466E-3,1.0159724120082815E-2,0.24010211697722567,6.0443064182194618E-2,1.1933229813664596E-3,-6.809948240165631E-3,8.2069275362318839E-2,9.9318892339544496E-2,8.6138555900621111E-2,0.17056909420289856,0.43128586956521742,1.8884932712215322E-2,1.7142857142857145E-6,6.4815217391304335E-5,3.5185455486542435E-4,9.3362292960662528E-3,7.8040579710144926E-4,2.6478907867494824E-3,3.6958229813664593E-4,9.0860248447204982E-5,0.28923609213250517,3.54296066252588E-3,1.2916666666666668E-5,1.5078446169772256E-2,7.6614906832298145E-5,3.7832246376811598E-4,3.4319106107660459E-2,1.9648805900621118E-2,1.4934057971014494E-4,0.87968125258799168,0.32692821842650105,8.0278571428571421E-4,1.760553830227743E-4,2.2515605590062108E-3,5.6422360248447199E-5,157.01319005745341,19.423471242875966,16.035895642424244,18.354567163030303,15.459962896363638,11.047271390303029,0.49880061363636374,2.8583866363636359,0.40415278484848488,0.60981474121212131,3.4612220378787875,4.1537294848484847E-2,3.129799878787879E-2,2.4275333333333331E-4,2.467432424242424E-3,2.4908973030303032E-2,{"$f":"IF(COUNT(EK344:EK348)<3,\"\",AVERAGE(EK344:EK348))","v":0.92645361212121213},0.1304771878787879,2.3329363636363639E-3,8.8573703030303028E-2,0.49525879090909086,0.18721932121212123,0.23449394545454547,0.64435668181818173,1.6499024424242426,2.526648787878788E-2,0,1.2649242424242425E-4,8.171927272727274E-4,3.1187680000000006E-2,1.8251681818181817E-3,8.6921766666666657E-3,1.0056721212121213E-3,2.3505424242424247E-4,0.38748990303030306,1.6694381818181819E-2,0,3.7596744545454544E-2,1.1365545454545453E-4,1.347860606060606E-3,0.1681039287878788,9.1457138787878783E-2,3.4073727272727271E-4,7.5388320333333336,2.6816901281818182,2.9851263636363643E-3,3.6196181818181809E-4,5.6963806060606054E-3,4.0677272727272729E-5,30.829971402727274]
["SHEN1","2006-10",null,null,null,null,null,null,null,9.5803066608319227,null,null,{"$f":"IF(COUNT(M345:M349)<3,\"\",AVERAGE(M345:M349))","v":27.148725424712968},17.148725424712968,9.4246094001505742,3.0334953570016934,2.1692005779220778,1.2101349943534727,0.15519793445322794,1.0003867571993224,0.15569931846414456,10,null,24.766593679947299,null,null,{"$f":"IF(COUNT(AA345:AA349)<3,\"\",AVERAGE(AA345:AA349))","v":131.60772127227932},121.60772127227931,100.33034800575759,5.0981752633992103,9.5328245528853763,3.6964169789196313,0.61832737889328071,2.1277032330039525,0.20392567034255596,10,9.5803066608319227,1,0.34714739836631636,0.11173619790785318,7.9900641521369387E-2,4.4574283890760846E-2,5.7165827133805044E-3,3.6848387596446402E-2,5.735050763098235E-3,0.36834141726952641,24.766593679947299,1,0.76234393419962876,3.8737660785507763E-2,7.243362669552797E-2,2.8086627009309154E-2,4.6982606561057428E-3,1.6167009142282848E-2,1.5494962481772644E-3,7.5983383826783962E-2,9.5803066608319227,9.5803066608319227,3.3257785328592937,1.0704670410726398,0.76547264817191885,0.4270353088604692,5.476661544619587E-2,0.35301885313115189,5.4943545025919222E-2,3.5288237333275143,24.766593679947299,24.766593679947299,18.880662462694684,0.95939990478629888,1.793934201133125,0.69561007897979321,0.11635991267225354,0.40040174644691257,3.8375743987209089E-2,1.8818495936654376,{"$f":"IF(COUNT(BY345:BY349)<3,\"\",AVERAGE(BY345:BY349))","v":4.1287942621870881},2.4595278914925651,4.2681802944664033,2.6748522801148127,1.2565310192923018,0.38439529808959155,0.73084627809147373,0.12101349943534725,0.15519793445322794,1.6673112619988708,2.6867225108225107E-2,1.0587326839826841E-2,8.3285855448898919E-5,1.0440334556747601E-3,1.0351905938264634E-2,0.23075010116694905,5.475891398456615E-2,4.2751270468661777E-4,-7.4355608883869759E-3,8.2495085638998697E-2,0.10281628364389235,8.4584761434217962E-2,0.16402941040843216,0.42648998023715423,1.8749517692452474E-2,1.7142857142857145E-6,7.7680830039525693E-5,3.1924585921325047E-4,9.2238577545642776E-3,7.6833465085638991E-4,2.6777840673818934E-3,3.5721470920383966E-4,7.7061829474872956E-5,0.29841470873329567,3.5451741012610576E-3,1.2916666666666668E-5,1.460990466779597E-2,7.4804630152456255E-5,3.4932641633728589E-4,3.6336236542443064E-2,2.1058019339356297E-2,1.4778326745718053E-4,0.82557022492000753,0.30517015913796347,7.8410191981931104E-4,1.3937554112554109E-4,2.0705724167137209E-3,6.5335403726708081E-5,158.14575013255222,17.591150847619048,14.070479048221348,16.807453787536232,13.689078983320158,9.2583290497233204,0.60165504479578391,2.8095581798418978,0.36964169789196311,0.61832737889328071,3.5461719944005266,3.1568385428194991E-2,3.3860538642951257E-2,2.4988739130434783E-4,2.3154432938076413E-3,2.4462331725955199E-2,{"$f":"IF(COUNT(EK345:EK349)<3,\"\",AVERAGE(EK345:EK349))","v":0.88110622081686429},0.11660374584980238,1.6111247694334647E-3,7.6682398682476935E-2,0.47427205177865606,0.19661479222661399,0.23535032226613964,0.6231026238471673,1.6060221888010542,1.7969821212121213E-2,0,1.2809025032938076E-4,8.2003330698287213E-4,2.8713397391304345E-2,1.676331225296443E-3,1.0242350579710145E-2,1.0008025559947301E-3,1.2115569169960474E-4,0.46722211317523055,1.5671700658761528E-2,0,3.4771248168642951E-2,1.0368806324110672E-4,1.1917265480895917E-3,0.17219909545454545,8.770517501976284E-2,3.1119379446640317E-4,6.3287748231884065,2.2480071716600789,2.5834778129117265E-3,2.2398718050065875E-4,5.3202356785243734E-3,4.978234519104085E-5,35.967095210698282]
["SHEN1","2007-11",null,null,null,null,null,null,null,9.0357129051383396,null,null,{"$f":"IF(COUNT(M346:M350)<3,\"\",AVERAGE(M346:M350))","v":25.800860617259552},15.80086061725955,8.5761004229249025,2.8179052493412384,2.0433791245059285,1.0757441040843214,0.12868361561264824,0.99904183794466395,0.16000538471673253,10,null,23.636154801159417,null,null,{"$f":"IF(COUNT(AA346:AA350)<3,\"\",AVERAGE(AA346:AA350))","v":116.32417377985504},106.32417377985507,85.377741680000014,5.269714028550724,9.2155006665217378,3.4080154637681161,0.5659470910144927,2.2871508239130436,0.20010338246376813,10,9.0357129051383396,1,0.33239590532061158,0.10921749049937479,7.9198099428474292E-2,4.1694117108818443E-2,4.9875706675677712E-3,3.8721260223248226E-2,6.2015522307692526E-3,0.3875839704862587,23.636154801159417,1,0.73396387789161055,4.5301968260902707E-2,7.922257573015036E-2,2.9297568622475911E-2,4.8652577759594031E-3,1.9661870354149302E-2,1.7202218245922494E-3,8.5966654007146662E-2,9.0357129051383396,9.0357129051383396,3.0034339713205918,0.98685788837202482,0.71561128906829452,0.37673607202850007,4.5066256646231553E-2,0.34987419070242387,5.6035445523451195E-2,3.5020974839474452,23.636154801159417,23.636154801159417,17.348083836305374,1.0707643346119071,1.8725170637044091,0.69248186725843153,0.11499598594012103,0.46473101137100004,4.0659429338395309E-2,2.03192114185063,{"$f":"IF(COUNT(BY346:BY350)<3,\"\",AVERAGE(BY346:BY350))","v":3.9322552145680403},2.2942134815546771,4.0361913420854512,2.45816732773386,1.1458106673254282,0.35765109519104082,0.69028829051383389,0.10757441040843214,0.12868361561264824,1.6650696719367588,2.8158388669301714E-2,9.1314841897233191E-3,6.4308629776021082E-5,9.4840612648221354E-4,8.6088376152832664E-3,0.20932186100131753,4.721353096179183E-2,2.3426218708827405E-4,-6.544670619235836E-3,7.7316824769433481E-2,9.9016449275362323E-2,8.1524430171278001E-2,0.14835781620553359,0.39967084980237155,1.9690345849802372E-2,1.8956521739130434E-5,8.0173583662714086E-5,3.0588768115942028E-4,7.8189799077733862E-3,7.1558102766798419E-4,2.3657592226613965E-3,3.1087516469038211E-4,6.2005928853754938E-5,0.27768278326745721,3.5354018445322793E-3,7.6568840579710143E-5,1.3300306324110672E-2,6.3537549407114623E-5,3.130365612648221E-4,2.9675793478260864E-2,1.9092325757575756E-2,1.2818906455862978E-4,0.76145846508563897,0.27832878853754944,6.329176548089591E-4,1.1099044795783927E-4,1.9208415678524371E-3,1.0679710144927539E-4,167.27685871640315,16.966719300000001,13.186243139130436,15.909242854202901,12.403667680289853,8.1154578527536234,0.62001359782608689,2.7305875434782605,0.34080154637681159,0.5659470910144927,3.8119180398550716,3.0860983913043472E-2,3.2728409855072464E-2,2.2738739130434782E-4,2.1995342028985508E-3,2.5160112028985503E-2,{"$f":"IF(COUNT(EK346:EK350)<3,\"\",AVERAGE(EK346:EK350))","v":0.82266584202898552},0.11018079130434781,1.1616550724637682E-3,6.5962928985507235E-2,0.45449379420289854,0.20792350434782611,0.23676577681159419,0.58864360869565213,1.5537896130434783,1.7506866666666669E-2,1.1258333333333335E-4,1.3851449275362318E-4,8.0084391304347815E-4,2.860348072463768E-2,1.6035130434782611E-3,9.0447672463768135E-3,1.0434237681159421E-3,1.0889811594202898E-4,0.48145347681159423,1.4103518840579709E-2,9.0583333333333314E-4,3.4170960289855078E-2,9.3225942028985514E-5,1.1034992753623189E-3,0.15200996666666669,5.9084379565217393E-2,3.4904985507246377E-4,5.6385731565217387,1.9709474368115942,2.4930081159420291E-3,2.2338869565217395E-4,5.0289250724637668E-3,7.4971739130434792E-5,39.766146187971017]
["SHEN1","2008-12",null,null,null,null,null,null,null,8.7347466152832673,null,null,{"$f":"IF(COUNT(M347:M351)<3,\"\",AVERAGE(M347:M351))","v":24.841140422642574},14.841140422642573,7.8769220088462273,2.5869456013081122,2.0569362466591379,1.0015507293431205,0.13071579366647845,1.0436764466403161,0.14439299548277812,10,null,21.860912376916993,null,null,{"$f":"IF(COUNT(AA347:AA351)<3,\"\",AVERAGE(AA347:AA351))","v":94.832993241976254},84.832993241976283,65.776631543636356,5.35743591491436,7.7645736665217395,2.9819586455862979,0.50411787131752306,2.2148841193675892,0.23339086731225295,10,8.7347466152832673,1,0.31709180314710722,0.10413956675475834,8.2803615762513494E-2,4.0318226631423572E-2,5.2620689486273207E-3,4.2014031114650852E-2,5.8126556601710861E-3,0.40255800779923334,21.860912376916993,1,0.69360492899133142,5.6493375688820707E-2,8.1876290108334152E-2,3.1444316409770176E-2,5.3158489897204217E-3,2.3355628074673146E-2,2.4610724530937439E-3,0.10544853281688535,8.7347466152832673,8.7347466152832673,2.7697165542732627,0.9096327282281913,0.72326860251483094,0.35216949360305072,4.5962838938409668E-2,0.36698191607310243,5.0772074353486518E-2,3.5162421960795287,21.860912376916993,21.860912376916993,15.162836576877229,1.2349967358095622,1.7898904038053285,0.6874014457860389,0.11620930897320086,0.5105753388482922,5.3801289250326491E-2,2.3052011361843867,{"$f":"IF(COUNT(BY347:BY351)<3,\"\",AVERAGE(BY347:BY351))","v":3.9069716534914356},2.194854558159232,3.9690713710709589,2.3307333525785809,1.0535848081121777,0.32604087572934309,0.69481959486166023,0.10015507293431206,0.13071579366647845,1.7394606864295128,2.5416078110295504E-2,1.0297790607942782E-2,8.3352108036890643E-5,8.7530467720685107E-4,8.8476243647656674E-3,0.19532343450028231,4.5128934688499905E-2,9.339262187088274E-5,-7.7771757952192723E-3,7.4516038019951075E-2,0.1025438612836439,8.4536604084321482E-2,0.14009413090532657,0.39391345849802367,1.8055397609636738E-2,1.6385093167701865E-5,7.2364059853190303E-5,3.2506780538302276E-4,8.2027397421419145E-3,7.0124562394127611E-4,2.6421443158290985E-3,3.1795591003199705E-4,6.2105307735742517E-5,0.25309259693205349,3.8569339356295876E-3,3.5656884057971009E-4,1.3634347731978164E-2,5.2891586674195375E-5,2.4087092979484283E-4,2.9001718944099381E-2,1.5608483107472237E-2,1.1544372294372298E-4,0.69585991436100125,0.25583008874458874,6.4570026350461128E-4,9.1292725390551479E-5,1.788804300771692E-3,7.7683229813664594E-5,170.90458316360815,14.854999813833995,11.159206548221345,13.720737036021081,10.380634195441369,6.5614335194202908,0.62760776449275357,2.3528327252964423,0.29819586455862979,0.50411787131752306,3.6914735322793151,3.6447135428194992E-2,3.487797046113307E-2,2.2772830039525689E-4,1.9745872332015807E-3,2.2556634756258236E-2,{"$f":"IF(COUNT(EK347:EK351)<3,\"\",AVERAGE(EK347:EK351))","v":0.69157508445322802},0.1090894276679842,9.8801870882740434E-4,3.8404216864295126E-2,0.38268008208168636,0.19523001949934124,0.20817047378129114,0.50162936627140975,1.3261141584980238,2.0725654545454546E-2,1.3431060606060606E-4,1.5582509881422927E-4,7.5913936758893275E-4,2.7208723148880103E-2,1.4598691040843216E-3,8.1071384584980241E-3,1.0460980105401845E-3,1.1010266139657443E-4,0.48722809802371547,1.4279352173913046E-2,1.9481060606060605E-3,3.203788453227932E-2,5.5104729907773389E-5,9.1642351778656122E-4,0.12860289090909088,5.3540046231884041E-2,3.0565591567852438E-4,4.4852303534914366,1.5929672852964427,2.2702050856389989E-3,2.2656293807641633E-4,4.5512659815546766E-3,1.1363083003952567E-4,46.488381445546779]
["SHEN1","2009-13",null,null,null,null,null,null,null,8.603266160737812,null,null,{"$f":"IF(COUNT(M348:M352)<3,\"\",AVERAGE(M348:M352))","v":24.402149165066817},14.402149165066817,7.3857852815734999,2.6119152452475065,2.0818702921136834,0.95662875964615102,0.12835368003011483,1.0629819920948615,0.17461329851308111,10,null,20.720103343873518,null,null,{"$f":"IF(COUNT(AA348:AA352)<3,\"\",AVERAGE(AA348:AA352))","v":84.027812132411057},74.027812132411071,55.735366298418967,6.2254776436100139,6.6344975760869573,2.6974341238471675,0.40117744696969693,2.0929032845849802,0.24095552470355736,10,8.603266160737812,1,0.3026694588092555,0.10703627895966739,8.5315038361211612E-2,3.9202643716956871E-2,5.2599334247928065E-3,4.3560998865484597E-2,7.1556524522459206E-3,0.4097999701729394,20.720103343873518,1,0.66329665004952354,7.408829869091324E-2,7.8955971930249877E-2,3.2101682233455629E-2,4.774341218566079E-3,2.4907268575397185E-2,2.8675687083683618E-3,0.11900821580647603,8.603266160737812,8.603266160737812,2.6039459128624949,0.92086159674499912,0.73398798253506015,0.33727077810155587,4.5252607241253698E-2,0.37476686746736187,6.156198260040787E-2,3.5256182160602143,20.720103343873518,20.720103343873518,13.743575136671236,1.5351172054474913,1.6359758980107542,0.66515017338938909,9.8924843447604174E-2,0.51608117889584304,5.9416319983050359E-2,2.4658625302801851,{"$f":"IF(COUNT(BY348:BY352)<3,\"\",AVERAGE(BY348:BY352))","v":3.8894415019762847},2.1462409975531709,3.9472545074345944,2.2665653450028236,0.98207152023338984,0.32679524694146428,0.70349791304347831,9.5662875964615077E-2,0.12835368003011483,1.7716365955204219,3.0183835686053078E-2,1.1202381517033691E-2,8.8996047430830042E-5,8.4273649538866918E-4,8.6284349708262743E-3,0.18621623753058536,4.4805601355166577E-2,1.4960474308300394E-4,-7.2091454921889703E-3,7.4894825898738943E-2,0.10815492188970451,8.5922134387351787E-2,0.13541117635987204,0.39717391304347827,1.9387897609636738E-2,4.5756691134952012E-4,7.7265575004705443E-5,3.1566629023150759E-4,8.4371867118388857E-3,6.2342744212309418E-4,3.0781518915866737E-3,3.248119706380576E-4,6.3605307735742513E-5,0.25347206662902316,4.6302672689629209E-3,3.9065217391304343E-4,1.3412938641069076E-2,5.0891586674195381E-5,2.0934820252211552E-4,2.717760530773574E-2,1.5343520986260118E-2,1.0751948051948054E-4,0.65623824769433459,0.23827340692640692,6.7689723320158107E-4,8.4527573875399958E-5,1.6701603613777523E-3,6.9562017692452479E-5,171.90052554997177,13.591544752964428,10.101239278656127,12.402196145586297,9.2015492180500651,5.6991715507246381,0.73463819927536234,2.0592902905138337,0.26974341238471677,0.40117744696969693,3.4881721409749673,3.7528575428195002E-2,3.1952850461133067E-2,1.9502569169960472E-4,1.832451581027668E-3,1.9708714756258235E-2,{"$f":"IF(COUNT(EK348:EK352)<3,\"\",AVERAGE(EK348:EK352))","v":0.58395703227931484},0.11158494071146245,9.686100131752305E-4,2.6338860342555993E-2,0.33588853425559945,0.17650368906455866,0.19137607378129115,0.42586467061923583,1.1559718280632412,2.0195671936758895E-2,2.5309321475625827E-4,1.5608596837944663E-4,7.1643675889328066E-4,2.4264521409749669E-2,1.3355734519104085E-3,5.6963349802371544E-3,9.9487714097496707E-4,1.1026613965744402E-4,0.56974545454545455,1.3120326086956523E-2,2.3961060606060604E-3,2.8815018445322797E-2,2.7657773386034257E-5,7.7266699604743093E-4,9.4799221343873516E-2,3.6150807971014484E-2,2.7754808959156785E-4,3.9182991534914366,1.3826091600790513,1.988921607378129E-3,2.0163076416337286E-4,4.135815546772067E-3,1.6982213438735175E-4,51.741697609025039]
["SHEN1","2010-14",null,null,null,null,null,null,null,8.5601315520421615,null,null,{"$f":"IF(COUNT(M349:M353)<3,\"\",AVERAGE(M349:M353))","v":24.201917165066821},14.201917165066817,7.0965494554865431,2.7121422017692458,2.0770073355919441,0.92459397703745538,0.12083698437794091,1.0829275573122528,0.18785877677395066,10,null,20.196758177206853,null,null,{"$f":"IF(COUNT(AA349:AA353)<3,\"\",AVERAGE(AA349:AA353))","v":80.022809215744402},70.022809215744417,51.200863631752306,7.253312143610013,6.3764587427536226,2.5535174571805008,0.34290569696969697,2.0574657845849802,0.23828569137022404,10,{"$f":"J379","v":8.5601315520421615},{"$f":"M379/M379","v":1},{"$f":"O379/M379","v":0.29322261567483343},{"$f":"P379/M379","v":0.11206311397858872},{"$f":"Q379/M379","v":8.5819950602504649E-2},{"$f":"R379/M379","v":3.8203336154377862E-2},{"$f":"S379/M379","v":4.9928682737728595E-3},{"$f":"T379/M379","v":4.4745527799564422E-2},{"$f":"U379/M379","v":7.7621444405696523E-3},{"$f":"V379/M379","v":0.41319040685066283},{"$f":"X379","v":20.196758177206853},{"$f":"AA379/AA379","v":1},{"$f":"AC379/AA379","v":0.63982837060509734},{"$f":"AD379/AA379","v":9.0640558794365986E-2},{"$f":"AE379/AA379","v":7.9683015445789443E-2},{"$f":"AF379/AA379","v":3.1909870225826802E-2},{"$f":"AG379/AA379","v":4.2850994651438788E-3},{"$f":"AH379/AA379","v":2.571099171284999E-2},{"$f":"AI379/AA379","v":2.9777221482914598E-3},{"$f":"AJ379/AA379","v":0.12496437075883748},{"$f":"J379","v":8.5601315520421615},{"$f":"BE379","v":8.5601315520421615},{"$f":"BE379*AM379","v":2.5100241642104741},{"$f":"BE379*AN379","v":0.95927499778821423},{"$f":"BE379*AO379","v":0.73463006694719979},{"$f":"BE379*AP379","v":0.327025583208363},{"$f":"BE379*AQ379","v":4.2739609245513337E-2},{"$f":"BE379*AR379","v":0.38302760432983107},{"$f":"BE379*AS379","v":6.644497753722893E-2},{"$f":"BE379*AT379","v":3.5369642386834967},{"$f":"X379","v":20.196758177206853},{"$f":"BO379","v":20.196758177206853},{"$f":"BO379*AW379","v":12.922458876027436},{"$f":"BO379*AX379","v":1.8306454470167097},{"$f":"BO379*AY379","v":1.6093385937892479},{"$f":"BO379*AZ379","v":0.6444759324170769},{"$f":"BO379*BA379","v":8.6545117662789342E-2},{"$f":"BO379*BB379","v":0.51927868212060069},{"$f":"BO379*BC379","v":6.0140334147955499E-2},{"$f":"BO379*BD379","v":2.5238751769830601},{"$f":"IF(COUNT(BY349:BY353)<3,\"\",AVERAGE(BY349:BY353))","v":3.9064336758893283},2.130537519292302,3.9371614639563339,2.2340043884810838,0.94479699849425935,0.33980420346320345,0.70382034782608693,9.2459397703745519E-2,0.12083698437794091,1.8048792042160737,3.2286531338226995E-2,1.0962207603990212E-2,9.9778656126482226E-5,9.1404084321475634E-4,8.6865219273480152E-3,0.17737102013928099,4.5503862224731788E-2,1.0003952569169963E-4,-7.3552324487107107E-3,7.1620043290043303E-2,0.10976535667231321,8.6128221343873518E-2,0.13051552418595896,0.39067391304347826,2.0446158479201958E-2,6.1417560700169403E-4,8.4743835874270649E-5,3.2557933370976847E-4,8.6979693205345363E-3,5.7707961603613767E-4,3.8452823263692829E-3,3.4568153585544891E-4,6.482269904009035E-5,0.26341380575945794,5.1563542254846606E-3,4.3613043478260864E-4,1.3828069075851684E-2,3.3152456239412769E-5,1.8160907208733293E-4,2.409325748164879E-2,1.5103607942781858E-2,1.0186730660643706E-4,0.63088781291172591,0.22904166779597213,6.7854940711462453E-4,8.0614530397139089E-5,1.9027690570299267E-3,7.3562017692452482E-5,171.76488859345005,13.178933919631096,9.749824278656126,11.907021895586297,8.7626614680500641,5.2824370507246377,0.86150561594202912,1.9830617905138337,0.25535174571805008,0.34290569696969697,3.4291096409749668,3.7400075428194998E-2,3.0264267127799737E-2,1.7760902503293806E-4,1.9523682476943346E-3,1.951804808959157E-2,{"$f":"IF(COUNT(EK349:EK353)<3,\"\",AVERAGE(EK349:EK353))","v":0.54721786561264829},0.1130632740447958,9.0944334650856393E-4,2.1145527009222662E-2,0.31384603425559943,0.17507952239789196,0.18579107378129117,0.40583883728590253,1.1017009947299079,1.9604838603425562E-2,5.3084321475625838E-4,1.6541930171277999E-4,7.336034255599473E-4,2.4091271409749669E-2,1.2813234519104086E-3,5.8391683135704869E-3,1.0349604743083002E-3,1.1818280632411069E-4,0.66783378787878778,1.1301159420289857E-2,2.6031893939393938E-3,2.9219435111989461E-2,8.8244400527009221E-6,7.1308366271409756E-4,7.3187304677206855E-2,2.5891057971014493E-2,2.7071475625823455E-4,3.6362183201581026,1.2805907434123847,1.9292549407114623E-3,1.8429743083003955E-4,4.2210655467720681E-3,2.4573880105401843E-4,54.661860025691702]
["SHEN1","2011-15",null,null,null,null,null,null,null,7.9024578208168634,null,null,{"$f":"IF(COUNT(M350:M354)<3,\"\",AVERAGE(M350:M354))","v":22.710630801430455},12.710630801430453,6.1909889021268594,2.4011521227178618,1.961149841520798,0.80192733672124972,9.877042311311876E-2,1.0668369802371542,0.18980502973837754,10,null,19.502226162714098,null,null,{"$f":"IF(COUNT(AA350:AA354)<3,\"\",AVERAGE(AA350:AA354))","v":73.796162509222654},63.796162509222668,45.186484215085635,7.0783092450592875,6.4537050362318835,2.5300974934123852,0.28534947595520427,1.9851111106719368,0.27710586890645589,10,7.9024578208168634,1,0.27260312389636104,0.10572811225334272,8.6353825160914194E-2,3.531065885984723E-2,4.3490832102689812E-3,4.6975224491340783E-2,8.3575410739547776E-3,0.44032242377742054,19.502226162714098,1,0.61231482340885224,9.5917036935012412E-2,8.745312515979857E-2,3.4284946633860357E-2,3.8667251284176573E-3,2.6899923291049829E-2,3.7550173272468562E-3,0.13550840124986516,7.9024578208168634,7.9024578208168634,2.1542346884139065,0.83551194755663138,0.68240746100031846,0.27904099226519602,3.436844662837342E-2,0.37121973016622384,6.6045115822672099E-2,3.4796293814609141,19.502226162714098,19.502226162714098,11.941502168901781,1.8705957471640136,1.7055306255025342,0.66863278323012809,7.5409747963450874E-2,0.52460838778171437,7.3231197160878406E-2,2.64271548812268,{"$f":"IF(COUNT(BY350:BY354)<3,\"\",AVERAGE(BY350:BY354))","v":3.68350485770751},1.9291566102013928,3.6949156457745156,2.0043966295878035,0.82587881667607754,0.29993223508375677,0.66727164426877461,8.0192733672124955E-2,9.877042311311876E-2,1.7780614018445324,3.2351302089215134E-2,9.6710929794842828E-3,9.1901185770750982E-5,8.421238471673254E-4,7.3911227178618481E-3,0.15458120986260118,4.2683751552795031E-2,9.698023715415021E-5,-9.0547502352719741E-3,6.3994841709015621E-2,0.1145502262375306,8.3709581027667984E-2,0.11716920798042538,0.37036910671936762,1.9763660455486547E-2,7.2547995482778098E-4,6.8921701486918872E-5,3.155793337097685E-4,7.7772104272539038E-3,4.773246753246753E-4,3.9237368718238273E-3,3.1657086391868996E-4,5.8360248447204965E-5,0.23250536307171088,4.2855320910973093E-3,5.0752173913043474E-4,1.2978697534349706E-2,2.539751552795031E-5,1.3530077169207603E-4,1.8212040090344443E-2,1.2943785808394507E-2,1.0646809712027104E-4,0.55258623188405787,0.20021303143233576,6.0462450592885372E-4,6.5642198381328813E-5,1.7226267645398079E-3,1.3821419160549598E-4,183.65579582269905,12.672214557312254,9.3636961228590252,11.231423801383396,8.19289154776021,4.7628852246376816,0.84460526811594216,2.0030223303689065,0.25300974934123849,0.28534947595520427,3.3085184344532279,4.4019151515151518E-2,2.8683143939393939E-2,1.7239163372859026E-4,2.0957740447957842E-3,1.862735606060606E-2,{"$f":"IF(COUNT(EK350:EK354)<3,\"\",AVERAGE(EK350:EK354))","v":0.53550334025032931},0.10759563274044796,7.1250494071146248E-4,2.0772331357048746E-2,0.3081223567193675,0.20644113471673253,0.18665261363636365,0.39080172859025031,1.1127901650197631,2.540283860342556E-2,9.0750988142292502E-4,1.6498814229249013E-4,6.8634617918313578E-4,2.411747068511199E-2,1.2468270750988146E-3,6.2424944005270103E-3,1.019663372859025E-3,1.1483135704874834E-4,0.65473282773386032,9.8764239130434799E-3,2.8028560606060604E-3,3.0862431488801051E-2,-5.1248353096179212E-6,6.2671772068511212E-4,5.2104888010540182E-2,1.9892521739130434E-2,2.829249011857708E-4,3.2663236136363638,1.1546387832674572,1.9478201581027668E-3,1.8102206851119897E-4,4.0837104743083E-3,3.1038372859025032E-4,58.060656384387343]
["SHEN1","2012-16",null,null,null,null,null,null,null,7.7919375678524379,null,null,{"$f":"IF(COUNT(M351:M355)<3,\"\",AVERAGE(M351:M355))","v":22.454795232260494},12.454795232260494,5.9880822776209301,2.3587450831921699,2.0402307624694145,0.77115844344061735,0.10288507528703181,1.0527092371541502,0.14098454357236964,10,null,18.400866626482212,null,null,{"$f":"IF(COUNT(AA351:AA355)<3,\"\",AVERAGE(AA351:AA355))","v":65.390817570816864},55.390817570816878,36.537422240447953,8.181211444334652,5.9825395036231885,2.3420043050065877,0.25507691798418974,1.8442650889328065,0.24829826745718053,10,7.7919375678524379,1,0.26667276257402406,0.10504415911143083,9.0859468606431251E-2,3.4342706556179353E-2,4.5818754623608519E-3,4.6881266396129828E-2,6.2785940425686493E-3,0.4453391757335261,18.400866626482212,1,0.55875463249681356,0.12511254252899612,9.1488984629137349E-2,3.581549202180026E-2,3.9008063740439834E-3,2.8203731922077695E-2,3.7971427286144386E-3,0.15292667031070858,7.7919375678524379,7.7919375678524379,2.0778975170235316,0.81849752966382683,0.70797130682956089,0.26759622539682615,3.5701687546390783E-2,0.36529590086050207,4.8922412793585168E-2,3.4700550538345007,18.400866626482212,18.400866626482212,10.28156946950295,2.302179208376141,1.6834766039530376,0.65903609185498435,7.1778217824515031E-2,0.51897310946721043,6.9870716910951022E-2,2.8139832640193658,{"$f":"IF(COUNT(BY351:BY355)<3,\"\",AVERAGE(BY351:BY355))","v":3.6807446325992847},1.9209597603990212,3.6860202345191042,1.9858269932241677,0.79643830284208539,0.29389137737624693,0.69200086561264817,7.7115844344061726E-2,0.10288507528703181,1.7545149789196313,2.3495701298701297E-2,1.0240654244306417E-2,9.1458498023715425E-5,8.4276416337285916E-4,7.3242689629211379E-3,0.15212832448710709,4.3141957086391867E-2,7.7849802371541516E-5,-8.7214933182759267E-3,6.6920102578580845E-2,0.12363460173160172,8.4379557312252967E-2,0.1182322870318088,0.38444505533596834,1.470908338038773E-2,7.9688706945228694E-4,6.7641069075851686E-5,3.0413664596273295E-4,8.0504475814041025E-3,4.7441163184641443E-4,3.9123850931677018E-3,3.2755110107284024E-4,5.6818746470920379E-5,0.2278225093167702,5.1610143045360433E-3,5.2586956521739122E-4,1.3085733107472238E-2,2.545680406549972E-5,1.2653002070393374E-4,1.905284246188594E-2,1.2321275926971579E-2,9.6456239412761154E-5,0.53457020816864298,0.19307600376435158,6.793715415019763E-4,6.1053265575004696E-5,1.6988164878599661E-3,9.4471108601543418E-5,185.70734877131565,11.312157492094862,8.2383826880764168,10.180829939064557,7.3613843883399195,3.9825657971014499,0.97582191666666684,1.8738676781949934,0.23420043050065878,0.25507691798418974,3.0737748040184458,3.9851560935441378E-2,2.6341118577075096E-2,1.5915250329380764E-4,2.0658175230566537E-3,1.6826548089591567E-2,{"$f":"IF(COUNT(EK351:EK355)<3,\"\",AVERAGE(EK351:EK355))","v":0.48822395619235837},0.10124078491436102,4.0833827404479571E-4,2.3773816864295121E-2,0.2809283059947299,0.20516662022397894,0.17549609189723323,0.35567264888010536,1.0410374838603427,2.323129512516469E-2,9.951874176548092E-4,1.5204611330698286E-4,6.6104545454545452E-4,2.2040604743083007E-2,1.1289140316205536E-3,6.1484255599472994E-3,9.6501844532279318E-4,1.016501976284585E-4,0.75645113208168646,1.0168858695652174E-2,2.1745879446640319E-3,2.9473177865612647E-2,-8.3386034255599507E-6,5.5034815546772082E-4,4.5353645256917E-2,1.9559554347826087E-2,2.2521113306982877E-4,2.7100160629117256,0.96547043906455854,1.7683926218708824E-3,1.519604743083004E-4,3.926206851119894E-3,3.0338010540184449E-4,64.399888047430835]
["SHEN1","2013-17",null,null,null,null,null,null,null,7.1375331620553357,null,null,21.017943252964429,11.017943252964429,5.019106778656127,1.9906593399209487,2.0698243359683794,0.7189579051383399,8.4912375494071143E-2,1.0016338458498022,0.13284832411067193,10,null,17.769146884057971,null,null,61.62271152536232,51.622711525362334,31.519746710144933,9.4972770579710151,6.1126652536231889,2.3172852898550724,0.20765347101449277,1.7656674601449276,0.20241611594202902,10,{"$f":"J382","v":7.1375331620553357},{"$f":"M382/M382","v":1},{"$f":"O382/M382","v":0.23880104338697453},{"$f":"P382/M382","v":9.4712375800147838E-2},{"$f":"Q382/M382","v":9.8478919228999526E-2},{"$f":"R382/M382","v":3.4206862987744342E-2},{"$f":"S382/M382","v":4.0399945166896796E-3},{"$f":"T382/M382","v":4.7656130468833054E-2},{"$f":"U382/M382","v":6.3207100005817475E-3},{"$f":"V382/M382","v":0.47578394706102234},{"$f":"X382","v":17.769146884057971},{"$f":"AA382/AA382","v":1},{"$f":"AC382/AA382","v":0.51149561468375526},{"$f":"AD382/AA382","v":0.15411975265097155},{"$f":"AE382/AA382","v":9.9195006229275934E-2},{"$f":"AF382/AA382","v":3.7604403189907307E-2},{"$f":"AG382/AA382","v":3.3697554988152047E-3},{"$f":"AH382/AA382","v":2.86528686654469E-2},{"$f":"AI382/AA382","v":3.2847648363983424E-3},{"$f":"AJ382/AA382","v":0.162277831540799},{"$f":"J382","v":7.1375331620553357},{"$f":"BE382","v":7.1375331620553357},{"$f":"BE382*AM382","v":1.7044503663079458},{"$f":"BE382*AN382","v":0.67601272313060246},{"$f":"BE382*AO382","v":0.70289655176035304},{"$f":"BE382*AP382","v":0.2441526189449085},{"$f":"BE382*AQ382","v":2.8835594837394306E-2},{"$f":"BE382*AR382","v":0.34014721159653161},{"$f":"BE382*AS382","v":4.5114277236887025E-2},{"$f":"BE382*AT382","v":3.3959237001216271},{"$f":"X382","v":17.769146884057971},{"$f":"BO382","v":17.769146884057971},{"$f":"BO382*AW382","v":9.0888407078671669},{"$f":"BO382*AX382","v":2.7385765225897964},{"$f":"BO382*AY382","v":1.7626106358530496},{"$f":"BO382*AZ382","v":0.66819816376880103},{"$f":"BO382*BA382","v":5.9877680421809409E-2},{"$f":"BO382*BB382","v":0.50913703196594806},{"$f":"BO382*BC382","v":5.83674688575508E-2},{"$f":"BO382*BD382","v":2.8835386246748729},3.4002107667984189,1.757983561264822,3.4034278535667228,1.8027368814229252,0.67323285770750974,0.25034290118577079,0.70027260474308306,7.189579051383399E-2,8.4912375494071143E-2,1.6693891818181819,2.2080185770750986E-2,8.2956758893280615E-3,7.6458498023715413E-5,7.8452173913043485E-4,6.2975849802371546E-3,0.13898814229249012,4.1260466403162048E-2,7.7849802371541516E-5,-7.0555098814229248E-3,6.6888019762845849E-2,0.13715292885375494,8.3624339920948615E-2,0.10843066798418972,0.38904044664031623,1.4471162055335973E-2,9.3527667984189715E-4,6.2723320158102763E-5,2.5674703557312256E-4,6.8917549407114618E-3,3.5881422924901186E-4,3.6318656126482205E-3,2.6794071146245063E-4,4.5130434782608696E-5,0.19406408695652172,5.7266126482213436E-3,2.8614229249011858E-4,1.1816711462450594E-2,1.5885375494071147E-5,1.0279841897233199E-4,1.4995245059288537E-2,1.1586557312252966E-2,7.8209486166007906E-5,0.45472058498023704,0.16396732411067191,5.8955335968379451E-4,5.830434782608696E-5,1.4707905138339919E-3,8.6007905138339936E-5,197.89699084584984,10.605359923913044,7.6625815289855082,9.7265796739130419,7.0272343731884037,3.5160049637681161,1.1329261666666668,1.906127746376812,0.23172852898550728,0.20765347101449277,2.9427783949275366,3.2793659420289847E-2,2.2359724637681162E-2,1.4222826086956523E-4,2.0710978260869563E-3,1.5905692028985507E-2,0.47374254710144914,9.2630648550724629E-2,1.719746376811594E-4,3.4492362318840578E-2,0.27493126811594204,0.22395177173913045,0.19076772826086957,0.33481664130434774,1.0589597717391304,2.0046590579710144E-2,1.3352101449275362E-3,1.449855072463768E-4,6.3266666666666658E-4,1.9349028985507246E-2,1.1027246376811596E-3,6.7318876811594212E-3,8.6976086956521738E-4,1.0011231884057973E-4,0.87823726086956522,8.5594420289855071E-3,1.3646485507246378E-3,2.8779836956521736E-2,-2.2173913043478306E-6,4.9975724637681162E-4,3.3276554347826087E-2,2.0970721014492752E-2,2.116884057971014E-4,2.3776584492753621,0.85236475724637695,1.4706123188405796E-3,1.2528623188405797E-4,3.9562826086956514E-3,3.1722101449275364E-4,68.86285537318841]
[{"$f":"A367","v":"SHEN1"},"2014-18",null,null,null,null,null,null,null,6.8545233438735185,null,null,20.441121343873515,10.441121343873519,4.5933852332015803,1.8584922490118576,2.1073570632411065,0.72332972332015799,7.5468557312252965E-2,0.97369611857707505,0.10939205138339921,10,null,17.066933057971013,null,null,57.511293090579713,47.511293090579713,27.168011318840581,9.730946362318841,6.2053179492753632,2.2709044202898552,0.21881677536231886,1.7229768514492754,0.19431933333333332,10,6.8545233438735185,1,0.22471297713705324,9.0919290470768285E-2,0.10309400486352038,3.5386009952773446E-2,3.6919969331756807E-3,4.7634183183835221E-2,5.3515680252143065E-3,0.48920995241766113,17.066933057971013,1,0.47239437437185133,0.16920061851144083,0.10789738181511671,3.9486234759375058E-2,3.8047618755099911E-3,2.9958930826604856E-2,3.3788030644221877E-3,0.17387889338968782,6.8545233438735185,6.8545233438735185,1.5403003474572476,0.62320839894029834,0.70666026295041051,0.24255423126782624,2.5306879163962143E-2,0.32650962059994593,3.668244795515857E-2,3.3533010389021114,17.066933057971013,17.066933057971013,8.0623231643664841,2.8877356295020515,1.8414773925689358,0.67390892534958224,6.4935616230849258E-2,0.51130706690604932,5.7665805716560797E-2,2.9675794336758807,3.2910792213438733,1.6954146521739133,3.2722483081121774,1.7257484268774703,0.6147543122529644,0.23306599209486167,0.71220896837944669,7.2332972332015813E-2,7.5468557312252965E-2,1.6228265454545454,1.7916913043478262E-2,7.1850395256916983E-3,6.3822134387351778E-5,7.3843083003952582E-4,5.8188577075098816E-3,0.13637041501976285,4.2513375494071144E-2,3.3043478260869563E-6,-5.3665098814229244E-3,6.561720158102767E-2,0.14446865612648221,8.4398339920948612E-2,0.10655412252964425,0.39567181027667991,1.2075980237154152E-2,6.3991304347826101E-4,5.3177865612648226E-5,2.481106719367589E-4,6.348573122529645E-3,3.8499604743083007E-4,2.9910474308300393E-3,2.4348616600790513E-4,4.1403162055335971E-5,0.18067126877470358,6.4031581027667985E-3,3.5023320158102773E-4,1.1531802371541503E-2,-2.0553359683794458E-7,8.6434782608695655E-5,1.3084790513833992E-2,9.3345573122529633E-3,7.4300395256916989E-5,0.40674294861660076,0.14979077865612647,5.1828063241106718E-4,4.9213438735177879E-5,1.4786086956521738E-3,1.0591699604743083E-4,203.59168284584982,10.066874793478259,7.1952473550724632,9.2641145434782608,6.6685208079710137,3.0969260072463767,1.1661328623188407,1.9276929637681164,0.22709044202898551,0.21881677536231886,2.8716274384057976,3.1862094202898553E-2,2.3630159420289856E-2,1.4718478260869564E-4,2.0867500000000001E-3,1.680030072463768E-2,0.46894124275362314,8.4879865942028981E-2,1.3458333333333332E-4,3.7838275362318839E-2,0.26631683333333334,0.24398272826086953,0.19593738043478259,0.32686524999999994,1.0709404673913046,1.934111231884058E-2,1.5154710144927536E-3,1.4976811594202897E-4,6.2240579710144933E-4,1.9948333333333335E-2,1.040985507246377E-3,7.5679746376811604E-3,8.5358695652173913E-4,9.7329710144927539E-5,0.90397882608695657,8.5448333333333331E-3,1.1260398550724637E-3,2.9971402173913041E-2,1.7260869565217386E-5,4.5888768115942037E-4,3.5422641304347822E-2,2.1854286231884054E-2,2.1960144927536232E-4,2.0494102753623187,0.75076988768115949,1.5304384057971013E-3,1.1867753623188404E-4,3.9295869565217382E-3,3.1096014492753627E-4,73.986852068840591]
[{"$f":"A383","v":"SHEN1"},"2015-19",null,null,null,null,null,null,null,{"$f":"IF(J358=\"\",\"\",J358)","v":6.5384385612648215},null,null,19.759238822134385,9.7592388221343871,4.1049176679841892,1.7287438142292486,2.1594921936758893,0.74069754940711463,6.5634296442687742E-2,0.84864950988142296,0.11110405138339921,10,null,16.383058891304344,null,null,53.640498340579711,43.640498340579718,23.171141568840579,10.13049236231884,6.1055560326086962,2.2160802536231881,0.21009810869565215,1.6146257681159419,0.19250399999999998,10,{"$f":"J384","v":6.5384385612648215},{"$f":"M384/M384","v":1},{"$f":"O384/M384","v":0.20774675102291099},{"$f":"P384/M384","v":8.749040536382921E-2},{"$f":"Q384/M384","v":0.10929025217595005},{"$f":"R384/M384","v":3.7486137804933158E-2},{"$f":"S384/M384","v":3.3217016623719288E-3},{"$f":"T384/M384","v":4.2949504154520472E-2},{"$f":"U384/M384","v":5.6228912653730348E-3},{"$f":"V384/M384","v":0.50609236975252081},{"$f":"X384","v":16.383058891304344},{"$f":"AA384/AA384","v":1},{"$f":"AC384/AA384","v":0.43197103467831355},{"$f":"AD384/AA384","v":0.18885902770696289},{"$f":"AE384/AA384","v":0.11382362620575742},{"$f":"AF384/AA384","v":4.1313565723282916E-2},{"$f":"AG384/AA384","v":3.9167814467657601E-3},{"$f":"AH384/AA384","v":3.0100871879753906E-2},{"$f":"AI384/AA384","v":3.5887809762268426E-3},{"$f":"AJ384/AA384","v":0.18642630678982477},{"$f":"J384","v":6.5384385612648215},{"$f":"BE384","v":6.5384385612648215},{"$f":"BE384*AM384","v":1.3583393678656832},{"$f":"BE384*AN384","v":0.57205064017155149},{"$f":"BE384*AO384","v":0.71458759919758841},{"$f":"BE384*AP384","v":0.245100808936662},{"$f":"BE384*AQ384","v":2.171874223827008E-2},{"$f":"BE384*AR384","v":0.28082269415112032},{"$f":"BE384*AS384","v":3.6764929075314194E-2},{"$f":"BE384*AT384","v":3.3090538659517761},{"$f":"X384","v":16.383058891304344},{"$f":"BO384","v":16.383058891304344},{"$f":"BO384*AW384","v":7.0770069004724823},{"$f":"BO384*AX384","v":3.0940885730776517},{"$f":"BO384*AY384","v":1.8647791713507362},{"$f":"BO384*AZ384","v":0.67684258025431654},{"$f":"BO384*BA384","v":6.4168861106731673E-2},{"$f":"BO384*BB384","v":0.49314435668561513},{"$f":"BO384*BC384","v":5.8795210081517058E-2},{"$f":"BO384*BD384","v":3.0542331630260704},2.958196,1.5831827391304349,2.9921569523809515,1.6612522529644274,0.55531135573122525,0.21795764426877468,0.72963601185770754,7.4069754940711469E-2,6.5634296442687742E-2,1.4144152411067195,1.8642565217391303E-2,6.0799960474308299E-3,5.0430830039525682E-5,6.4982213438735182E-4,5.0077272727272731E-3,0.13461250197628458,4.449685375494071E-2,2.2521739130434785E-5,-2.5351185770750993E-3,6.707415810276679E-2,0.14982778656126483,8.5924513833992106E-2,0.10506212252964427,0.40535346245059295,1.2298154150197629E-2,5.9139130434782605E-4,3.5264822134387349E-5,2.1628458498023717E-4,5.6768339920948612E-3,3.7447430830039527E-4,2.4134822134387348E-3,2.1739920948616603E-4,3.5142292490118575E-5,0.16895952964426877,4.728114624505929E-3,3.4945059288537546E-4,1.0891889328063242E-2,-4.466403162055337E-6,6.8434782608695652E-5,1.1310616600790514E-2,8.7079486166007913E-3,6.4213438735177857E-5,0.36776529644268774,0.13538034387351777,4.9384584980237162E-4,4.2865612648221349E-5,1.2295652173913043E-3,1.026126482213439E-4,209.43705380237157,9.3238122101449292,6.6327696884057969,8.7049597934782614,6.25044947463768,2.6785035072463774,1.2107087789855073,1.8978119637681161,0.22160802536231888,0.21009810869565215,2.6910425217391305,3.1719094202898548E-2,2.164874275362319E-2,1.2885144927536233E-4,1.874416666666667E-3,{"$f":"IF(COUNT(EJ354:EJ358)<3,\"\",AVERAGE(EJ354:EJ358))","v":1.6681967391304349E-2},0.45006665942028984,8.0197115942028982E-2,5.9583333333333329E-5,4.2872442028985505E-2,0.25931933333333335,0.24926297826086952,0.19416988043478262,0.30871533333333329,1.0543399673913045,1.9357862318840579E-2,1.4519710144927536E-3,1.4060144927536232E-4,6.1090579710144932E-4,1.9105416666666666E-2,1.0073188405797101E-3,6.8762246376811598E-3,7.8367028985507265E-4,9.1163043478260889E-5,0.9385339094202898,7.7441666666666657E-3,1.051123188405797E-3,2.8872818840579705E-2,3.0177536231884057E-5,4.2038768115942036E-4,3.461047463768116E-2,2.1573202898550723E-2,2.3385144927536234E-4,1.7737061920289854,0.64933413768115944,1.4766050724637678E-3,1.0817753623188406E-4,3.8165036231884051E-3,2.5762681159420292E-4,79.151913735507236]
[{"$f":"A384","v":"SHEN1"},"2016-20",null,null,null,null,null,null,null,6.3097252243083002,null,null,19.273133488801051,9.2731334888010544,3.9495099107378122,1.6379916584321474,1.9877457407773389,0.74928729578392628,7.0315531949934132E-2,0.75155664756258234,0.12672636660079051,10,null,15.307564877971013,null,null,48.062897930579716,38.062897930579709,18.603376585507245,10.332302095652175,5.3256006226086949,1.9785618869565216,0.21448918536231884,1.4226720281159417,0.18589592333333332,10,6.3097252243083002,1,0.20492308181400473,8.4988341900082184E-2,0.10313557688646473,3.8877294977451959E-2,3.6483705148823904E-3,3.8995041880412744E-2,6.5752860931735258E-3,0.51885698845030326,15.307564877971013,1,0.3870631482183467,0.21497459663326526,0.11080481726883795,4.1166096347629383E-2,4.4626769212318231E-3,2.9600213249121952E-2,3.8677635210809503E-3,0.20806069609959085,6.3097252243083002,6.3097252243083002,1.2930083383648192,0.53625308465908661,0.65075715100411458,0.24530504877210302,2.3020215465376078E-2,0.24604799937579885,4.1488248519140569E-2,3.2738450278335187,15.307564877971013,15.307564877971013,5.9249942532240523,3.290737585079357,1.6961519291344598,0.63015269061414236,6.8312716501180065E-2,0.45310718471271144,5.9206041031596247E-2,3.1849026041002975,{"$f":"IF(COUNT(BY355:BY359)<3,\"\",AVERAGE(BY355:BY359))","v":2.6957694545454545},1.4878472391304347,2.7512054145021638,1.5840818073122531,0.53571868906455866,0.20797467325428193,0.67361861693017133,7.4928729578392625E-2,7.0315531949934132E-2,1.2525940889328064,2.1524855072463767E-2,6.4105576416337269E-3,3.8209815546772069E-5,5.9014822134387365E-4,5.0643613306982872E-3,0.12743009255599475,4.6275252305665357E-2,1.9217391304347827E-5,-1.949593214756258E-3,6.4220473320158095E-2,0.13404041699604743,7.912551021080369E-2,9.8795832674571787E-2,0.37423263998682482,1.3532030961791831E-2,7.3358695652173925E-4,3.4677865612648217E-5,1.8695125164690384E-4,5.7483883399209483E-3,3.251989459815546E-4,2.148732213438735E-3,2.2321442687747036E-4,3.0468379446640318E-5,0.16122079051383401,4.1071110013175234E-3,3.24225955204216E-4,1.0536632081686427E-2,-3.1584321475625865E-6,5.4818840579710142E-5,1.2768667325428196E-2,9.9173616600790517E-3,4.2680830039525683E-5,0.35567984716732537,0.13063059387351778,5.2549802371541505E-4,3.9807641633728591E-5,1.1582681159420288E-3,4.3627140974967059E-5,213.88663984584983,8.058602076811594,5.6874821050724638,7.7559459468115959,5.5633469079710132,2.2027875072463763,1.2395358989855072,1.6782402204347828,0.19785618869565219,0.21448918536231884,2.3711199717391307,3.0438964202898544E-2,2.1384189420289853E-2,1.1309144927536231E-4,1.6011499999999998E-3,1.5623410724637679E-2,0.39407361608695651,7.5522405942028983E-2,0,4.1788142028985509E-2,0.22014091000000002,0.21678462159420286,0.18190201710144929,0.27173983333333329,0.93235552405797117,1.8219302318840579E-2,1.2626643478260869E-3,1.3924478260869563E-4,5.2670913043478275E-4,1.8648000000000005E-2,9.2526217391304352E-4,6.3290446376811586E-3,7.3375695652173911E-4,8.2879710144927553E-5,0.96088038608695658,6.526849999999999E-3,9.0273652173913032E-4,2.6152855507246376E-2,3.7424202898550723E-5,3.560510144927537E-4,3.7756891304347825E-2,2.4097349565217391E-2,2.0164478260869569E-4,1.4704796220289855,0.5340090543478262,1.4612850724637679E-3,9.4284202898550711E-5,3.5489369565217393E-3,1.7334014492753622E-4,87.887800545507247]
["SHEN1","2017-21",null,null,null,null,null,null,null,6.2950734970355722,null,null,19.144709125164688,9.1447091251646917,3.6722691834650845,1.7269035675230566,1.9972782862318841,0.80766275032938084,8.8520531949934117E-2,0.69585037483530965,0.15622327569169961,10,null,14.744804443188404,null,null,45.56200671318841,35.562006713188403,16.560609976811595,10.269756791304347,5.0995000139130431,1.9478036260869565,0.22041083753623186,1.2497131585507246,0.21421287985507248,10,6.2950734970355722,1,0.19181640000150665,9.0202653706194735E-2,0.10432533987192155,4.218725628313421E-2,4.6237595656952891E-3,3.6346876324208646E-2,8.1601279324924579E-3,0.52233752597763627,14.744804443188404,1,0.36347411300516641,0.2254017663434402,0.11192439450734154,4.2750611015628159E-2,4.8376016210987388E-3,2.7428843650755659E-2,4.7015681553171425E-3,0.21948111423076089,6.2950734970355722,6.2950734970355722,1.2074983359462585,0.56783233470814398,0.65673568209696187,0.26557187894060558,2.9106906298673123E-2,0.22880625784855557,5.1368605080252948E-2,3.2881531162889477,14.744804443188404,14.744804443188404,5.3593547164225415,3.3235049658832714,1.6503033094330213,0.6303493992522532,7.1329489877152111E-2,0.40443293573318206,6.932370302647331E-2,3.2362061083056646,2.5606001818181818,1.4461331482213438,2.6607129599567099,1.5879007164031622,0.49675305270092229,0.21768867325428193,0.67816807147562586,8.0766275032938081E-2,8.8520531949934117E-2,1.1597507252964427,2.6003764163372856E-2,7.6345576416337298E-3,2.9664361001317519E-5,5.8342094861660082E-4,6.3118158761528336E-3,0.13240100164690383,4.8802161396574444E-2,1.9217391304347827E-5,-1.7670477602108035E-3,6.2713018774703561E-2,0.13402105335968378,8.1336782938076418E-2,0.10045610540184453,0.37675991271409759,1.5820485507246379E-2,6.9785968379446647E-4,3.0768774703557314E-5,1.8104216073781292E-4,6.6880247035573121E-3,3.2328985507246378E-4,2.4411867588932804E-3,2.4994169960474311E-4,2.8013833992094864E-5,0.16875106324110672,3.7361110013175228E-3,4.0313504611330696E-4,1.1347813899868248E-2,-5.2206851119895275E-7,4.163702239789196E-5,1.7219849143610015E-2,1.1553088932806325E-2,5.9680830039525683E-5,0.32696102898550722,0.12118432114624504,6.0149802371541506E-4,3.3353096179183139E-5,1.2211772068511199E-3,6.5899868247694323E-5,213.07027511857709,7.313894511594202,5.2310393224637686,7.2293999468115944,5.2985809949275353,1.9982147246376811,1.2426173772463769,1.6078850030434786,0.19478036260869566,0.22041083753623186,2.0828551891304352,3.4673833768115933E-2,2.0748798115942026E-2,1.0656971014492754E-4,1.4875847826086954E-3,1.5896888985507247E-2,0.39198413782608699,7.7445971159420285E-2,0,3.9921968115942029E-2,0.19829951869565221,0.20599636072463764,0.17434427797101448,0.27470722463768116,0.89326935014492759,2.0412084927536232E-2,1.2249252173913041E-3,1.3881000000000001E-4,5.1140478260869576E-4,1.8833652173913046E-2,9.3508826086956525E-4,5.8360881159420282E-3,6.9680043478260859E-4,8.4184057971014523E-5,0.96326908173913051,6.6834586956521728E-3,8.6673652173913042E-4,2.6441116376811596E-2,5.3511159420289859E-5,3.150944927536232E-4,4.0300195652173916E-2,2.4155436521739133E-2,2.137317391304348E-4,1.3412125785507247,0.48441566304347827,1.508415507246377E-3,8.0718985507246388E-5,3.6353717391304349E-3,1.8020971014492756E-4,93.080227675942027]
["SHEN1","2018-22",null,null,null,null,null,null,null,""]
["SHEN1","2019-23",null,null,null,null,null,null,null,""]
["SHEN1","2020-24",null,null,null,null,null,null,null,""]
["SHEN1","2021-25",null,null,null,null,null,null,null,""]
["SHEN1","2022-26",null,null,null,null,null,null,null,""]
["SHEN1","2023-27",null,null,null,null,null,null,null,""]
["SHEN1","2024-28",null,null,null,null,null,null,null,""]
[]
["JARI1",2000,null,null,null,null,{"$f":"Tracking!DO24","v":4.3893142560999996},{"$f":"Tracking!DP21","v":9.4668398269999994}]
["JARI1",2001,null,null,null,null,{"$f":"G395","v":4.3893142560999996},{"$f":"H395","v":9.4668398269999994},{"$f":"Tracking!DK25","v":14.542399090909093},null,null,null,43.149893181818186,32.149893181818179,19.18487318181818,3.2609245454545457,5.3708999999999998,2.8101363636363637,0.22445545454545454,1.2455481818181822,5.3055909090909077E-2,11,{"$f":"Tracking!DJ25","v":28.356976086956518},null,null,null,178.55001304347826,167.55001304347829,132.29035826086957,7.2127260869565228,16.83227304347826,6.9203478260869566,0.79879043478260903,2.9930582608695651,0.50245826086956524,11,{"$f":"I396","v":14.542399090909093},{"$f":"M396/M396","v":1},{"$f":"O396/M396","v":0.44460998086322023},{"$f":"P396/M396","v":7.5572018955277098E-2},{"$f":"Q396/M396","v":0.12447076004033085},{"$f":"R396/M396","v":6.5124990038688074E-2},{"$f":"S396/M396","v":5.2017615339087792E-3},{"$f":"T396/M396","v":2.8865614488774942E-2},{"$f":"U396/M396","v":1.2295722000365214E-3},{"$f":"V396/M396","v":0.25492531241386723},{"$f":"W396","v":28.356976086956518},{"$f":"AA396/AA396","v":1},{"$f":"AC396/AA396","v":0.74091486192530198},{"$f":"AD396/AA396","v":4.0396110669564445E-2},{"$f":"AE396/AA396","v":9.427203480169713E-2},{"$f":"AF396/AA396","v":3.8758596026547479E-2},{"$f":"AG396/AA396","v":4.4737629595585499E-3},{"$f":"AH396/AA396","v":1.6763136612825299E-2},{"$f":"AI396/AA396","v":2.8141037477673716E-3},{"$f":"AJ396/AA396","v":6.1607388386588455E-2},{"$f":"I396","v":14.542399090909093},{"$f":"BE396","v":14.542399090909093},{"$f":"BE396*AM396","v":6.4656957815144036},{"$f":"BE396*AN396","v":1.0989984597533864},{"$f":"BE396*AO396","v":1.8101034676552712},{"$f":"BE396*AP396","v":0.94707359593408125},{"$f":"BE396*AQ396","v":7.5646092201840917E-2},{"$f":"BE396*AR396","v":0.41977528590009305},{"$f":"BE396*AS396","v":1.7880929644018204E-2},{"$f":"BE396*AT396","v":3.7072256314971392},{"$f":"W396","v":28.356976086956518},{"$f":"BO396","v":28.356976086956518},{"$f":"BO396*AW396","v":21.010105022086478},{"$f":"BO396*AX396","v":1.145511544262888},{"$f":"BO396*AY396","v":2.6732698365404581},{"$f":"BO396*AZ396","v":1.0990765806888148},{"$f":"BO396*BA396","v":0.12686238926291363},{"$f":"BO396*BB396","v":0.47535186407227226},{"$f":"BO396*BC396","v":7.9799472681654077E-2},{"$f":"BO396*BD396","v":1.7469992392583316},6.8216136363636357,4.7456999999999994,6.962800909090908,5.047820909090909,2.3998054545454548,0.40471909090909092,1.7284009090909094,0.28101363636363641,0.22445545454545454,2.0759136363636363,9.4259090909090924E-3,5.8186363636363644E-3,1.3499999999999997E-4,1.3981818181818182E-3,1.8125454545454542E-2,0.36097272727272728,9.3200000000000005E-2,5.7681818181818173E-3,8.8568181818181824E-2,0.15155909090909089,0.27190909090909082,0.26925909090909089,0.17892727272727271,0.96022272727272717,-7.4613636363636368E-2,1.9636363636363636E-4,4.9409090909090909E-4,5.1181818181818186E-4,1.8545909090909092E-2,1.2272727272727277E-3,0,8.6227272727272726E-4,1.4954545454545453E-4,0.31373636363636365,1.5295454545454546E-2,0,4.5011363636363634E-2,1.7772727272727271E-4,6.7772727272727299E-4,5.0587272727272731E-2,1.3826818181818183E-2,1.0727272727272728E-4,1.7328000000000001,0.58177090909090901,2.7527272727272726E-3,7.7499999999999997E-4,3.1272727272727272E-3,8.636363636363637E-6,94.352530454545459,26.139943478260875,21.151513043478253,22.815994444444446,19.00197956521739,11.976677391304344,0.83858478260869562,4.622368695652173,0.69203478260869555,0.79879043478260903,4.9884304347826074,7.3523478260869538E-2,1.0964782608695654E-2,6.9739130434782603E-4,3.5291304347826085E-3,4.6884347826086949E-2,0.95934782608695657,9.7004347826086953E-2,2.3391304347826088E-3,0.23896086956521739,0.59738260869565207,0.65991739130434779,0.70506521739130423,0.36665652173913044,2.5679826086956523,-0.3596304347826087,0,9.4130434782608706E-4,1.0226086956521738E-3,4.8524782608695659E-2,5.594347826086957E-3,0,1.5034782608695652E-3,2.4130434782608696E-4,0.65006521739130441,3.3334782608695664E-2,0,6.4629565217391299E-2,1.6173913043478257E-4,1.7908695652173914E-3,0.21462695652173913,5.4522173913043481E-2,2.7565217391304345E-4,10.04583043478261,2.9034369565217388,2.0358695652173912E-2,0,8.0434782608695635E-3,9.5652173913043487E-6,24.183348695652175]
["JARI1",2002,null,null,null,null,{"$f":"G395","v":4.3893142560999996},{"$f":"H395","v":9.4668398269999994},{"$f":"Tracking!DK26","v":15.647092173913041},null,null,null,48.33261695652174,37.33261695652174,21.156806086956522,4.9388082608695649,6.2412095652173916,3.4438695652173918,0.23790956521739126,1.3101000000000003,3.9165217391304349E-3,11,{"$f":"Tracking!DJ26","v":28.914346250000005},null,null,null,188.02086624999995,177.02086624999995,148.07978375000002,4.0817379166666665,15.064472916666666,5.7829583333333332,1.0156799999999999,2.8610525,0.13517958333333335,11,15.647092173913041,1,0.43773351039502811,0.10218375440569123,0.12913038768067858,7.1253529853667383E-2,4.9223398234655089E-3,2.7105918994175682E-2,8.1032685291044661E-5,0.22758958013581593,28.914346250000005,{"$f":"AA397/AA397","v":1},{"$f":"AC397/AA397","v":0.78757101115100336},{"$f":"AD397/AA397","v":2.1708962404414344E-2},{"$f":"AE397/AA397","v":8.0121282372119004E-2},{"$f":"AF397/AA397","v":3.0757002925643817E-2},{"$f":"AG397/AA397","v":5.4019536249211393E-3},{"$f":"AH397/AA397","v":1.5216675452371504E-2},{"$f":"AI397/AA397","v":7.1896053895206108E-4},{"$f":"AJ397/AA397","v":5.8504144882376867E-2},15.647092173913041,{"$f":"BE397","v":15.647092173913041},6.8492565847615277,1.5988786238623436,2.0205150784927026,1.1149105493369982,7.7020304929087666E-2,0.42412881296048716,1.2679258958486633E-3,3.5611151382072803,28.914346250000005,{"$f":"BO397","v":28.914346250000005},22.772100912882728,0.62770045568946897,2.3166545005014707,0.8893186322043285,0.15619395753741247,0.4399802228037451,2.078827396334651E-2,1.6916091021892106,7.4653956521739122,5.2818956521739127,7.974125217391304,5.8989347826086957,2.7415386956521739,0.62540217391304354,1.9490086956521742,0.34438695652173917,0.23790956521739126,2.1834999999999996,6.8695652173913048E-4,8.0434782608695651E-4,2.1434782608695653E-4,1.7126086956521739E-3,2.4137826086956519E-2,0.4263565217391303,9.0139130434782611E-2,6.2913043478260875E-3,5.8404347826086965E-2,0.17923478260869566,0.33942173913043477,0.32732173913043483,0.1784,1.0827826086956522,-0.10835652173913043,6.4347826086956516E-5,7.6521739130434789E-5,6.8565217391304361E-4,2.0658695652173913E-2,1.5030434782608694E-3,5.9382608695652166E-3,6.6782608695652168E-4,9.3913043478260875E-5,0.48480869565217394,1.3095652173913046E-2,0,4.373565217391305E-2,1.6695652173913045E-4,7.6956521739130455E-4,5.3948695652173903E-2,8.3150869565217389E-2,2.4695652173913047E-4,2.057426086956522,0.66461565217391305,1.1847826086956519E-3,2.2000000000000001E-4,3.7252173913043464E-3,7.6086956521739137E-5,84.515168695652179,24.835954166666671,20.067533333333333,23.940058333333326,19.134915416666665,12.893677499999997,0.44564666666666669,4.1817975000000009,0.57829583333333312,1.0156799999999999,4.7684208333333338,1.9817083333333336E-2,4.3137916666666665E-2,4.1625000000000012E-4,2.8675000000000003E-3,4.0839583333333332E-2,0.61675000000000002,0.103825,5.7333333333333333E-3,0.27548333333333336,0.55712916666666656,0.60450833333333343,0.7380874999999999,0.14801249999999999,2.323220833333334,-0.29203333333333331,0,1.2083333333333335E-4,9.9749999999999991E-4,4.9807500000000005E-2,3.6087499999999995E-3,1.1246249999999999E-2,1.2783333333333334E-3,2.6708333333333331E-4,0.34546250000000006,2.7279166666666674E-2,0,6.5476666666666669E-2,2.0958333333333332E-4,1.5333333333333329E-3,0.28554166666666664,0.19781458333333335,4.6374999999999997E-4,9.8006416666666656,3.1257400000000004,4.5425000000000005E-3,6.7083333333333318E-4,6.3483333333333343E-3,8.8750000000000002E-5,22.811370833333331]
["JARI1",2003,null,null,null,null,{"$f":"G395","v":4.3893142560999996},{"$f":"H395","v":9.4668398269999994},{"$f":"Tracking!DK27","v":12.846782173913041},null,null,null,37.43156086956521,26.431560869565214,14.084956956521738,3.8127834782608701,4.5797130434782609,2.4596956521739126,0.2739304347826087,1.1917747826086953,2.8706086956521725E-2,11,{"$f":"Tracking!DJ27","v":27.608840833333332},null,null,null,165.16544249999998,154.16544249999998,124.72953833333332,4.8801691666666676,14.773646250000001,6.4410833333333324,0.49139874999999994,2.8454600000000005,4.1466666666666666E-3,11,12.846782173913041,1,0.37628558973542325,0.10186012524422837,0.12234897335531435,6.5711810970026568E-2,7.3181675681960566E-3,3.1838768005469455E-2,7.668952693838108E-4,0.29386965823655675,27.608840833333332,1,0.75517939131445933,2.9547156431749749E-2,8.9447562555345084E-2,3.8997766335614262E-2,2.9751910724302995E-3,1.7227937981033781E-2,2.5106139661549764E-5,6.6599888169705967E-2,12.846782173913041,12.846782173913041,4.8340590065133915,1.3085748412201028,1.571790609897614,0.84418532178528072,9.4014904660809653E-2,0.40902571725201786,9.8521364759781797E-3,3.7752794868873152,27.608840833333332,27.608840833333332,20.849627615414455,0.81576273900178009,2.4695435175201488,1.076683123615499,8.2141576767482433E-2,0.47564339760489965,6.9315141385516458E-4,1.8387457119952115,5.9279956521739123,3.9417043478260876,6.2067478260869553,4.3204530434782606,1.8396121739130435,0.48292565217391314,1.4731669565217389,0.2459695652173913,0.2739304347826087,1.9862913043478261,4.8486956521739122E-3,7.997391304347826E-3,1.2652173913043477E-4,1.5069565217391309E-3,1.9314782608695652E-2,0.29694782608695647,7.7386956521739131E-2,3.0347826086956522E-3,4.7634782608695657E-2,0.13993043478260869,0.26382608695652171,0.23563478260869561,0.13139999999999999,0.81842608695652164,-4.6078260869565221E-2,1.4217391304347825E-4,7.6521739130434789E-5,4.573913043478261E-4,2.1109565217391303E-2,1.0434782608695653E-3,7.0169565217391297E-3,5.7478260869565229E-4,4.3913043478260872E-5,0.37436086956521741,1.9391304347826089E-2,2.7043478260869563E-4,3.2111739130434788E-2,9.2608695652173891E-5,8.6521739130434791E-4,6.6643478260869568E-2,8.1913478260869574E-2,1.0173913043478261E-4,1.3290217391304351,0.44596652173913043,1.5813043478260873E-3,1.5478260869565213E-4,3.5486956521739131E-3,5.6521739130434778E-6,116.98431130434783,22.624812499999994,17.88237916666667,21.818524999999998,17.158293749999995,11.318188749999999,0.55166833333333332,4.1522850000000009,0.64410833333333339,0.49139874999999994,4.7424333333333326,6.4208333333333337E-4,9.2770833333333334E-3,6.3708333333333336E-4,2.9816666666666672E-3,2.147166666666667E-2,0.52289166666666664,0.13800833333333334,1.3320833333333336E-2,0.14386249999999998,0.54229166666666673,0.7609499999999999,0.82960833333333317,3.0112500000000011E-2,2.3068249999999999,-0.27124166666666666,0,6.4999999999999994E-5,1.4720833333333337E-3,3.3561250000000008E-2,6.1262499999999998E-3,2.6202083333333331E-2,7.2000000000000005E-4,2.7083333333333332E-4,0.42765000000000009,3.1395833333333338E-2,0,6.9748333333333343E-2,1.6208333333333333E-4,1.3875000000000001E-3,0.13471791666666669,0.42938833333333332,2.2958333333333338E-4,8.5271749999999997,2.7438033333333327,2.1674999999999997E-3,7.5374999999999997E-4,6.0054166666666658E-3,0,25.831530000000004]
["JARI1",2004,{"$f":"J399","v":14.209834922183795},{"$f":"Tracking!DQ28","v":28.081298892572462},{"$f":"Tracking!DV28","v":14.209834922183795},{"$f":"Tracking!DW28","v":28.081298892572462},{"$f":"G395","v":4.3893142560999996},{"$f":"H395","v":9.4668398269999994},{"$f":"Tracking!DK28","v":13.803066250000001},{"$f":"Tracking!DY28","v":14.209834922183795},null,null,40.270580833333327,29.270580833333327,15.476395833333335,2.9258437500000003,6.049735000000001,3.1613333333333338,0.2444925,1.1898449999999998,0.22293749999999998,11,{"$f":"Tracking!DJ28","v":27.445032400000006},{"$f":"Tracking!DX28","v":28.081298892572462},null,null,161.51362999999998,150.51362999999998,122.23926760000002,3.6224452000000009,15.362227200000001,5.8388400000000003,0.9053507999999999,2.1932135999999995,0.35228119999999996,11,13.803066250000001,1,0.38431022133465226,7.2654620058973177E-2,0.15022716024479166,7.8502302870103902E-2,6.0712434472170625E-3,2.9546258717359365E-2,5.535989185819417E-3,0.27315225587446523,27.445032400000006,1,0.75683561566909263,2.2428108389366281E-2,9.51141225666218E-2,3.615075705994597E-2,5.6054142303655734E-3,1.3579123941428347E-2,2.1811236612043206E-3,6.8105707239692406E-2,13.803066250000001,13.803066250000001,5.3046594456343685,1.0028565340425857,2.0735954454082255,1.0835724872936094,8.3801775521815489E-2,0.40782896651535133,7.6413625491148982E-2,3.7703386841721955,27.445032400000006,27.445032400000006,20.7713779935122,0.61554016141686951,2.6104101755385072,0.99215869879474616,0.15384077516780426,0.37267949653611676,5.9861009550159217E-2,1.8691633418182731,6.1396041666666656,4.1565291666666662,6.6906133333333342,4.8122845833333345,1.9476745833333331,0.36497291666666659,1.9015049999999996,0.31613333333333338,0.2444925,1.9830750000000004,3.7505416666666666E-2,9.7429166666666654E-3,7.8166666666666673E-4,1.645E-3,1.8905416666666671E-2,0.35431666666666667,6.859999999999998E-2,5.0458333333333336E-3,7.7383333333333318E-2,0.17230000000000001,0.36916666666666664,0.32571250000000007,0.11182916666666666,1.0563916666666666,2.3095833333333333E-2,1.0416666666666667E-4,9.7499999999999985E-5,1.2683333333333336E-3,3.1858333333333329E-2,2.166666666666667E-3,1.9232916666666669E-2,7.0791666666666659E-4,1.65E-4,0.28292499999999998,1.1424999999999998E-2,0,3.2689166666666672E-2,7.0416666666666666E-5,7.5624999999999998E-4,4.2272500000000011E-2,2.6803749999999998E-2,1.3208333333333336E-4,1.3373541666666666,0.47216333333333332,1.0937499999999999E-3,2.004166666666667E-4,3.9587499999999996E-3,1.7916666666666667E-5,102.34505291666669,21.246391999999997,17.591036000000003,21.192912,17.307711599999998,11.097065200000001,0.39973079999999994,4.2679080000000011,0.58388399999999996,0.9053507999999999,3.6553559999999994,5.3772399999999998E-2,5.0917199999999996E-2,6.0959999999999996E-4,2.8987999999999996E-3,2.8433599999999996E-2,0.59939600000000004,9.4275999999999985E-2,3.6960000000000009E-3,0.16199199999999997,0.56021999999999994,0.72717999999999994,0.80818400000000001,0.113484,2.3710599999999995,3.1684000000000004E-2,0,8.2400000000000011E-5,1.3228000000000001E-3,4.3281599999999996E-2,4.7872000000000001E-3,4.87164E-2,1.07E-3,3.1119999999999997E-4,0.30986800000000003,1.5611999999999999E-2,0,6.7411200000000004E-2,1.9599999999999999E-4,1.5115999999999999E-3,0.25074320000000005,0.10720320000000001,2.3359999999999999E-4,8.2353720000000017,2.6901975999999994,3.1527999999999994E-3,1.0176000000000002E-3,6.4924000000000006E-3,1.2800000000000001E-5,26.249053200000002]
["JARI1",2005,{"$f":"C399","v":14.209834922183795},{"$f":"Tracking!DQ29","v":27.771057908146254},{"$f":"Tracking!DV29","v":14.007758467092803},{"$f":"Tracking!DW29","v":27.549161438715277},{"$f":"G399","v":4.3893142560999996},{"$f":"H399","v":9.4668398269999994},{"$f":"Tracking!DK29","v":14.919380416666664},{"$f":"Tracking!DY29","v":14.35174402108037},null,null,45.521212500000011,34.521212499999997,19.980746249999999,4.2810633333333339,5.2626270833333324,3.226541666666666,0.23192500000000002,1.4257225,0.11258624999999998,11,{"$f":"Tracking!DJ29","v":30.323420399999996},{"$f":"Tracking!DX29","v":28.529723194057972},null,null,216.04726199999996,205.04726199999996,174.51071960000002,3.7972484000000004,14.247067999999999,8.2945200000000003,0.48166880000000001,3.5191103999999997,0.19692760000000001,11,14.919380416666664,1,0.43893264596148429,9.4045459209447305E-2,0.11560823612361668,7.0879958803089116E-2,5.0948774705858275E-3,3.1319958799427838E-2,2.4732700166982583E-3,0.24164558446240852,30.323420399999996,1,0.80774325943552128,1.7576007975514178E-2,6.5944219186633346E-2,3.8392155138721462E-2,2.2294603298420885E-3,1.6288613738599477E-2,9.1150241006062848E-4,5.0914785488001241E-2,14.919380416666664,14.919380416666664,6.5486031223934509,1.4030999824058517,1.7248032540280622,1.0574850693009477,7.6012415159974381E-2,0.46727437996299048,3.6899656252256829E-2,3.6052024006024279,30.323420399999996,30.323420399999996,24.493538431129576,0.53296467879526921,1.9996542813460287,1.164181460333471,6.760486284692431E-2,0.49392648212876761,2.7639870775881623E-2,1.5439104449284806,6.9663041666666672,4.5901000000000005,7.5544687500000016,5.4091895833333332,2.6252354166666669,0.55234041666666678,1.6576500000000001,0.32265416666666663,0.23192500000000002,2.3762041666666662,1.9384583333333334E-2,1.2502083333333336E-2,2.4250000000000001E-4,1.6066666666666666E-3,1.7427916666666664E-2,0.53483749999999997,9.7458333333333313E-2,1.0166666666666666E-3,3.7662500000000002E-2,0.20527916666666668,0.20357083333333326,0.18841666666666665,0.30715833333333337,0.94208749999999997,1.3066666666666664E-2,0,8.3333333333333317E-5,1.1358333333333333E-3,2.6654166666666673E-2,2.1554166666666666E-3,2.6816666666666668E-3,6.2041666666666658E-4,1.2833333333333333E-4,0.42817083333333333,1.3216666666666666E-2,0,3.8208749999999993E-2,7.9999999999999993E-5,7.7708333333333329E-4,4.3567916666666671E-2,1.9494583333333333E-2,1.6458333333333339E-4,1.7080499999999998,0.63642083333333332,1.1695833333333335E-3,2.7250000000000006E-4,4.932916666666667E-3,1.4166666666666668E-5,92.776849583333345,26.457003999999998,20.591819999999998,26.704672000000006,20.5263688,14.701951599999997,0.42726840000000005,4.0556951999999997,0.82945199999999986,0.48166880000000001,5.8651839999999993,3.0332000000000005E-2,2.6764799999999998E-2,5.5919999999999993E-4,2.9687999999999997E-3,2.9107600000000008E-2,1.3350200000000001,0.167244,4.1679999999999998E-3,0.22826400000000002,0.71422799999999997,0.27449200000000007,0.46173200000000003,0.65633600000000003,2.3350519999999997,1.8243999999999996E-2,0,9.2800000000000006E-5,1.1928000000000002E-3,4.5513600000000008E-2,4.3867999999999989E-3,1.7668E-3,1.2272000000000001E-3,4.1080000000000006E-4,0.33121600000000001,2.1496000000000001E-2,0,5.734560000000001E-2,1.4439999999999996E-4,1.6911999999999999E-3,0.102464,3.5279600000000001E-2,3.7119999999999992E-4,10.796016,3.5641096000000001,3.7207999999999998E-3,8.2039999999999988E-4,7.0008000000000006E-3,5.3199999999999999E-5,19.663403199999998]
["JARI1",2006,{"$f":"C399","v":14.209834922183795},{"$f":"Tracking!DQ30","v":27.460816923720046},{"$f":"Tracking!DV30","v":13.80568201200181},{"$f":"Tracking!DW30","v":27.017023984858092},{"$f":"G399","v":4.3893142560999996},{"$f":"H399","v":9.4668398269999994},{"$f":"Tracking!DK30","v":14.753522500000001},{"$f":"Tracking!DY30","v":14.393968702898547},null,null,44.987697083333323,33.98769708333333,19.278799583333335,3.4986262499999996,5.5706449999999998,3.4102083333333333,0.26570749999999999,1.8086595833333332,0.15505166666666664,11,{"$f":"Tracking!DJ30","v":28.212375999999999},{"$f":"Tracking!DX30","v":28.500803176666672},null,null,173.88611120000002,162.88611120000002,134.48697640000003,2.9221407999999998,15.074726400000001,6.9536800000000003,0.60269680000000025,2.5463903999999999,0.29949959999999998,11,14.753522500000001,1,0.42853492917457175,7.7768511767101367E-2,0.12382596490060761,7.5803131843277208E-2,5.9062258623244161E-3,4.0203426727601729E-2,3.4465348688432628E-3,0.2445112933792557,28.212375999999999,1,0.7734198865676859,1.680491201875817E-2,8.669310214581416E-2,3.9989852852606665E-2,3.4660433535533583E-3,1.4644012580574633E-2,1.7223894302606036E-3,6.3259796450034128E-2,14.753522500000001,14.753522500000001,6.3223997196129513,1.1473594881474449,1.8268691592453248,1.1183632112202568,8.7137636149885178E-2,0.59314216080277349,5.0848529734513627E-2,3.6074028683749502,28.212375999999999,28.212375999999999,21.820012645724905,0.47410649652012454,2.4458183943441156,1.1282087648624117,9.7785318322748283E-2,0.41314238907190182,4.8592698224937926E-2,1.7847091631318279,7.80853913043478,4.6332375000000008,8.1731356521739116,5.3233620833333335,2.4848833333333329,0.44661416666666659,1.758675,0.34102083333333333,0.26570749999999999,3.0144324999999994,2.6460833333333336E-2,1.6700833333333335E-2,1.2541666666666666E-4,1.8570833333333336E-3,2.2216250000000003E-2,0.59467083333333326,8.4437499999999999E-2,3.8333333333333334E-4,3.4295833333333324E-2,0.20730833333333332,0.22168749999999993,0.19162500000000005,0.33787499999999998,0.99279166666666663,1.644166666666667E-2,0,9.4166666666666661E-5,6.0250000000000006E-4,2.2177499999999999E-2,1.5237499999999997E-3,3.5274999999999998E-3,9.6166666666666666E-4,1.2458333333333334E-4,0.34621250000000003,3.2166666666666667E-3,0,4.2605416666666673E-2,1.3458333333333332E-4,7.5416666666666677E-4,5.442958333333333E-2,2.9482916666666664E-2,2.0166666666666664E-4,1.5346875000000002,0.60239583333333335,1.3637500000000002E-3,2.6833333333333337E-4,4.0787500000000008E-3,5.0833333333333333E-5,95.284183333333317,21.505627999999998,17.261644,20.381271200000004,17.928778400000002,12.038322000000003,0.33965560000000006,4.2075935999999992,0.69536799999999999,0.60269680000000025,4.2439840000000002,4.5140800000000016E-2,3.6039200000000007E-2,3.5119999999999992E-4,2.5931999999999999E-3,3.1649200000000002E-2,1.3043039999999999,0.10051600000000001,1.152E-3,0.17712400000000003,0.6968479999999998,0.36530000000000001,0.45100399999999996,0.70187600000000006,2.3921519999999998,2.5732000000000005E-2,0,1.4680000000000004E-4,1.5644000000000003E-3,4.1318400000000005E-2,4.0139999999999993E-3,1.29284E-2,1.2596000000000003E-3,2.9600000000000004E-4,0.26329999999999998,1.4763999999999999E-2,0,7.45252E-2,1.548E-4,1.3252000000000003E-3,0.14631160000000004,0.1145084,2.7479999999999996E-4,7.3735680000000006,2.9183812000000002,2.7780000000000001E-3,6.5839999999999996E-4,6.9632000000000001E-3,1.5999999999999999E-5,24.306937999999999]
["JARI1",2007,{"$f":"C399","v":14.209834922183795},{"$f":"Tracking!DQ31","v":27.150575939293837},{"$f":"Tracking!DV31","v":13.603605556910818},{"$f":"Tracking!DW31","v":26.484886531000907},{"$f":"G399","v":4.3893142560999996},{"$f":"H399","v":9.4668398269999994},{"$f":"Tracking!DK31","v":13.776087826086961},{"$f":"Tracking!DY31","v":14.019767833333333},null,null,40.476027826086948,29.476027826086948,17.331635217391305,3.2157317391304345,4.3384669565217395,2.7048260869565213,0.22486521739130436,1.4581617391304349,0.20233739130434786,11,{"$f":"Tracking!DJ31","v":27.493659166666664},{"$f":"Tracking!DX31","v":28.216665760000001},null,null,165.23705541666666,154.23705541666666,125.56696666666666,3.671296666666668,15.066993333333336,6.3977499999999994,0.72323625000000025,2.5318883333333333,0.27892583333333337,11,13.776087826086961,1,0.42819506133012891,7.9447809279790144E-2,0.10718608493804774,6.682538362159271E-2,5.5555159305028913E-3,3.6025317143167007E-2,4.9989438729938973E-3,0.27176579794992778,27.493659166666664,1,0.75992014230726435,2.2218361719222226E-2,9.1184106950707625E-2,3.8718615409039113E-2,4.3769616214490523E-3,1.5322763571093957E-2,1.6880343977928299E-3,6.6571024109949639E-2,13.776087826086961,13.776087826086961,5.8988527715805485,1.0944799982285958,1.4766049198409623,0.92059235378301429,7.6533275377833054E-2,0.49628793292690493,6.8865889832043226E-2,3.7438695006848088,27.493659166666664,27.493659166666664,20.892985386480753,0.61086406435000984,2.506984757919636,1.0645164154613693,0.12033869100570092,0.42127883911507336,4.6410242394525479E-2,1.8302810472549045,6.7608521739130456,4.3257956521739143,6.9479226086956523,4.576759130434783,2.2225895652173917,0.41163260869565216,1.413226956521739,0.27048260869565222,0.22486521739130436,2.4302695652173911,3.3961739130434779E-2,1.0032173913043478E-2,8.6956521739130441E-5,1.5247826086956517E-3,1.8809565217391303E-2,0.45716086956521745,7.7891304347826082E-2,1.2782608695652176E-3,2.3678260869565225E-2,0.18963478260869562,0.20045217391304349,0.15624347826086957,0.26273913043478259,0.8327478260869563,2.0152173913043473E-2,0,7.0434782608695646E-5,7.334782608695654E-4,1.9168260869565218E-2,1.2252173913043479E-3,4.4826086956521747E-3,7.0913043478260844E-4,8.0434782608695659E-5,0.31950869565217388,5.2347826086956524E-3,0,3.6454782608695654E-2,1.0347826086956521E-4,6.8173913043478277E-4,4.9238260869565217E-2,5.0794782608695653E-2,2.1260869565217389E-4,1.5029608695652175,0.53991130434782608,1.1321739130434783E-3,2.482608695652174E-4,4.0326086956521748E-3,1.091304347826087E-4,103.97845000000001,22.340513043478257,18.198141666666665,21.330752173913037,17.417496250000003,11.348389999999997,0.42724375000000014,4.2365325000000009,0.63977500000000009,0.72323625000000025,4.2198137499999993,4.2319583333333334E-2,3.2767916666666667E-2,7.2583333333333343E-4,3.1162499999999997E-3,3.7699166666666659E-2,1.3192083333333333,0.10769166666666667,2.7208333333333334E-3,0.19209166666666663,0.71789999999999987,0.32854166666666679,0.42457499999999998,0.77637499999999993,2.439483333333333,2.3383333333333339E-2,0,1.1541666666666666E-4,1.2312499999999999E-3,5.1091249999999998E-2,5.9929166666666672E-3,1.3098750000000001E-2,1.3200000000000002E-3,1.0416666666666667E-4,0.33176666666666671,1.2575000000000001E-2,0,6.5142083333333337E-2,1.8000000000000001E-4,1.3770833333333335E-3,0.18399499999999999,8.4175E-2,4.8666666666666666E-4,7.9589749999999988,2.7561612499999999,3.8674999999999994E-3,3.6458333333333324E-4,6.8537499999999987E-3,7.5833333333333338E-5,26.388940833333336]
["JARI1",2008,{"$f":"C399","v":14.209834922183795},{"$f":"Tracking!DQ32","v":26.840334954867629},{"$f":"Tracking!DV32","v":13.401529101819825},{"$f":"Tracking!DW32","v":25.952749077143721},{"$f":"G399","v":4.3893142560999996},{"$f":"H399","v":9.4668398269999994},{"$f":"Tracking!DK32","v":13.146181666666665},{"$f":"Tracking!DY32","v":14.079647731884057},null,null,38.343010833333331,27.343010833333338,15.300302499999999,3.0229458333333334,4.7469079166666681,2.6926666666666663,0.2097170833333333,1.2672124999999999,0.10325833333333334,11,{"$f":"Tracking!DJ32","v":24.013450833333334},{"$f":"Tracking!DX32","v":27.497587759999998},null,null,114.86227333333333,103.86227333333335,77.673100000000019,4.1058804166666665,13.017375416666667,5.7341666666666669,0.66380416666666664,2.4303550000000005,0.23759333333333332,11,13.146181666666665,1,0.39903758644583925,7.8839552962422774E-2,0.12380112603311695,7.0225749312461616E-2,5.4694996239318967E-3,3.3049373861333657E-2,2.6930157827764053E-3,0.28688409597811754,24.013450833333334,1,0.67622812735553861,3.5746118351247441E-2,0.11333029583081558,4.9922106713193498E-2,5.7791313666610928E-3,2.1158862083001322E-2,2.0685062765894526E-3,9.5766866533084458E-2,13.146181666666665,13.146181666666665,5.2458206032452068,1.0364390857627979,1.6275120933692513,0.92320045813941209,7.1903035681973718E-2,0.43447307275067704,3.5402874711579158E-2,3.7714304430057686,24.013450833333334,24.013450833333334,16.238570888369299,0.8583876555101948,2.7214514868604116,1.198802055053692,0.13877688693269064,0.50809729431943318,4.9671973771322223E-2,2.299692940954619,6.4098458333333346,4.290795833333334,6.4380570833333337,4.426450833333333,2.0045233333333337,0.39180624999999997,1.5333225000000004,0.26926666666666665,0.2097170833333333,2.1120208333333337,1.7816249999999999E-2,1.1705E-2,1.8749999999999998E-4,1.6187500000000002E-3,1.5359583333333334E-2,0.47968749999999999,7.6166666666666646E-2,4.1249999999999994E-4,1.3908333333333337E-2,0.20287916666666669,0.18890833333333332,0.17172499999999999,0.28574583333333337,0.86316666666666686,1.8304166666666663E-2,4.4583333333333331E-5,5.4583333333333343E-5,5.0999999999999993E-4,1.7031249999999994E-2,2.3329166666666667E-3,4.4204166666666671E-3,4.6375000000000013E-4,7.5416666666666652E-5,0.30473749999999994,7.7958333333333343E-3,0,3.3792083333333334E-2,1.0666666666666668E-4,4.7708333333333348E-4,4.623416666666666E-2,3.3284166666666663E-2,1.6750000000000001E-4,1.3514583333333337,0.48772916666666677,1.0050000000000003E-3,1.8458333333333334E-4,3.4170833333333332E-3,4.8749999999999999E-5,113.67410916666667,17.410724999999999,13.349295833333331,16.847583333333329,13.205047916666665,7.7212229166666662,0.4824391666666667,3.727725,0.5734166666666668,0.66380416666666664,4.0505916666666666,3.6440833333333339E-2,3.3643749999999993E-2,5.2458333333333339E-4,2.8804166666666665E-3,3.3120416666666666E-2,1.2277333333333331,6.8237499999999993E-2,1.3750000000000001E-4,0.1519958333333333,0.5941333333333334,0.27532916666666668,0.3718083333333333,0.71752916666666666,2.110795833333333,2.5520833333333329E-2,0,1.2333333333333334E-4,1.0023333333333334E-2,4.3436666666666672E-2,9.8649999999999988E-3,6.3745833333333337E-3,1.1175E-3,9.5000000000000019E-5,0.37529583333333333,6.8791666666666662E-3,0,6.4039166666666661E-2,1.5999999999999999E-4,1.1241666666666665E-3,0.17069958333333332,8.3693333333333342E-2,3.0291666666666667E-4,5.245445833333334,1.8770120833333335,2.8024999999999999E-3,2.9416666666666664E-4,6.2149999999999992E-3,2.3333333333333336E-5,37.04622208333334]
["JARI1",2009,{"$f":"C399","v":14.209834922183795},{"$f":"Tracking!DQ33","v":26.53009397044142},{"$f":"Tracking!DV33","v":13.199452646728833},{"$f":"Tracking!DW33","v":25.420611623286536},{"$f":"G399","v":4.3893142560999996},{"$f":"H399","v":9.4668398269999994},{"$f":"Tracking!DK33","v":11.553073913043477},{"$f":"Tracking!DY33","v":13.629649264492752},null,null,32.090046521739133,21.090046521739133,10.988780869565218,2.2523339130434783,3.8284373913043477,2.0830869565217394,0.20325391304347826,1.5693704347826087,0.1647826086956522,11,{"$f":"Tracking!DJ33","v":22.074737916666663},{"$f":"Tracking!DX33","v":26.423528863333331},null,null,94.153004583333328,83.153004583333342,63.002944583333324,2.5946591666666663,10.215863750000002,4.2880000000000003,0.54212041666666666,2.3932424999999999,0.11617333333333328,11,11.553073913043477,1,0.34243580364151111,7.0187929192238901E-2,0.11930295547283812,6.4913802948542612E-2,6.3338615886949744E-3,4.8905209087791501E-2,5.1350068496791241E-3,0.34278541766987286,22.074737916666663,1,0.66915490230129004,2.7557900867307687E-2,0.10850279069913381,4.5542890733824212E-2,5.7578663481402175E-3,2.5418652443340552E-2,1.233878131106375E-3,0.11683110962501547,11.553073913043477,11.553073913043477,3.9561861499428201,0.81088633376139796,1.3783158626222336,0.74995396344125242,7.3175571089180019E-2,0.56500549532410071,5.9325113678327455E-2,3.9602252666535205,22.074737916666663,22.074737916666663,14.771419093953664,0.60833343917929816,2.3951706679103162,1.0053473769165562,0.12710339059438988,0.56111009088158137,2.7237536365279695E-2,2.5790161254855688,5.8152347826086963,3.1915434782608698,6.0002656521739119,3.4172530434782611,1.4483673913043484,0.27793304347826087,1.2522365217391305,0.20830869565217391,0.20325391304347826,2.6156173913043479,2.7152608695652173E-2,1.1317391304347824E-2,1.3652173913043477E-4,1.0013043478260867E-3,1.3665652173913042E-2,0.36978260869565222,5.8743478260869564E-2,3.4782608695652178E-5,1.202608695652174E-2,0.16450869565217391,0.19769999999999999,0.14442173913043477,0.21924347826086957,0.73790000000000011,1.7413043478260871E-2,0,6.7826086956521747E-5,4.2347826086956518E-4,1.3183043478260867E-2,1.3334782608695652E-3,1.637391304347826E-3,3.5130434782608687E-4,8.6956521739130427E-6,0.21618260869565215,2.096086956521739E-2,0,2.5874347826086958E-2,9.4347826086956527E-5,3.1217391304347829E-4,4.9060434782608686E-2,3.7213913043478264E-2,1.6782608695652175E-4,0.96357391304347817,0.35228130434782612,8.5956521739130435E-4,1.1217391304347824E-4,2.2121739130434776E-3,6.2608695652173921E-5,128.79252913043479,14.902487499999999,10.903199999999998,14.482384166666671,10.843659166666667,6.5197075000000018,0.30551,3.0302325000000003,0.42880000000000007,0.54212041666666666,3.9887374999999996,1.7289166666666671E-2,2.6100833333333337E-2,4.7666666666666663E-4,1.9441666666666663E-3,2.2922499999999998E-2,0.89652916666666649,7.9945833333333313E-2,5.1666666666666668E-4,0.13300000000000003,0.46590833333333331,0.27583333333333332,0.32508750000000008,0.54311249999999978,1.7429416666666666,8.712499999999998E-3,0,1.3291666666666668E-4,8.1249999999999996E-4,3.1834583333333333E-2,2.4941666666666667E-3,1.1602916666666666E-2,9.3375000000000001E-4,6.5833333333333339E-5,0.23753749999999998,2.4179166666666672E-2,0,5.0233333333333331E-2,1.4208333333333334E-4,8.6500000000000032E-4,0.14706750000000002,0.12523500000000001,2.7458333333333333E-4,4.3972458333333329,1.5848720833333338,1.8704166666666667E-3,2.9583333333333339E-4,5.3762499999999991E-3,1.2958333333333333E-4,44.947152083333329]
["JARI1",2010,{"$f":"C399","v":14.209834922183795},{"$f":"Tracking!DQ34","v":26.219852986015212},{"$f":"Tracking!DV34","v":12.997376191637841},{"$f":"Tracking!DW34","v":24.888474169429351},{"$f":"G399","v":4.3893142560999996},{"$f":"H399","v":9.4668398269999994},{"$f":"Tracking!DK34","v":13.511847500000002},{"$f":"Tracking!DY34","v":13.34814268115942},null,null,38.978715833333332,27.978715833333336,16.470410416666667,3.0192237500000005,4.5628929166666659,2.145291666666667,0.32054541666666664,1.4139550000000003,4.6397500000000008E-2,11,{"$f":"Tracking!DJ34","v":22.883857500000001},{"$f":"Tracking!DX34","v":24.935616283333335},null,null,101.26164833333331,90.261648333333326,63.805616250000007,4.7471066666666673,13.055732083333337,5.2532083333333341,0.68886166666666682,2.6967499999999998,1.4373333333333342E-2,11,13.511847500000002,1,0.42254882092810525,7.7458266273053009E-2,0.11706114014060535,5.5037515238818703E-2,8.2236012606794664E-3,3.6275053443162224E-2,1.1903291067460557E-3,0.282205294988019,22.883857500000001,1,0.63010643516254583,4.6879610837857695E-2,0.12893066919428814,5.1877570825637875E-2,6.8027893877361202E-3,2.6631504072724872E-2,1.4194251792168318E-4,0.10862947800128807,13.511847500000002,13.511847500000002,5.7094152296853675,1.0466042814958858,1.5817122737559883,0.74365851268584449,0.11111604613510871,0.49014299017835794,1.6083545365163928E-2,3.8131149095706274,22.883857500000001,22.883857500000001,14.419265872092689,1.0727863340689912,2.9504310612217299,1.1871589382200545,0.15567406295146563,0.60943154421090562,3.2481923533109942E-3,2.4858614948808611,6.6221125000000001,4.2655208333333334,6.7452004166666661,4.5229550000000005,2.12830875,0.37890083333333341,1.4730974999999999,0.21452916666666666,0.32054541666666664,2.3565916666666671,7.5737500000000015E-3,1.9577500000000001E-2,2.004166666666667E-4,1.2804166666666667E-3,1.7924166666666668E-2,0.40151249999999999,6.4724999999999991E-2,2.1666666666666666E-4,3.0749999999999992E-3,0.1890375,0.20567083333333333,0.16867916666666669,0.25192500000000001,0.81838750000000005,7.9333333333333322E-3,0,8.6666666666666655E-5,4.979166666666668E-4,2.1272916666666669E-2,1.3237500000000001E-3,6.248333333333334E-3,8.9749999999999997E-4,5.833333333333334E-5,0.29372083333333332,9.7208333333333331E-3,0,3.0642916666666669E-2,1.0916666666666669E-4,4.7416666666666674E-4,7.7573749999999997E-2,3.0683750000000006E-2,1.9000000000000004E-4,1.4452749999999999,0.5159537500000001,1.3341666666666669E-3,1.7166666666666667E-4,3.6104166666666663E-3,1.0583333333333334E-4,105.14420875,16.714129166666666,12.219545833333333,16.022548750000002,12.153801249999999,6.67894875,0.56570749999999992,3.6928424999999998,0.52532083333333335,0.68886166666666682,4.4945833333333338,2.1175E-3,4.3740000000000001E-2,3.5833333333333333E-4,2.3154166666666661E-3,3.5760416666666676E-2,1.0327625,9.3941666666666659E-2,3.0833333333333337E-4,9.8037500000000041E-2,0.60154166666666675,0.34044999999999997,0.40985833333333338,0.60169166666666662,2.0515791666666665,-1.3300000000000005E-2,0,1.3708333333333332E-4,9.6416666666666667E-4,4.4222083333333329E-2,4.1104166666666659E-3,8.7383333333333323E-3,1.1587500000000001E-3,8.5833333333333337E-5,0.43853333333333328,1.5258333333333332E-2,0,4.6392916666666666E-2,1.5291666666666665E-4,8.995833333333334E-4,0.1689816666666667,4.1564999999999998E-2,3.3083333333333332E-4,4.4212166666666661,1.6191391666666668,2.7458333333333332E-3,3.1625000000000002E-4,5.0650000000000001E-3,1.5000000000000001E-4,41.168330833333329]
["JARI1",2011,{"$f":"C399","v":14.209834922183795},{"$f":"Tracking!DQ35","v":25.909612001589004},{"$f":"Tracking!DV35","v":12.795299736546848},{"$f":"Tracking!DW35","v":24.356336715572166},{"$f":"G399","v":4.3893142560999996},{"$f":"H399","v":9.4668398269999994},{"$f":"Tracking!DK35","v":11.574347391304348},{"$f":"Tracking!DY35","v":12.712307659420292},null,null,32.815514347826088,21.815514347826088,12.36273608695652,1.869228695652174,3.765488695652174,1.7428695652173916,0.15929217391304346,1.6762147826086953,0.23968260869565217,11,{"$f":"Tracking!DJ35","v":22.934422083333331},{"$f":"Tracking!DX35","v":23.880025499999999},null,null,102.93789833333335,91.937898333333337,66.458057916666675,5.5837166666666667,11.93242875,5.0031249999999998,0.35668249999999996,2.2932375000000005,0.3106491666666667,11,11.574347391304348,1,0.37673449076307125,5.6961736934530292E-2,0.11474720937603175,5.311114574478247E-2,4.8541727008949353E-3,5.107994849148962E-2,7.3039418536961099E-3,0.33520730113830172,22.934422083333331,1,0.64561312201520071,5.4243546420439666E-2,0.11591871354669032,4.8603333475868024E-2,3.4650260572154992E-3,2.2277873719298621E-2,3.0178308640100948E-3,0.10686054580578104,11.574347391304348,11.574347391304348,4.3604558703779261,0.65929493129234529,1.328124063500927,0.61472685120030801,5.6183881137544078E-2,0.59121706857043332,8.4538360340566221E-2,3.8798057514762738,22.934422083333331,22.934422083333331,14.806763842835196,1.2440443889032482,2.6585287038368053,1.1146893645925617,7.946837012592857E-2,0.51093015899759353,6.9212206811318025E-2,2.4507848615651575,6.2646391304347828,3.470947826086956,6.2102121739130434,3.548981304347826,1.680731304347826,0.24568826086956522,1.2454982608695651,0.17428695652173912,0.15929217391304346,2.7936913043478264,4.3481739130434793E-2,1.3807826086956522E-2,9.3478260869565223E-5,1.1195652173913045E-3,1.5138260869565219E-2,0.3365869565217392,6.7791304347826084E-2,8.6956521739130441E-5,-3.4782608695652266E-5,0.12986521739130436,0.18085652173913039,0.15107826086956522,0.23017826086956528,0.69194347826086955,2.5160869565217396E-2,5.5478260869565202E-4,1.0869565217391306E-4,2.9E-4,1.6646086956521745E-2,7.899999999999999E-4,7.0295652173913035E-3,6.6130434782608698E-4,7.1739130434782602E-5,0.19045652173913041,4.0956521739130428E-3,1.1065217391304349E-3,2.2269999999999998E-2,1.7391304347826075E-5,2.3173913043478259E-4,2.4949565217391306E-2,1.197E-2,1.1826086956521738E-4,1.1247,0.40744999999999998,9.4478260869565217E-4,8.4782608695652194E-5,2.3682608695652168E-3,-5.0434782608695661E-5,132.37454565217394,16.699400000000001,12.877337500000003,15.1000125,11.768951666666666,6.7735200000000004,0.62736958333333337,3.4624950000000005,0.50031249999999994,0.35668249999999996,3.8220624999999999,4.8571666666666673E-2,3.0355833333333342E-2,1.4958333333333336E-4,1.9983333333333333E-3,2.9585E-2,0.95580000000000009,0.11007916666666666,6.0833333333333334E-4,5.2783333333333342E-2,0.51949166666666668,0.38541666666666669,0.39974166666666672,0.56617499999999998,1.9236083333333334,2.6854166666666665E-2,9.4749999999999999E-4,1.8916666666666667E-4,9.4583333333333325E-4,4.0059583333333343E-2,1.9908333333333336E-3,1.0441666666666667E-2,1.3420833333333331E-3,1.7625E-4,0.48633333333333334,7.4791666666666652E-3,4.277916666666666E-3,3.8312083333333337E-2,7.2499999999999987E-5,7.6291666666666663E-4,5.654791666666667E-2,2.2959583333333339E-2,3.4333333333333335E-4,4.5692708333333343,1.6420654166666668,2.0245833333333335E-3,2.9874999999999997E-4,5.1500000000000001E-3,6.8083333333333331E-4,41.357584166666662]
["JARI1",2012,{"$f":"C399","v":14.209834922183795},{"$f":"Tracking!DQ36","v":25.599371017162795},{"$f":"Tracking!DV36","v":12.593223281455856},{"$f":"Tracking!DW36","v":23.82419926171498},{"$f":"G399","v":4.3893142560999996},{"$f":"H399","v":9.4668398269999994},{"$f":"Tracking!DK36","v":12.122281428571428},{"$f":"Tracking!DY36","v":12.381546379917184},null,null,34.426340952380961,23.426340952380951,11.224713333333332,2.3929552380952379,5.3281585714285722,2.3958095238095241,0.23832190476190473,1.7213742857142857,0.12500666666666671,11,{"$f":"Tracking!DJ36","v":19.840350909090905},{"$f":"Tracking!DX36","v":22.349363848484849},null,null,74.343467727272738,63.343467727272738,40.042383181818174,4.203610454545454,11.455725909090908,5.0445000000000002,0.46094818181818181,1.9706999999999995,0.16560181818181818,11,12.122281428571428,1,0.32605014133972376,6.9509427139097066E-2,0.15476981938912887,6.9592337074783642E-2,6.9226614902686062E-3,5.0001662625003246E-2,3.6311342770809665E-3,0.31952277516844929,19.840350909090905,1,0.53861333626126662,5.654310436481521E-2,0.15409189615846236,6.7853977682418978E-2,6.2002512918708525E-3,2.6508045161808512E-2,2.2275234562547522E-3,0.14796189007961319,12.122281428571428,12.122281428571428,3.9524715731456226,0.84261283771891515,1.876163307284191,0.84361789529253262,8.391845081976973E-2,0.60613422623677093,4.4017631611707742E-2,3.8733450034300967,19.840350909090905,19.840350909090905,10.686277595739707,1.1218350320872834,3.0572372920310902,1.3462467277968153,0.12301516135526193,0.52592891792431029,4.4194847030325286E-2,2.9356158203518619,6.9024578947368411,3.9714473684210518,6.789284736842105,3.9275452380952385,1.4314223809523807,0.29641809523809526,1.7018314285714284,0.23958095238095239,0.23832190476190473,2.868957142857143,1.9969523809523809E-2,1.8136842105263156E-2,2.8473684210526313E-4,1.1094736842105265E-3,1.7541052631578947E-2,0.41498571428571424,7.4819047619047618E-2,1.0952380952380952E-4,2.4190476190476188E-3,0.18503809523809528,0.30178095238095237,0.20589047619047621,0.25033333333333335,0.94546190476190461,1.2161904761904763E-2,3.057894736842105E-4,9.4210526315789475E-5,6.0526315789473687E-4,2.7631052631578945E-2,1.0805263157894738E-3,5.8163157894736842E-3,1.0073684210526316E-3,4.7894736842105268E-5,0.22978095238095234,8.0714285714285714E-3,1.836842105263158E-3,2.8367368421052631E-2,1.684210526315789E-5,2.5105263157894743E-4,3.8496842105263163E-2,1.8893157894736844E-2,2.1684210526315791E-4,0.95277619047619055,0.35541421052631578,1.2336842105263156E-3,1.0157894736842104E-4,2.8431578947368421E-3,-1.1631578947368417E-4,125.12736952380953,13.293936363636362,10.009436363636363,12.249913181818181,9.2019427272727263,4.3517345454545451,0.48457136363636361,3.3749181818181815,0.50445000000000007,0.46094818181818181,3.2845,2.5321818181818181E-2,3.6488636363636369E-2,2.277272727272727E-4,2.4495454545454547E-3,2.8513636363636356E-2,0.95585454545454551,9.9704545454545448E-2,3.4545454545454544E-4,6.6459090909090912E-2,0.44435454545454545,0.47135454545454536,0.34133181818181818,0.55145454545454553,1.8749545454545453,1.4768181818181817E-2,4.2045454545454542E-4,2.090909090909091E-4,1.2413636363636362E-3,4.8854090909090903E-2,4.7331818181818178E-3,3.9650000000000015E-3,1.5368181818181817E-3,1.5227272727272735E-4,0.37563636363636371,2.0154545454545456E-2,6.409545454545456E-3,4.7508181818181831E-2,-4.318181818181818E-5,5.8954545454545447E-4,8.4644999999999998E-2,2.0473636363636364E-2,3.540909090909091E-4,2.9919590909090901,1.0549659090909089,2.6818181818181819E-3,2.2318181818181823E-4,5.797727272727273E-3,3.0681818181818186E-4,55.779196363636359]
["JARI1",2013,{"$f":"C399","v":14.209834922183795},{"$f":"Tracking!DQ37","v":25.289130032736587},{"$f":"Tracking!DV37","v":12.391146826364864},{"$f":"Tracking!DW37","v":23.292061807857795},{"$f":"G399","v":4.3893142560999996},{"$f":"H399","v":9.4668398269999994},{"$f":"Tracking!DK37","v":9.8551841666666657},{"$f":"Tracking!DY37","v":11.723346879917184},null,null,27.149550416666667,16.149550416666667,8.0644495833333352,1.7259233333333335,3.5406429166666675,1.4275416666666665,0.17245708333333332,0.99729583333333338,0.22123874999999996,11,{"$f":"Tracking!DJ37","v":18.593564583333329},{"$f":"Tracking!DX37","v":21.265386598484845},null,null,65.965175833333333,54.965175833333326,37.530663750000002,3.8115162500000004,8.6118266666666656,3.6434166666666665,0.2938829166666666,0.87889250000000008,0.19497708333333333,11,9.8551841666666657,1,0.29703805254847609,6.3570972883360055E-2,0.13041258003643127,5.2580674256407646E-2,6.3521156220496646E-3,3.6733419818293186E-2,8.1488918455233459E-3,0.40516324694818073,18.593564583333329,1,0.56894661881633479,5.7780733574183486E-2,0.13055110606276837,5.5232425603959134E-2,4.4551221603530171E-3,1.3323583070870565E-2,2.955757805087333E-3,0.16675465290644328,9.8551841666666657,9.8551841666666657,2.9273647123732425,0.62650364541968595,1.2852399939091868,0.51819222840440615,6.2601269303259835E-2,0.36201461738076252,8.030882989188079E-2,3.9929584162389671,18.593564583333329,18.593564583333329,10.57874570143065,1.074349801383957,2.4274104220036832,1.0269676725613675,8.2836601615163333E-2,0.24773290230963843,5.4958073641582894E-2,3.1005634083872859,4.4413541666666667,2.8788347826086955,4.4755047826086951,2.8376008333333331,1.0950891666666664,0.21780583333333334,1.1706075,0.14275416666666668,0.17245708333333332,1.6621595833333329,3.8886250000000004E-2,1.4171250000000002E-2,1.2833333333333335E-4,9.9249999999999989E-4,1.1505833333333335E-2,0.25665416666666668,5.9020833333333356E-2,0,3.4583333333333337E-3,0.12998333333333328,0.21204583333333329,0.13192916666666668,0.17292083333333333,0.65033750000000001,2.3970833333333334E-2,9.7958333333333339E-4,8.4999999999999993E-5,6.0249999999999995E-4,1.5688333333333335E-2,7.3499999999999998E-4,5.1716666666666664E-3,6.4791666666666665E-4,7.7916666666666672E-5,0.16884166666666667,3.3666666666666667E-3,1.6908333333333333E-3,2.1354999999999999E-2,3.9166666666666659E-5,1.6166666666666665E-4,2.9805000000000002E-2,2.9564166666666673E-2,1.4791666666666664E-4,0.76850833333333346,0.26575208333333339,1.0441666666666668E-3,1.2125000000000001E-4,2.0300000000000001E-3,5.6666666666666678E-5,153.93217083333334,10.503929166666667,9.0551541666666679,9.2852604166666666,7.954798750000001,4.1901316666666659,0.4528658333333333,2.6230799999999999,0.36434166666666673,0.2938829166666666,1.4648208333333335,3.0495833333333333E-2,2.4097916666666663E-2,2.2958333333333329E-4,2.0958333333333328E-3,2.0909999999999995E-2,0.71936250000000002,0.10613333333333336,2.833333333333333E-4,1.8779166666666666E-2,0.3725708333333333,0.33411249999999998,0.27036666666666664,0.46143750000000011,1.4572666666666665,1.8129166666666672E-2,6.2208333333333332E-4,1.8000000000000001E-4,8.1791666666666644E-4,3.6278750000000005E-2,3.0812499999999994E-3,4.8554166666666676E-3,1.0612500000000003E-3,9.9999999999999991E-5,0.35105833333333342,1.3041666666666665E-2,4.4683333333333337E-3,3.7861666666666668E-2,-2.4999999999999968E-6,5.3708333333333331E-4,4.6468333333333327E-2,1.0395833333333332E-2,2.5583333333333328E-4,2.9597666666666664,1.0157895833333335,1.692916666666667E-3,1.5708333333333332E-4,4.170416666666666E-3,3.9041666666666668E-4,63.626651666666667]
["JARI1",2014,{"$f":"C399","v":14.209834922183795},{"$f":"Tracking!DQ38","v":24.978889048310378},{"$f":"Tracking!DV38","v":12.189070371273871},{"$f":"Tracking!DW38","v":22.75992435400061},{"$f":"G399","v":4.3893142560999996},{"$f":"H399","v":9.4668398269999994},{"$f":"Tracking!DK38","v":10.814668695652175},{"$f":"Tracking!DY38","v":11.575665836438924},null,null,30.001066956521743,19.00106695652174,9.6828330434782615,1.5492469565217388,4.0242565217391304,1.764826086956522,0.14109913043478259,1.7273060869565213,0.11149956521739134,11,{"$f":"Tracking!DJ38","v":19.142567916666668},{"$f":"Tracking!DX38","v":20.678952598484848},null,null,69.739424999999997,58.739425000000004,36.977524166666662,8.8556279166666663,7.3488845833333336,3.6912916666666669,0.19571041666666666,1.4973324999999997,0.17305083333333335,11,10.814668695652175,1,0.32274962278877789,5.1639728639216204E-2,0.13413711344237117,5.8825444092176778E-2,4.7031370797334235E-3,5.7574821904160085E-2,3.7165199950714802E-3,0.36665362655073103,19.142567916666668,1,0.53022410446697354,0.12698165946545539,0.10537632886037322,5.2929769160939701E-2,2.8063095826595455E-3,2.1470387804315847E-2,2.4813917426668394E-3,0.15773000709426555,10.814668695652175,10.814668695652175,3.4904302421073443,0.55846655676650458,1.450648441670356,0.63617768873150138,5.0862869347554046E-2,0.62265262410466926,4.0192932447464913E-2,3.9652374972055342,19.142567916666668,19.142567916666668,10.149850930812804,2.4307550404885188,2.0171735320186963,1.0132117009767772,5.3719971781252839E-2,0.41099835674128782,4.7500209961855833E-2,3.0193573732982935,6.1863086956521727,3.3074652173913046,5.86145391304348,3.0885726086956522,1.2436191304347823,0.19337000000000001,1.3159095652173913,0.17648260869565216,0.14109913043478259,2.8788434782608694,1.8092173913043481E-2,1.1793043478260868E-2,8.6521739130434789E-5,1.1452173913043477E-3,1.1704782608695655E-2,0.303404347826087,7.2365217391304346E-2,4.3913043478260866E-4,5.6391304347826092E-3,0.16411739130434783,0.21879565217391306,0.14278260869565221,0.19972608695652175,0.73106086956521754,1.2091304347826088E-2,8.8695652173913036E-4,9.2608695652173905E-5,6.7217391304347836E-4,1.6085652173913046E-2,7.0304347826086958E-4,5.2530434782608682E-3,5.4565217391304346E-4,6.3478260869565239E-5,0.14989999999999998,1.2239130434782612E-2,6.2391304347826084E-4,2.2637826086956525E-2,6.0869565217391299E-6,1.4043478260869567E-4,2.2363913043478262E-2,1.142913043478261E-2,1.0217391304347827E-4,0.82471739130434774,0.30148347826086952,7.5347826086956534E-4,1.0782608695652172E-4,2.6373913043478262E-3,3.1130434782608698E-4,140.39540739130436,11.594929166666667,9.0993750000000002,10.337417083333333,8.1913687500000005,4.2637445833333336,1.0571166666666667,2.2774725000000005,0.36912916666666667,0.19571041666666666,2.495554166666667,2.8195416666666671E-2,2.1458750000000002E-2,3.9583333333333332E-4,2.9995833333333333E-3,1.5402916666666664E-2,0.64684166666666676,0.11606249999999996,2.5166666666666666E-3,6.1608333333333327E-2,0.31507083333333336,0.24396666666666664,0.24832500000000002,0.39629166666666665,1.2652625000000002,1.6483333333333332E-2,1.7479166666666667E-3,1.8958333333333335E-4,1.1858333333333332E-3,2.568833333333333E-2,3.7762499999999997E-3,7.0645833333333333E-3,1.0666666666666665E-3,1.4291666666666665E-4,0.81947083333333326,1.6650000000000002E-2,1.7433333333333335E-3,3.7274583333333333E-2,-8.3333333333333111E-7,6.0749999999999997E-4,2.3672499999999996E-2,2.1015416666666672E-2,2.2833333333333329E-4,2.8456500000000005,1.0336350000000001,1.1770833333333334E-3,1.4333333333333334E-4,6.1508333333333319E-3,2.2583333333333339E-4,60.234341666666666]
["JARI1",2015,{"$f":"C399","v":14.209834922183795},{"$f":"Tracking!DQ39","v":24.66864806388417},{"$f":"Tracking!DV39","v":11.986993916182879},{"$f":"Tracking!DW39","v":22.227786900143425},{"$f":"G399","v":4.3893142560999996},{"$f":"H399","v":9.4668398269999994},{"$f":"Tracking!DK39","v":9.7634852173913025},{"$f":"Tracking!DY39","v":10.825993379917184},null,null,26.9209252173913,15.920925217391307,5.8387478260869567,1.7648734782608695,4.5822960869565215,1.7034739130434777,0.13705391304347825,1.7367826086956522,0.15769565217391307,11,{"$f":"Tracking!DJ39","v":18.470918333333334},{"$f":"Tracking!DX39","v":19.796364765151512},null,null,64.68306583333333,53.68306583333333,31.40498791666667,5.2430416666666666,10.181033333333332,4.1842333333333324,0.2614475,2.265719583333333,0.14260291666666666,11,9.7634852173913025,1,0.21688510996327284,6.5557682880851967E-2,0.17021317246542081,6.3276945323669981E-2,5.0909807867576358E-3,6.451422433184674E-2,5.8577352338559088E-3,0.40860408441288798,18.470918333333334,1,0.48552101716370155,8.1057408134862299E-2,0.15739874420248504,6.4688234539078668E-2,4.0419775505642066E-3,3.5028017830375201E-2,2.2046406556254891E-3,0.170059966364973,9.7634852173913025,9.7634852173913025,2.1175545649987013,0.640071467693625,1.6618737931714123,0.61780352026932961,4.9705715653531317E-2,0.62988367557545188,5.7191911363144353E-2,3.9893999379309397,18.470918333333334,18.470918333333334,8.9680190571476626,1.4972047659707106,2.9072993499333246,1.1948510972988347,7.4659037241638165E-2,0.6469996567234042,4.0721737504404866E-2,3.1411637504968297,5.5438030434782606,2.6491643478260873,5.6214969565217379,2.8335143478260867,0.78872652173913038,0.22230086956521738,1.4900930434782609,0.17034739130434781,0.13705391304347825,2.8946386956521737,2.4993043478260871E-2,1.0655217391304348E-2,1.5217391304347827E-4,1.1904347826086957E-3,1.0721304347826088E-2,0.2946086956521739,5.7378695652173912E-2,2.0000000000000002E-5,8.343478260869568E-4,0.12524565217391306,0.3483669565217391,0.1717226086956522,0.18166000000000002,0.82782956521739148,1.6230869565217392E-2,2.7191304347826094E-3,8.6956521739130414E-5,5.9652173913043473E-4,1.9814347826086955E-2,8.8782608695652193E-4,5.9795652173913038E-3,6.1869565217391291E-4,5.3043478260869574E-5,0.17232565217391307,1.9339999999999996E-2,1.4739130434782608E-3,2.55295652173913E-2,-2.5217391304347827E-5,1.3999999999999996E-4,1.8776521739130438E-2,2.1032173913043479E-2,8.9565217391304354E-5,0.49298086956521736,0.1912065217391305,7.3826086956521749E-4,5.0000000000000002E-5,2.3917391304347823E-3,2.0347826086956515E-4,156.13161608695654,12.785075416666665,9.0088766666666693,11.362635416666668,8.0690091666666657,3.6869066666666672,0.65361124999999987,3.0240316666666662,0.41842333333333331,0.2614475,3.7761987500000003,2.4589583333333335E-2,2.4254166666666674E-2,3.0583333333333336E-4,2.5125E-3,2.12725E-2,0.72476041666666668,0.10627874999999999,2.7541666666666665E-4,5.9176249999999993E-2,0.40299041666666668,0.47636291666666652,0.3285966666666667,0.4128912500000001,1.6800175000000002,1.7057916666666662E-2,1.8862499999999997E-3,1.9666666666666669E-4,9.6500000000000015E-4,3.4938749999999998E-2,2.2254166666666663E-3,1.0846666666666669E-2,1.3416666666666666E-3,9.0416666666666664E-5,0.5066750000000001,1.466625E-2,9.8833333333333347E-4,4.327375E-2,3.9583333333333345E-5,6.0999999999999997E-4,3.441375E-2,2.743124999999999E-2,2.1458333333333331E-4,2.3259720833333328,0.89379541666666673,1.6350000000000002E-3,1.1374999999999999E-4,5.3300000000000005E-3,3.2958333333333326E-4,63.937722499999985]
["JARI1",2016,{"$f":"C399","v":14.209834922183795},{"$f":"Tracking!DQ40","v":24.358407079457962},{"$f":"Tracking!DV40","v":11.784917461091887},{"$f":"Tracking!DW40","v":21.695649446286239},{"$f":"G399","v":4.3893142560999996},{"$f":"H399","v":9.4668398269999994},{"$f":"Tracking!DK40","v":9.568021250000001},{"$f":"Tracking!DY40","v":10.424728151656314},null,null,26.409872500000006,15.409872500000001,6.6055554166666672,1.9721895833333332,3.8129950000000004,1.4121500000000002,0.11691583333333334,1.3946912500000002,9.5377083333333335E-2,11,{"$f":"Tracking!DJ40","v":17.28075875},{"$f":"Tracking!DX40","v":18.665632098484846},null,null,57.545608750000007,46.545608750000007,24.011743333333339,6.1615383333333327,10.379141250000002,3.9140041666666665,0.24178875,1.6936612500000001,0.14372916666666671,11,9.568021250000001,1,0.25011689915075003,7.4676225087165135E-2,0.14437763756716354,5.3470534551047146E-2,4.426974546481938E-3,5.2809465475458083E-2,3.6114177883037231E-3,0.41651090894134374,17.28075875,1,0.41726456379407639,0.1070722591553666,0.18036374061296206,6.8015687933211166E-2,4.2016889777015346E-3,2.9431633217365173E-2,2.4976565508426688E-3,0.19115272631467295,9.568021250000001,9.568021250000001,2.3931238060584836,0.7145037085037792,1.3814083042674192,0.51160721083327831,4.2357386533948299E-2,0.50528208787032436,3.4554122141118027E-2,3.9851852276075923,17.28075875,17.28075875,7.2106482618494194,1.8502898792813689,3.1168222887801744,1.1753626943891082,7.2608373566194345E-2,0.50860095324777388,4.316140029546927E-2,3.30326414784864,5.0210254166666681,2.6965395833333337,4.9641395833333331,2.6710249999999998,0.89281375000000007,0.25214124999999998,1.2515766666666668,0.14121500000000001,0.11691583333333334,2.3244858333333327,1.636375E-2,9.7120833333333347E-3,8.1666666666666669E-5,1.0020833333333333E-3,8.7770833333333329E-3,0.24175083333333333,5.918958333333333E-2,0,4.3837499999999996E-3,0.12847791666666666,0.25648958333333338,0.1462441666666667,0.15972541666666665,0.6953208333333335,1.0321666666666663E-2,8.2208333333333352E-4,1.0791666666666666E-4,5.087500000000002E-4,1.5238749999999997E-2,1.5658333333333338E-3,4.1408333333333332E-3,5.1166666666666645E-4,6.6249999999999998E-5,0.19545791666666665,7.0550000000000014E-3,8.9000000000000017E-4,1.7240000000000002E-2,-1.0000000000000001E-5,1.0708333333333333E-4,1.72625E-2,1.197375E-2,1.2041666666666668E-4,0.62489166666666662,0.21643958333333332,7.1208333333333356E-4,6.4583333333333322E-5,2.0675000000000003E-3,3.9999999999999976E-5,159.40704624999998,10.715370416666667,7.8925991666666668,9.9145629166666644,7.280818749999999,2.8302754166666673,0.73203874999999996,3.0625774999999997,0.39140041666666664,0.24178875,2.8227712499999993,2.2737083333333335E-2,2.158875E-2,3.0166666666666672E-4,2.230416666666667E-3,1.9689583333333333E-2,0.61217291666666673,7.5751250000000006E-2,0,8.5415416666666674E-2,0.38034374999999998,0.53535624999999998,0.40379291666666667,0.29652375000000003,1.7014320833333336,1.4111249999999999E-2,2.0545833333333332E-3,1.5333333333333337E-4,1.3891666666666668E-3,3.2986666666666671E-2,3.4804166666666659E-3,6.421249999999999E-3,1.0358333333333335E-3,9.3750000000000016E-5,0.56747208333333321,1.6027083333333331E-2,2.3158333333333334E-3,4.5690416666666671E-2,1.0416666666666667E-4,4.7541666666666674E-4,3.1884583333333327E-2,2.3775000000000001E-2,5.1416666666666657E-4,1.9189745833333334,0.6861275,1.5358333333333333E-3,1.0916666666666666E-4,5.3270833333333321E-3,5.0916666666666677E-4,72.269282083333323]
["JARI1",2017,{"$f":"C399","v":14.209834922183795},{"$f":"Tracking!DQ41","v":24.048166095031753},{"$f":"Tracking!DV41","v":11.582841006000894},{"$f":"Tracking!DW41","v":21.163511992429054},{"$f":"G399","v":4.3893142560999996},{"$f":"H399","v":9.4668398269999994},{"$f":"Tracking!DK41","v":8.3777699999999982},{"$f":"Tracking!DY41","v":9.6758258659420271},null,null,23.405652173913051,12.40565217391304,4.9493973913043483,1.4939991304347831,3.055758260869565,1.2448434782608693,0.13013086956521738,1.4753747826086956,5.6148695652173904E-2,11,{"$f":"Tracking!DJ41","v":17.263276250000004},{"$f":"Tracking!DX41","v":18.150217166666668},null,null,57.041334583333338,46.041334583333331,21.548305833333334,5.9999441666666664,11.892794999999998,4.0705249999999999,0.26122541666666665,2.1686079166666672,9.9932499999999994E-2,11,{"$f":"I412","v":8.3777699999999982},{"$f":"M412/M412","v":1},{"$f":"O412/M412","v":0.2114616313413705},{"$f":"P412/M412","v":6.3830698642096853E-2},{"$f":"Q412/M412","v":0.13055642449798446},{"$f":"R412/M412","v":5.3185592480448768E-2},{"$f":"S412/M412","v":5.5598053238719719E-3},{"$f":"T412/M412","v":6.3034978544758771E-2},{"$f":"U412/M412","v":2.3989374547210805E-3},{"$f":"V412/M412","v":0.4699719502907137},{"$f":"W412","v":17.263276250000004},{"$f":"AA412/AA412","v":1},{"$f":"AC412/AA412","v":0.37776650898398578},{"$f":"AD412/AA412","v":0.10518590089965679},{"$f":"AE412/AA412","v":0.2084943328705865},{"$f":"AF412/AA412","v":7.1360970596738973E-2},{"$f":"AG412/AA412","v":4.5795810805414252E-3},{"$f":"AH412/AA412","v":3.8018183349102487E-2},{"$f":"AI412/AA412","v":1.7519313096366234E-3},{"$f":"AJ412/AA412","v":0.19284261282368456},{"$f":"I412","v":8.3777699999999982},{"$f":"BE412","v":8.3777699999999982},{"$f":"BE412*AM412","v":1.771576911202793},{"$f":"BE412*AN412","v":0.53475891216279958},{"$f":"BE412*AO412","v":1.093771696466479},{"$f":"BE412*AP412","v":0.44557666111492916},{"$f":"BE412*AQ412","v":4.6578770248174882E-2},{"$f":"BE412*AR412","v":0.52809255220292362},{"$f":"BE412*AS412","v":2.0097746240038624E-2},{"$f":"BE412*AT412","v":3.9373169059870317},{"$f":"W412","v":17.263276250000004},{"$f":"BO412","v":17.263276250000004},{"$f":"BO412*AW412","v":6.521487602588655},{"$f":"BO412*AX412","v":1.8158532648358992},{"$f":"BO412*AY412","v":3.599295264904391},{"$f":"BO412*AZ412","v":1.2319241488796326},{"$f":"BO412*BA412","v":7.905857330266014E-2},{"$f":"BO412*BB412","v":0.65631840167870659},{"$f":"BO412*BC412","v":3.0244074169281324E-2},{"$f":"BO412*BD412","v":3.3290952979470601},4.5050004347826089,2.0460413043478258,4.5985208695652178,2.160488260869565,0.68169043478260871,0.19467999999999996,1.0201391304347822,0.12448434782608697,0.13013086956521738,2.4589591304347822,9.3652173913043486E-3,9.8686956521739141E-3,9.9565217391304339E-5,1.3334782608695652E-3,1.0760434782608698E-2,0.20224304347826089,5.1705217391304348E-2,0,-2.6600000000000005E-3,9.5440869565217384E-2,0.22026391304347828,0.12423521739130436,0.12946391304347826,0.56674391304347826,9.5826086956521776E-3,6.3739130434782598E-4,5.9565217391304356E-5,3.9739130434782605E-4,1.5676086956521743E-2,3.3556521739130439E-3,3.6208695652173921E-3,5.4043478260869563E-4,4.4347826086956518E-5,0.15091347826086957,3.5413043478260873E-3,5.1304347826086963E-4,1.7180869565217392E-2,1.6521739130434781E-5,5.5217391304347828E-5,2.0715217391304344E-2,1.0136086956521738E-2,6.8695652173913037E-5,0.47482086956521746,0.16525826086956522,7.0304347826086969E-4,2.8695652173913038E-5,1.6404347826086956E-3,-6.2173913043478283E-5,179.73097869565217,11.55679916666667,7.9424537500000012,10.74208458333333,7.3645450000000006,2.5040966666666664,0.70497583333333325,3.4705983333333346,0.40705249999999998,0.26122541666666665,3.6143454166666658,1.6595833333333334E-2,2.1245416666666669E-2,3.3208333333333326E-4,1.9824999999999995E-3,2.1735833333333329E-2,0.6792970833333335,7.9024583333333329E-2,0,0.11695833333333337,0.44719624999999996,0.59483083333333331,0.41785541666666665,0.35126916666666658,1.9281100000000002,1.5148750000000001E-2,1.8412500000000002E-3,1.9791666666666663E-4,1.3329166666666665E-3,3.5562916666666673E-2,1.9429166666666668E-3,7.2512499999999999E-3,1.0695833333333332E-3,8.7916666666666644E-5,0.54649333333333339,1.2635E-2,1.8666666666666666E-3,4.9467083333333335E-2,-2.3750000000000008E-5,4.2791666666666656E-4,3.5344999999999994E-2,2.3399583333333335E-2,3.3583333333333333E-4,1.6411808333333326,0.60705374999999995,2.5695833333333334E-3,1.0666666666666668E-4,5.2995833333333332E-3,1.8916666666666669E-4,71.835490833333324]
[{"$f":"A412","v":"JARI1"},{"$f":"B412+1","v":2018},{"$f":"C399","v":14.209834922183795},{"$f":"Tracking!DQ42","v":23.737925110605545},{"$f":"Tracking!DV42","v":11.380764550909902},{"$f":"Tracking!DW42","v":20.631374538571869},{"$f":"G399","v":4.3893142560999996},{"$f":"H399","v":9.4668398269999994},{"$f":"Tracking!DK42","v":8.822535217391307},{"$f":"Tracking!DY42","v":9.4692960760869571},null,null,24.242183478260873,13.242183478260868,5.5900052173913028,1.105660869565217,3.5380147826086956,1.4845391304347826,0.13112304347826087,1.2258647826086955,0.16697565217391305,11,{"$f":"Tracking!DJ42","v":17.281164999999998},{"$f":"Tracking!DX42","v":17.887737250000001},null,null,58.021018749999996,47.021018749999996,20.230482916666666,9.5832537500000008,10.786632500000001,4.4611791666666676,0.30084416666666663,1.4542779166666664,0.20434875,11,8.822535217391307,1,0.23059000532704194,4.560896383598103E-2,0.14594455923417141,6.1237847315446646E-2,5.4088792618802338E-3,5.0567424494084336E-2,6.887814058648971E-3,0.45375450647274518,17.281164999999998,1,0.3486750724566805,0.16516865709118561,0.18590905041632008,7.6889018200265016E-2,5.1850893546516131E-3,2.5064673940539288E-2,3.5219779728531569E-3,0.18958646774881044,8.822535217391307,8.822535217391307,2.0343884427762764,0.40238668967166913,1.2876010136301288,0.5402730645777597,4.7720027774555862E-2,0.44613288345183483,6.0767982103273499E-2,4.0032651134058064,17.281164999999998,17.281164999999998,6.0255114585108505,2.8543068160211984,3.2127249752377458,1.3287318102067827,8.9604384677478027E-2,0.43314676603765956,6.0863882475240917E-2,3.2762750309343716,4.4596672727272724,2.4792417391304347,4.269477272727273,2.358234347826087,0.74001956521739132,0.13889608695652172,1.1723156521739129,0.14845391304347827,0.13112304347826087,2.0431069565217386,2.7425652173913042E-2,1.0871739130434783E-2,6.3043478260869573E-5,9.726086956521738E-4,8.9460869565217375E-3,0.23604826086956521,6.1309565217391296E-2,0,6.818260869565218E-3,0.11893826086956524,0.24264652173913043,0.13397956521739135,0.1489039130434783,0.65128652173913049,1.6179130434782609E-2,1.0391304347826089E-3,8.3043478260869571E-5,3.1695652173913038E-4,1.5430869565217394E-2,1.3626086956521738E-3,2.6547826086956521E-3,4.0173913043478263E-4,2.2608695652173914E-5,0.10767086956521738,5.4521739130434788E-3,1.6343478260869564E-3,2.0278695652173915E-2,9.5652173913043521E-6,8.2173913043478254E-5,2.1553478260869566E-2,1.7078695652173913E-2,1.091304347826087E-4,0.49132347826086947,0.17939869565217387,8.3173913043478251E-4,3.4347826086956519E-5,2.1939130434782614E-3,2.7043478260869568E-4,169.44512130434782,10.903622272727276,8.3144783333333354,9.8952845454545457,7.5187658333333331,2.4469966666666672,1.1200520833333332,3.1708558333333339,0.44611791666666667,0.30084416666666663,2.4237974999999996,3.3900833333333338E-2,2.7115000000000004E-2,2.1458333333333331E-4,1.9383333333333336E-3,2.0874583333333335E-2,0.72849166666666676,8.8652499999999981E-2,0,0.1179370833333333,0.40912625000000008,0.49179458333333342,0.37170208333333332,0.37102624999999995,1.7615862499999997,1.8986666666666669E-2,2.6745833333333339E-3,2.2583333333333331E-4,1.2333333333333335E-3,3.8112083333333331E-2,1.8266666666666668E-3,6.727083333333334E-3,1.1016666666666666E-3,1.2125000000000003E-4,0.86825708333333351,5.000416666666666E-3,1.4320833333333338E-3,5.5122083333333342E-2,8.7916666666666658E-5,3.6166666666666666E-4,4.464125E-2,2.7852083333333336E-2,3.9833333333333328E-4,1.6296929166666667,0.59321124999999986,1.9470833333333334E-3,1.0999999999999998E-4,6.2816666666666672E-3,4.0749999999999993E-4,72.647693750000002]
[{"$f":"A413","v":"JARI1"},{"$f":"B413+1","v":2019},{"$f":"C399","v":14.209834922183795},{"$f":"Tracking!DQ43","v":23.427684126179336},{"$f":"Tracking!DV43","v":11.178688095818909},{"$f":"Tracking!DW43","v":20.099237084714684},{"$f":"G399","v":4.3893142560999996},{"$f":"H399","v":9.4668398269999994},{"$f":"Tracking!DK43","v":8.4115809090909082},{"$f":"Tracking!DY43","v":8.9886785187747034},null,null,23.390189999999997,12.390189999999997,4.931250454545455,1.4294054545454542,3.2676331818181832,1.7417,0.1240418181818182,0.83436363636363631,6.1793636363636356E-2,11,{"$f":"Tracking!DJ43","v":16.11079391304348},{"$f":"Tracking!DX43","v":17.281382449275362},null,null,50.393744782608671,39.393744782608699,19.572904782608692,4.732799565217392,9.2178678260869553,4.074052173913044,0.28624608695652171,1.3377147826086955,0.17215913043478262,11,{"$f":"I414","v":8.4115809090909082},{"$f":"M414/M414","v":1},{"$f":"O414/M414","v":0.21082558348373637},{"$f":"P414/M414","v":6.1111322932624931E-2},{"$f":"Q414/M414","v":0.13970101062959231},{"$f":"R414/M414","v":7.4462841045754666E-2},{"$f":"S414/M414","v":5.3031556469536256E-3},{"$f":"T414/M414","v":3.5671520255441978E-2},{"$f":"U414/M414","v":2.6418612402736518E-3},{"$f":"V414/M414","v":0.47028262703295703},{"$f":"W414","v":16.11079391304348},{"$f":"AA414/AA414","v":1},{"$f":"AC414/AA414","v":0.38839949019552672},{"$f":"AD414/AA414","v":9.3916409380449997E-2},{"$f":"AE414/AA414","v":0.18291690498198743},{"$f":"AF414/AA414","v":8.0844402246507296E-2},{"$f":"AG414/AA414","v":5.6801908290670979E-3},{"$f":"AH414/AA414","v":2.6545254542590626E-2},{"$f":"AI414/AA414","v":3.4162797620508698E-3},{"$f":"AJ414/AA414","v":0.21828105943411052},{"$f":"I414","v":8.4115809090909082},{"$f":"BE414","v":8.4115809090909082},{"$f":"BE414*AM414","v":1.7733764531797482},{"$f":"BE414*AN414","v":0.51404283730935729},{"$f":"BE414*AO414","v":1.1751063539925848},{"$f":"BE414*AP414","v":0.62635021217714082},{"$f":"BE414*AQ414","v":4.4607922797852764E-2},{"$f":"BE414*AR414","v":0.30005387877892536},{"$f":"BE414*AS414","v":2.2222229573153077E-2},{"$f":"BE414*AT414","v":3.9558203674275414},{"$f":"W414","v":16.11079391304348},{"$f":"BO414","v":16.11079391304348},{"$f":"BO414*AW414","v":6.2574241424712831},{"$f":"BO414*AX414","v":1.5130679165814533},{"$f":"BO414*AY414","v":2.9469365593765557},{"$f":"BO414*AZ414","v":1.3024675036166684},{"$f":"BO414*BA414","v":9.1512383833859595E-2},{"$f":"BO414*BB414","v":0.42766512530495887},{"$f":"BO414*BC414","v":5.5038979195702782E-2},{"$f":"BO414*BD414","v":3.5166811636637498},3.5323550000000008,2.1417490909090908,3.5728459090909097,2.2578495454545457,0.67585136363636367,0.18401545454545454,1.0887354545454544,0.17416999999999999,0.1240418181818182,1.3906059090909086,1.1034545454545451E-2,7.5836363636363627E-3,4.4090909090909091E-5,7.2727272727272734E-4,1.071681818181818E-2,0.26159136363636359,7.0036818181818186E-2,0,9.5527272727272718E-3,0.11124999999999999,0.20171227272727271,0.12487999999999998,0.15745818181818183,0.60485318181818171,8.225909090909091E-3,5.2681818181818168E-4,1.0863636363636365E-4,4.5363636363636374E-4,1.6577727272727272E-2,7.9227272727272751E-4,2.0218181818181819E-3,5.0954545454545447E-4,6.5454545454545464E-5,0.14264818181818181,1.8704545454545452E-3,1.1604545454545452E-3,1.9305909090909092E-2,2.1363636363636362E-5,6.0909090909090913E-5,1.9449090909090909E-2,1.4480454545454546E-2,1.1045454545454545E-4,0.43379590909090909,0.16384272727272725,6.9227272727272725E-4,3.7272727272727276E-5,3.1318181818181818E-3,1.7045454545454544E-4,178.11196227272728,8.946968260869566,6.7174426086956514,8.33505608695652,6.3184065217391296,2.2429243478260865,0.56455391304347835,2.7905708695652178,0.40740521739130431,0.28624608695652171,2.2295256521739133,2.6706521739130434E-2,2.1843043478260875E-2,1.1760869565217394E-3,2.6773913043478263E-3,2.1981739130434778E-2,0.64908521739130431,9.8246521739130468E-2,0,0.13201391304347826,0.38787782608695648,0.40184347826086964,0.28865521739130434,0.33992652173913046,1.5503169565217392,1.5549565217391304E-2,1.4478260869565218E-3,1.7086956521739132E-4,9.9869565217391315E-4,3.5942608695652176E-2,7.2260869565217382E-3,5.6973913043478243E-3,1.1778260869565217E-3,1.0869565217391302E-4,0.437638695652174,4.577826086956522E-3,1.5260869565217391E-3,3.9558260869565216E-2,8.3043478260869571E-5,3.6869565217391301E-4,4.4936521739130438E-2,2.9674782608695657E-2,2.9826086956521742E-4,1.4754626086956522,0.5437391304347825,1.7978260869565216E-3,1.2695652173913045E-4,4.7182608695652177E-3,4.799999999999999E-4,80.20057391304347]
["JARI1",2020,{"$f":"C399","v":14.209834922183795},{"$f":"Tracking!DQ44","v":23.117443141753128},{"$f":"Tracking!DV44","v":10.976611640727917},{"$f":"Tracking!DW44","v":19.567099630857498},{"$f":"G399","v":4.3893142560999996},{"$f":"H399","v":9.4668398269999994},{"$f":"Tracking!DK44","v":7.4143565217391298},{"$f":"Tracking!DY44","v":8.5188527796442681},null,null,21.118934347826087,10.118934347826087,4.0922882608695659,1.1485556521739131,2.6895134782608698,1.2075130434782608,0.10308086956521743,0.76699782608695666,0.11098521739130435,11,{"$f":"Tracking!DJ44","v":15.075508333333332},{"$f":"Tracking!DX44","v":16.602300449275365},null,null,45.956449999999997,34.956449999999997,14.254265000000002,6.1919100000000009,9.1767620833333332,3.8107958333333332,0.18371458333333332,1.2282287500000002,0.11077375000000002,11,{"$f":"I415","v":7.4143565217391298},{"$f":"M415/M415","v":1},{"$f":"O415/M415","v":0.19377342594423153},{"$f":"P415/M415","v":5.4385114005155361E-2},{"$f":"Q415/M415","v":0.12735081391726186},{"$f":"R415/M415","v":5.7176798014079634E-2},{"$f":"S415/M415","v":4.8809692699209621E-3},{"$f":"T415/M415","v":3.6318017446079556E-2},{"$f":"U415/M415","v":5.2552470481413661E-3},{"$f":"V415/M415","v":0.52085961435512973},{"$f":"W415","v":15.075508333333332},{"$f":"AA415/AA415","v":1},{"$f":"AC415/AA415","v":0.3101689751928185},{"$f":"AD415/AA415","v":0.13473429736195902},{"$f":"AE415/AA415","v":0.19968387643809157},{"$f":"AF415/AA415","v":8.2921893082109982E-2},{"$f":"AG415/AA415","v":3.997579955225726E-3},{"$f":"AH415/AA415","v":2.6725927481343757E-2},{"$f":"AI415/AA415","v":2.4104070266524075E-3},{"$f":"AJ415/AA415","v":0.23935704346179917},{"$f":"I415","v":7.4143565217391298},{"$f":"BE415","v":7.4143565217391298},{"$f":"BE415*AM415","v":1.4367052643893474},{"$f":"BE415*AN415","v":0.40323062470964971},{"$f":"BE415*AO415","v":0.94422433771623682},{"$f":"BE415*AP415","v":0.42392916524785229},{"$f":"BE415*AQ415","v":3.6189246338846764E-2},{"$f":"BE415*AR415","v":0.26927472950797543},{"$f":"BE415*AS415","v":3.8964275224737249E-2},{"$f":"BE415*AT415","v":3.8618388786044844},{"$f":"W415","v":15.075508333333332},{"$f":"BO415","v":15.075508333333332},{"$f":"BO415*AW415","v":4.6759549702607943},{"$f":"BO415*AX415","v":2.0311880226660244},{"$f":"BO415*AY415","v":3.010335943274753},{"$f":"BO415*AZ415","v":1.2500896901751246},{"$f":"BO415*BA415","v":6.0265549928171722E-2},{"$f":"BO415*BB415","v":0.40290694246106012},{"$f":"BO415*BC415","v":3.6338111217023586E-2},{"$f":"BO415*BD415","v":3.6084291033503817},2.9562913043478254,1.6779617391304347,3.0914004347826087,1.8828847826086956,0.58411304347826087,0.14980739130434786,0.90595739130434805,0.12075130434782608,0.10308086956521743,1.2783295652173914,1.9178260869565218E-2,7.8273913043478277E-3,6.8260869565217385E-5,1.0865217391304346E-3,8.6226086956521716E-3,0.19342260869565217,5.4409565217391306E-2,0,5.173478260869566E-3,9.3356521739130421E-2,0.17319999999999999,0.10449869565217393,0.12708086956521739,0.50330956521739123,1.205217391304348E-2,1.3099999999999997E-3,8.6086956521739136E-5,3.3913043478260867E-4,1.1889565217391306E-2,2.1239130434782612E-3,2.447826086956522E-3,6.0086956521739131E-4,4.6521739130434792E-5,0.11612913043478261,1.6299999999999997E-3,1.0782608695652173E-3,1.597217391304348E-2,-6.956521739130435E-6,6.4347826086956516E-5,1.6855652173913039E-2,1.9511304347826091E-2,1.1999999999999999E-4,0.37220434782608691,0.14160304347826086,5.4739130434782607E-4,4.130434782608696E-5,2.4178260869565219E-3,3.6043478260869565E-4,197.03062478260867,7.4511420833333339,5.4040945833333334,7.7293804166666673,5.8798087499999996,1.7926570833333335,0.76116666666666666,2.7434287500000001,0.3810795833333333,0.18371458333333332,2.0470475000000001,1.7762083333333331E-2,1.3268749999999996E-2,3.2291666666666672E-4,1.6274999999999998E-3,1.6172916666666669E-2,0.59060875000000002,8.563833333333333E-2,1.3625000000000001E-4,8.190041666666667E-2,0.31912291666666665,0.44285250000000009,0.38494749999999994,0.29530374999999998,1.5241270833333334,1.1034583333333332E-2,1.619166666666667E-3,1.7333333333333331E-4,8.0041666666666683E-4,2.7026666666666668E-2,1.2845833333333333E-3,2.8554166666666671E-3,8.941666666666667E-4,7.7083333333333341E-5,0.59005249999999998,7.3908333333333335E-3,9.8874999999999983E-4,4.6195416666666662E-2,5.1250000000000006E-5,3.6458333333333335E-4,2.4356249999999996E-2,3.5401666666666672E-2,1.3666666666666666E-4,1.1586037499999999,0.43458375000000005,1.0874999999999999E-3,7.1666666666666669E-5,5.6979166666666671E-3,2.9875000000000002E-4,90.270980000000009]
["JARI1",2021,{"$f":"C399","v":14.209834922183795},{"$f":"Tracking!DQ45","v":22.80720215732692},{"$f":"Tracking!DV45","v":10.774535185636925},{"$f":"Tracking!DW45","v":19.034962177000313},{"$f":"G399","v":4.3893142560999996},{"$f":"H399","v":9.4668398269999994},{"$f":"Tracking!DK45","v":9.3374769565217388},{"$f":"Tracking!DY45","v":8.4727439209486164},null,null,25.588611304347829,14.588611304347827,5.705088260869565,1.6299752173913042,3.915825217391304,2.0071565217391303,0.20477304347826089,1.0352821739130433,9.0507391304347817E-2,11,{"$f":"Tracking!DJ45","v":16.629330416666669},{"$f":"Tracking!DX45","v":16.472014782608699},null,null,54.098882083333329,43.098882083333329,17.760896249999998,9.0596249999999987,10.294557083333332,4.2534208333333332,0.27963416666666668,1.2986570833333331,0.15209041666666667,11,9.3374769565217388,1,0.22295419602939526,6.3699244871266256E-2,0.15303000115234686,7.8439447059719447E-2,8.0025070935939129E-3,4.0458708821652069E-2,3.5370184895094116E-3,0.4298787405524801,16.629330416666669,1,0.32830431177193842,0.16746418134934196,0.1902914937775555,7.8623081837096195E-2,5.1689453810879358E-3,2.4005248044366163E-2,2.8113412109401492E-3,0.20333137352183581,9.3374769565217388,9.3374769565217388,2.0818296677843087,0.59479023113328422,1.4289141094165339,0.73242652940243724,7.4723225580834912E-2,0.37778226131279896,3.3026828640585461E-2,4.0139828340073702,16.629330416666669,16.629330416666669,5.4594808776719121,2.7848172046147952,3.1644201255080397,1.3074492062456964,8.5956100647814296E-2,0.39919120146380632,4.6750721910715526E-2,3.3812645943692758,4.1791091304347816,2.4536382608695657,4.3052791304347817,2.7178543478260861,0.79106565217391289,0.21445434782608697,1.2910573913043479,0.20071565217391313,0.20477304347826089,1.7254708695652172,1.5789565217391305E-2,1.4198260869565223E-2,1.4782608695652173E-5,8.7391304347826085E-4,1.4628695652173914E-2,0.28893695652173906,8.0603043478260861E-2,0,1.070608695652174E-2,0.12602478260869568,0.24558782608695651,0.16611086956521739,0.16882434782608699,0.71725391304347819,9.3526086956521731E-3,5.8956521739130419E-4,7.2173913043478268E-5,7.0652173913043491E-4,2.3506086956521743E-2,7.2913043478260871E-4,5.1617391304347813E-3,6.1434782608695666E-4,4.0434782608695655E-5,0.16624304347826091,7.192173913043479E-3,1.3086956521739131E-3,2.5863478260869568E-2,2.434782608695652E-5,1.4217391304347825E-4,3.6381739130434777E-2,1.3678260869565218E-2,1.5434782608695654E-4,0.47416173913043486,0.19177347826086955,1.1430434782608695E-3,2.6521739130434787E-5,2.9034782608695657E-3,6.1739130434782603E-5,161.11039739130433,8.8245045833333311,6.6719199999999992,8.9639174999999973,7.0725683333333329,2.1962379166666666,1.1121825000000001,3.0335029166666665,0.4253420833333334,0.27963416666666668,2.1644299999999999,2.5667083333333337E-2,2.0069166666666666E-2,1.8958333333333335E-4,1.7866666666666667E-3,2.1275000000000002E-2,0.68972458333333353,0.11808999999999997,1.775E-4,8.3201666666666674E-2,0.36332625000000002,0.48039291666666672,0.37570916666666659,0.38264999999999993,1.6852800000000003,1.4826250000000001E-2,1.3366666666666668E-3,1.7500000000000003E-4,1.2329166666666667E-3,3.2915833333333332E-2,1.8775E-3,5.6379166666666661E-3,1.0674999999999999E-3,9.0833333333333323E-5,0.8621570833333333,7.9179166666666686E-3,1.2449999999999996E-3,5.5996666666666667E-2,5.3750000000000005E-5,3.7208333333333326E-4,4.7390416666666678E-2,2.4021666666666667E-2,3.9833333333333338E-4,1.4065287500000003,0.53242124999999996,1.6216666666666664E-3,3.7500000000000003E-5,6.0579166666666654E-3,5.4499999999999991E-4,77.577868333333342]
["JARI1",2022,{"$f":"C399","v":14.209834922183795},{"$f":"Tracking!DQ46","v":22.496961172900711},{"$f":"Tracking!DV46","v":10.572458730545932},{"$f":"Tracking!DW46","v":18.502824723143128},{"$f":"G399","v":4.3893142560999996},{"$f":"H399","v":9.4668398269999994}]
["JARI1",2023,{"$f":"C399","v":14.209834922183795},{"$f":"Tracking!DQ47","v":22.186720188474503},{"$f":"Tracking!DV47","v":10.37038227545494},{"$f":"Tracking!DW47","v":17.970687269285943},{"$f":"G399","v":4.3893142560999996},{"$f":"H399","v":9.4668398269999994}]
["JARI1",2024,{"$f":"C399","v":14.209834922183795},{"$f":"Tracking!DQ48","v":21.876479204048294},{"$f":"Tracking!DV48","v":10.168305820363948},{"$f":"Tracking!DW48","v":17.438549815428757},{"$f":"G399","v":4.3893142560999996},{"$f":"H399","v":9.4668398269999994}]
["JARI1",2025,{"$f":"C399","v":14.209834922183795},{"$f":"Tracking!DQ49","v":21.566238219622086},{"$f":"Tracking!DV49","v":9.9662293652729552},{"$f":"Tracking!DW49","v":16.906412361571572},{"$f":"G399","v":4.3893142560999996},{"$f":"H399","v":9.4668398269999994}]
["JARI1",2026,{"$f":"C399","v":14.209834922183795},{"$f":"Tracking!DQ50","v":21.255997235195878},{"$f":"Tracking!DV50","v":9.7641529101819629},{"$f":"Tracking!DW50","v":16.374274907714387},{"$f":"G399","v":4.3893142560999996},{"$f":"H399","v":9.4668398269999994}]
["JARI1",2027,{"$f":"C399","v":14.209834922183795},{"$f":"Tracking!DQ51","v":20.945756250769669},{"$f":"Tracking!DV51","v":9.5620764550909705},{"$f":"Tracking!DW51","v":15.842137453857202},{"$f":"G399","v":4.3893142560999996},{"$f":"H399","v":9.4668398269999994}]
[{"$f":"A422","v":"JARI1"},2028,{"$f":"C399","v":14.209834922183795},{"$f":"Tracking!DQ52","v":20.635515266343461},{"$f":"Tracking!DV52","v":9.36},{"$f":"Tracking!DW52","v":15.31},{"$f":"G399","v":4.3893142560999996},{"$f":"H399","v":9.4668398269999994},null,null,9.4499999999999993,{"$f":"E423","v":9.36},null,{"$f":"IF(M423=\"\",\"\",M423-V423)","v":""},null,null,null,null,null,null,null,null,null,null,15.48,{"$f":"F423","v":15.31},null,{"$f":"IF(AA423=\"\",\"\",AA423-AJ423)","v":""}]
[null,"5-yr period"]
["JARI1","2000-04",null,null,null,null,null,null,null,{"$f":"IF(J399=\"\",\"\",J399)","v":14.209834922183795},null,null,{"$f":"IF(COUNT(M395:M399)<3,\"\",AVERAGE(M395:M399))","v":42.296162960309616},{"$f":"IF(COUNT(N395:N399)<3,\"\",AVERAGE(N395:N399))","v":31.296162960309616},17.475758014657444,3.7345900086462454,5.5603894021739135,2.9687587285902506,0.24519698863636363,1.2343169911067193,7.7154004446640306E-2,11,null,{"$f":"IF(X399=\"\",\"\",X399)","v":28.081298892572462},null,null,{"$f":"IF(COUNT(AA395:AA399)<3,\"\",AVERAGE(AA395:AA399))","v":173.31248794836955},{"$f":"IF(COUNT(AB395:AB399)<3,\"\",AVERAGE(AB395:AB399))","v":162.31248794836955},131.83473698605073,4.949269592572465,15.508154852536231,6.2458073731884056,0.80280499619565227,2.7231960902173915,0.2485164277173913,11,{"$f":"J425","v":14.209834922183795},{"$f":"M425/M425","v":1},{"$f":"O425/M425","v":0.41317596660142808},{"$f":"P425/M425","v":8.8296189234724556E-2},{"$f":"Q425/M425","v":0.13146321115207871},{"$f":"R425/M425","v":7.0189788406482878E-2},{"$f":"S425/M425","v":5.7971449766366411E-3},{"$f":"T425/M425","v":2.9182717880697418E-2},{"$f":"U425/M425","v":1.8241372041014928E-3},{"$f":"V425/M425","v":0.26007087239384608},{"$f":"X425","v":28.081298892572462},{"$f":"AA425/AA425","v":1},{"$f":"AC425/AA425","v":0.76067650142628385},{"$f":"AD425/AA425","v":2.8556912725451564E-2},{"$f":"AE425/AA425","v":8.9480885284828227E-2},{"$f":"AF425/AA425","v":3.6037838052668518E-2},{"$f":"AG425/AA425","v":4.6321243535250092E-3},{"$f":"AH425/AA425","v":1.5712636304826701E-2},{"$f":"AI425/AA425","v":1.4339210674272087E-3},{"$f":"AJ425/AA425","v":6.3469171380639011E-2},{"$f":"J425","v":14.209834922183795},{"$f":"BE425","v":14.209834922183795},{"$f":"BE425*AM425","v":5.8711622792200178},{"$f":"BE425*AN425","v":1.2546742732833378},{"$f":"BE425*AO425","v":1.86807052881123},{"$f":"BE425*AP425","v":0.99738530647913171},{"$f":"BE425*AQ425","v":8.2376473137973708E-2},{"$f":"BE425*AR425","v":0.41468160366537166},{"$f":"BE425*AS425","v":2.5920688545696104E-2},{"$f":"BE425*AT425","v":3.6955641647848796},{"$f":"X425","v":28.081298892572462},{"$f":"BO425","v":28.081298892572462},{"$f":"BO425*AW425","v":21.360784197107801},{"$f":"BO425*AX425","v":0.8019152016925114},{"$f":"BO425*AY425","v":2.5127394848552504},{"$f":"BO425*AZ425","v":1.0119893017991062},{"$f":"BO425*BA425","v":0.13007606847889977},{"$f":"BO425*BB425","v":0.44123123646612389},{"$f":"BO425*BC425","v":4.0266366082779996E-2},{"$f":"BO425*BD425","v":1.78229677200363},{"$f":"IF(COUNT(BY395:BY399)<3,\"\",AVERAGE(BY395:BY399))","v":6.588652276844531},{"$f":"IF(COUNT(BZ395:BZ399)<3,\"\",AVERAGE(BZ395:BZ399))","v":4.5314572916666664},6.9585718214756254,5.0198733296277993,2.2321577268610016,0.46950495841567857,1.7630203903162054,0.29687587285902506,0.24519698863636363,2.0571949851778655,1.31167444828722E-2,6.0908230401844534E-3,3.1438405797101451E-4,1.5656867588932806E-3,2.0120869976943345E-2,0.35964843544137015,8.2331521739130442E-2,5.035025527009223E-3,6.7997661396574441E-2,0.16075607707509881,0.3110808959156785,0.28948202816205537,0.15013910984848483,0.97945577239789183,-5.148814640974967E-2,1.2676301054018445E-4,1.8615859683794464E-4,7.3079874835309624E-4,2.3043125823451908E-2,1.4851152832674572E-3,8.0470335144927543E-3,7.0319952239789193E-4,1.1309288537549408E-4,0.36395773221343874,1.4801852766798419E-2,6.7608695652173907E-5,3.8386980401844538E-2,1.2692728919631093E-4,7.6718997035573136E-4,5.3362986660079055E-2,5.1423729001976289E-2,1.4701292819499344E-4,1.6141504981884058,0.54112910408432147,1.6531410573122531E-3,3.3754981884057968E-4,3.589983942687747E-3,2.7073040184453228E-5,99.549265842803038,23.711775536231883,19.173115385869565,22.441872444444442,18.150725082971015,11.821402210326086,0.55890764565217388,4.3060897989130442,0.62458073731884045,0.80280499619565227,4.5386601503623183,3.6938761231884054E-2,2.8574245652173914E-2,5.9008115942028991E-4,3.0692742753623192E-3,3.4407299456521739E-2,0.67459637318840582,{"$f":"IF(COUNT(EL395:EL399)<3,\"\",AVERAGE(EL395:EL399))","v":0.10827842028985507},6.2723242753623199E-3,0.20507467572463767,0.5642558605072463,0.68813893115942015,0.77023626268115941,0.16456638043478261,2.3922721105072466,-0.22280535869565216,0,3.0238442028985511E-4,1.2037480072463768E-3,4.3793783152173922E-2,5.0291369565217386E-3,2.1541183333333332E-2,1.1429528985507247E-3,2.7260525362318841E-4,0.43326142934782613,2.6905445652173919E-2,0,6.6816441304347829E-2,1.823514492753623E-4,1.5558257246376811E-3,0.22140743496376811,0.19723207264492754,3.006463768115942E-4,9.1522547753623194,2.8657944724637678,7.5553739130434783E-3,6.1054583333333343E-4,6.7224070652173919E-3,2.7778804347826087E-5,24.76882568224638]
["JARI1","2001-05",null,null,null,null,null,null,null,14.35174402108037,null,null,{"$f":"IF(COUNT(M396:M400)<3,\"\",AVERAGE(M396:M400))","v":42.941172868247698},31.941172868247691,17.976755661725953,3.8438846735836636,5.5008369384057971,3.0203153162055338,0.24254259090909089,1.2725980928853755,8.4240453557312245E-2,11,null,28.529723194057972,null,null,{"$f":"IF(COUNT(AA396:AA400)<3,\"\",AVERAGE(AA396:AA400))","v":181.85944275869562},170.85944275869562,140.36993350884057,4.7188653540579724,15.255937482028987,6.6555498985507242,0.73857775695652184,2.8823789521739132,0.23819866217391303,11,{"$f":"J426","v":14.35174402108037},{"$f":"M426/M426","v":1},{"$f":"O426/M426","v":0.41863681080352222},{"$f":"P426/M426","v":8.9515130044945171E-2},{"$f":"Q426/M426","v":0.12810169287372494},{"$f":"R426/M426","v":7.0336116003921909E-2},{"$f":"S426/M426","v":5.6482525908936199E-3},{"$f":"T426/M426","v":2.9635848484855475E-2},{"$f":"U426/M426","v":1.9617641515237414E-3},{"$f":"V426/M426","v":0.25616440505130705},{"$f":"X426","v":28.529723194057972},{"$f":"AA426/AA426","v":1},{"$f":"AC426/AA426","v":0.77185947223589402},{"$f":"AD426/AA426","v":2.5947870962737454E-2},{"$f":"AE426/AA426","v":8.3888618872937373E-2},{"$f":"AF426/AA426","v":3.65972192457545E-2},{"$f":"AG426/AA426","v":4.0612560214237578E-3},{"$f":"AH426/AA426","v":1.5849487430787214E-2},{"$f":"AI426/AA426","v":1.3097954033103047E-3},{"$f":"AJ426/AA426","v":6.0486273537061271E-2},{"$f":"J426","v":14.35174402108037},{"$f":"BE426","v":14.35174402108037},{"$f":"BE426*AM426","v":6.008168346453604},{"$f":"BE426*AN426","v":1.2846982324187737},{"$f":"BE426*AO426","v":1.8384827047907557},{"$f":"BE426*AP426","v":1.0094459323253016},{"$f":"BE426*AQ426","v":8.1062275350909221E-2},{"$f":"BE426*AR426","v":0.4253261113021683},{"$f":"BE426*AS426","v":2.815473693240066E-2},{"$f":"BE426*AT426","v":3.6764059686087061},{"$f":"X426","v":28.529723194057972},{"$f":"BO426","v":28.529723194057972},{"$f":"BO426*AW426","v":22.02093708760173},{"$f":"BO426*AX426","v":0.74028557604203404},{"$f":"BO426*AY426","v":2.3933190755767306},{"$f":"BO426*AZ426","v":1.044108534753627},{"$f":"BO426*BA426","v":0.11586651011142099},{"$f":"BO426*BB426","v":0.45218148916806028},{"$f":"BO426*BC426","v":3.7368100297292518E-2},{"$f":"BO426*BD426","v":1.7256566410524319},{"$f":"IF(COUNT(BY396:BY400)<3,\"\",AVERAGE(BY396:BY400))","v":6.6641826548089584},4.5431858333333333,7.0777512071805004,5.0977365803689061,2.3107732648221346,0.48607205006587623,1.7419463122529641,0.30203153162055341,0.24254259090909089,2.1209968214756256,1.4370312252964427E-2,7.37307509881423E-3,3.0000724637681161E-4,1.5738827404479579E-3,1.9582279314888009E-2,0.39468624835309613,8.5356884057971011E-2,4.2313537549407117E-3,6.193062911725955E-2,0.16966069499341238,0.28957888339920945,0.26926895586297761,0.18154295454545455,0.97198211791831357,-3.8577183794466403E-2,1.0141040843214757E-4,1.6559354413702237E-4,8.118056653491437E-4,2.3765333992094861E-2,1.6191755599472991E-3,6.9739601449275365E-3,6.866429512516469E-4,1.1614097496706194E-4,0.37680035243741766,1.4484815546772067E-2,5.4086956521739124E-5,3.8351334321475625E-2,1.1754183135704875E-4,7.6916864295125168E-4,5.1403972661396582E-2,4.5037899868247702E-2,1.5052700922266144E-4,1.6329303985507244,0.56018744993412384,1.5564295125164692E-3,3.2453985507246378E-4,3.8585704874835314E-3,2.4491765480895914E-5,98.194782590909099,24.260821228985506,19.456856308695652,23.294432355555553,18.625853826376812,12.397512088260868,0.53257979652173915,4.256010879130435,0.66555498985507233,0.73857775695652184,4.8039649202898547,3.5617408985507241E-2,2.8212356521739129E-2,5.8390492753623185E-4,3.0491794202898554E-3,3.3347359565217394E-2,{"$f":"IF(COUNT(EK396:EK400)<3,\"\",AVERAGE(EK396:EK400))","v":0.80668109855072456},0.12007153623188405,5.8514594202898566E-3,0.20971254057971014,0.59425028840579697,0.60540954492753607,0.70853541014492749,0.26292030434782609,2.3808280884057971,-0.17459548695652172,0,2.604675362318841E-4,1.2015584057971014E-3,4.4137746521739143E-2,4.900669565217391E-3,1.7586306666666666E-2,1.1598023188405799E-3,3.0024420289855074E-4,0.41285234347826094,2.5823556521739132E-2,0,6.4922273043478265E-2,1.7476115942028982E-4,1.5829005797101448E-3,0.19761874797101447,0.16484157811594202,3.1475710144927534E-4,9.4810070202898551,3.0054574979710145,6.7884591304347821E-3,6.5251666666666665E-4,6.7780856521739135E-3,3.2863043478260868E-5,23.747741185797103]
["JARI1","2002-06",null,null,null,null,null,null,null,14.393968702898547,null,null,{"$f":"IF(COUNT(M397:M401)<3,\"\",AVERAGE(M397:M401))","v":43.308733648550728},32.308733648550721,17.995540942028988,3.8914250144927536,5.5407859384057971,3.1403297101449277,0.25079299999999999,1.3852203731884056,0.10463960507246375,11,null,28.500803176666672,null,null,{"$f":"IF(COUNT(AA397:AA401)<3,\"\",AVERAGE(AA397:AA401))","v":180.92666238999999},169.92666238999999,140.80925713666664,3.8607482966666673,14.904428153333333,6.6622163333333333,0.69935902999999999,2.7930453800000001,0.19760692999999999,11,14.393968702898547,1,0.4155175971678679,8.985312399276249E-2,0.12793691876029287,7.2510310175047443E-2,5.7908181300145786E-3,3.1984781278285197E-2,2.4161317188724908E-3,0.25399034036101631,28.500803176666672,1,0.77826703525399976,2.1338747123652545E-2,8.2378284971652227E-2,3.6822744891919043E-2,3.8654282390534738E-3,1.5437444891231104E-2,1.0921935296305002E-3,6.0798114853236697E-2,14.393968702898547,14.393968702898547,5.9809472891378963,1.293343054609486,1.8415200045809295,1.0437111352970989,8.3352854927607342E-2,0.46038794068869254,3.4777724343531102E-2,3.6559290099950186,28.500803176666672,28.500803176666672,22.181235590662148,0.60817143180788324,2.3478472860084181,1.0494778045891928,0.1101678094347923,0.43997957839561613,3.1128392818827746E-2,1.7327951049444736,{"$f":"IF(COUNT(BY397:BY401)<3,\"\",AVERAGE(BY397:BY401))","v":6.8615677536231869},4.520693333333333,7.3198181557971012,5.1528448152173913,2.3277888405797098,0.49445106521739135,1.7480011304347827,0.31403297101449279,0.25079299999999999,2.3087005942028984,1.7777297101449274E-2,9.5495144927536246E-3,2.9809057971014495E-4,1.6656630434782611E-3,2.0400438405797104E-2,0.44142586956521734,8.3604384057971007E-2,3.1543840579710144E-3,5.1076159420289848E-2,0.18081054347826087,0.27953456521739123,0.25374213768115944,0.21333249999999998,0.97849590579710133,-2.0366123188405791E-2,6.2137681159420282E-5,8.5608695652173911E-5,8.2994202898550721E-4,2.4491652173913046E-2,1.6784710144927537E-3,7.6794601449275369E-3,7.065217391304348E-4,1.1114855072463767E-4,0.38329557971014494,1.2069057971014494E-2,5.4086956521739124E-5,3.7870144927536237E-2,1.0891304347826086E-4,7.8445652173913041E-4,5.2172434782608704E-2,4.8169119565217397E-2,1.6940579710144929E-4,1.5933078985507247,0.56431243478260873,1.2786340579710146E-3,2.2320652173913046E-4,4.0488659420289856E-3,3.2931159420289856E-5,98.381113166666665,23.333958133333333,18.6788825,22.807487706666667,18.411213593333333,12.409841009999997,0.43279395999999998,4.1730558599999998,0.66622163333333329,0.69935902999999999,4.6550756333333334,2.9940873333333333E-2,3.3227240000000005E-2,5.1466666666666664E-4,2.8619933333333333E-3,3.0300329999999997E-2,{"$f":"IF(COUNT(EK397:EK401)<3,\"\",AVERAGE(EK397:EK401))","v":0.87567233333333339},0.12077386666666667,5.6140333333333349E-3,0.19734516666666665,0.61414336666666658,0.54648606666666666,0.65772316666666664,0.32996420000000004,2.3456619666666665,-9.7522999999999985E-2,0,1.0156666666666669E-4,1.3099166666666669E-3,4.2696470000000007E-2,4.5845999999999994E-3,2.0171986666666662E-2,1.111026666666667E-3,3.111833333333333E-4,0.33549930000000006,2.2109400000000001E-2,0,6.6901400000000014E-2,1.7337333333333332E-4,1.4897666666666668E-3,0.18395567666666671,0.17683882333333331,3.1458666666666664E-4,8.9465545333333321,3.0084463466666667,3.27232E-3,7.8419666666666667E-4,6.5620300000000008E-3,3.4150000000000003E-5,23.772459046666665]
["JARI1","2003-07",null,null,null,null,null,null,null,14.019767833333333,null,null,{"$f":"IF(COUNT(M398:M402)<3,\"\",AVERAGE(M398:M402))","v":41.737415822463767},30.737415822463767,17.230506768115944,3.5468097101449274,5.160237416666666,2.9925210144927532,0.24818413043478263,1.4148327210144926,0.14432377898550725,11,null,28.216665760000001,null,null,{"$f":"IF(COUNT(AA398:AA402)<3,\"\",AVERAGE(AA398:AA402))","v":176.3699002233333},165.3699002233333,136.30669372,3.7786600466666669,14.904932236666667,6.7851746666666672,0.64087028000000001,2.7272125466666663,0.22635618000000002,11,14.019767833333333,1,0.41283118344960401,8.4979140185195076E-2,0.12363576697264858,7.1698761303811462E-2,5.9463223954849126E-3,3.3898426463025204E-2,3.4578992527809975E-3,0.26355249320633833,28.216665760000001,1,0.77284555668171184,2.142463108433941E-2,8.4509500871707027E-2,3.8471273488700455E-2,3.6336715005705631E-3,1.5463027099370457E-2,1.2834172935028607E-3,6.2368918880551294E-2,14.019767833333333,14.019767833333333,5.7877973463236909,1.191387816072722,1.7333447488526341,1.0051999874170205,8.3366059446848981E-2,0.47524806892693616,4.8478944715046393E-2,3.6949447666490238,28.216665760000001,28.216665760000001,21.807124756988998,0.60453165433811151,2.3845763396413862,1.0855310653922099,0.10253009421323724,0.43631506730075853,3.6213756801374043E-2,1.7598429378650693,{"$f":"IF(COUNT(BY398:BY402)<3,\"\",AVERAGE(BY398:BY402))","v":6.7206590579710141},4.3294733333333344,7.1145776340579712,4.8884096847826095,2.2239990144927537,0.4516971521739131,1.6408447826086956,0.29925210144927539,0.24818413043478263,2.3580545072463766,2.4432253623188405E-2,1.1395079710144928E-2,2.7261231884057974E-4,1.6280978260869567E-3,1.933478623188406E-2,0.44758673913043479,8.1154818840579707E-2,2.1517753623188406E-3,4.4130942028985508E-2,0.18289054347826086,0.25174065217391295,0.21952648550724638,0.23020032608695651,0.9284889492753623,5.3356159420289836E-3,4.9268115942028984E-5,8.4391304347826074E-5,8.3950724637681172E-4,2.4193565217391307E-2,1.6229057971014493E-3,7.388329710144928E-3,7.1478260869565211E-4,1.0845289855072463E-4,0.35023557971014496,1.0496884057971013E-2,5.4086956521739124E-5,3.6413971014492751E-2,9.6217391304347815E-5,7.6689130434782625E-4,5.1230347826086965E-2,4.1697902173913046E-2,1.6253623188405798E-4,1.4824148550724641,0.53937156521739138,1.2681123188405796E-3,2.2885869565217391E-4,4.1103442028985514E-3,3.9539855072463771E-5,102.27376942753624,22.834869908695648,18.30500416666667,22.28562647478261,18.067729759999999,12.100783509999998,0.42911337666666671,4.1840028599999997,0.67851746666666668,0.64087028000000001,4.5453542166666665,3.4441373333333337E-2,3.1153239999999999E-2,5.7658333333333335E-4,2.9117433333333336E-3,2.9672246666666669E-2,{"$f":"IF(COUNT(EK398:EK402)<3,\"\",AVERAGE(EK398:EK402))","v":1.0161640000000001},0.12154719999999999,5.0115333333333335E-3,0.18066683333333333,0.64629753333333317,0.49129273333333334,0.59502066666666664,0.45563670000000001,2.3689144666666664,-3.4439666666666667E-2,0,1.0048333333333335E-4,1.3566666666666668E-3,4.295322E-2,5.0614333333333329E-3,2.0542486666666668E-2,1.1193600000000002E-3,2.7860000000000005E-4,0.33276013333333337,1.9168566666666671E-2,0,6.6834483333333333E-2,1.6745666666666666E-4,1.4585166666666667E-3,0.16364634333333333,0.15411090666666666,3.1917000000000002E-4,8.578221199999998,2.9345305966666664,3.1373199999999999E-3,7.2294666666666656E-4,6.6631133333333332E-3,3.156666666666667E-5,24.487973046666671]
["JARI1","2004-08",null,null,null,null,null,null,null,14.079647731884057,null,null,{"$f":"IF(COUNT(M399:M403)<3,\"\",AVERAGE(M399:M403))","v":41.919705815217391},30.919705815217391,17.473575876811598,3.3888421811594207,5.193676391304348,3.0391152173913039,0.23534146014492757,1.4299202644927536,0.15923422826086958,11,null,27.497587759999998,null,null,{"$f":"IF(COUNT(AA399:AA403)<3,\"\",AVERAGE(AA399:AA403))","v":166.30926638999998},155.30926639,126.89540605333335,3.6238022966666676,14.55367807,6.6437913333333345,0.67535136333333345,2.6441915466666663,0.27304551333333332,11,14.079647731884057,1,0.41683441085763695,8.0841268211601508E-2,0.12389582155462019,7.2498486291572836E-2,5.6141009477097903E-3,3.4110932714935087E-2,3.7985530948803918E-3,0.26240642165973549,27.497587759999998,1,0.7630086332998427,2.1789539304254688E-2,8.7509724418308774E-2,3.9948413444103915E-2,4.0608162010023858E-3,1.5899243644463934E-2,1.6417937452326548E-3,6.6141834660040449E-2,14.079647731884057,14.079647731884057,5.8688816674029551,1.138216578618106,1.74440952294142,1.0207531480801708,7.9044563674990284E-2,0.48026991643228545,5.3482289466773872E-2,3.6945899795533061,27.497587759999998,27.497587759999998,20.980896855800083,0.59915976926871262,2.4063063270458604,1.0984850045520111,0.1116626498642929,0.43719084743126924,4.5145367593354004E-2,1.818740903171872,{"$f":"IF(COUNT(BY399:BY403)<3,\"\",AVERAGE(BY399:BY403))","v":6.8170290942028986},4.3992916304347833,7.1608394855072479,4.9096092427536231,2.2569812463768115,0.43347327173913042,1.652875891304348,0.3039115217391305,0.23534146014492757,2.3832004130434785,2.7025764492753623E-2,1.2136601449275362E-2,2.8480797101449276E-4,1.6504565217391304E-3,1.8543746376811592E-2,0.48413467391304349,8.091076086956521E-2,1.6273188405797102E-3,3.7385652173913042E-2,0.19548028985507246,0.23675710144927531,0.20674452898550727,0.26106949275362318,0.93743706521739123,1.8212101449275361E-2,2.9750000000000001E-5,8.0003623188405786E-5,8.5002898550724652E-4,2.3377902173913043E-2,1.8807934782608699E-3,6.8690217391304351E-3,6.9257608695652171E-4,1.1475362318840579E-4,0.33631090579710143,8.1777898550724638E-3,0,3.6750039855072469E-2,9.9028985507246367E-5,6.8926449275362337E-4,4.7148485507246381E-2,3.1972039855072465E-2,1.7568840579710145E-4,1.4869021739130435,0.54772409420289869,1.1528514492753627E-3,2.3481884057971014E-4,4.084021739130435E-3,4.8159420289855067E-5,101.611729,21.79205240869565,17.398387499999998,21.291438141449277,17.277080593333334,11.381390343333333,0.41526754333333332,4.0990908599999996,0.66437913333333332,0.67535136333333345,4.4069858833333324,4.1601123333333337E-2,3.6026573333333332E-2,5.5408333333333329E-4,2.8914933333333329E-3,3.2001996666666664E-2,{"$f":"IF(COUNT(EK399:EK403)<3,\"\",AVERAGE(EK399:EK403))","v":1.1571323333333332},0.10759303333333332,2.374866666666667E-3,0.1822935,0.65666586666666649,0.39416856666666666,0.50346066666666667,0.5931200333333333,2.329708633333333,2.4912833333333335E-2,0,1.1215000000000002E-4,3.0669166666666666E-3,4.4928303333333336E-2,5.809183333333333E-3,1.6576986666666668E-2,1.1988600000000002E-3,2.4343333333333336E-4,0.3222893,1.4265233333333335E-2,0,6.5692649999999991E-2,1.6703999999999997E-4,1.4058499999999999E-3,0.17084267666666669,8.497190666666668E-2,3.3383666666666665E-4,7.9218753666666659,2.7611723466666667,3.2643199999999998E-3,6.3102999999999998E-4,6.705029999999999E-3,3.6233333333333331E-5,26.730911463333335]
["JARI1","2005-09",null,null,null,null,null,null,null,13.629649264492752,null,null,{"$f":"IF(COUNT(M400:M404)<3,\"\",AVERAGE(M400:M404))","v":40.283598952898551},29.283598952898547,16.576052884057972,3.2541402137681161,4.7494168695652181,2.8234659420289852,0.22709374275362318,1.5058253514492754,0.14760325000000002,11,null,26.423528863333331,null,null,{"$f":"IF(COUNT(AA400:AA404)<3,\"\",AVERAGE(AA400:AA404))","v":152.83714130666664},141.83714130666667,115.04814145,3.4182450900000005,13.524405380000001,6.3336233333333336,0.60270528666666678,2.6841973266666668,0.22582394,11,13.629649264492752,1,0.41148391193744782,8.0780771786875538E-2,0.11789951724815989,7.0089714311035417E-2,5.6373747295804357E-3,3.7380606266335742E-2,3.6641028566634418E-3,0.2730639835050912,26.423528863333331,1,0.75274989093885714,2.2365277580933787E-2,8.848899727104538E-2,4.1440341524217356E-2,3.9434477870620658E-3,1.7562467497876343E-2,1.4775462172960032E-3,7.1972034454168304E-2,13.629649264492752,13.629649264492752,5.6083813976888361,1.1010135867701449,1.6069290685454329,0.95529822310791102,7.6835440336696009E-2,0.50948455270425608,4.9940436805348667E-2,3.7217663219396271,26.423528863333331,26.423528863333331,19.89030847009391,0.5909695576962658,2.3381915734788921,1.095000060371548,0.10419980642248244,0.46406236684148905,3.9041985119629925E-2,1.9017551297525372,{"$f":"IF(COUNT(BY400:BY404)<3,\"\",AVERAGE(BY400:BY404))","v":6.7521552173913051},4.2062944927536234,7.0227699492753626,4.6306029347826092,2.1571198079710148,0.41606529710144924,1.5230221956521739,0.28234659420289854,0.22709374275362318,2.5097088913043475,2.4955202898550723E-2,1.2451496376811593E-2,1.5577898550724636E-4,1.5217173913043478E-3,1.7495793478260867E-2,0.48722786231884063,7.8939456521739129E-2,6.2510869565217397E-4,2.4314202898550727E-2,0.19392202898550726,0.20246376811594197,0.17048637681159423,0.28255235507246379,0.87373873188405804,1.7075543478260867E-2,8.9166666666666654E-6,7.4068840579710136E-5,6.8105797101449277E-4,1.9642844202898552E-2,1.7141557971014493E-3,3.3499166666666668E-3,6.2125362318840572E-4,8.349275362318841E-5,0.32296242753623183,1.0084963768115943E-2,0,3.5387076086956522E-2,1.0381521739130433E-4,6.0044927536231896E-4,4.8506072463768111E-2,3.4054072463768112E-2,1.8283695652173914E-4,1.4121461231884058,0.52374768840579722,1.1060144927536233E-3,2.1717028985507249E-4,3.734706521739131E-3,5.709782608695653E-5,106.90122424275361,20.52327150869565,16.0608203,19.949332574782609,15.984270106666667,10.465918803333334,0.39642338333333338,3.8515557600000001,0.63336233333333336,0.60270528666666678,4.4736621833333334,3.4304476666666674E-2,3.1063300000000005E-2,5.2749666666666666E-4,2.7005666666666665E-3,3.0899776666666667E-2,{"$f":"IF(COUNT(EK400:EK404)<3,\"\",AVERAGE(EK400:EK404))","v":1.2165589666666665},0.10472699999999999,1.7390000000000003E-3,0.17649510000000002,0.63780353333333328,0.30389923333333335,0.40684136666666665,0.67904573333333329,2.2040849666666662,2.0318533333333333E-2,0,1.2225333333333336E-4,2.9648566666666668E-3,4.2638900000000007E-2,5.3505766666666664E-3,9.154289999999999E-3,1.1716100000000002E-3,1.9436000000000003E-4,0.30782320000000002,1.5978666666666669E-2,0,6.2257076666666668E-2,1.5625666666666666E-4,1.2765300000000001E-3,0.15010753666666668,8.8578266666666655E-2,3.4203333333333332E-4,7.154250133333333,2.5401072433333338,3.0078433333333328E-3,4.866766666666666E-4,6.4817999999999985E-3,5.9590000000000004E-5,30.470531239999996]
["JARI1","2006-10",null,null,null,null,null,null,null,13.34814268115942,null,null,{"$f":"IF(COUNT(M401:M405)<3,\"\",AVERAGE(M401:M405))","v":38.975099619565214},27.975099619565214,15.873985717391303,3.0017722971014491,4.6094700362318841,2.6072159420289855,0.24481782608695651,1.5034718514492753,0.1343655,11,null,24.935616283333335,null,null,{"$f":"IF(COUNT(AA401:AA405)<3,\"\",AVERAGE(AA401:AA405))","v":129.88001857333333},118.88001857333336,92.907120780000014,3.6082167433333341,13.28613819666667,5.7253610000000004,0.64414386000000012,2.5197252466666664,0.18931308666666666,11,13.34814268115942,1,0.40728531478653818,7.7017694025202227E-2,0.11826704950660252,6.6894400975954976E-2,6.2813906436831723E-3,3.8575189444661317E-2,3.44747034161651E-3,0.28223147874850024,24.935616283333335,1,0.71533036259570948,2.7781153582881954E-2,0.10229547502847794,4.4081923169477573E-2,4.9595300884277384E-3,1.9400407193843831E-2,1.4575997812918083E-3,8.4693551177690507E-2,13.34814268115942,13.34814268115942,5.4365024937116395,1.0280431688222786,1.5786454512938752,0.89291600879773692,8.3844898547982799E-2,0.51490713266009402,4.6017326008962585E-2,3.7672660474495938,24.935616283333335,24.935616283333335,17.837203437504311,0.69274018565109552,2.5508007128314332,1.099209921185474,0.12366893923068033,0.4837611095261094,3.6346148840963127E-2,2.1118858938397445,{"$f":"IF(COUNT(BY401:BY405)<3,\"\",AVERAGE(BY401:BY405))","v":6.6833168840579713},4.1413786594202904,6.860916282608696,4.4533560181159419,2.0577344746376811,0.38137738043478264,1.486111695652174,0.26072159420289853,0.24481782608695651,2.5057863913043477,2.2593036231884057E-2,1.3866579710144928E-2,1.473623188405797E-4,1.456467391304348E-3,1.7595043478260873E-2,0.46056286231884058,7.2392789855072456E-2,4.6510869565217399E-4,1.7396702898550727E-2,0.1906736956521739,0.20288376811594203,0.16653887681159424,0.27150568840579709,0.84899873188405794,1.6048876811594202E-2,8.9166666666666654E-6,7.4735507246376801E-5,5.5347463768115948E-4,1.8566594202898551E-2,1.5478224637681161E-3,4.0632500000000009E-3,6.7667028985507233E-4,6.9492753623188409E-5,0.29607242753623186,9.3857971014492756E-3,0,3.3873909420289852E-2,1.0964855072463768E-4,5.3986594202898557E-4,5.5307239130434782E-2,3.6291905797101454E-2,1.8792028985507248E-4,1.3595911231884057,0.49965427173913052,1.13893115942029E-3,1.9700362318840581E-4,3.4702065217391302E-3,7.5431159420289852E-5,109.37469607608696,18.574696542028985,14.386365466666664,17.812907924782611,14.309756596666668,8.861318233333332,0.42411120333333335,3.77898522,0.57253609999999999,0.64414386000000012,4.1995420499999998,2.8661576666666671E-2,3.4458339999999997E-2,4.8732333333333333E-4,2.5698899999999996E-3,3.2230340000000003E-2,{"$f":"IF(COUNT(EK401:EK405)<3,\"\",AVERAGE(EK401:EK405))","v":1.1561074666666666},9.0066533333333337E-2,9.6706666666666657E-4,0.15044979999999999,0.61526626666666662,0.31709083333333338,0.39646663333333332,0.66811686666666659,2.1473903999999999,1.4009733333333333E-2,0,1.3111000000000001E-4,2.9191300000000002E-3,4.2380596666666673E-2,5.2952999999999993E-3,1.0548596666666667E-2,1.1579200000000002E-3,1.293666666666667E-4,0.32928666666666662,1.4731133333333335E-2,0,6.0066540000000002E-2,1.5796000000000001E-4,1.1182066666666668E-3,0.16341107000000002,8.9835346666666677E-2,3.3396000000000001E-4,5.8792902666666667,2.1511131566666668,2.8128499999999996E-3,3.8584666666666666E-4,6.0946399999999993E-3,7.8950000000000008E-5,34.771516766666664]
["JARI1","2007-11",null,null,null,null,null,null,null,12.712307659420292,null,null,{"$f":"IF(COUNT(M402:M406)<3,\"\",AVERAGE(M402:M406))","v":36.540663072463765},25.540663072463769,14.490773018115942,2.6758927862318842,4.2484387753623185,2.2737481884057971,0.2235347608695652,1.4769828913043479,0.15129168840579713,11,null,23.880025499999999,null,null,{"$f":"IF(COUNT(AA402:AA406)<3,\"\",AVERAGE(AA402:AA406))","v":115.69037599999999},104.69037599999999,79.301337083333337,4.1405319166666672,12.657678666666669,5.3352500000000003,0.59494100000000005,2.4690946666666664,0.19154299999999996,11,12.712307659420292,1,0.39656568326029823,7.3230548140993584E-2,0.1162660558988008,6.2225148566590831E-2,6.117424865177557E-3,4.0420254234996886E-2,4.1403651626619551E-3,0.30103449349525779,23.880025499999999,1,0.68546183204844413,3.5789769726970788E-2,0.1094099535700936,4.6116627713268049E-2,5.1425280180608986E-3,2.1342265035655745E-2,1.6556519792104399E-3,9.5081374789550352E-2,12.712307659420292,12.712307659420292,5.0412649727731305,0.93092925803629911,1.4780098729329132,0.79102523273163816,7.7766586969524806E-2,0.51383470750726634,5.2633595770104513E-2,3.8268430974094736,23.880025499999999,23.880025499999999,16.368846028593563,0.85466061371919044,2.6127124812076512,1.1012662457668476,0.12280370020575872,0.50965383327921754,3.9537011482670775E-2,2.2705456545495193,{"$f":"IF(COUNT(BY402:BY406)<3,\"\",AVERAGE(BY402:BY406))","v":6.3745368840579726},3.9089207246376816,6.4683315869565217,4.0984798623188414,1.89690406884058,0.34119219927536232,1.3834763478260872,0.2273748188405797,0.2235347608695652,2.4616381521739128,2.599721739130435E-2,1.3287978260869564E-2,1.4097463768115943E-4,1.3089637681159422E-3,1.6179445652173913E-2,0.40894608695652168,6.9063550724637685E-2,4.058333333333334E-4,1.0530579710144931E-2,0.1751850724637681,0.19471757246376811,0.15842952898550725,0.24996634057971018,0.7888290942028986,1.7792717391304346E-2,1.1987318840579706E-4,7.7641304347826086E-5,4.9097463768115943E-4,1.7460311594202898E-2,1.4010724637681161E-3,4.7636630434782614E-3,6.1659782608695652E-4,5.8923913043478265E-5,0.26492123188405792,9.56159420289855E-3,2.2130434782608696E-4,2.9806826086956516E-2,8.6210144927536243E-5,4.3538043478260876E-4,4.9411235507246368E-2,3.2789322463768117E-2,1.7123913043478261E-4,1.2775936231884057,0.46066510507246383,1.0551376811594204E-3,1.6029347826086957E-4,3.1281086956521736E-3,5.5177536231884061E-5,116.79276853985508,17.613450942028983,13.509504166666664,16.756656184782607,13.077791250000001,7.8083578333333339,0.48165400000000008,3.6299655,0.53352500000000003,0.59494100000000005,4.1151577499999998,2.9347749999999999E-2,3.3321666666666666E-2,4.4700000000000002E-4,2.4509166666666663E-3,3.1817499999999999E-2,{"$f":"IF(COUNT(EK402:EK406)<3,\"\",AVERAGE(EK402:EK406))","v":1.0864066666666665},9.1979166666666654E-2,8.5833333333333334E-4,0.12558166666666665,0.57979500000000006,0.3211141666666667,0.38621416666666669,0.64097666666666653,2.0536816666666668,1.4234166666666664E-2,1.895E-4,1.3958333333333333E-4,2.795416666666667E-3,4.2128833333333331E-2,4.8906666666666664E-3,1.0051250000000001E-2,1.1744166666666669E-3,1.0541666666666668E-4,0.3738933333333333,1.3274166666666667E-2,8.555833333333332E-4,5.2823916666666672E-2,1.415E-4,1.0057500000000001E-3,0.14545833333333336,7.1525583333333337E-2,3.4766666666666664E-4,5.3184308333333332,1.89585,2.662166666666666E-3,3.1391666666666666E-4,5.7319999999999992E-3,2.1191666666666668E-4,38.181646000000001]
["JARI1","2008-12",null,null,null,null,null,null,null,12.381546379917184,null,null,{"$f":"IF(COUNT(M403:M407)<3,\"\",AVERAGE(M403:M407))","v":35.330725697722571},24.330725697722571,13.269388641304346,2.511337486024845,4.4463770983436861,2.2119448757763975,0.22622609834368529,1.5296254006211181,0.13582554347826087,11,null,22.349363848484849,null,null,{"$f":"IF(COUNT(AA403:AA407)<3,\"\",AVERAGE(AA403:AA407))","v":97.511658462121218},86.511658462121233,62.196420386363648,4.2469946742424245,11.935425181818184,5.0646000000000004,0.54248338636363636,2.3568569999999998,0.16887819696969697,11,12.381546379917184,1,0.3755764530520157,7.1080835064384951E-2,0.12585014914172288,6.2606833912810911E-2,6.4030979799055724E-3,4.3294480099504956E-2,3.844402875851945E-3,0.31134373219820571,22.349363848484849,1,0.63783573541131078,4.3553711845565481E-2,0.12239998139765561,5.1938404903321009E-2,5.5632669459146382E-3,2.4170002204562339E-2,1.7318769840767129E-3,0.11280702403675139,12.381546379917184,12.381546379917184,4.6502172726683213,0.88009065607292591,1.5582194585177367,0.77516941779124038,7.9280254613354875E-2,0.53605261334642218,4.7599652510447864E-2,3.8549168603085993,22.349363848484849,22.349363848484849,14.255222926273296,0.97339775298860753,2.7355617193039823,1.1607903088942508,0.12433547716049533,0.54018417348844461,3.8706348857947055E-2,2.5211652248621328,{"$f":"IF(COUNT(BY403:BY407)<3,\"\",AVERAGE(BY403:BY407))","v":6.402858028222731},3.8380510678871089,6.4366040125858124,3.9686370838509317,1.7386706319875778,0.31814929658385094,1.4411972422360249,0.22119448757763976,0.22622609834368529,2.5493756677018635,2.3198774327122158E-2,1.4908911899313501E-2,1.8053070175438595E-4,1.2259019832189168E-3,1.5925743135011442E-2,0.40051105590062114,6.8449099378881981E-2,1.7208592132505175E-4,6.2787370600414071E-3,0.17426573498964801,0.21498332815734988,0.16835892857142859,0.24748518115942031,0.81137190993788821,1.6194663561076607E-2,1.8103108314263916E-4,8.2396453089244849E-5,4.653316170861937E-4,1.9152869946605644E-2,1.3721342486651411E-3,5.0304044622425633E-3,6.7624542334096104E-4,5.2415903890160181E-5,0.24697568322981364,1.0128923395445135E-2,5.8867276887871855E-4,2.8189343249427918E-2,6.8882913806254768E-5,3.4924313501144175E-4,4.7262951754385961E-2,2.6408997520976356E-2,1.7208581235697942E-4,1.1675566873706003,0.42376568630816169,1.0754397406559878E-3,1.3095709382151031E-4,2.8902185354691074E-3,1.0088291380625487E-5,121.02255244461699,15.804135606060607,11.871763106060605,14.940488386363636,11.434680545454546,6.4090267424242429,0.49311952272727277,3.4576426363636363,0.50646000000000002,0.54248338636363636,3.9280950000000003,2.5948196969696975E-2,3.4065810606060606E-2,3.4737878787878789E-4,2.317575757575757E-3,2.9980393939393939E-2,{"$f":"IF(COUNT(EK403:EK407)<3,\"\",AVERAGE(EK403:EK407))","v":1.013735909090909},9.038174242424242E-2,3.8325757575757575E-4,0.10045515151515154,0.52508590909090924,0.3496767424242424,0.3695655303030303,0.59599257575757569,1.9407759090909089,1.251113636363636E-2,2.7359090909090909E-4,1.5831818181818183E-4,2.7974393939393942E-3,4.1681401515151519E-2,4.6387196969696967E-3,8.2245000000000009E-3,1.217780303030303E-3,1.1503787878787881E-4,0.38266727272727274,1.4790075757575757E-2,2.1374924242424246E-3,4.9297136363636369E-2,9.6863636363636357E-5,8.4824242424242431E-4,0.12558833333333336,5.8785310606060612E-2,3.2115151515151513E-4,4.3250276515151516,1.5556109318181821,2.425030303030303E-3,2.8563636363636362E-4,5.5207954545454544E-3,2.5811363636363635E-4,44.059697106060604]
["JARI1","2009-13",null,null,null,null,null,null,null,11.723346879917184,null,null,{"$f":"IF(COUNT(M404:M408)<3,\"\",AVERAGE(M404:M408))","v":33.092033614389237},22.092033614389234,11.822218057971014,2.2519329860248449,4.2051240983436848,1.9589198757763977,0.21877409834368527,1.4756420672877846,0.15942162681159419,11,null,21.265386598484845,null,null,{"$f":"IF(COUNT(AA404:AA408)<3,\"\",AVERAGE(AA404:AA408))","v":87.732238962121215},76.732238962121215,54.167933136363636,4.1881218409090915,11.054315431818182,4.6464499999999997,0.46849913636363638,2.0465644999999997,0.16035494696969696,11,11.723346879917184,1,0.35725269095672685,6.8050607353597289E-2,0.12707360772518955,5.9196116461232254E-2,6.6110805063535555E-3,4.4592063590982778E-2,4.8175228113594599E-3,0.33240628630381081,21.265386598484845,1,0.61742335288799455,4.7737546544518616E-2,0.12600060778787295,5.2961716866773742E-2,5.3401023603867328E-3,2.3327393945612319E-2,1.8277767542092586E-3,0.12538150319803532,11.723346879917184,11.723346879917184,4.1881972198695614,0.7977808753952641,1.489727982644921,0.69397660721900134,7.7503990027041267E-2,0.52276822956841662,5.6477491019480783E-2,3.8969141994046383,21.265386598484845,21.265386598484845,13.129746294095938,1.0151573825323528,2.6794516362531784,1.1262513840914392,0.11355934116910532,0.49606605058860076,3.8868379293983693E-2,2.6662861378053848,{"$f":"IF(COUNT(BY404:BY408)<3,\"\",AVERAGE(BY404:BY408))","v":6.0091596948893971},3.5556588577421815,6.0440935524408843,3.6508670838509318,1.5567837986542443,0.2833492132505176,1.3686542422360248,0.19589198757763976,0.21877409834368527,2.4594034177018633,2.7412774327122157E-2,1.54021618993135E-2,1.6869736842105263E-4,1.1006519832189167E-3,1.5154993135011443E-2,0.35590438923395451,6.5019932712215317E-2,8.9585921325051749E-5,4.1887370600414081E-3,0.15968656832298139,0.21961082815734989,0.16039976190476191,0.22492018115942031,0.76880607660455491,1.732799689440994E-2,3.6803108314263915E-4,8.8479786422578186E-5,4.8383161708619377E-4,1.8884286613272312E-2,1.0525509153318079E-3,5.1806544622425618E-3,7.1307875667429442E-4,5.2915903890160186E-5,0.21979651656314694,9.2430900621118008E-3,9.2683943554538529E-4,2.5701926582761249E-2,5.5382913806254779E-5,2.8615980167810836E-4,4.3977118421052633E-2,2.5664997520976358E-2,1.6816914569031276E-4,1.0509666873706003,0.37937026964149506,1.0832730739893212E-3,1.1829042715484364E-4,2.6128018688024407E-3,1.167162471395882E-5,129.07416477795033,14.422776439393939,11.012934772727274,13.428023803030305,10.384630712121211,5.7028084924242428,0.48720485606060604,3.2367136363636364,0.46464499999999997,0.46849913636363638,3.4109408333333335,2.4759196969696973E-2,3.2156643939393943E-2,2.8837878787878787E-4,2.1606590909090907E-3,2.7538310606060601E-2,{"$f":"IF(COUNT(EK404:EK408)<3,\"\",AVERAGE(EK404:EK408))","v":0.91206174242424232},9.7960909090909085E-2,4.1242424242424246E-4,7.3811818181818201E-2,0.48077340909090915,0.3614334090909091,0.34927719696969695,0.54477424242424244,1.8100700757575758,1.1032803030303028E-2,3.9800757575757576E-4,1.6965151515151516E-4,9.5635606060606054E-4,4.0249818181818178E-2,3.2819696969696973E-3,7.9206666666666679E-3,1.2065303030303033E-3,1.160378787878788E-4,0.3778197727272728,1.6022575757575756E-2,3.0311590909090913E-3,4.4061636363636372E-2,6.4363636363636354E-5,7.308257575757576E-4,0.10074208333333334,4.4125810606060606E-2,3.117348484848485E-4,3.8678918181818185,1.3833664318181822,2.2031136363636367E-3,2.5821969696969698E-4,5.1118787878787876E-3,3.3153030303030307E-4,49.375783022727269]
["JARI1","2010-14",null,null,null,null,null,null,null,11.575665836438924,null,null,{"$f":"IF(COUNT(M405:M409)<3,\"\",AVERAGE(M405:M409))","v":32.67423770134576},21.674237701345756,11.561028492753623,2.1113155947204971,4.2442879244306422,1.8952677018633541,0.20634314182194613,1.5072291977225674,0.14876501811594203,11,null,20.678952598484848,null,null,{"$f":"IF(COUNT(AA405:AA409)<3,\"\",AVERAGE(AA405:AA409))","v":82.849523045454546},71.849523045454546,48.962849053030297,5.4403155909090914,10.480919598484849,4.5271083333333335,0.39921713636363637,1.8673824999999997,0.171730446969697,11,{"$f":"J435","v":11.575665836438924},{"$f":"M435/M435","v":1},{"$f":"O435/M435","v":0.35382703028684453},{"$f":"P435/M435","v":6.4617133964032403E-2},{"$f":"Q435/M435","v":0.12989707558673455},{"$f":"R435/M435","v":5.8004955438801055E-2},{"$f":"S435/M435","v":6.3151631480433115E-3},{"$f":"T435/M435","v":4.6128978172319805E-2},{"$f":"U435/M435","v":4.552975940118561E-3},{"$f":"V435/M435","v":0.33665666818439471},{"$f":"X435","v":20.678952598484848},{"$f":"AA435/AA435","v":1},{"$f":"AC435/AA435","v":0.59098528577125697},{"$f":"AD435/AA435","v":6.5665020037886254E-2},{"$f":"AE435/AA435","v":0.12650549107850143},{"$f":"AF435/AA435","v":5.4642539473034525E-2},{"$f":"AG435/AA435","v":4.8185809850059122E-3},{"$f":"AH435/AA435","v":2.2539447800749311E-2},{"$f":"AI435/AA435","v":2.0727994641016683E-3},{"$f":"AJ435/AA435","v":0.13277083072602558},{"$f":"J435","v":11.575665836438924},{"$f":"BE435","v":11.575665836438924},{"$f":"BE435*AM435","v":4.095783466500067},{"$f":"BE435*AN435","v":0.74798635007604719},{"$f":"BE435*AO435","v":1.5036451401226878},{"$f":"BE435*AP435","v":0.67144598101709152},{"$f":"BE435*AQ435","v":7.3102218304343047E-2},{"$f":"BE435*AR435","v":0.5339736366991592},{"$f":"BE435*AS435","v":5.2703728044158821E-2},{"$f":"BE435*AT435","v":3.8970250925114529},{"$f":"X435","v":20.678952598484848},{"$f":"BO435","v":20.678952598484848},{"$f":"BO435*AW435","v":12.220956710865845},{"$f":"BO435*AX435","v":1.3578838367420076},{"$f":"BO435*AY435","v":2.616001053460379},{"$f":"BO435*AZ435","v":1.1299504836237182},{"$f":"BO435*BA435","v":9.9643207780897691E-2},{"$f":"BO435*BB435","v":0.46609217266771857},{"$f":"BO435*BC435","v":4.2863321864323192E-2},{"$f":"BO435*BD435","v":2.7455617150449387},{"$f":"IF(COUNT(BY405:BY409)<3,\"\",AVERAGE(BY405:BY409))","v":6.0833744774980927},3.5788432055682682,6.0163312046147981,3.5851309968944101,1.5158341464803311,0.26643660455486545,1.381388850931677,0.1895267701863354,0.20634314182194613,2.5120486350931674,2.5600687370600422E-2,1.5497292334096108E-2,1.5869736842105266E-4,1.1294345919145691E-3,1.4762819221967963E-2,0.34262873706004143,6.7744280538302282E-2,1.7045548654244305E-4,2.911345755693582E-3,0.15960830745341617,0.22382995859213248,0.16007193581780538,0.22101670289855074,0.76743825051759829,1.6263649068322984E-2,5.4542238749046522E-4,9.3436308161708626E-5,5.3357074752097646E-4,1.9464808352402746E-2,9.2646395881006865E-4,5.9037848970251716E-3,7.5194832189168573E-4,6.3872425629290616E-5,0.20653999482401653,7.4987422360248456E-3,1.0516220442410376E-3,2.5054622234935164E-2,3.7730739893211287E-5,2.5181197559115181E-4,3.8637814073226542E-2,2.0508040999237226E-2,1.5503871090770404E-4,1.0231953830227742,0.36921070442410375,1.0620556826849733E-3,1.1742086193745232E-4,2.6978453470633103E-3,6.141075514874144E-5,131.39474043012424,13.761264772727269,10.652169772727273,12.599030386363637,9.8541726287878788,5.2516159090909094,0.63752618939393935,3.0861616363636362,0.45271083333333334,0.39921713636363637,3.1123041666666671,2.6940446969696975E-2,3.1228227272727276E-2,2.7221212121212121E-4,2.3717424242424242E-3,2.6034393939393941E-2,{"$f":"IF(COUNT(EK405:EK409)<3,\"\",AVERAGE(EK405:EK409))","v":0.86212424242424246},0.1051842424242424,8.1242424242424242E-4,5.9533484848484849E-2,0.45060590909090914,0.35506007575757575,0.33392469696969701,0.51541007575757569,1.7145342424242422,1.2586969696969697E-2,7.4759090909090912E-4,1.8098484848484852E-4,1.0310227272727272E-3,3.9020568181818184E-2,3.5383863636363629E-3,7.0130000000000001E-3,1.2331136363636364E-3,1.3145454545454544E-4,0.49420643939393943,1.4516742424242423E-2,3.3798257575757577E-3,4.1469886363636368E-2,3.5780303030303019E-5,6.793257575757576E-4,7.6063083333333337E-2,2.3281893939393939E-2,3.0248484848484846E-4,3.5575726515151516,1.2731190151515155,2.06444696969697E-3,2.27719696969697E-4,5.2667954545454537E-3,3.5078030303030303E-4,52.433220939393934]
["JARI1","2011-15",null,null,null,null,null,null,null,10.825993379917184,null,null,{"$f":"IF(COUNT(M406:M410)<3,\"\",AVERAGE(M406:M410))","v":30.26267957815735},19.26267957815735,9.4346959746376804,1.8604455403726707,4.2481685584886133,1.8069041511387163,0.16964484109730846,1.5717947194616975,0.17102464855072466,11,null,19.796364765151512,null,null,{"$f":"IF(COUNT(AA406:AA410)<3,\"\",AVERAGE(AA406:AA410))","v":75.533806545454553},64.533806545454553,42.482723386363638,5.5395025909090911,9.9059798484848471,4.3133133333333333,0.31373430303030297,1.7811764166666666,0.19737636363636366,11,10.825993379917184,1,0.31176009878012745,6.1476563420890258E-2,0.14037648409544037,5.9707341726701654E-2,5.605744219019943E-3,5.193838554191247E-2,5.6513385772410211E-3,0.36348400582278423,19.796364765151512,1,0.56243323790121036,7.3338056749139777E-2,0.13114630787902434,5.710440835174483E-2,4.1535613969289993E-3,2.358118170033963E-2,2.6130864134006936E-3,0.1456301555963613,10.825993379917184,10.825993379917184,3.3751127655159872,0.66554486861461681,1.5197148875132873,0.64639128626572517,6.0687749804618926E-2,0.56228461804033081,6.1181354024881895E-2,3.9350754407432413,19.796364765151512,19.796364765151512,11.134133533537598,1.4518269225733527,2.5962201483760299,1.1304596974293051,8.2225416488058742E-2,0.46682167453323908,5.1729611802541632E-2,2.8829476809913395,{"$f":"IF(COUNT(BY406:BY410)<3,\"\",AVERAGE(BY406:BY410))","v":5.8677125861937451},3.2555719084668189,5.7915905125858123,3.2472428664596271,1.247917700828157,0.23511661180124227,1.3847879596273294,0.18069041511387166,0.16964484109730846,2.6196580408902692,2.9084546066252593E-2,1.371283581235698E-2,1.4904881769641496E-4,1.1114382151029749E-3,1.332224675819985E-2,0.32124797619047618,6.627501966873707E-2,1.3112215320910974E-4,2.4632153209109731E-3,0.14684993788819875,0.25236918322981367,0.16068062422360246,0.20696370289855076,0.7693266635610766,1.7923156314699797E-2,1.0892484744469872E-3,9.3494279176201386E-5,5.5329176201373003E-4,1.9173094584286805E-2,8.3927917620137322E-4,5.8500312738367661E-3,6.9618745232646829E-4,6.2814454614797872E-5,0.18226095859213248,9.4225755693581777E-3,1.3464046529366898E-3,2.403195194508009E-2,1.0853928299008385E-5,1.8497864225781844E-4,2.6878368421052633E-2,1.8577725781845918E-2,1.349517543859649E-4,0.83273655693581783,0.30426125877192983,9.4287452326468344E-4,9.3087528604118998E-5,2.4541098398169333E-3,8.0939740655987786E-5,141.59222189751557,12.975454022727273,10.010035939393941,11.667047719696971,9.0372142121212118,4.6532074924242419,0.65510693939393938,2.9523994696969695,0.43133133333333334,0.31373430303030297,2.9686272499999999,3.1434863636363636E-2,2.7331060606060609E-2,2.6171212121212122E-4,2.411159090909091E-3,2.3136810606060605E-2,{"$f":"IF(COUNT(EK406:EK410)<3,\"\",AVERAGE(EK406:EK410))","v":0.80052382575757564},0.10765165909090908,8.0584090909090916E-4,5.1761234848484848E-2,0.41089565909090914,0.38224265909090904,0.31767236363636359,0.4776499924242425,1.6402219090909091,1.8658553030303029E-2,1.1248409090909091E-3,1.9290151515151518E-4,1.0311893939393938E-3,3.7163901515151518E-2,3.1613863636363636E-3,7.4346666666666675E-3,1.2696969696969697E-3,1.3237121212121214E-4,0.50783477272727273,1.4398325757575759E-2,3.5774924242424249E-3,4.0846053030303031E-2,1.3113636363636365E-5,6.2140909090909087E-4,4.9149499999999999E-2,2.045514393939394E-2,2.7923484848484847E-4,3.1385237348484849,1.1280502651515152,1.8422803030303033E-3,1.8721969696969696E-4,5.3197954545454538E-3,3.8669696969696971E-4,56.987099272727264]
["JARI1","2012-16",null,null,null,null,null,null,null,10.424728151656314,null,null,{"$f":"IF(COUNT(M407:M411)<3,\"\",AVERAGE(M407:M411))","v":28.981551208592133},17.981551208592133,8.2832598405797118,1.8810377179089026,4.2576698193581786,1.7407602380952381,0.16116957298136644,1.5154900129399587,0.14216354347826088,11,null,18.665632098484846,null,null,{"$f":"IF(COUNT(AA407:AA411)<3,\"\",AVERAGE(AA407:AA411))","v":66.455348628787874},55.455348628787888,33.993460469696963,5.6550669242424245,9.5953223484848476,4.0954891666666668,0.29075555303030304,1.6612611666666663,0.16399236363636366,11,10.424728151656314,1,0.28581147299403287,6.4904659670226114E-2,0.14690965948351001,6.0064426005574073E-2,5.5611092664213449E-3,5.2291542368879923E-2,4.9053117431517535E-3,0.37955180248387949,18.665632098484846,1,0.51152331860570954,8.5095737828884091E-2,0.1443875105084956,6.1627683116126743E-2,4.3752016809727526E-3,2.4998155918890517E-2,2.4677075212170899E-3,0.16552467524389597,10.424728151656314,10.424728151656314,2.9795069085872528,0.67661343283787845,1.5314932629679898,0.62615531269338565,5.797305232409939E-2,0.54512511382639139,5.113654142148439E-2,3.9567243603655955,18.665632098484846,18.665632098484846,9.5479060748902231,1.58836573546307,2.6950841507676935,1.150319660127628,8.1665904933709857E-2,0.46660638152257178,4.6061320717702185E-2,3.0896226913237443,{"$f":"IF(COUNT(BY407:BY411)<3,\"\",AVERAGE(BY407:BY411))","v":5.6189898434401213},3.1006902599160946,5.5423759944698698,3.0716516055900622,1.0903341899585919,0.23640720962732922,1.3860036407867495,0.17407602380952381,0.16116957298136644,2.5258169466873701,2.3660948240165632E-2,1.2893687261632338E-2,1.4668649885583523E-4,1.0879418382913806E-3,1.2050011250953471E-2,0.30228075155279505,6.4554675465838512E-2,1.1373084886128364E-4,3.3469218426501039E-3,0.14657247774327123,0.26749579554865421,0.15971380538302279,0.19287313405797102,0.77000213457556943,1.4955315734989646E-2,1.1427086193745235E-3,9.3338482074752099E-5,5.9704176201373009E-4,1.8891627192982454E-2,9.9444584286803974E-4,5.2722848970251706E-3,6.6625991609458419E-4,6.1716628527841362E-5,0.18326123757763974,1.0014445134575568E-2,1.3031003051106025E-3,2.3025951945080093E-2,5.3756674294431722E-6,1.6004748283752861E-4,2.5340955377574369E-2,1.8578475781845922E-2,1.3538291380625476E-4,0.7327748902691511,0.26605917543859647,8.963346681922198E-4,8.9047673531655216E-5,2.3939576659038906E-3,9.9026697177726923E-5,146.99872201708075,11.778648106060604,9.0130882727272734,10.629957803030303,8.1395876287878792,3.864558575757576,0.6760407727272727,2.8724159696969691,0.40954891666666671,0.29075555303030304,2.7687689999999998,2.6267946969696969E-2,2.5577643939393942E-2,2.9212878787878788E-4,2.4575757575757574E-3,2.1157727272727269E-2,{"$f":"IF(COUNT(EK407:EK411)<3,\"\",AVERAGE(EK407:EK411))","v":0.7317984090909091},0.10078607575757574,6.8417424242424242E-4,5.8287651515151515E-2,0.38306607575757579,0.41223057575757577,0.31848261363636365,0.42371974242424254,1.5957866590909091,1.6109969696969696E-2,1.3462575757575757E-3,1.8573484848484852E-4,1.1198560606060603E-3,3.5749318181818181E-2,3.45930303030303E-3,6.6305833333333338E-3,1.2084469696969698E-3,1.1587121212121215E-4,0.52406252272727272,1.6107909090909093E-2,3.1850757575757581E-3,4.2321719696969698E-2,1.9446969696969704E-5,5.6390909090909094E-4,4.421683333333333E-2,2.0618227272727271E-2,3.1340151515151508E-4,2.608464484848485,0.93686268181818178,1.7445303030303029E-3,1.4930303030303031E-4,5.3552121212121209E-3,3.5236363636363644E-4,63.169438856060594]
["JARI1","2013-17",null,null,null,null,null,null,null,9.6758258659420271,null,null,26.777413452898553,15.777413452898552,7.0281966521739152,1.7012464963768117,3.8031897572463769,1.5105670289855073,0.13953136594202897,1.4662901123188405,0.12839194927536232,11,null,18.150217166666668,null,null,62.994921999999995,51.994921999999995,30.294644999999996,6.0143336666666665,9.6827361666666665,3.9006941666666664,0.25081100000000001,1.7008427500000001,0.15085850000000001,11,{"$f":"J438","v":9.6758258659420271},{"$f":"M438/M438","v":1},{"$f":"O438/M438","v":0.26246734639013986},{"$f":"P438/M438","v":6.3532891231981858E-2},{"$f":"Q438/M438","v":0.14202976564320466},{"$f":"R438/M438","v":5.6411984362962964E-2},{"$f":"S438/M438","v":5.2107858060101483E-3},{"$f":"T438/M438","v":5.4758467052766074E-2},{"$f":"U438/M438","v":4.794785332840442E-3},{"$f":"V438/M438","v":0.41079397079740321},{"$f":"X438","v":18.150217166666668},{"$f":"AA438/AA438","v":1},{"$f":"AC438/AA438","v":0.48090614351423433},{"$f":"AD438/AA438","v":9.5473309208425824E-2},{"$f":"AE438/AA438","v":0.15370661410877956},{"$f":"AF438/AA438","v":6.1920771434031886E-2},{"$f":"AG438/AA438","v":3.9814479014673599E-3},{"$f":"AH438/AA438","v":2.6999680228193636E-2},{"$f":"AI438/AA438","v":2.394772391336559E-3},{"$f":"AJ438/AA438","v":0.17461724930780931},{"$f":"J438","v":9.6758258659420271},{"$f":"BE438","v":9.6758258659420271},{"$f":"BE438*AM438","v":2.539588339166881},{"$f":"BE438*AN438","v":0.61473319232049151},{"$f":"BE438*AO438","v":1.3742552801442038},{"$f":"BE438*AP438","v":0.5458325374482742},{"$f":"BE438*AQ438","v":5.0418656083676565E-2},{"$f":"BE438*AR438","v":0.52983339188848821},{"$f":"BE438*AS438","v":4.6393507945137004E-2},{"$f":"BE438*AT438","v":3.9747709282145478},{"$f":"X438","v":18.150217166666668},{"$f":"BO438","v":18.150217166666668},{"$f":"BO438*AW438","v":8.7285509415675193},{"$f":"BO438*AX438","v":1.7328612957532452},{"$f":"BO438*AY438","v":2.7898084260273799},{"$f":"BO438*AZ438","v":1.1238754486552085},{"$f":"BO438*BA438","v":7.226414404940186E-2},{"$f":"BO438*BB438","v":0.49005005957227071},{"$f":"BO438*BC438","v":4.3465638967496202E-2},{"$f":"BO438*BD438","v":3.1693409959827137},5.1394983514492747,2.7156090471014496,5.1042232210144922,2.7182402101449274,0.94038780072463768,0.21605959057971011,1.2496651811594204,0.15105670289855072,0.13953136594202897,2.4438173442028983,2.154008695652174E-2,1.1240057971014494E-2,1.0965217391304348E-4,1.1327427536231883E-3,1.0693887681159421E-2,0.25973221739130437,5.993190942028985E-2,9.1826086956521734E-5,2.3311123188405796E-3,0.12865303260869562,0.25119238768115942,0.14338275362318845,0.16869925,0.69425853623188416,1.4439456521739131E-2,1.2090289855072466E-3,8.6409420289855062E-5,5.5546739130434778E-4,1.6500634057971014E-2,1.4494710144927539E-3,4.8331956521739123E-3,5.7287318840579704E-4,6.1007246376811606E-5,0.16748774275362319,9.108420289855073E-3,1.0383405797101449E-3,2.0788652173913045E-2,5.3115942028985478E-6,1.2088043478260869E-4,2.1784630434782608E-2,1.6827061594202903E-2,1.0575362318840579E-4,0.63718382608695656,0.2280279855072464,7.9020652173913063E-4,7.4471014492753622E-5,2.1534130434782612E-3,1.098550724637681E-4,157.9194438514493,11.431220666666666,8.5996917500000016,10.328392083333334,7.7721080833333334,3.495031,0.72012166666666666,2.8915519999999999,0.39006941666666667,0.25081100000000001,2.8347380833333333,2.4522750000000003E-2,2.2529E-2,3.1300000000000002E-4,2.3641666666666668E-3,1.9802166666666666E-2,0.67648691666666683,9.6650083333333331E-2,6.1508333333333326E-4,6.8387500000000018E-2,0.38363441666666664,0.43692583333333329,0.33378733333333332,0.38368266666666667,1.6064177499999999,1.618608333333333E-2,1.6304166666666667E-3,1.8350000000000002E-4,1.1381666666666664E-3,3.3091083333333333E-2,2.9012500000000002E-3,7.2878333333333337E-3,1.1149999999999999E-3,1.0300000000000001E-4,0.55823391666666666,1.4604000000000001E-2,2.2764999999999999E-3,4.2713500000000001E-2,2.3333333333333332E-5,5.3158333333333334E-4,3.4356833333333323E-2,2.1203416666666666E-2,3.0974999999999997E-4,2.3383088333333335,0.84728025000000007,1.7220833333333335E-3,1.26E-4,5.2555833333333326E-3,3.2883333333333338E-4,66.380697749999996]
["JARI1","2014-18",null,null,null,null,null,null,null,{"$f":"IF(J413=\"\",\"\",J413)","v":9.4692960760869571},null,null,26.195940065217393,15.195940065217391,6.533307778985507,1.5771940036231882,3.8026641304347826,1.5219665217391305,0.13126455797101449,1.5120039021739129,0.11753932971014494,11,null,17.887737250000001,null,null,61.406090583333331,50.406090583333338,26.834608833333334,7.1686811666666674,10.117697333333334,4.0642466666666666,0.25220324999999999,1.8159198333333335,0.15273283333333335,11,{"$f":"J439","v":9.4692960760869571},{"$f":"M439/M439","v":1},{"$f":"O439/M439","v":0.2494015394263458},{"$f":"P439/M439","v":6.0207574139221849E-2},{"$f":"Q439/M439","v":0.14516234656850155},{"$f":"R439/M439","v":5.8099328290950575E-2},{"$f":"S439/M439","v":5.0108741142413041E-3},{"$f":"T439/M439","v":5.7719016702955844E-2},{"$f":"U439/M439","v":4.4869292500104643E-3},{"$f":"V439/M439","v":0.41991239759345944},{"$f":"X439","v":17.887737250000001},{"$f":"AA439/AA439","v":1},{"$f":"AC439/AA439","v":0.43700239794481738},{"$f":"AD439/AA439","v":0.11674218466876918},{"$f":"AE439/AA439","v":0.16476700010079215},{"$f":"AF439/AA439","v":6.6186377085040701E-2},{"$f":"AG439/AA439","v":4.1071373800899858E-3},{"$f":"AH439/AA439","v":2.9572308155149114E-2},{"$f":"AI439/AA439","v":2.4872587048358303E-3},{"$f":"AJ439/AA439","v":0.17913532510381941},{"$f":"J439","v":9.4692960760869571},{"$f":"BE439","v":9.4692960760869571},{"$f":"BE439*AM439","v":2.3616570186599426},{"$f":"BE439*AN439","v":0.57012334554724797},{"$f":"BE439*AO439","v":1.3745852387566866},{"$f":"BE439*AP439","v":0.55015974140878621},{"$f":"BE439*AQ439","v":4.7449450587750887E-2},{"$f":"BE439*AR439","v":0.54655845838089734},{"$f":"BE439*AS439","v":4.2488061540803881E-2},{"$f":"BE439*AT439","v":3.9762748188320116},{"$f":"X439","v":17.887737250000001},{"$f":"BO439","v":17.887737250000001},{"$f":"BO439*AW439","v":7.816984072056834},{"$f":"BO439*AX439","v":2.0882535253459213},{"$f":"BO439*AY439","v":2.9473088052736935},{"$f":"BO439*AZ439","v":1.1839245228266291},{"$f":"BO439*BA439","v":7.3467394304703046E-2},{"$f":"BO439*BB439","v":0.52898167815533959},{"$f":"BO439*BC439","v":4.4491430184878639E-2},{"$f":"BO439*BD439","v":3.2043256276504506},5.1431609726613967,2.6356904384057973,5.063017719038208,2.6223669130434781,0.86937388043478259,0.2002776413043478,1.2500068115942029,0.15219665217391304,0.13126455797101449,2.5200068188405789,1.9247967391304348E-2,1.0580155797101452E-2,9.6594202898550721E-5,1.128764492753623E-3,1.0181938405797102E-2,0.25561103623188408,6.0389655797101448E-2,9.1826086956521734E-5,3.0030978260869564E-3,0.12644401811594203,0.25731252536231886,0.14379283333333337,0.16389586594202898,0.69444834057971028,1.2881115942028986E-2,1.2209384057971016E-3,8.6018115942028983E-5,4.9835869565217396E-4,1.6449141304347825E-2,1.5749927536231885E-3,4.32981884057971E-3,5.2363768115942018E-4,4.9945652173913056E-5,0.15525358333333333,9.525521739130436E-3,1.0270434782608695E-3,2.0573391304347828E-2,-6.0869565217391333E-7,1.0498188405797101E-4,2.0134326086956523E-2,1.4329967391304349E-2,9.7996376811594204E-5,0.58174685507246371,0.21075730797101447,7.477210144927538E-4,5.7090579710144909E-5,2.1861956521739131E-3,1.526086956521739E-4,161.02203394565217,11.511159287878789,8.4515565833333337,10.450396909090909,7.6849014999999996,3.1464040000000004,0.85355891666666661,3.0011071666666673,0.40642466666666666,0.25220324999999999,3.0265334166666662,2.5203750000000004E-2,2.3132416666666669E-2,3.1E-4,2.3326666666666665E-3,1.9795083333333331E-2,0.67831275000000013,9.3153916666666642E-2,5.5841666666666659E-4,8.8219083333333337E-2,0.39094550000000006,0.46846224999999997,0.3540544166666667,0.36560041666666665,1.667281666666667,1.6357583333333332E-2,2.0409166666666666E-3,1.9266666666666667E-4,1.2212500000000001E-3,3.3457749999999994E-2,2.6503333333333335E-3,7.662166666666667E-3,1.1230833333333331E-3,1.0725E-4,0.6616736666666666,1.299575E-2,1.6692499999999999E-3,4.6165583333333336E-2,4.1416666666666666E-5,4.9649999999999998E-4,3.3991416666666663E-2,2.4694666666666667E-2,3.3824999999999995E-4,2.0722940833333334,0.7627645833333333,1.7729166666666668E-3,1.1658333333333334E-4,5.6778333333333333E-3,3.3224999999999997E-4,68.18490616666665]
[{"$f":"A439","v":"JARI1"},"2015-19",null,null,null,null,null,null,null,8.9886785187747034,null,null,24.873764673913048,13.87376467391304,5.5829912611989458,1.5532257032279315,3.6513394624505935,1.5173413043478259,0.12785309552042162,1.3334154120553359,0.10759814393939393,11,null,17.281382449275362,null,null,57.536954539855074,46.536954539855074,23.353684956521739,6.3441154963768112,10.491493981884059,4.1407987681159426,0.27031038405797103,1.7839962898550723,0.15255449275362318,11,{"$f":"J440","v":8.9886785187747034},{"$f":"M440/M440","v":1},{"$f":"O440/M440","v":0.22445300638605142},{"$f":"P440/M440","v":6.2444335370629038E-2},{"$f":"Q440/M440","v":0.14679480610669371},{"$f":"R440/M440","v":6.100167482645575E-2},{"$f":"S440/M440","v":5.1400781987179685E-3},{"$f":"T440/M440","v":5.3607301891610601E-2},{"$f":"U440/M440","v":4.3257683486987416E-3},{"$f":"V440/M440","v":0.4422330171651303},{"$f":"X440","v":17.281382449275362},{"$f":"AA440/AA440","v":1},{"$f":"AC440/AA440","v":0.40589018211495631},{"$f":"AD440/AA440","v":0.11026157965977028},{"$f":"AE440/AA440","v":0.18234357493872469},{"$f":"AF440/AA440","v":7.196763890670764E-2},{"$f":"AG440/AA440","v":4.6980307911627592E-3},{"$f":"AH440/AA440","v":3.1006095197814512E-2},{"$f":"AI440/AA440","v":2.6514175797738952E-3},{"$f":"AJ440/AA440","v":0.19118147785142933},{"$f":"J440","v":8.9886785187747034},{"$f":"BE440","v":8.9886785187747034},{"$f":"BE440*AM440","v":2.0175359169767018},{"$f":"BE440*AN440","v":0.56129205596513665},{"$f":"BE440*AO440","v":1.3194913203189353},{"$f":"BE440*AP440","v":0.54832444412184234},{"$f":"BE440*AQ440","v":4.6202510489638374E-2},{"$f":"BE440*AR440","v":0.4818588029625907},{"$f":"BE440*AS440","v":3.8882941033143902E-2},{"$f":"BE440*AT440","v":3.9750904216851315},{"$f":"X440","v":17.281382449275362},{"$f":"BO440","v":17.281382449275362},{"$f":"BO440*AW440","v":7.0143434695345865},{"$f":"BO440*AX440","v":1.9054725275617315},{"$f":"BO440*AY440","v":3.1511490556842037},{"$f":"BO440*AZ440","v":1.2437002919181641},{"$f":"BO440*BA440","v":8.118846686055535E-2},{"$f":"BO440*BB440","v":0.53582818937207277},{"$f":"BO440*BC440","v":4.5820161228804751E-2},{"$f":"BO440*BD440","v":3.3038802359682173},4.612370233530962,2.4025472131093544,4.6052961182476935,2.4562223003952566,0.75582032707509883,0.19840673221343869,1.2045719894598155,0.15173413043478262,0.12785309552042162,2.2223593050065871,1.7836441699604744E-2,9.7382743741765473E-3,8.8108036890645585E-5,1.045175559947299E-3,9.9843455204216072E-3,0.24724843939393937,5.9923975955204212E-2,4.0000000000000007E-6,3.785817193675889E-3,0.11587053985507248,0.25389584947299076,0.14021231159420292,0.15544228491436102,0.66920680303030311,1.2108036890645588E-2,1.1489107378129121E-3,8.922364953886693E-5,4.5465118577075103E-4,1.6547556324110674E-2,1.5928386034255605E-3,3.6835737812911731E-3,5.1641633728590245E-4,5.0340909090909094E-5,0.1538032196969697,7.4517865612648213E-3,1.1343517786561266E-3,1.990700790513834E-2,2.4466403162055331E-6,8.9076745718050053E-5,1.9551361660079054E-2,1.4940232213438737E-2,9.9652503293807632E-5,0.50356255862977606,0.183229157773386,7.3547990777338601E-4,4.2979907773386025E-5,2.2850810276679842E-3,1.244387351778656E-4,168.56534492193674,10.981567106719369,7.9751701050724648,10.049924709815546,7.310309054347826,2.7422399528985508,0.75504636594202901,3.1037268405797107,0.41407987681159419,0.27031038405797103,2.9733277137681156,2.4905971014492757E-2,2.3209275362318843E-2,4.6605072463768127E-4,2.2682282608695653E-3,{"$f":"IF(COUNT(EJ410:EJ414)<3,\"\",AVERAGE(EJ410:EJ414))","v":2.1110847826086954E-2},0.67876146014492766,8.9590721014492752E-2,5.5083333333333328E-5,0.10230019927536231,0.40550689855072469,0.50003761231884059,0.36212046014492755,0.3543273876811594,1.7242925579710147,1.6170829710144927E-2,1.9808985507246374E-3,1.8892391304347827E-4,1.1838224637681159E-3,3.550860507246377E-2,3.3403007246376806E-3,7.3887282608695645E-3,1.1453152173913042E-3,1.0040579710144928E-4,0.58530723913043481,1.0581315217391304E-2,1.6258007246376812E-3,4.6622318840579713E-2,5.8192028985507253E-5,4.4873913043478258E-4,3.8244221014492749E-2,2.6426539855072463E-2,3.5223550724637674E-4,1.7982566050724635,0.66478540942028985,1.8970652173913045E-3,1.1330797101449273E-4,5.3913188405797108E-3,3.8308333333333331E-4,72.178152615942025]
[{"$f":"A440","v":"JARI1"},"2016-20",null,null,null,null,null,null,null,8.5188527796442681,null,null,23.713366500000003,12.713366499999998,5.2336993481554686,1.4299621380105403,3.2727829407114633,1.4181491304347824,0.12105848682476945,1.1394584555335969,9.8256056982872195E-2,11,null,16.602300449275365,null,null,53.791631373188409,42.791631373188409,19.923540373188409,6.5338891630434786,10.290639731884056,4.0661112681159421,0.25476380072463767,1.5764981231884059,0.14618865942028986,11,{"$f":"J441","v":8.5188527796442681},{"$f":"M441/M441","v":1},{"$f":"O441/M441","v":0.22070672032819413},{"$f":"P441/M441","v":6.0301945656283773E-2},{"$f":"Q441/M441","v":0.13801426890237042},{"$f":"R441/M441","v":5.9803787472975725E-2},{"$f":"S441/M441","v":5.105073833560049E-3},{"$f":"T441/M441","v":4.8051315511595402E-2},{"$f":"U441/M441","v":4.143488314190741E-3},{"$f":"V441/M441","v":0.46387340236992491},{"$f":"X441","v":16.602300449275365},{"$f":"AA441/AA441","v":1},{"$f":"AC441/AA441","v":0.37038364267046536},{"$f":"AD441/AA441","v":0.12146664818015154},{"$f":"AE441/AA441","v":0.19130558916295043},{"$f":"AF441/AA441","v":7.5590034440610618E-2},{"$f":"AG441/AA441","v":4.7361233377952667E-3},{"$f":"AH441/AA441","v":2.9307497894071801E-2},{"$f":"AI441/AA441","v":2.7176840651305344E-3},{"$f":"AJ441/AA441","v":0.20449277553390538},{"$f":"J441","v":8.5188527796442681},{"$f":"BE441","v":8.5188527796442681},{"$f":"BE441*AM441","v":1.8801680579540068},{"$f":"BE441*AN441","v":0.51370339737199067},{"$f":"BE441*AO441","v":1.1757232382695297},{"$f":"BE441*AP441","v":0.50945966114741437},{"$f":"BE441*AQ441","v":4.3489372417312246E-2},{"$f":"BE441*AR441","v":0.40934208271151823},{"$f":"BE441*AS441","v":3.5297766942767338E-2},{"$f":"BE441*AT441","v":3.9516692231820789},{"$f":"X441","v":16.602300449275365},{"$f":"BO441","v":16.602300449275365},{"$f":"BO441*AW441","v":6.1492205171121137},{"$f":"BO441*AX441","v":2.0166257876533025},{"$f":"BO441*AY441","v":3.1761128689089402},{"$f":"BO441*AZ441","v":1.25496846275409},{"$f":"BO441*BA441","v":7.86305426189019E-2},{"$f":"BO441*BB441","v":0.48657188545388508},{"$f":"BO441*BC441","v":4.5119807375505173E-2},{"$f":"BO441*BD441","v":3.3950504991201238},{"$f":"IF(COUNT(BY411:BY415)<3,\"\",AVERAGE(BY411:BY415))","v":4.0948678857048755},2.2083066913702241,4.0992768138998681,2.2660963873517788,0.71489763142292495,0.18390803656126481,1.0877448590250327,0.14181491304347826,0.12105848682476945,1.8990974789196309,1.6673485177865609E-2,9.1727091567852439E-3,7.1325428194993405E-5,1.024392951251647E-3,9.5646063899868239E-3,0.22701122200263502,5.9330149868247695E-2,0,4.6536432806324104E-3,0.10949271376811594,0.21886245816864297,0.12676752898550728,0.14452645882740447,0.60430280303030304,1.1272297760210805E-2,8.6708465085639E-4,8.9049736495388677E-5,4.0317292490118584E-4,1.4962599802371543E-2,1.840055994729908E-3,2.9772259552042165E-3,5.128511198945982E-4,4.9036561264822145E-5,0.14256391534914359,3.909786561264823E-3,1.0552213438735178E-3,1.7995529644268777E-2,6.0988142292490122E-6,7.3946310935441362E-5,1.9167187747035571E-2,1.4636058300395258E-2,1.0573945981554678E-4,0.47940725428194997,0.17330846212121212,6.9730599472990777E-4,4.1240777338603423E-5,2.2902984189723322E-3,1.558300395256917E-4,176.74514666106717,9.914780440052704,7.2542136884057982,9.3232737098155454,6.8724689710144933,2.363390036231884,0.7765574492753623,3.0476062572463776,0.40661112681159423,0.25476380072463767,2.6274974637681154,2.3540471014492755E-2,2.1012192028985511E-2,4.6946739130434792E-4,2.0912282608695652E-3,2.0090931159420289E-2,0.65193112681159426,8.5462637681159415E-2,2.7250000000000002E-5,0.10684503260869564,0.38873339855072464,0.49333552898550737,0.37339062681159418,0.33080988768115943,1.6931144746376812,1.4966163043478262E-2,1.9274818840579709E-3,1.8425724637681157E-4,1.1509057971014493E-3,3.39261884057971E-2,3.1521340579710143E-3,5.7904782608695646E-3,1.0558152173913043E-3,9.7739130434782625E-5,0.60198273913043487,9.1262318840579695E-3,1.6258840579710145E-3,4.7206652173913045E-2,6.0525362318840587E-5,3.9965579710144925E-4,3.623272101449275E-2,2.8020623188405803E-2,3.3665217391304342E-4,1.5647829384057972,0.57294307608695649,1.7875652173913047E-3,1.048913043478261E-4,5.4649021739130435E-3,3.7691666666666668E-4,77.444804115942034]
["JARI1","2017-21",null,null,null,null,null,null,null,8.4727439209486164,null,null,23.549114260869565,12.549114260869565,5.0536059169960472,1.3615192648221344,3.2933489841897234,1.5371504347826086,0.13862992885375497,1.0675766403162057,9.7282118577075097E-2,11,null,16.472014782608699,null,null,53.102286039855059,42.102286039855073,18.67337095652174,7.1135064963768118,10.273722898550725,4.1339946014492757,0.26233288405797101,1.4974972898550725,0.14786090942028987,11,8.4727439209486164,1,0.21459855606515876,5.7816156044752209E-2,0.13985022738889691,6.5274235699676303E-2,5.8868425928065449E-3,4.5334046473677635E-2,4.1310308956598058E-3,0.46710886354983522,16.472014782608699,1,0.35164909741374872,0.13395857366739136,0.1934704447721883,7.7849654124995171E-2,4.9401429509283524E-3,2.8200241487365538E-2,2.7844546901298235E-3,0.20714739082502265,8.4727439209486164,8.4727439209486164,1.8182386113454247,0.48986148466079088,1.1849151639525579,0.5530518837189996,4.9877709791783048E-2,0.38410376667185425,3.5001166908452536E-2,3.9576937840630833,16.472014782608699,16.472014782608699,5.7923691308902754,2.2065676057064469,3.1868480262853658,1.2823406535678947,8.1374107715891986E-2,0.46451479465302026,4.5865578817322582E-2,3.4121348838485948,3.9264846284584975,2.1597264268774703,3.9675047233201584,2.2754622569169962,0.69454801185770743,0.17637065612648223,1.095641003952569,0.1537150434782609,0.13862992885375497,1.7792944861660076,1.6558648221343873E-2,1.0069944664031622E-2,5.7948616600790515E-5,9.9875889328063239E-4,1.0734928853754941E-2,0.2364484466403162,6.3612841897233194E-2,0,5.9181106719367587E-3,0.10900208695652173,0.21668210671936761,0.13074086956521741,0.14634624505928856,0.60868941897233197,1.1078486166007906E-2,8.2058102766798392E-4,8.1901185770750996E-5,4.4272727272727275E-4,1.661606719367589E-2,1.6727154150197629E-3,3.1814071146245059E-3,5.3338735177865608E-4,4.3873517786561272E-5,0.13672094071146246,3.9372213438735176E-3,1.1389604743083004E-3,1.9720225296442691E-2,1.2968379446640316E-5,8.0964426877470349E-5,2.2991035573122525E-2,1.4976960474308302E-2,1.1252569169960475E-4,0.44926126877470357,0.16837524110671936,7.8349802371541493E-4,3.3628458498023718E-5,2.4574940711462453E-3,1.6017786561264825E-4,177.08581688932807,9.5366072733860356,7.0100778550724643,9.1331446264822116,6.8308188876811586,2.2365825362318841,0.85258619927536228,3.0417913405797106,0.41339946014492757,0.26233288405797101,2.4958292137681157,2.4126471014492758E-2,2.070827536231884E-2,4.4705072463768118E-4,2.0024782608695653E-3,2.0408014492753621E-2,0.66744146014492767,9.3930387681159411E-2,6.2750000000000007E-5,0.10640228260869566,0.38532989855072464,0.48234286231884055,0.36777387681159418,0.34803513768115935,1.6898840579710146,1.5109163043478261E-2,1.7838985507246381E-3,1.8859057971014494E-4,1.1196557971014493E-3,3.3912021739130438E-2,2.831550724637681E-3,5.6338115942028977E-3,1.0621485507246375E-3,9.7155797101449286E-5,0.66091973913043489,7.5043985507246376E-3,1.4117173913043477E-3,4.9267902173913039E-2,5.0442028985507248E-5,3.7898913043478254E-4,3.9333887681159425E-2,2.8069956521739131E-2,3.134855072463768E-4,1.4622937717391304,0.54220182608695644,1.8047318840579709E-3,9.0557971014492751E-5,5.6110688405797103E-3,3.8408333333333328E-4,78.506521365942035]
["JARI1","2018-22",null,null,null,null,null,null,null,""]
["JARI1","2019-23",null,null,null,null,null,null,null,""]
["JARI1","2020-24",null,null,null,null,null,null,null,""]
["JARI1","2021-25",null,null,null,null,null,null,null,""]
["JARI1","2022-26",null,null,null,null,null,null,null,""]
["JARI1","2023-27",null,null,null,null,null,null,null,""]
["JARI1","2024-28",null,null,null,null,null,null,null,""]

{"sheet":"ACAD-Species-Clearest","index":11,"n_rows":1,"n_cols":1,"rows_kept":1,"cut":false,"hidden":false,"merged":[]}
["Index"]

{"sheet":"ACAD-Species-Most IMP","index":12,"n_rows":1,"n_cols":1,"rows_kept":1,"cut":false,"hidden":false,"merged":[]}
["Index"]

{"sheet":"BRIG-Species-Clearest","index":13,"n_rows":1,"n_cols":1,"rows_kept":1,"cut":false,"hidden":false,"merged":[]}
["Index"]

{"sheet":"BRIG-Species-Most IMP","index":14,"n_rows":1,"n_cols":1,"rows_kept":1,"cut":false,"hidden":false,"merged":[]}
["Index"]

{"sheet":"DOSO-Species-Clearest","index":15,"n_rows":1,"n_cols":1,"rows_kept":1,"cut":false,"hidden":false,"merged":[]}
["Index"]

{"sheet":"DOSO-Species-Most IMP","index":16,"n_rows":1,"n_cols":1,"rows_kept":1,"cut":false,"hidden":false,"merged":[]}
["Index"]

{"sheet":"GRGU-Species-Clearest","index":17,"n_rows":1,"n_cols":1,"rows_kept":1,"cut":false,"hidden":false,"merged":[]}
["Index"]

{"sheet":"GRGU-Species-Most IMP","index":18,"n_rows":1,"n_cols":1,"rows_kept":1,"cut":false,"hidden":false,"merged":[]}
["Index"]

{"sheet":"JARI-Species-Clearest","index":19,"n_rows":1,"n_cols":1,"rows_kept":1,"cut":false,"hidden":false,"merged":[]}
["Index"]

{"sheet":"JARI-Species-Most IMP","index":20,"n_rows":1,"n_cols":1,"rows_kept":1,"cut":false,"hidden":false,"merged":[]}
["Index"]

{"sheet":"LYBR-Species-Clearest","index":21,"n_rows":1,"n_cols":1,"rows_kept":1,"cut":false,"hidden":false,"merged":[]}
["Index"]

{"sheet":"LYBR-Species-Most IMP","index":22,"n_rows":1,"n_cols":1,"rows_kept":1,"cut":false,"hidden":false,"merged":[]}
["Index"]

{"sheet":"MOOS-Species-Clearest","index":23,"n_rows":1,"n_cols":1,"rows_kept":1,"cut":false,"hidden":false,"merged":[]}
["Index"]

{"sheet":"MOOS-Species-Most IMP","index":24,"n_rows":1,"n_cols":1,"rows_kept":1,"cut":false,"hidden":false,"merged":[]}
["Index"]

{"sheet":"SHEN-Species-Clearest","index":25,"n_rows":1,"n_cols":1,"rows_kept":1,"cut":false,"hidden":false,"merged":[]}
["Index"]

{"sheet":"SHEN-Species-Most IMP","index":26,"n_rows":1,"n_cols":1,"rows_kept":1,"cut":false,"hidden":false,"merged":[]}
["Index"]

{"sheet":"5-yr plot data","index":27,"n_rows":18,"n_cols":20,"rows_kept":18,"cut":false,"hidden":false,"merged":[[0,10,0,11],[0,0,0,1],[0,2,0,9],[0,12,0,19]]}
["Index",null,"20% best day extinction (Mm-1)",null,null,null,null,null,null,null,null,null,"20% most impaired day extinction (Mm-1)"]
["Site","Years","Sulfate Bext","Nitrate Bext","OCM Bext","EC Bext","Soil Bext","Coarse Bext","Sea Salt Bext","Rayleigh Bext","Site","Years","Sulfate Bext","Nitrate Bext","OCM Bext","EC Bext","Soil Bext","Coarse Bext","Sea Salt Bext","Rayleigh Bext"]
["             Dolly Sods",{"$f":"Species!B145","v":"2000-04"},{"$f":"Species!O145","v":14.347488801539422},{"$f":"Species!P145","v":3.1030298421572704},{"$f":"Species!Q145","v":4.8754778481034604},{"$f":"Species!R145","v":2.0530225608487624},{"$f":"Species!S145","v":0.17822452725192425},{"$f":"Species!T145","v":0.73362208404410245},{"$f":"Species!U145","v":0.12545278716801886},{"$f":"Species!V145","v":10},{"$f":"A3","v":"             Dolly Sods"},{"$f":"B3","v":"2000-04"},{"$f":"Species!AC145","v":157.31669699652176},{"$f":"Species!AD145","v":2.0329776486956521},{"$f":"Species!AE145","v":9.3563937556521743},{"$f":"Species!AF145","v":3.9550986956521741},{"$f":"Species!AG145","v":0.70174657565217413},{"$f":"Species!AH145","v":1.2298407704347825},{"$f":"Species!AI145","v":7.0750849565217391E-2},{"$f":"Species!AJ145","v":10}]
[" ","2017-21",3.9844011920289852,1.2876399979296067,1.7883518157349898,0.78338213250517585,8.3028716873706013E-2,0.65925564337474118,9.9671188405797112E-2,10,{"$f":"A4","v":" "},{"$f":"B4","v":"2017-21"},22.638793988484849,7.3925412878787879,5.9267247430303023,2.1933664848484851,0.28728191151515148,1.5052932154545453,0.10968981545454545,10]
["             Shenandoah",{"$f":"Species!B369","v":"2000-04"},{"$f":"Species!O369","v":11.238079003526604},{"$f":"Species!P369","v":4.1528807064102953},{"$f":"Species!Q369","v":2.8911995344289578},{"$f":"Species!R369","v":1.6057067956452395},{"$f":"Species!S369","v":0.15862976432187187},{"$f":"Species!T369","v":1.1032598783916312},{"$f":"Species!U369","v":0.14756645711115732},{"$f":"Species!V369","v":10},"             Shenandoah","2000-04",{"$f":"Species!AC369","v":149.85688052450593},{"$f":"Species!AD369","v":6.0081915192358366},{"$f":"Species!AE369","v":9.9109861380764173},{"$f":"Species!AF369","v":4.7950122134387358},{"$f":"Species!AG369","v":0.65955939268774699},{"$f":"Species!AH369","v":2.0428472573122529},{"$f":"Species!AI369","v":8.5642859222661391E-2},{"$f":"Species!AJ369","v":10}]
[" ","2017-21",3.6722691834650845,1.7269035675230566,1.9972782862318841,0.80766275032938084,8.8520531949934117E-2,0.69585037483530965,0.15622327569169961,10," ","2017-21",16.560609976811595,10.269756791304347,5.0995000139130431,1.9478036260869565,0.22041083753623186,1.2497131585507246,0.21421287985507248,10]
["            James River",{"$f":"Species!B425","v":"2000-04"},{"$f":"Species!O425","v":17.475758014657444},{"$f":"Species!P425","v":3.7345900086462454},{"$f":"Species!Q425","v":5.5603894021739135},{"$f":"Species!R425","v":2.9687587285902506},{"$f":"Species!S425","v":0.24519698863636363},{"$f":"Species!T425","v":1.2343169911067193},{"$f":"Species!U425","v":7.7154004446640306E-2},{"$f":"Species!V425","v":11},"            James River","2000-04",{"$f":"Species!AC425","v":131.83473698605073},{"$f":"Species!AD425","v":4.949269592572465},{"$f":"Species!AE425","v":15.508154852536231},{"$f":"Species!AF425","v":6.2458073731884056},{"$f":"Species!AG425","v":0.80280499619565227},{"$f":"Species!AH425","v":2.7231960902173915},{"$f":"Species!AI425","v":0.2485164277173913},{"$f":"Species!AJ425","v":11}]
[" ","2017-21",5.0536059169960472,1.3615192648221344,3.2933489841897234,1.5371504347826086,0.13862992885375497,1.0675766403162057,9.7282118577075097E-2,11," ","2017-21",18.67337095652174,7.1135064963768118,10.273722898550725,4.1339946014492757,0.26233288405797101,1.4974972898550725,0.14786090942028987,11]
["             Brigantine",{"$f":"Species!B89","v":"2000-04"},{"$f":"Species!O89","v":14.779052172859025},{"$f":"Species!P89","v":3.8108640679465466},{"$f":"Species!Q89","v":4.5462558848955386},{"$f":"Species!R89","v":2.4160569414643325},{"$f":"Species!S89","v":0.23545498891398459},{"$f":"Species!T89","v":3.2278844992094853},{"$f":"Species!U89","v":1.4022017598626013},{"$f":"Species!V89","v":12},"             Brigantine","2000-04",{"$f":"Species!AC89","v":119.03087578744586},{"$f":"Species!AD89","v":12.732332287445889},{"$f":"Species!AE89","v":13.002017967532467},{"$f":"Species!AF89","v":5.5658005367965373},{"$f":"Species!AG89","v":0.78036442896103886},{"$f":"Species!AH89","v":3.933606607142857},{"$f":"Species!AI89","v":0.25052250601731602},{"$f":"Species!AJ89","v":12}]
[" ","2017-21",5.5072117230081137,2.5069166174329105,3.2421389346265865,1.4013504628666529,0.1409610547118785,2.4187447649261493,1.3106315937695026,12," ","2017-21",15.560245744565215,16.574236907608697,7.3787821739130441,3.4107006521739134,0.25855292934782609,3.3879311902173912,0.99721346739130456,12]
["              Lye Brook",{"$f":"Species!B257","v":"2000-04"},{"$f":"Species!O257","v":4.4415799071146242},{"$f":"Species!P257","v":1.1535218972332015},{"$f":"Species!Q257","v":1.2869589450592884},{"$f":"Species!R257","v":0.59753355731225299},{"$f":"Species!S257","v":9.3514494861660066E-2},{"$f":"Species!T257","v":0.51455222648221355},{"$f":"Species!U257","v":5.0952935177865609E-2},{"$f":"Species!V257","v":11},"              Lye Brook","2000-04",{"$f":"Species!AC257","v":84.988635871070954},{"$f":"Species!AD257","v":8.6479022964991525},{"$f":"Species!AE257","v":9.650615703877282},{"$f":"Species!AF257","v":4.2023716233766235},{"$f":"Species!AG257","v":0.54319809406173536},{"$f":"Species!AH257","v":1.6214463691699605},{"$f":"Species!AI257","v":9.1744480463015241E-2},{"$f":"Species!AJ257","v":11}]
[" ","2017-21",2.0076279986824774,0.88525395840391496,1.121020810653115,0.45322354225484662,4.6241450969320544E-2,0.40213780632411067,9.9308086203651419E-2,11," ","2017-21",11.185444441040843,9.2868742829380775,4.9276061202239791,1.9558039492753625,0.16977549472990777,1.1480366739130434,0.20645798748353097,11]
["             Great Gulf",{"$f":"Species!B201","v":"2000-04"},{"$f":"Species!O201","v":5.7651994861660079},{"$f":"Species!P201","v":0.93438390810276684},{"$f":"Species!Q201","v":2.0076840662055333},{"$f":"Species!R201","v":0.82591205533596845},{"$f":"Species!S201","v":0.10355684782608693},{"$f":"Species!T201","v":0.89066924901185762},{"$f":"Species!U201","v":0.16715353754940712},{"$f":"Species!V201","v":11},"             Great Gulf","2000-04",{"$f":"Species!AC201","v":75.600748577898543},{"$f":"Species!AD201","v":2.7280266576086953},{"$f":"Species!AE201","v":10.06848995018116},{"$f":"Species!AF201","v":3.6140009057971016},{"$f":"Species!AG201","v":0.49256473278985502},{"$f":"Species!AH201","v":2.3242969836956524},{"$f":"Species!AI201","v":9.9927133152173914E-2},{"$f":"Species!AJ201","v":11}]
[" ","2017-21",2.350632110671937,0.52516675889328057,1.0795609920948617,0.4090231620553359,4.1504055335968383E-2,0.44574943478260876,0.19159257707509886,11," ","2017-21",11.421666594202899,2.8213600289855072,5.4322124565217393,1.8082090942028988,0.18746449275362317,1.5372882355072464,0.1822164855072464,11]
["              Acadia   ",{"$f":"Species!B33","v":"2000-04"},{"$f":"Species!O33","v":6.7602458333333342},{"$f":"Species!P33","v":1.0772257666666665},{"$f":"Species!Q33","v":2.2362741166666664},{"$f":"Species!R33","v":0.86952333333333343},{"$f":"Species!S33","v":0.11071830000000001},{"$f":"Species!T33","v":0.71560846666666666},{"$f":"Species!U33","v":0.43936950000000002},{"$f":"Species!V33","v":12},"              Acadia   ","2000-04",{"$f":"Species!AC33","v":68.417102939999978},{"$f":"Species!AD33","v":6.8039442966666659},{"$f":"Species!AE33","v":8.8177424266666655},{"$f":"Species!AF33","v":3.8964141904761904},{"$f":"Species!AG33","v":0.48448561666666673},{"$f":"Species!AH33","v":1.4747898028571427},{"$f":"Species!AI33","v":0.53120580761904757},{"$f":"Species!AJ33","v":12}]
[" ","2017-21",3.0127313155467723,0.70393290137398845,1.755203473414267,0.5468164600978731,5.2409414831545265E-2,0.70329973630717102,0.56336099091850178,12," ","2017-21",12.301348016442686,5.4908490292885377,6.0357237906192367,1.9221063791831359,0.21318049833992095,1.8312356484848487,1.69797763458498,12]
["           Moosehorn",{"$f":"Species!B313","v":"2000-04"},{"$f":"Species!O313","v":6.6664310357142869},{"$f":"Species!P313","v":1.0595636880952379},{"$f":"Species!Q313","v":3.0668361023809525},{"$f":"Species!R313","v":1.0231709523809525},{"$f":"Species!S313","v":0.11445614047619046},{"$f":"Species!T313","v":1.0630521714285712},{"$f":"Species!U313","v":0.30026265476190472},{"$f":"Species!V313","v":12},"           Moosehorn","2000-04",{"$f":"Species!AC313","v":57.336716776406931},{"$f":"Species!AD313","v":5.4729335053679646},{"$f":"Species!AE313","v":9.060586146926406},{"$f":"Species!AF313","v":3.3459580562770568},{"$f":"Species!AG313","v":0.35864329238095244},{"$f":"Species!AH313","v":1.760253818874459},{"$f":"Species!AI313","v":0.56203005675324669},{"$f":"Species!AJ313","v":12}]
[" ","2017-21",2.904716625258799,0.56470131987577643,1.7777911697722566,0.48072805383022776,6.0405559006211182E-2,0.64161074534161489,0.62030075569358178,12," ","2017-21",11.468954747023808,3.9393829613095233,5.2021799702380944,1.6425565476190473,0.20287230654761909,1.2651492410714287,1.1926657440476189,12]

{"sheet":"5-yr plot CLEAREST","index":28,"n_rows":1,"n_cols":1,"rows_kept":1,"cut":false,"hidden":false,"merged":[]}
["Index"]

{"sheet":"5-yr plot Most IMP","index":29,"n_rows":1,"n_cols":1,"rows_kept":1,"cut":false,"hidden":false,"merged":[]}
["Index"]